{"text_format":"1","workbook":"xlsx","n_sheets":146,"sheets":["Input","5 span Calculation","d1-0","d2-0","d3-0","d4-0","X(1)L1","X(2)L1","X(3)L1","X(4)L1","M1","M2","M3","M4","M5","M6","M7","MB","M9","M10","M11","M12","M13","M14","M15","MC","M17","M18","M19","M20","RA","RB","RC","Q1","Q2","Q3","Q4","Q5","Q6","Q7","lQB","rQB","Q9","Q10","Q11","Q12","Q13","Q14","Q15","lQC","rQC","Q17","Q18","Q19","Q20","D1","D2","D3","D4","D5","D6","D7","D9","D10","D11","D12","D13","D14","D15","D17","D18","D19","D20","SA","SB","SC","M-1","M-2","M-3","M-4","M-5","M-6","M-7","M-9","M-10","M-11","M-12","M-13","M-14","M-15","M-17","M-18","M-19","M-20","MS1","MS2","MS3","MSA","Q-1","Q-2","Q-3","Q-4","Q-5","Q-6","Q-7","Q-9","Q-10","Q-11","Q-12","Q-13","Q-14","Q-15","Q-17","Q-18","Q-19","Q-20","QS1","QS2","QS3","QSA","D-1","D-2","D-3","D-4","D-5","D-6","D-7","D-9","D-10","D-11","D-12","D-13","D-14","D-15","D-17","D-18","D-19","D-20","DS1","DS2","DS3","DSA","SS1","SS2","SS3","SSA"],"not_rendered":{"charts":288,"images":0,"macros":1,"external_links":0,"defined_names":1,"comments":0,"pivot_tables":0},"unopened":[{"sheet":"d1-0","index":2,"reason":"not_a_worksheet"},{"sheet":"d2-0","index":3,"reason":"not_a_worksheet"},{"sheet":"d3-0","index":4,"reason":"not_a_worksheet"},{"sheet":"d4-0","index":5,"reason":"not_a_worksheet"},{"sheet":"X(1)L1","index":6,"reason":"not_a_worksheet"},{"sheet":"X(2)L1","index":7,"reason":"not_a_worksheet"},{"sheet":"X(3)L1","index":8,"reason":"not_a_worksheet"},{"sheet":"X(4)L1","index":9,"reason":"not_a_worksheet"},{"sheet":"M1","index":10,"reason":"not_a_worksheet"},{"sheet":"M2","index":11,"reason":"not_a_worksheet"},{"sheet":"M3","index":12,"reason":"not_a_worksheet"},{"sheet":"M4","index":13,"reason":"not_a_worksheet"},{"sheet":"M5","index":14,"reason":"not_a_worksheet"},{"sheet":"M6","index":15,"reason":"not_a_worksheet"},{"sheet":"M7","index":16,"reason":"not_a_worksheet"},{"sheet":"MB","index":17,"reason":"not_a_worksheet"},{"sheet":"M9","index":18,"reason":"not_a_worksheet"},{"sheet":"M10","index":19,"reason":"not_a_worksheet"},{"sheet":"M11","index":20,"reason":"not_a_worksheet"},{"sheet":"M12","index":21,"reason":"not_a_worksheet"},{"sheet":"M13","index":22,"reason":"not_a_worksheet"},{"sheet":"M14","index":23,"reason":"not_a_worksheet"},{"sheet":"M15","index":24,"reason":"not_a_worksheet"},{"sheet":"MC","index":25,"reason":"not_a_worksheet"},{"sheet":"M17","index":26,"reason":"not_a_worksheet"},{"sheet":"M18","index":27,"reason":"not_a_worksheet"},{"sheet":"M19","index":28,"reason":"not_a_worksheet"},{"sheet":"M20","index":29,"reason":"not_a_worksheet"},{"sheet":"RA","index":30,"reason":"not_a_worksheet"},{"sheet":"RB","index":31,"reason":"not_a_worksheet"},{"sheet":"RC","index":32,"reason":"not_a_worksheet"},{"sheet":"Q1","index":33,"reason":"not_a_worksheet"},{"sheet":"Q2","index":34,"reason":"not_a_worksheet"},{"sheet":"Q3","index":35,"reason":"not_a_worksheet"},{"sheet":"Q4","index":36,"reason":"not_a_worksheet"},{"sheet":"Q5","index":37,"reason":"not_a_worksheet"},{"sheet":"Q6","index":38,"reason":"not_a_worksheet"},{"sheet":"Q7","index":39,"reason":"not_a_worksheet"},{"sheet":"lQB","index":40,"reason":"not_a_worksheet"},{"sheet":"rQB","index":41,"reason":"not_a_worksheet"},{"sheet":"Q9","index":42,"reason":"not_a_worksheet"},{"sheet":"Q10","index":43,"reason":"not_a_worksheet"},{"sheet":"Q11","index":44,"reason":"not_a_worksheet"},{"sheet":"Q12","index":45,"reason":"not_a_worksheet"},{"sheet":"Q13","index":46,"reason":"not_a_worksheet"},{"sheet":"Q14","index":47,"reason":"not_a_worksheet"},{"sheet":"Q15","index":48,"reason":"not_a_worksheet"},{"sheet":"lQC","index":49,"reason":"not_a_worksheet"},{"sheet":"rQC","index":50,"reason":"not_a_worksheet"},{"sheet":"Q17","index":51,"reason":"not_a_worksheet"},{"sheet":"Q18","index":52,"reason":"not_a_worksheet"},{"sheet":"Q19","index":53,"reason":"not_a_worksheet"},{"sheet":"Q20","index":54,"reason":"not_a_worksheet"},{"sheet":"D1","index":55,"reason":"not_a_worksheet"},{"sheet":"D2","index":56,"reason":"not_a_worksheet"},{"sheet":"D3","index":57,"reason":"not_a_worksheet"},{"sheet":"D4","index":58,"reason":"not_a_worksheet"},{"sheet":"D5","index":59,"reason":"not_a_worksheet"},{"sheet":"D6","index":60,"reason":"not_a_worksheet"},{"sheet":"D7","index":61,"reason":"not_a_worksheet"},{"sheet":"D9","index":62,"reason":"not_a_worksheet"},{"sheet":"D10","index":63,"reason":"not_a_worksheet"},{"sheet":"D11","index":64,"reason":"not_a_worksheet"},{"sheet":"D12","index":65,"reason":"not_a_worksheet"},{"sheet":"D13","index":66,"reason":"not_a_worksheet"},{"sheet":"D14","index":67,"reason":"not_a_worksheet"},{"sheet":"D15","index":68,"reason":"not_a_worksheet"},{"sheet":"D17","index":69,"reason":"not_a_worksheet"},{"sheet":"D18","index":70,"reason":"not_a_worksheet"},{"sheet":"D19","index":71,"reason":"not_a_worksheet"},{"sheet":"D20","index":72,"reason":"not_a_worksheet"},{"sheet":"SA","index":73,"reason":"not_a_worksheet"},{"sheet":"SB","index":74,"reason":"not_a_worksheet"},{"sheet":"SC","index":75,"reason":"not_a_worksheet"},{"sheet":"M-1","index":76,"reason":"not_a_worksheet"},{"sheet":"M-2","index":77,"reason":"not_a_worksheet"},{"sheet":"M-3","index":78,"reason":"not_a_worksheet"},{"sheet":"M-4","index":79,"reason":"not_a_worksheet"},{"sheet":"M-5","index":80,"reason":"not_a_worksheet"},{"sheet":"M-6","index":81,"reason":"not_a_worksheet"},{"sheet":"M-7","index":82,"reason":"not_a_worksheet"},{"sheet":"M-9","index":83,"reason":"not_a_worksheet"},{"sheet":"M-10","index":84,"reason":"not_a_worksheet"},{"sheet":"M-11","index":85,"reason":"not_a_worksheet"},{"sheet":"M-12","index":86,"reason":"not_a_worksheet"},{"sheet":"M-13","index":87,"reason":"not_a_worksheet"},{"sheet":"M-14","index":88,"reason":"not_a_worksheet"},{"sheet":"M-15","index":89,"reason":"not_a_worksheet"},{"sheet":"M-17","index":90,"reason":"not_a_worksheet"},{"sheet":"M-18","index":91,"reason":"not_a_worksheet"},{"sheet":"M-19","index":92,"reason":"not_a_worksheet"},{"sheet":"M-20","index":93,"reason":"not_a_worksheet"},{"sheet":"MS1","index":94,"reason":"not_a_worksheet"},{"sheet":"MS2","index":95,"reason":"not_a_worksheet"},{"sheet":"MS3","index":96,"reason":"not_a_worksheet"},{"sheet":"MSA","index":97,"reason":"not_a_worksheet"},{"sheet":"Q-1","index":98,"reason":"not_a_worksheet"},{"sheet":"Q-2","index":99,"reason":"not_a_worksheet"},{"sheet":"Q-3","index":100,"reason":"not_a_worksheet"},{"sheet":"Q-4","index":101,"reason":"not_a_worksheet"},{"sheet":"Q-5","index":102,"reason":"not_a_worksheet"},{"sheet":"Q-6","index":103,"reason":"not_a_worksheet"},{"sheet":"Q-7","index":104,"reason":"not_a_worksheet"},{"sheet":"Q-9","index":105,"reason":"not_a_worksheet"},{"sheet":"Q-10","index":106,"reason":"not_a_worksheet"},{"sheet":"Q-11","index":107,"reason":"not_a_worksheet"},{"sheet":"Q-12","index":108,"reason":"not_a_worksheet"},{"sheet":"Q-13","index":109,"reason":"not_a_worksheet"},{"sheet":"Q-14","index":110,"reason":"not_a_worksheet"},{"sheet":"Q-15","index":111,"reason":"not_a_worksheet"},{"sheet":"Q-17","index":112,"reason":"not_a_worksheet"},{"sheet":"Q-18","index":113,"reason":"not_a_worksheet"},{"sheet":"Q-19","index":114,"reason":"not_a_worksheet"},{"sheet":"Q-20","index":115,"reason":"not_a_worksheet"},{"sheet":"QS1","index":116,"reason":"not_a_worksheet"},{"sheet":"QS2","index":117,"reason":"not_a_worksheet"},{"sheet":"QS3","index":118,"reason":"not_a_worksheet"},{"sheet":"QSA","index":119,"reason":"not_a_worksheet"},{"sheet":"D-1","index":120,"reason":"not_a_worksheet"},{"sheet":"D-2","index":121,"reason":"not_a_worksheet"},{"sheet":"D-3","index":122,"reason":"not_a_worksheet"},{"sheet":"D-4","index":123,"reason":"not_a_worksheet"},{"sheet":"D-5","index":124,"reason":"not_a_worksheet"},{"sheet":"D-6","index":125,"reason":"not_a_worksheet"},{"sheet":"D-7","index":126,"reason":"not_a_worksheet"},{"sheet":"D-9","index":127,"reason":"not_a_worksheet"},{"sheet":"D-10","index":128,"reason":"not_a_worksheet"},{"sheet":"D-11","index":129,"reason":"not_a_worksheet"},{"sheet":"D-12","index":130,"reason":"not_a_worksheet"},{"sheet":"D-13","index":131,"reason":"not_a_worksheet"},{"sheet":"D-14","index":132,"reason":"not_a_worksheet"},{"sheet":"D-15","index":133,"reason":"not_a_worksheet"},{"sheet":"D-17","index":134,"reason":"not_a_worksheet"},{"sheet":"D-18","index":135,"reason":"not_a_worksheet"},{"sheet":"D-19","index":136,"reason":"not_a_worksheet"},{"sheet":"D-20","index":137,"reason":"not_a_worksheet"},{"sheet":"DS1","index":138,"reason":"not_a_worksheet"},{"sheet":"DS2","index":139,"reason":"not_a_worksheet"},{"sheet":"DS3","index":140,"reason":"not_a_worksheet"},{"sheet":"DSA","index":141,"reason":"not_a_worksheet"},{"sheet":"SS1","index":142,"reason":"not_a_worksheet"},{"sheet":"SS2","index":143,"reason":"not_a_worksheet"},{"sheet":"SS3","index":144,"reason":"not_a_worksheet"},{"sheet":"SSA","index":145,"reason":"not_a_worksheet"}],"bounds":{"document_bytes":16777216,"sheet_cells":100000,"rows_first":2000,"rows_last":500,"rows_between":2000,"halvings":0,"cell_chars":16384,"cell_head_chars":4096},"cells_cut":0,"cells_raw":0,"read":"whole","date_system":"1900"}

{"sheet":"Input","index":0,"n_rows":14,"n_cols":3,"rows_kept":14,"cut":false,"hidden":false,"merged":[]}
["L2/L1 =",1.5]
[]
["Mi","(L1/10)","Moment influence line for point i"]
["Ri","(1)","Reaction influence line for support i"]
["Qi","(1)","Shear influence line for point i"]
["Di","(L1^3/EI)/100","Deflection influence line for point i"]
["Si","(L1^2/EI)/10","Rotation angle influence line for support i"]
["M-i","(L1/10)","Moment diagram when a unit point load is applied at point i"]
["MSi","(L1^2/10)","Moment diagram when uniformly distributed loads are applied at span i"]
["Q-i","(1)","Shear diagram when a unit point load is applied at point i"]
["QSi","(L1)","Shear diagram when uniformly distributed loads are applied at span i"]
["D-i","(L1^3/EI)/100","Deflection diagram when a unit point load is applied at point i"]
["DSi","(L1^4/EI)/100","Deflection diagram when uniformly distributed loads are applied at span i"]
["SSi","(L1^3/EI)/10","Rotation angle diagram when uniformly distributed loads are applied at support i"]

{"sheet":"5 span Calculation","index":1,"n_rows":120,"n_cols":390,"rows_kept":120,"cut":false,"hidden":true,"merged":[[7,2,8,2],[64,2,65,2],[7,3,7,25],[7,26,7,29],[55,3,55,25],[62,3,62,25],[64,3,64,25],[112,3,112,25],[62,26,62,32],[7,30,7,32],[55,26,55,32],[119,3,119,25],[64,26,64,28],[112,26,112,28],[119,26,119,28],[60,149,68,149],[1,343,1,351],[1,352,1,360],[1,367,1,375],[1,376,1,384],[51,149,59,149],[1,313,1,321],[1,322,1,330],[24,149,32,149],[33,149,41,149],[42,149,50,149],[1,233,1,241],[1,242,1,250],[1,258,1,266],[1,267,1,275],[1,251,1,255],[1,361,1,365],[1,385,1,389],[1,276,1,280],[1,284,1,292],[1,293,1,301],[1,302,1,306],[1,331,1,335]]}
[]
[null,null,null,null,null,null,null,null,null,null,null,null,null,null,null,null,null,null,null,null,null,null,null,null,null,null,null,null,null,null,null,null,null,null,null,null,null,null,null,null,null,null,null,null,null,null,null,null,null,null,null,null,null,null,null,null,null,null,null,null,null,null,null,null,null,null,null,null,null,null,null,null,null,null,null,null,null,null,null,null,null,null,null,null,null,null,null,null,null,null,null,null,null,null,null,null,null,null,null,null,null,null,null,null,null,null,null,null,null,null,null,null,null,null,null,null,null,null,null,null,null,null,null,null,null,null,null,null,null,null,null,null,null,null,null,null,null,null,null,null,null,null,null,null,null,null,null,null,null,null,null,null,null,null,null,null,null,null,null,null,null,null,null,null,null,null,null,null,null,null,null,null,null,null,null,null,null,null,null,null,null,null,null,null,null,null,null,null,null,null,null,null,null,null,null,null,null,null,null,null,null,null,null,null,null,null,null,null,null,null,null,null,null,null,null,null,null,null,null,null,null,null,null,null,null,null,null,null,null,null,null,null,"Span",1,null,null,null,null,null,null,null,null,2,null,null,null,null,null,null,null,null,3,null,null,null,null,null,null,1,null,null,null,null,null,null,null,null,2,null,null,null,null,null,null,null,null,3,null,null,null,null,null,null,null,1,null,null,null,null,null,null,null,null,2,null,null,null,null,null,null,null,null,3,null,null,null,null,null,null,null,null,null,null,1,null,null,null,null,null,null,null,null,2,null,null,null,null,null,null,null,null,3,null,null,null,null,null,null,null,null,null,null,null,1,null,null,null,null,null,null,null,null,2,null,null,null,null,null,null,null,null,3,null,null,null,null,null,1,null,null,null,null,null,null,null,null,2,null,null,null,null,null,null,null,null,3]
[null,null,null,null,null,null,null,null,null,null,null,null,null,null,null,null,null,null,null,null,null,null,null,null,null,null,null,null,null,null,null,null,null,null,null,null,null,null,null,null,null,null,null,null,null,null,null,null,null,null,null,null,null,null,null,null,null,null,null,null,null,null,null,null,null,null,null,null,null,null,null,null,null,null,null,null,null,null,null,null,null,null,null,null,null,null,null,null,null,null,null,null,null,null,null,null,null,null,null,null,null,null,null,null,null,null,null,null,null,null,null,null,null,null,null,null,null,null,null,null,null,null,null,null,null,null,null,null,null,null,null,null,null,null,null,null,null,null,null,null,null,null,null,null,null,null,null,null,null,null,null,null,null,null,null,null,null,null,null,null,null,null,null,null,null,null,null,null,null,null,null,null,null,null,null,null,null,null,null,null,null,null,null,null,null,null,null,null,null,null,null,null,null,null,null,null,null,null,null,null,null,null,null,null,null,null,null,null,null,null,null,null,null,null,null,null,null,null,null,null,null,null,null,null,null,null,null,null,null,null,null,null,"x/L",0,{"$f":"+HZ3+1/8","v":0.125},0.25,0.375,0.5,0.625,0.75,0.875,1,0,{"$f":"+II3+1/8","v":0.125},{"$f":"+IJ3+1/8","v":0.25},{"$f":"+IK3+1/8","v":0.375},{"$f":"+IL3+1/8","v":0.5},{"$f":"+IM3+1/8","v":0.625},0.75,0.875,1,0,{"$f":"+IR3+1/8","v":0.125},{"$f":"+IS3+1/8","v":0.25},{"$f":"+IT3+1/8","v":0.375},{"$f":"+IU3+1/8","v":0.5},null,null,0,{"$f":"+IY3+1/8","v":0.125},{"$f":"+IZ3+1/8","v":0.25},{"$f":"+JA3+1/8","v":0.375},{"$f":"+JB3+1/8","v":0.5},{"$f":"+JC3+1/8","v":0.625},{"$f":"+JD3+1/8","v":0.75},{"$f":"+JE3+1/8","v":0.875},{"$f":"+JF3+1/8","v":1},0,{"$f":"+JH3+1/8","v":0.125},{"$f":"+JI3+1/8","v":0.25},{"$f":"+JJ3+1/8","v":0.375},{"$f":"+JK3+1/8","v":0.5},{"$f":"+JL3+1/8","v":0.625},{"$f":"+JM3+1/8","v":0.75},{"$f":"+JN3+1/8","v":0.875},{"$f":"+JO3+1/8","v":1},0,{"$f":"+JQ3+1/8","v":0.125},{"$f":"+JR3+1/8","v":0.25},{"$f":"+JS3+1/8","v":0.375},{"$f":"+JT3+1/8","v":0.5},null,null,null,0,{"$f":"+JY3+1/8","v":0.125},{"$f":"+JZ3+1/8","v":0.25},{"$f":"+KA3+1/8","v":0.375},{"$f":"+KB3+1/8","v":0.5},{"$f":"+KC3+1/8","v":0.625},{"$f":"+KD3+1/8","v":0.75},{"$f":"+KE3+1/8","v":0.875},{"$f":"+KF3+1/8","v":1},0,{"$f":"+KH3+1/8","v":0.125},{"$f":"+KI3+1/8","v":0.25},{"$f":"+KJ3+1/8","v":0.375},{"$f":"+KK3+1/8","v":0.5},{"$f":"+KL3+1/8","v":0.625},{"$f":"+KM3+1/8","v":0.75},{"$f":"+KN3+1/8","v":0.875},{"$f":"+KO3+1/8","v":1},0,{"$f":"+KQ3+1/8","v":0.125},{"$f":"+KR3+1/8","v":0.25},{"$f":"+KS3+1/8","v":0.375},{"$f":"+KT3+1/8","v":0.5},null,null,null,null,null,null,0,{"$f":"+LB3+1/8","v":0.125},{"$f":"+LC3+1/8","v":0.25},{"$f":"+LD3+1/8","v":0.375},{"$f":"+LE3+1/8","v":0.5},{"$f":"+LF3+1/8","v":0.625},{"$f":"+LG3+1/8","v":0.75},{"$f":"+LH3+1/8","v":0.875},{"$f":"+LI3+1/8","v":1},0,{"$f":"+LK3+1/8","v":0.125},{"$f":"+LL3+1/8","v":0.25},{"$f":"+LM3+1/8","v":0.375},{"$f":"+LN3+1/8","v":0.5},{"$f":"+LO3+1/8","v":0.625},0.75,0.875,1,0,{"$f":"+LT3+1/8","v":0.125},{"$f":"+LU3+1/8","v":0.25},{"$f":"+LV3+1/8","v":0.375},{"$f":"+LW3+1/8","v":0.5},null,null,null,null,null,null,null,0,{"$f":"+MF3+1/8","v":0.125},{"$f":"+MG3+1/8","v":0.25},{"$f":"+MH3+1/8","v":0.375},{"$f":"+MI3+1/8","v":0.5},{"$f":"+MJ3+1/8","v":0.625},{"$f":"+MK3+1/8","v":0.75},{"$f":"+ML3+1/8","v":0.875},{"$f":"+MM3+1/8","v":1},0,{"$f":"+MO3+1/8","v":0.125},{"$f":"+MP3+1/8","v":0.25},{"$f":"+MQ3+1/8","v":0.375},{"$f":"+MR3+1/8","v":0.5},{"$f":"+MS3+1/8","v":0.625},0.75,0.875,1,0,{"$f":"+MX3+1/8","v":0.125},{"$f":"+MY3+1/8","v":0.25},{"$f":"+MZ3+1/8","v":0.375},{"$f":"+NA3+1/8","v":0.5},null,0,{"$f":"+ND3+1/8","v":0.125},{"$f":"+NE3+1/8","v":0.25},{"$f":"+NF3+1/8","v":0.375},{"$f":"+NG3+1/8","v":0.5},{"$f":"+NH3+1/8","v":0.625},{"$f":"+NI3+1/8","v":0.75},{"$f":"+NJ3+1/8","v":0.875},{"$f":"+NK3+1/8","v":1},0,{"$f":"+NM3+1/8","v":0.125},{"$f":"+NN3+1/8","v":0.25},{"$f":"+NO3+1/8","v":0.375},{"$f":"+NP3+1/8","v":0.5},{"$f":"+NQ3+1/8","v":0.625},0.75,0.875,1,0,{"$f":"+NV3+1/8","v":0.125},{"$f":"+NW3+1/8","v":0.25},{"$f":"+NX3+1/8","v":0.375},{"$f":"+NY3+1/8","v":0.5}]
[null,null,null,null,null,null,null,null,null,null,null,null,null,null,null,null,null,null,null,null,null,null,null,null,null,null,null,null,null,null,null,null,null,null,null,null,null,null,null,null,null,null,null,null,null,null,null,null,null,null,null,null,null,null,null,null,null,null,null,null,null,null,null,null,null,null,null,null,null,null,null,null,null,null,null,null,null,null,null,null,null,null,null,null,null,null,null,null,null,null,null,null,null,null,null,null,null,null,null,null,null,null,null,null,null,null,null,null,null,null,null,null,null,null,null,null,null,null,null,null,null,null,null,null,null,null,null,null,null,null,null,null,null,null,null,null,null,null,null,null,null,null,null,null,null,null,null,null,null,null,null,null,null,null,null,null,null,null,null,null,null,null,null,null,null,null,null,null,null,null,null,null,null,null,null,null,null,null,null,null,null,null,null,null,null,null,null,null,null,null,null,null,null,null,null,null,null,null,null,null,null,null,null,null,null,null,null,null,null,null,null,null,null,null,null,null,null,null,null,null,null,null,null,null,null,null,null,null,null,null,null,null,"1-x/L",{"$f":"1-HZ3","v":1},{"$f":"1-IA3","v":0.875},0.75,0.625,0.5,0.375,0.25,0.125,0,1,0.875,0.75,0.625,0.5,{"$f":"1-IN3","v":0.375},0.25,0.125,0,1,0.875,0.75,0.625,0.5]
[null,null,null,null,null,null,null,null,null,null,null,null,null,null,null,null,null,null,null,null,null,null,null,null,null,null,null,null,null,null,null,null,null,null,null,null,null,null,null,null,null,null,null,null,null,null,null,null,null,null,null,null,null,null,null,null,null,null,null,null,null,null,null,null,null,null,null,null,null,null,null,null,null,null,null,null,null,null,null,null,null,null,null,null,null,null,null,null,null,null,null,null,null,null,null,null,null,null,null,null,null,null,null,null,null,null,null,null,null,null,null,null,null,null,null,null,null,null,null,null,null,null,null,null,null,null,null,null,null,null,null,null,null,null,null,null,null,null,null,null,null,null,null,null,null,null,null,null,null,null,null,null,null,null,null,null,null,null,null,null,null,null,null,null,null,null,null,null,null,null,null,null,null,null,null,null,null,null,null,null,null,null,null,null,null,null,null,null,null,null,null,null,null,null,null,null,null,null,null,null,null,null,null,null,null,null,null,null,null,null,null,null,null,null,null,null,null,null,null,null,null,null,null,null,null,null,null,null,null,null,null,null,"Mx0",{"$f":"+HZ3*(1-HZ3)","v":0},0.109375,0.1875,0.234375,0.25,0.234375,0.1875,0.109375,0,0,0.109375,0.1875,0.234375,0.25,{"$f":"+IN3*(1-IN3)","v":0.234375},0.1875,0.109375,0,0,0.109375,0.1875,0.234375,0.25]
[null,null,null,null,null,null,null,null,null,null,null,null,null,null,null,null,null,null,null,null,null,null,null,null,null,null,null,null,null,null,null,null,null,null,null,null,null,null,null,null,null,null,null,null,null,null,null,null,null,null,null,null,null,null,null,null,null,null,null,null,null,null,null,null,null,null,null,null,null,null,null,null,null,null,null,null,null,null,null,null,null,null,null,null,null,null,null,null,null,null,null,null,null,null,null,null,null,null,null,null,null,null,null,null,null,null,null,null,null,null,null,null,null,null,null,null,null,null,null,null,null,null,null,null,null,null,null,null,null,null,null,null,null,null,null,null,null,null,null,null,null,null,null,null,null,null,null,null,null,null,null,null,null,null,null,null,null,null,null,null,null,null,null,null,null,null,null,null,null,null,null,null,null,null,null,null,null,null,null,null,null,null,null,null,null,null,null,null,null,null,null,null,null,null,null,null,null,null,null,null,null,null,null,null,null,null,null,null,null,null,null,null,null,null,null,null,null,null,null,null,null,null,null,null,null,null,null,null,null,null,null,null,"Mx1",{"$f":"+HZ3","v":0},0.125,0.25,0.375,0.5,0.625,0.75,0.875,1,{"$f":"+II4","v":1},{"$f":"+IJ4","v":0.875},0.75,0.625,0.5,0.375,0.25,0.125,0]
[null,null,null,null,null,null,null,null,null,null,null,null,null,null,null,null,null,null,null,null,null,null,null,null,null,null,null,null,null,null,null,null,null,null,null,null,null,null,null,null,null,null,null,null,null,null,null,null,null,null,null,null,null,null,null,null,null,null,null,null,null,null,null,null,null,null,null,null,null,null,null,null,null,null,null,null,null,null,null,null,null,null,null,null,null,null,null,null,null,null,null,null,null,null,null,null,null,null,null,null,null,null,null,null,null,null,null,null,null,null,null,null,null,null,null,null,null,null,null,null,null,null,null,null,null,null,null,null,null,null,null,null,null,null,null,null,null,null,null,null,null,null,null,null,null,null,null,null,null,null,null,null,null,null,null,null,null,null,null,null,null,null,null,null,null,null,null,null,null,null,null,null,null,null,null,null,null,null,null,null,null,null,null,null,null,null,null,null,null,null,null,null,null,null,null,null,null,null,null,null,null,null,null,null,null,null,null,null,null,null,null,null,null,null,null,null,null,null,null,null,null,null,null,null,null,null,null,null,null,null,null,null,"Mx2",{"$f":"+HZ3","v":0},0.125,0.25,0.375,0.5,0.625,0.75,0.875,1,{"$f":"+II4","v":1},{"$f":"+IJ4","v":0.875},0.75,0.625,0.5,0.375,0.25,0.125,0]
[null,null,null,"Bending Moment",null,null,null,null,null,null,null,null,null,null,null,null,null,null,null,null,null,null,null,null,null,null,"Shear Force",null,null,null,"Reaction",null,null,null,null,null,null,null,null,null,null,null,null,null,null,null,null,null,null,null,null,null,null,null,null,null,null,null,null,null,null,null,null,null,null,null,null,null,null,null,null,null,null,null,null,null,null,null,null,null,null,null,null,null,null,null,null,null,null,null,null,null,null,null,null,null,null,null,null,null,null,null,null,null,null,null,null,null,null,null,null,null,null,null,null,null,null,null,null,null,null,null,null,null,null,null,null,null,null,null,null,null,null,null,null,null,null,null,null,null,null,null,null,null,null,null,null,null,null,null,null,null,null,null,null,null,null,null,null,null,null,null,null,null,null,null,null,null,null,null,null,null,null,null,null,null,null,null,null,null,null,null,null,null,null,null,null,null,null,null,null,null,null,null,null,null,null,null,null,null,null,null,null,null,null,null,null,null,null,null,null,null,null,null,null,null,null,null,null,null,null,null,null,null,null,null,null,null,null,null,null,null,"Mx3",null,null,null,null,null,null,null,null,null,{"$f":"+II3","v":0},{"$f":"+IJ3","v":0.125},0.25,0.375,0.5,0.625,0.75,0.875,1,1,1,1,1,1]
[null,null,null,0,{"$f":"+D9+1","v":1},2,3,4,5,6,7,8,{"$f":"+L9","v":8},{"$f":"+M9+1","v":9},10,11,12,13,14,15,16,16,{"$f":"+V9+1","v":17},{"$f":"+W9+1","v":18},{"$f":"+X9+1","v":19},{"$f":"+Y9+1","v":20},"lQB","rQB","lQC","rQc","RA","RB","RC",null,null,null,null,null,null,null,null,null,null,null,null,null,null,null,null,"lQD",null,null,null,null,null,null,null,null,null,null,null,null,null,null,null,null,null,null,null,null,null,null,null,null,null,null,null,null,null,null,null,null,null,null,null,null,null,null,null,null,null,null,null,null,null,null,null,null,null,null,null,null,null,null,null,null,null,null,null,null,null,null,null,null,null,null,null,null,null,null,null,null,null,null,null,null,null,null,null,null,null,null,null,null,null,null,null,null,null,null,null,null,null,null,null,null,null,null,null,null,null,null,null,null,null,null,null,null,null,null,null,null,null,null,null,null,null,null,null,null,null,null,null,null,null,null,null,null,null,null,null,null,null,null,null,null,null,null,null,null,null,null,null,null,null,null,null,null,null,null,null,null,null,null,null,null,null,null,null,null,null,null,null,null,null,null,null,null,null,null,null,null,null,null,null,null,null,null,null,null,null,null,"Mx4",null,null,null,null,null,null,null,null,null,{"$f":"+II3","v":0},{"$f":"+IJ3","v":0.125},0.25,0.375,0.5,0.625,0.75,0.875,1,1,{"$f":"+IR9-2/8","v":0.75},0.5,0.25,0]
[null,null,null,{"$f":"+E10+1","v":40},39,38,37,36,35,34,33,{"$f":"+M10","v":32},{"$f":"+N10+1","v":32},31,30,29,28,27,26,25,24,{"$f":"+W10+1","v":24},{"$f":"+X10+1","v":23},{"$f":"+Y10+1","v":22},{"$f":"+Z10+1","v":21},{"$f":"+Z9","v":20},null,null,null,null,null,null,null,null,null,null,null,null,null,null,null,null,null,null,null,null,null,null,null,null,null,0,0,{"$f":"+AZ10+1","v":1},1,2,2,3,3,4,4,5,5,6,6,7,7,8,8,9,9,10,10,11,11,12,12,13,13,14,14,15,15,16,16,{"$f":"+CF10+1","v":17},17,18,18,19,19,20,20,21,21,22,22,23,23,24,24,25,25,26,26,27,27,28,28,29,29,30,30,31,31,32,32,{"$f":"+DL10+1","v":33},33,34,34,35,35,36,36,37,37,38,38,39,39,40,40]
[null,null,{"$f":"+E11","v":0},{"$f":"+JY25","v":0},{"$f":"+JZ25","v":0},{"$f":"+KA25","v":0},{"$f":"+KB25","v":0},{"$f":"+KC25","v":0},{"$f":"+KD25","v":0},{"$f":"+KE25","v":0},{"$f":"+KF25","v":0},{"$f":"+KG25","v":0},{"$f":"+KH25","v":0},{"$f":"+KI25","v":0},{"$f":"+KJ25","v":0},{"$f":"+KK25","v":0},{"$f":"+KL25","v":0},{"$f":"+KM25","v":0},{"$f":"+KN25","v":0},{"$f":"+KO25","v":0},{"$f":"+KP25","v":0},{"$f":"+KQ25","v":0},{"$f":"+KR25","v":0},{"$f":"+KS25","v":0},{"$f":"+KT25","v":0},{"$f":"+KU25","v":0},{"$f":"+FM25","v":0},{"$f":"+FO25","v":0},{"$f":"+FQ25","v":0},{"$f":"+FS25","v":0},{"$f":"+FG25","v":1},{"$f":"+FI25","v":0},{"$f":"+FK25","v":0},null,null,null,null,null,null,null,null,null,null,null,null,null,null,null,null,{"$f":"+FU25","v":0},null,null,null,null,null,null,null,null,null,null,null,null,null,null,null,null,null,null,null,null,null,null,null,null,null,null,null,null,null,null,null,null,null,null,null,null,null,null,null,null,null,null,null,null,null,null,null,null,null,null,null,null,null,null,null,null,null,null,null,null,null,null,null,null,null,null,null,null,null,null,null,null,null,null,null,null,null,null,null,null,null,null,null,null,null,null,null,null,null,null,null,null,null,null,null,null,null,null,null,null,null,null,null,null,null,null,null,null,null,null,null,null,null,null,null,null,null,null,null,null,null,null,null,null,null,null,null,null,null,null,null,null,null,null,null,null,null,null,null,null,null,null,null,null,null,null,null,null,null,null,null,null,null,null,null,null,null,null,null,null,null,null,null,null,null,null,null,null,null,null,null,null,null,null,null,null,null,null,null,null,null,null,"fx1",{"$f":"+(HZ3-HZ3^3)/6","v":0},{"$f":"+(IA3-IA3^3)/6","v":2.05078125E-2},3.90625E-2,5.37109375E-2,6.25E-2,6.34765625E-2,5.46875E-2,3.41796875E-2,0,{"$f":"+(2*II3-3*II3^2+II3^3)/6*Input!$B$1^2","v":0},{"$f":"+(2*IJ3-3*IJ3^2+IJ3^3)/6*Input!$B$1^2","v":7.6904296875E-2},{"$f":"+(2*IK3-3*IK3^2+IK3^3)/6*Input!$B$1^2","v":0.123046875},{"$f":"+(2*IL3-3*IL3^2+IL3^3)/6*Input!$B$1^2","v":0.142822265625},{"$f":"+(2*IM3-3*IM3^2+IM3^3)/6*Input!$B$1^2","v":0.140625},{"$f":"+(2*IN3-3*IN3^2+IN3^3)/6*Input!$B$1^2","v":0.120849609375},{"$f":"+(2*IO3-3*IO3^2+IO3^3)/6*Input!$B$1^2","v":8.7890625E-2},{"$f":"+(2*IP3-3*IP3^2+IP3^3)/6*Input!$B$1^2","v":4.6142578125E-2},{"$f":"+(2*IQ3-3*IQ3^2+IQ3^3)/6*Input!$B$1^2","v":0}]
[null,null,{"$f":"+C11+1","v":1},0,1.0602975398936172,0.87059507978723405,0.68089261968085113,0.4911901595744681,0.30148769946808512,0.11178523936170214,-7.7917220744680854E-2,-0.26761968085106386,-0.26761968085106386,-0.22519808289007096,-0.182776484929078,-0.1403548869680851,-9.7933289007092195E-2,-5.5511691046099293E-2,-1.3090093085106388E-2,2.9331504875886524E-2,7.175310283687944E-2,7.175310283687944E-2,6.0359873670212755E-2,4.8966644503546097E-2,3.7573415336879426E-2,2.6180186170212762E-2,-0.15176196808510639,2.262485224586288E-2,2.262485224586288E-2,-6.076388888888889E-3,0.84823803191489366,0.17438682033096928,-2.8701241134751768E-2,null,null,null,null,null,null,null,null,null,null,null,null,null,null,null,null,-6.076388888888889E-3,null,0,{"$f":"+$AE12","v":0.84823803191489366},{"$f":"+$AE12","v":0.84823803191489366},{"$f":"+$AA12","v":-0.15176196808510639},null,null,null,null,null,null,null,null,null,null,null,null,{"$f":"+$AA12","v":-0.15176196808510639},{"$f":"+$AB12","v":2.262485224586288E-2},null,null,null,null,null,null,null,null,null,null,null,null,null,null,{"$f":"+$AB12","v":2.262485224586288E-2},{"$f":"+$AD12","v":-6.076388888888889E-3},null,null,null,null,null,null,null,null,null,null,null,null,null,null,{"$f":"+$AD12","v":-6.076388888888889E-3},{"$f":"+DL12","v":1.6807033096926714E-3},null,null,null,null,null,null,null,null,null,null,null,null,null,null,{"$f":"-AB54","v":1.6807033096926714E-3},{"$f":"-AE54","v":-5.8178191489361743E-4},null,null,null,null,null,null,null,null,null,null,null,null,null,null,{"$f":"+DM12","v":-5.8178191489361743E-4},0,null,null,null,null,null,{"$f":"2*(1+Input!$B$1)","v":5},0,{"$f":"Input!B1","v":1.5},0,null,null,null,null,null,null,null,null,null,null,null,null,null,null,null,null,null,null,null,null,null,null,null,null,null,null,null,null,null,null,null,null,null,null,null,null,null,null,null,null,null,null,null,null,null,null,null,null,null,null,null,null,null,null,null,null,null,null,null,null,null,null,null,null,null,null,null,null,null,null,null,null,null,null,null,null,null,null,null,null,null,null,null,null,null,null,null,null,null,null,"fx2",{"$f":"+HZ11","v":0},{"$f":"+IA11","v":2.05078125E-2},3.90625E-2,5.37109375E-2,6.25E-2,6.34765625E-2,5.46875E-2,3.41796875E-2,0,{"$f":"+II11","v":0},{"$f":"+IJ11","v":7.6904296875E-2},0.123046875,0.142822265625,0.140625,0.120849609375,8.7890625E-2,4.6142578125E-2,0]
[null,null,2,0,0.87378102836879434,1.7475620567375887,1.3713430851063828,0.99512411347517737,0.61890514184397161,0.24268617021276598,-0.13353280141843973,-0.50975177304964536,-0.50975177304964536,-0.42894872931442085,-0.34814568557919617,-0.26734264184397166,-0.18653959810874698,-0.1057365543735224,-2.4933510638297796E-2,5.5869533096926792E-2,0.13667257683215139,0.13667257683215139,0.11497118794326247,9.3269799054373576E-2,7.156841016548468E-2,4.9867021276595772E-2,-0.30097517730496454,4.3094956658786453E-2,4.3094956658786453E-2,-1.157407407407408E-2,0.69902482269503552,0.34407013396375097,-5.466903073286053E-2,null,null,null,null,null,null,null,null,null,null,null,null,null,null,null,null,-1.157407407407408E-2,null,0,{"$f":"+$AE13","v":0.69902482269503552},null,null,{"$f":"+$AE13","v":0.69902482269503552},{"$f":"+$AA13","v":-0.30097517730496454},null,null,null,null,null,null,null,null,null,null,-0.30097517730496454,4.3094956658786453E-2,null,null,null,null,null,null,null,null,null,null,null,null,null,null,4.3094956658786453E-2,-1.157407407407408E-2,null,null,null,null,null,null,null,null,null,null,null,null,null,null,-1.157407407407408E-2,3.2013396375098527E-3,null,null,null,null,null,null,null,null,null,null,null,null,null,null,{"$f":"-AB53","v":3.2013396375098527E-3},{"$f":"-AE53","v":-1.1081560283687959E-3},null,null,null,null,null,null,null,null,null,null,null,null,null,null,-1.1081560283687959E-3,0,null,null,null,null,null,0,{"$f":"+EI12","v":5},0,{"$f":"+EK12","v":1.5},null,null,null,null,null,null,null,null,null,null,null,null,null,null,null,null,null,null,null,null,null,null,null,null,null,null,null,null,null,null,null,null,null,null,null,null,null,null,null,null,null,null,null,null,null,null,null,null,null,null,null,null,null,null,null,null,null,null,null,null,null,null,null,null,null,null,null,null,null,null,null,null,null,null,null,null,null,null,null,null,null,null,null,null,null,null,null,null,null,null,"fx3",null,null,null,null,null,null,null,null,null,{"$f":"+(II3-II3^3)/6*Input!$B$1^2","v":0},{"$f":"+(IJ3-IJ3^3)/6*Input!$B$1^2","v":4.6142578125E-2},{"$f":"+(IK3-IK3^3)/6*Input!$B$1^2","v":8.7890625E-2},{"$f":"+(IL3-IL3^3)/6*Input!$B$1^2","v":0.120849609375},{"$f":"+(IM3-IM3^3)/6*Input!$B$1^2","v":0.140625},{"$f":"+(IN3-IN3^3)/6*Input!$B$1^2","v":0.142822265625},{"$f":"+(IO3-IO3^3)/6*Input!$B$1^2","v":0.123046875},{"$f":"+(IP3-IP3^3)/6*Input!$B$1^2","v":7.6904296875E-2},{"$f":"+(IQ3-IQ3^3)/6*Input!$B$1^2","v":0},{"$f":"3*(IR3-IR3^2)/6*Input!$B$1^2","v":0},{"$f":"3*(IS3-IS3^2)/6*Input!$B$1^2","v":0.123046875},{"$f":"3*(IT3-IT3^2)/6*Input!$B$1^2","v":0.2109375},{"$f":"3*(IU3-IU3^2)/6*Input!$B$1^2","v":0.263671875},{"$f":"3*(IV3-IV3^2)/6*Input!$B$1^2","v":0.28125}]
[null,null,3,0,0.69363641400709219,1.3872728280141844,2.0809092420212765,1.5245456560283688,0.96818207003546097,0.41181848404255317,-0.14454510195035458,-0.70090868794326244,-0.70090868794326244,-0.58980450280732855,-0.47870031767139493,-0.36759613253546103,-0.25649194739952735,-0.14538776226359357,-3.4283577127659781E-2,7.6820608008273977E-2,0.18792479314420774,0.18792479314420774,0.15808538342198558,0.12824597369976337,9.8406563977541189E-2,6.8567154255319007E-2,-0.44509086879432624,5.9255565405831337E-2,5.9255565405831337E-2,-1.5914351851851832E-2,0.55490913120567376,0.50434643420015757,-7.5169917257683169E-2,null,null,null,null,null,null,null,null,null,null,null,null,null,null,null,null,-1.5914351851851832E-2,null,0,0.55490913120567376,null,null,null,null,{"$f":"+$AE14","v":0.55490913120567376},{"$f":"+$AA14","v":-0.44509086879432624},null,null,null,null,null,null,null,null,-0.44509086879432624,5.9255565405831337E-2,null,null,null,null,null,null,null,null,null,null,null,null,null,null,5.9255565405831337E-2,-1.5914351851851832E-2,null,null,null,null,null,null,null,null,null,null,null,null,null,null,-1.5914351851851832E-2,4.4018420015760444E-3,null,null,null,null,null,null,null,null,null,null,null,null,null,null,{"$f":"-AB52","v":4.4018420015760444E-3},{"$f":"-AE52","v":-1.5237145390070914E-3},null,null,null,null,null,null,null,null,null,null,null,null,null,null,-1.5237145390070914E-3,0,null,null,null,null,null,{"$f":"+EK12","v":1.5},{"$f":"+EK13","v":0},{"$f":"5*Input!B1","v":7.5},0,null,null,null,null,null,null,null,null,null,null,null,null,null,null,null,null,null,null,null,null,null,null,null,null,null,null,null,null,null,null,null,null,null,null,null,null,null,null,null,null,null,null,null,null,null,null,null,null,null,null,null,null,null,null,null,null,null,null,null,null,null,null,null,null,null,null,null,null,null,null,null,null,null,null,null,null,null,null,null,null,null,null,null,null,null,null,null,null,null,null,"fx4",null,null,null,null,null,null,null,null,null,{"$f":"+II13","v":0},{"$f":"+IJ13","v":4.6142578125E-2},8.7890625E-2,0.120849609375,0.140625,0.142822265625,0.123046875,7.6904296875E-2,0,{"$f":"+(IR3-3*IR3^2+2*IR3^3)/6*Input!$B$1^2","v":0},{"$f":"+(IS3-3*IS3^2+2*IS3^3)/6*Input!$B$1^2","v":3.076171875E-2},{"$f":"+(IT3-3*IT3^2+2*IT3^3)/6*Input!$B$1^2","v":3.515625E-2},{"$f":"+(IU3-3*IU3^2+2*IU3^3)/6*Input!$B$1^2","v":2.197265625E-2},{"$f":"+(IV3-3*IV3^2+2*IV3^3)/6*Input!$B$1^2","v":0}]
[null,null,4,0,0.52304964539007093,1.0460992907801419,1.5691489361702127,2.0921985815602837,1.3652482269503547,0.63829787234042545,-8.8652482269503535E-2,-0.81560283687943269,-0.81560283687943269,-0.68631796690307334,-0.5570330969267141,-0.42774822695035464,-0.2984633569739954,-0.16917848699763607,-3.9893617021276723E-2,8.9391252955082601E-2,0.2186761229314419,0.2186761229314419,0.18395390070921974,0.14923167848699753,0.11450945626477535,7.9787234042553168E-2,-0.58156028368794321,6.8951930654058302E-2,6.8951930654058302E-2,-1.85185185185185E-2,0.41843971631205673,0.65051221434200157,-8.7470449172576806E-2,null,null,null,null,null,null,null,null,null,null,null,null,null,null,null,null,-1.85185185185185E-2,null,0,0.41843971631205673,null,null,null,null,null,null,{"$f":"+$AE15","v":0.41843971631205673},{"$f":"+$AA15","v":-0.58156028368794321},null,null,null,null,null,null,-0.58156028368794321,6.8951930654058302E-2,null,null,null,null,null,null,null,null,null,null,null,null,null,null,6.8951930654058302E-2,-1.85185185185185E-2,null,null,null,null,null,null,null,null,null,null,null,null,null,null,-1.85185185185185E-2,5.1221434200157514E-3,null,null,null,null,null,null,null,null,null,null,null,null,null,null,{"$f":"-AB51","v":5.1221434200157514E-3},{"$f":"-AE51","v":-1.7730496453900665E-3},null,null,null,null,null,null,null,null,null,null,null,null,null,null,-1.7730496453900665E-3,0,null,null,null,null,null,{"$f":"+EL12","v":0},{"$f":"+EL13","v":1.5},{"$f":"+EL14","v":0},{"$f":"3*Input!B1","v":4.5}]
[null,null,5,0,0.36520667109929078,0.73041334219858156,1.0956200132978724,1.4608266843971631,1.8260333554964538,0.94124002659574457,5.6446697695035422E-2,-0.82834663120567376,-0.82834663120567376,-0.6970416851359339,-0.56573673906619382,-0.43443179299645385,-0.30312684692671388,-0.17182190085697385,-4.0516954787233918E-2,9.0787991282506059E-2,0.222092937352246,0.222092937352246,0.18682818040780153,0.15156342346335708,0.1162986665189126,8.1033909574468127E-2,-0.70783466312056742,7.0029304570527987E-2,7.0029304570527987E-2,-1.8807870370370385E-2,0.29216533687943264,0.77786396769109534,-8.8837174940898378E-2,null,null,null,null,null,null,null,null,null,null,null,null,null,null,null,null,-1.8807870370370385E-2,null,0,0.29216533687943264,null,null,null,null,null,null,null,null,{"$f":"+$AE16","v":0.29216533687943264},{"$f":"+$AA16","v":-0.70783466312056742},null,null,null,null,-0.70783466312056742,7.0029304570527987E-2,null,null,null,null,null,null,null,null,null,null,null,null,null,null,7.0029304570527987E-2,-1.8807870370370385E-2,null,null,null,null,null,null,null,null,null,null,null,null,null,null,-1.8807870370370385E-2,5.2021769109535133E-3,null,null,null,null,null,null,null,null,null,null,null,null,null,null,{"$f":"-AB50","v":5.2021769109535133E-3},{"$f":"-AE50","v":-1.8007535460992929E-3},null,null,null,null,null,null,null,null,null,null,null,null,null,null,-1.8007535460992929E-3,0]
[null,null,6,0,0.22329343971631205,0.4465868794326241,0.6698803191489362,0.89317375886524819,1.1164671985815602,1.3397606382978724,0.31305407801418439,-0.71365248226950351,-0.71365248226950351,-0.6005282210401891,-0.4874039598108747,-0.37427969858156029,-0.26115543735224578,-0.14803117612293137,-3.4906914893616976E-2,7.8217346335697463E-2,0.1913416075650119,0.1913416075650119,0.16095966312056742,0.13057771867612294,0.10019577423167847,6.981382978723398E-2,-0.82136524822695034,6.0332939322301028E-2,6.0332939322301028E-2,-1.620370370370372E-2,0.17863475177304963,0.88169818754925133,-7.6536643026004741E-2,null,null,null,null,null,null,null,null,null,null,null,null,null,null,null,null,-1.620370370370372E-2,null,0,0.17863475177304963,null,null,null,null,null,null,null,null,null,null,{"$f":"+$AE17","v":0.17863475177304963},{"$f":"+$AA17","v":-0.82136524822695034},null,null,-0.82136524822695034,6.0332939322301028E-2,null,null,null,null,null,null,null,null,null,null,null,null,null,null,6.0332939322301028E-2,-1.620370370370372E-2,null,null,null,null,null,null,null,null,null,null,null,null,null,null,-1.620370370370372E-2,4.4818754925138081E-3,null,null,null,null,null,null,null,null,null,null,null,null,null,null,{"$f":"-AB49","v":4.4818754925138081E-3},{"$f":"-AE49","v":-1.5514184397163178E-3},null,null,null,null,null,null,null,null,null,null,null,null,null,null,-1.5514184397163178E-3,0,null,null,null,null,null,null,null,null,null,null,null,null,null,null,null,null,null,null,null,null,null,null,null,null,null,null,null,null,"X(1)",1,null,{"$f":"-(1+1/Input!B1)","v":-1.6666666666666665},null,{"$f":"1/Input!B1","v":0.66666666666666663},null,1,null,{"$f":"-1/Input!B1","v":-0.66666666666666663},null,{"$f":"-1/Input!$B$1","v":-0.66666666666666663},null,0]
[null,null,7,0,0.10049589982269505,0.2009917996453901,0.30148769946808512,0.4019835992907802,0.50247949911347523,0.60297539893617025,0.70347129875886538,-0.44603280141843971,-0.44603280141843971,-0.37533013815011818,-0.3046274748817967,-0.23392481161347523,-0.16322214834515372,-9.251948507683222E-2,-2.1816821808510727E-2,4.8885841459810765E-2,0.11958850472813226,0.11958850472813226,0.1005997894503545,8.1611074172576736E-2,6.2622358894798974E-2,4.3633643617021212E-2,-0.919603280141844,3.7708087076438128E-2,3.7708087076438128E-2,-1.0127314814814806E-2,8.0396719858156038E-2,0.95731136721828214,-4.7835401891252932E-2,null,null,null,null,null,null,null,null,null,null,null,null,null,null,null,null,-1.0127314814814806E-2,null,0,8.0396719858156038E-2,null,null,null,null,null,null,null,null,null,null,null,null,{"$f":"+$AE18","v":8.0396719858156038E-2},{"$f":"+$AA18","v":-0.919603280141844},-0.919603280141844,3.7708087076438128E-2,null,null,null,null,null,null,null,null,null,null,null,null,null,null,3.7708087076438128E-2,-1.0127314814814806E-2,null,null,null,null,null,null,null,null,null,null,null,null,null,null,-1.0127314814814806E-2,2.8011721828211191E-3,null,null,null,null,null,null,null,null,null,null,null,null,null,null,{"$f":"-AB48","v":2.8011721828211191E-3},{"$f":"-AE48","v":-9.6963652482269513E-4},null,null,null,null,null,null,null,null,null,null,null,null,null,null,-9.6963652482269513E-4,0,null,null,null,null,"Span","X(1)","X(2)","X(3)","X(4)",null,null,null,null,null,null,null,null,null,null,null,null,null,null,null,null,null,null,null,"X(2)",1,null,{"$f":"-(1+1/Input!B1)","v":-1.6666666666666665},null,{"$f":"+FK17","v":0.66666666666666663},null,1,null,{"$f":"+FO17","v":-0.66666666666666663},null,{"$f":"+FQ17","v":-0.66666666666666663},null,0]
[null,null,8,0,0,0,0,0,0,0,0,0,0,0,0,0,0,0,0,0,0,0,0,0,0,0,-1,0,0,0,0,1,0,null,null,null,null,null,null,null,null,null,null,null,null,null,null,null,null,0,null,null,null,null,null,null,null,null,null,null,null,null,null,null,null,null,null,null,null,null,null,null,null,null,null,null,null,null,null,null,null,null,null,null,null,null,null,null,null,null,null,null,null,null,null,null,null,null,null,null,null,null,null,null,null,null,null,null,null,null,null,null,null,null,null,null,null,null,null,null,null,null,null,null,null,null,null,null,null,null,null,null,null,null,null,null,null,1,0.25,{"$f":"+EI19","v":0.25},0,0,null,null,null,null,null,null,null,null,null,null,null,null,null,null,null,null,null,null,null,"X(3)",0,null,{"$f":"1/Input!B1","v":0.66666666666666663},null,{"$f":"-FK18","v":-0.66666666666666663},null,0,null,{"$f":"-FO18","v":0.66666666666666663},null,{"$f":"-FQ18","v":0.66666666666666663},null,0]
[null,null,{"$f":"+C19","v":8},0,0,0,0,0,0,0,0,0,0,0,0,0,0,0,0,0,0,0,0,0,0,0,0,1,0,0,0,1,0,null,null,null,null,null,null,null,null,null,null,null,null,null,null,null,null,0,null,null,null,null,null,null,null,null,null,null,null,null,null,null,null,null,null,null,null,null,null,null,null,null,null,null,null,null,null,null,null,null,null,null,null,null,null,null,null,null,null,null,null,null,null,null,null,null,null,null,null,null,null,null,null,null,null,null,null,null,null,null,null,null,null,null,null,null,null,null,null,null,null,null,null,null,null,null,null,null,null,null,null,null,null,null,null,2,{"$f":"1/4*Input!$B$1^3","v":0.84375},{"$f":"+EI20","v":0.84375},{"$f":"+EI22","v":0.84375},{"$f":"+EK20","v":0.84375},null,null,null,null,null,null,null,null,null,null,null,null,null,null,null,null,null,null,null,"X(4)",0,null,{"$f":"+FI19","v":0.66666666666666663},null,{"$f":"3*FK19","v":-2},null,0,null,{"$f":"+FO19","v":0.66666666666666663},null,{"$f":"+FQ19","v":0.66666666666666663},null,{"$f":"-2/Input!B1","v":-1.3333333333333333},null,{"$f":"+FS20","v":-1.3333333333333333},null,null,{"$f":"-1/6","v":-0.16666666666666666},{"$f":"-1/6","v":-0.16666666666666666},null,null,null,null,null,{"$f":"1/3","v":0.33333333333333331},{"$f":"1/3","v":0.33333333333333331},null,null,null,null,null,{"$f":"-1/3*Input!B1","v":-0.5},{"$f":"-1/3*Input!B1","v":-0.5},{"$f":"-1/6*Input!B1","v":-0.25},{"$f":"-1/6*Input!B1","v":-0.25},null,null,null,{"$f":"1/6*Input!B1","v":0.25},{"$f":"1/6*Input!B1","v":0.25},{"$f":"1/3*Input!B1","v":0.5},{"$f":"1/3*Input!B1","v":0.5},null,null,null,null,null,{"$f":"-1/2*Input!B1","v":-0.75},{"$f":"-1/6*Input!B1","v":-0.25}]
[null,null,{"$f":"+C20+1","v":9},0,-0.10526616522606383,-0.21053233045212766,-0.31579849567819146,-0.42106466090425532,-0.52633082613031912,-0.63159699135638292,-0.73686315658244683,-0.84212932180851063,-0.84212932180851063,0.87012757646276595,0.70738447473404253,0.54464137300531912,0.38189827127659565,0.2191551695478724,5.6412067819148898E-2,-0.10633103390957449,-0.26907413563829785,-0.26907413563829785,-0.22634952626329785,-0.18362491688829785,-0.14090030751329788,-9.8175698138297879E-2,-8.4212932180851061E-2,0.91320367907801425,-8.6796320921985831E-2,2.2786458333333332E-2,-8.4212932180851061E-2,0.99741661125886527,0.10958277925531916,null,null,null,null,null,null,null,null,null,null,null,null,null,null,null,null,2.2786458333333332E-2,null,0,{"$f":"+$AE21","v":-8.4212932180851061E-2},null,null,null,null,null,null,null,null,null,null,null,null,null,null,{"$f":"+BA21","v":-8.4212932180851061E-2},{"$f":"+$AB21","v":0.91320367907801425},{"$f":"+$AB21","v":0.91320367907801425},{"$f":"+$AC21","v":-8.6796320921985831E-2},null,null,null,null,null,null,null,null,null,null,null,null,{"$f":"+$AC21","v":-8.6796320921985831E-2},{"$f":"+$AD21","v":2.2786458333333332E-2},null,null,null,null,null,null,null,null,null,null,null,null,null,null,{"$f":"+AD21","v":2.2786458333333332E-2},{"$f":"-AB45","v":-6.3026374113475132E-3},null,null,null,null,null,null,null,null,null,null,null,null,null,null,{"$f":"+CW21","v":-6.3026374113475132E-3},{"$f":"+EB21","v":2.1816821808510606E-3},null,null,null,null,null,null,null,null,null,null,null,null,null,null,{"$f":"-AE45","v":2.1816821808510606E-3},0,null,null,null,null,3,0,0,{"$f":"3/6*Input!B1^3","v":1.6875},0]
[null,null,10,0,-0.16227559840425532,-0.32455119680851063,-0.48682679521276595,-0.64910239361702127,-0.81137799202127658,-0.9736535904255319,-1.1359291888297873,-1.2982047872340425,-1.2982047872340425,0.19600509751773043,1.6902149822695036,1.3094248670212765,0.92863475177304977,0.54784463652482263,0.16705452127659573,-0.21373559397163122,-0.59452570921985815,-0.59452570921985815,-0.50012466755319163,-0.40572362588652489,-0.31132258421985826,-0.21692154255319157,-0.12982047872340424,0.79691193853427889,-0.20308806146572106,5.0347222222222217E-2,-0.12982047872340424,0.92673241725768307,0.25343528368794327,null,null,null,null,null,null,null,null,null,null,null,null,null,null,null,null,5.0347222222222217E-2,null,0,-0.12982047872340424,null,null,null,null,null,null,null,null,null,null,null,null,null,null,-0.12982047872340424,{"$f":"+$AB22","v":0.79691193853427889},null,null,{"$f":"+$AB22","v":0.79691193853427889},{"$f":"+$AC22","v":-0.20308806146572106},null,null,null,null,null,null,null,null,null,null,-0.20308806146572106,5.0347222222222217E-2,null,null,null,null,null,null,null,null,null,null,null,null,null,null,5.0347222222222217E-2,{"$f":"-AB44","v":-1.3925827423167845E-2},null,null,null,null,null,null,null,null,null,null,null,null,null,null,-1.3925827423167845E-2,4.8204787234042562E-3,null,null,null,null,null,null,null,null,null,null,null,null,null,null,{"$f":"-AE44","v":4.8204787234042562E-3},0,null,null,null,null,4,{"$f":"1/4*Input!$B$1^3","v":0.84375},{"$f":"-EI22","v":-0.84375},{"$f":"+EI20","v":0.84375},{"$f":"-EJ20","v":-0.84375}]
[null,null,11,0,-0.18011864195478727,-0.36023728390957455,-0.54035592586436176,-0.72047456781914909,-0.9005932097739362,-1.0807118517287235,-1.2608304936835109,-1.4409491356382982,-1.4409491356382982,-0.20267134862588659,1.0356064383865249,2.2738842253989362,1.6371620124113475,1.000439799423759,0.36371758643617036,-0.27300462655141816,-0.90972683953900679,-0.90972683953900679,-0.76527696974734027,-0.62082709995567353,-0.47637723016400679,-0.33192736037234016,-0.14409491356382981,0.66041481973995264,-0.3395851802600473,7.7039930555555552E-2,-0.14409491356382981,0.8045097333037825,0.41662511081560283,null,null,null,null,null,null,null,null,null,null,null,null,null,null,null,null,7.7039930555555552E-2,null,0,-0.14409491356382981,null,null,null,null,null,null,null,null,null,null,null,null,null,null,-0.14409491356382981,0.66041481973995264,null,null,null,null,{"$f":"+$AB23","v":0.66041481973995264},{"$f":"+$AC23","v":-0.3395851802600473},null,null,null,null,null,null,null,null,-0.3395851802600473,7.7039930555555552E-2,null,null,null,null,null,null,null,null,null,null,null,null,null,null,7.7039930555555552E-2,{"$f":"-AB43","v":-2.1308916962174965E-2},null,null,null,null,null,null,null,null,null,null,null,null,null,null,-2.1308916962174965E-2,7.3761635638297934E-3,null,null,null,null,null,null,null,null,null,null,null,null,null,null,{"$f":"-AE43","v":7.3761635638297934E-3},0,null,null,null,null,5,{"$f":"1/4","v":0.25},{"$f":"-EI23","v":-0.25},0,0,null,null,null,null,null,null,null,null,null,"d(1,0)","d(2,0)","d(3,0)","d(4,0)"]
[null,null,12,0,-0.16788563829787234,-0.33577127659574468,-0.50365691489361708,-0.67154255319148937,-0.83942819148936176,-1.0073138297872342,-1.1751994680851066,-1.3430851063829787,-1.3430851063829787,-0.38120567375886533,0.58067375886524797,1.5425531914893618,2.5044326241134756,1.5913120567375887,0.67819148936170226,-0.23492907801418439,-1.148049645390071,-1.148049645390071,-0.96575797872340408,-0.78346631205673756,-0.60117464539007082,-0.41888297872340419,-0.13430851063829788,0.51300236406619371,-0.48699763593380613,9.7222222222222224E-2,-0.13430851063829788,0.64731087470449156,0.58421985815602839,null,null,null,null,null,null,null,null,null,null,null,null,null,null,null,null,9.7222222222222224E-2,null,0,-0.13430851063829788,null,null,null,null,null,null,null,null,null,null,null,null,null,null,-0.13430851063829788,0.51300236406619371,null,null,null,null,null,null,{"$f":"+$AB24","v":0.51300236406619371},{"$f":"+$AC24","v":-0.48699763593380613},null,null,null,null,null,null,-0.48699763593380613,9.7222222222222224E-2,null,null,null,null,null,null,null,null,null,null,null,null,null,null,9.7222222222222224E-2,{"$f":"-AB42","v":-2.689125295508275E-2},null,null,null,null,null,null,null,null,null,null,null,null,null,null,-2.689125295508275E-2,9.3085106382978788E-3,null,null,null,null,null,null,null,null,null,null,null,null,null,null,{"$f":"-AE42","v":9.3085106382978788E-3},0,null,null,null,null,null,null,null,null,null,null,null,null,null,null,null,null,"Span","e/L",null,null,null,null,null,null,"X(1)/L1","X(2)/L1","X(3)/L1","X(4)/L1","RA0","RA","RB0","RB","RC0","RC","lQB0","lQB","rQB0","rQB","lQC0","lQC","rQC0","rQC","lQD0","lQD",null,"SA0","SA1","SA2","SA3","SA4","SA",null,"lSB0","lSB1","lSB2","lSB3","lSB4","lSB",null,"rSB0","rSB1","rSB2","rSB3","rSB4","rSB",null,"lSC0","lSC1","lSC2","lSC3","lSC4","lSC",null,"rSC0","rSC1","rSC2","rSC3","rSC4","rSC"]
[null,null,13,0,-0.13466692985372342,-0.26933385970744683,-0.40400078956117025,-0.53866771941489366,-0.67333464926861708,-0.8080015791223405,-0.94266850897606391,-1.0773354388297873,-1.0773354388297873,-0.39490178967198586,0.2875318594858155,0.96996550864361708,1.6523991578014185,2.3348328069592199,1.1422664561170213,-5.0299894725177319E-2,-1.2428662455673758,-1.2428662455673758,-1.0455192403590428,-0.84817223515070927,-0.65082522994237602,-0.45347822473404265,-0.10773354388297873,0.36396461288416071,-0.63603538711583929,0.1052517361111111,-0.10773354388297873,0.47169815676713944,0.74128712322695034,null,null,null,null,null,null,null,null,null,null,null,null,null,null,null,null,0.1052517361111111,null,0,-0.10773354388297873,null,null,null,null,null,null,null,null,null,null,null,null,null,null,-0.10773354388297873,0.36396461288416071,null,null,null,null,null,null,null,null,{"$f":"+$AB25","v":0.36396461288416071},{"$f":"+$AC25","v":-0.63603538711583929},null,null,null,null,-0.63603538711583929,0.1052517361111111,null,null,null,null,null,null,null,null,null,null,null,null,null,null,0.1052517361111111,{"$f":"-AB41","v":-2.9112182328605195E-2},null,null,null,null,null,null,null,null,null,null,null,null,null,null,-2.9112182328605195E-2,1.0077293882978726E-2,null,null,null,null,null,null,null,null,null,null,null,null,null,null,{"$f":"-AE41","v":1.0077293882978726E-2},0,null,null,null,null,null,null,null,null,null,null,null,null,null,null,null,{"$f":"+EU25","v":0},1,0,{"$f":"$EU25-$EU25^3","v":0},{"$f":"+EV25","v":0},null,null,null,null,{"$f":"+(-EV25*$EK$14+EX25*$EK$12)/($EI$12*$EK$14-$EI$14*$EK$12)/2","v":0},{"$f":"+(-EW25*$EL$15+EY25*$EL$13)/($EJ$13*$EL$15-$EJ$15*$EL$13)/2","v":0},{"$f":"-(EV25/2+$EI$12*FB25)/$EK$12","v":0},{"$f":"-(EW25/2+$EJ$13*FC25)/$EL$13","v":0},{"$f":"1-1*EU25","v":1},{"$f":"+FF25+FG$17*$FB25+FG$18*$FC25+FG$19*$FD25+FG$20*$FE25","v":1},{"$f":"+EU25","v":0},{"$f":"+FH25+FI$17*$FB25+FI$18*$FC25+FI$19*$FD25+FI$20*$FE25","v":0},null,{"$f":"+FJ25+FK$17*$FB25+FK$18*$FC25+FK$19*$FD25+FK$20*$FE25","v":0},{"$f":"-$EU25","v":0},{"$f":"+FL25+FM$17*$FB25+FM$18*$FC25+FM$19*$FD25+FM$20*$FE25","v":0},null,{"$f":"+FN25+FO$17*$FB25+FO$18*$FC25+FO$19*$FD25+FO$20*$FE25","v":0},null,{"$f":"+FP25+FQ$17*$FB25+FQ$18*$FC25+FQ$19*$FD25+FQ$20*$FE25","v":0},null,0,null,0,null,{"$f":"-(1-EU25)*(1-(1-EU25)^2)/6","v":0},{"$f":"+FX$20*$FB25","v":0},{"$f":"+FY$20*$FC25","v":0},{"$f":"+FZ$20*$FD25","v":0},{"$f":"+GA$20*$FE25","v":0},{"$f":"+SUM(FW25:GA25)","v":0},null,{"$f":"+EU25*(1-EU25^2)/6","v":0},{"$f":"+GE$20*$FB25","v":0},{"$f":"+GF$20*$FC25","v":0},{"$f":"+GG$20*$FD25","v":0},{"$f":"+GH$20*$FE25","v":0},{"$f":"+SUM(GD25:GH25)","v":0},null,null,{"$f":"+GL$20*$FB25","v":0},{"$f":"+GM$20*$FC25","v":0},{"$f":"+GN$20*$FD25","v":0},{"$f":"+GO$20*$FE25","v":0},{"$f":"+SUM(GK25:GO25)","v":0},null,null,{"$f":"+GS$20*$FB25","v":0},{"$f":"+GT$20*$FC25","v":0},{"$f":"+GU$20*$FD25","v":0},{"$f":"+GV$20*$FE25","v":0},{"$f":"+SUM(GR25:GV25)","v":0},null,null,{"$f":"+GZ$20*$FB25","v":0},{"$f":"+HA$20*$FC25","v":0},{"$f":"+HB$20*$FD25","v":0},{"$f":"+HC$20*$FE25","v":0},{"$f":"+SUM(GY25:HC25)","v":0},null,null,null,null,null,null,null,null,null,null,null,null,null,null,null,null,null,null,null,null,null,0,{"$f":"+IF($EU25<=IA$3,IA$5/IA$3*$EU25,IA$5-IA$5/(1-IA$3)*($EU25-IA$3))","v":0},0,0,0,0,0,0,0,null,null,null,null,null,null,null,null,null,null,null,null,null,null,null,null,{"$f":"+HZ25+HZ$6*$FB25+HZ$7*$FC25+HZ$8*$FD25+HZ$9*$FE25","v":0},{"$f":"+IA25+IA$6*$FB25+IA$7*$FC25+IA$8*$FD25+IA$9*$FE25","v":0},0,0,0,0,0,0,0,0,0,0,0,0,0,0,0,0,0,0,0,0,0,null,null,null,{"$f":"+IY25*10","v":0},{"$f":"+IZ25*10","v":0},{"$f":"+JA25*10","v":0},{"$f":"+JB25*10","v":0},{"$f":"+JC25*10","v":0},{"$f":"+JD25*10","v":0},{"$f":"+JE25*10","v":0},{"$f":"+JF25*10","v":0},{"$f":"+JG25*10","v":0},{"$f":"+JH25*10","v":0},{"$f":"+JI25*10","v":0},{"$f":"+JJ25*10","v":0},{"$f":"+JK25*10","v":0},{"$f":"+JL25*10","v":0},{"$f":"+JM25*10","v":0},0,0,0,{"$f":"+JQ25*10","v":0},{"$f":"+JR25*10","v":0},{"$f":"+JS25*10","v":0},{"$f":"+JT25*10","v":0},{"$f":"+JU25*10","v":0},null,null,null,null,null,null,{"$f":"+IF($EU25<=HZ$3,1/6*(1-HZ$3)*$EU25*(1-(1-HZ$3)^2-$EU25^2),1/6*HZ$3*(1-$EU25)*(1-HZ$3^2-(1-$EU25)^2))","v":0},{"$f":"+IF($EU25<=IA$3,1/6*(1-IA$3)*$EU25*(1-(1-IA$3)^2-$EU25^2),1/6*IA$3*(1-$EU25)*(1-IA$3^2-(1-$EU25)^2))","v":0},{"$f":"+IF($EU25<=IB$3,1/6*(1-IB$3)*$EU25*(1-(1-IB$3)^2-$EU25^2),1/6*IB$3*(1-$EU25)*(1-IB$3^2-(1-$EU25)^2))","v":0},{"$f":"+IF($EU25<=IC$3,1/6*(1-IC$3)*$EU25*(1-(1-IC$3)^2-$EU25^2),1/6*IC$3*(1-$EU25)*(1-IC$3^2-(1-$EU25)^2))","v":0},{"$f":"+IF($EU25<=ID$3,1/6*(1-ID$3)*$EU25*(1-(1-ID$3)^2-$EU25^2),1/6*ID$3*(1-$EU25)*(1-ID$3^2-(1-$EU25)^2))","v":0},{"$f":"+IF($EU25<=IE$3,1/6*(1-IE$3)*$EU25*(1-(1-IE$3)^2-$EU25^2),1/6*IE$3*(1-$EU25)*(1-IE$3^2-(1-$EU25)^2))","v":0},{"$f":"+IF($EU25<=IF$3,1/6*(1-IF$3)*$EU25*(1-(1-IF$3)^2-$EU25^2),1/6*IF$3*(1-$EU25)*(1-IF$3^2-(1-$EU25)^2))","v":0},{"$f":"+IF($EU25<=IG$3,1/6*(1-IG$3)*$EU25*(1-(1-IG$3)^2-$EU25^2),1/6*IG$3*(1-$EU25)*(1-IG$3^2-(1-$EU25)^2))","v":0},{"$f":"+IF($EU25<=IH$3,1/6*(1-IH$3)*$EU25*(1-(1-IH$3)^2-$EU25^2),1/6*IH$3*(1-$EU25)*(1-IH$3^2-(1-$EU25)^2))","v":0},null,null,null,null,null,null,null,null,null,null,null,null,null,null,null,null,null,null,null,null,null,{"$f":"+LB25+HZ$11*$FB25+HZ$12*$FC25+HZ$13*$FD25+HZ$14*$FE25","v":0},{"$f":"+LC25+IA$11*$FB25+IA$12*$FC25+IA$13*$FD25+IA$14*$FE25","v":0},0,0,0,0,0,0,0,0,0,0,0,0,0,0,0,0,0,0,0,0,0,null,{"$f":"+MF25*100","v":0},{"$f":"+MG25*100","v":0},{"$f":"+MH25*100","v":0},{"$f":"+MI25*100","v":0},{"$f":"+MJ25*100","v":0},{"$f":"+MK25*100","v":0},{"$f":"+ML25*100","v":0},{"$f":"+MM25*100","v":0},{"$f":"+MN25*100","v":0},{"$f":"+MO25*100","v":0},{"$f":"+MP25*100","v":0},{"$f":"+MQ25*100","v":0},{"$f":"+MR25*100","v":0},{"$f":"+MS25*100","v":0},{"$f":"+MT25*100","v":0},{"$f":"+MU25*100","v":0},{"$f":"+MV25*100","v":0},{"$f":"+MW25*100","v":0},{"$f":"+MX25*100","v":0},{"$f":"+MY25*100","v":0},{"$f":"+MZ25*100","v":0},{"$f":"+NA25*100","v":0},{"$f":"+NB25*100","v":0}]
[null,null,14,0,-8.9552859042553196E-2,-0.17910571808510639,-0.26865857712765956,-0.35821143617021278,-0.44776429521276595,-0.53731715425531912,-0.6268700132978724,-0.71642287234042556,-0.71642287234042556,-0.29906360815602839,0.11829565602836881,0.53565492021276595,0.95301418439716346,1.3703734485815606,1.7877327127659575,0.33009197695035475,-1.127548758865248,-1.127548758865248,-0.94851230053191493,-0.76947584219858145,-0.59043938386524819,-0.41140292553191482,-7.1642287234042562E-2,0.22259160756501181,-0.77740839243498816,9.5486111111111105E-2,-7.1642287234042562E-2,0.29423389479905437,0.87289450354609921,null,null,null,null,null,null,null,null,null,null,null,null,null,null,null,null,9.5486111111111105E-2,null,0,-7.1642287234042562E-2,null,null,null,null,null,null,null,null,null,null,null,null,null,null,-7.1642287234042562E-2,0.22259160756501181,null,null,null,null,null,null,null,null,null,null,{"$f":"+$AB26","v":0.22259160756501181},{"$f":"+$AC26","v":-0.77740839243498816},null,null,-0.77740839243498816,9.5486111111111105E-2,null,null,null,null,null,null,null,null,null,null,null,null,null,null,9.5486111111111105E-2,{"$f":"-AB40","v":-2.641105200945627E-2},null,null,null,null,null,null,null,null,null,null,null,null,null,null,-2.641105200945627E-2,9.1422872340425551E-3,null,null,null,null,null,null,null,null,null,null,null,null,null,null,{"$f":"-AE40","v":9.1422872340425551E-3},0,null,null,null,null,null,null,null,null,null,null,null,null,null,null,null,{"$f":"+ES25+1","v":1},null,{"$f":"+EU25+1/8","v":0.125},{"$f":"$EU26-$EU26^3","v":0.123046875},{"$f":"+EV26","v":0.123046875},null,null,null,null,{"$f":"+(-EV26*$EK$14+EX26*$EK$12)/($EI$12*$EK$14-$EI$14*$EK$12)/2","v":-1.3090093085106383E-2},{"$f":"+(-EW26*$EL$15+EY26*$EL$13)/($EJ$13*$EL$15-$EJ$15*$EL$13)/2","v":-1.3671875E-2},{"$f":"-(EV26/2+$EI$12*FB26)/$EK$12","v":2.6180186170212763E-3},{"$f":"-(EW26/2+$EJ$13*FC26)/$EL$13","v":4.557291666666667E-3},0.875,{"$f":"+FF26+FG$17*$FB26+FG$18*$FC26+FG$19*$FD26+FG$20*$FE26","v":0.84823803191489366},0.125,{"$f":"+FH26+FI$17*$FB26+FI$18*$FC26+FI$19*$FD26+FI$20*$FE26","v":0.17438682033096928},null,{"$f":"+FJ26+FK$17*$FB26+FK$18*$FC26+FK$19*$FD26+FK$20*$FE26","v":-2.8701241134751768E-2},-0.125,-0.15176196808510639,null,2.262485224586288E-2,null,2.262485224586288E-2,null,-6.076388888888889E-3,null,-6.076388888888889E-3,null,{"$f":"-(1-EU26)*(1-(1-EU26)^2)/6","v":-3.41796875E-2},{"$f":"+FX$20*$FB26","v":2.1816821808510636E-3},{"$f":"+FY$20*$FC26","v":2.278645833333333E-3},{"$f":"+FZ$20*$FD26","v":0},{"$f":"+GA$20*$FE26","v":0},{"$f":"+SUM(FW26:GA26)","v":-2.9719359485815607E-2},null,{"$f":"+EU26*(1-EU26^2)/6","v":2.05078125E-2},{"$f":"+GE$20*$FB26","v":-4.3633643617021272E-3},{"$f":"+GF$20*$FC26","v":-4.5572916666666661E-3},{"$f":"+GG$20*$FD26","v":0},{"$f":"+GH$20*$FE26","v":0},{"$f":"+SUM(GD26:GH26)","v":1.1587156471631206E-2},null,null,{"$f":"+GL$20*$FB26","v":6.5450465425531913E-3},{"$f":"+GM$20*$FC26","v":6.8359375E-3},{"$f":"+GN$20*$FD26","v":-6.5450465425531906E-4},{"$f":"+GO$20*$FE26","v":-1.1393229166666667E-3},{"$f":"+SUM(GK26:GO26)","v":1.1587156471631208E-2},null,null,{"$f":"+GS$20*$FB26","v":-3.2725232712765956E-3},{"$f":"+GT$20*$FC26","v":-3.41796875E-3},{"$f":"+GU$20*$FD26","v":1.3090093085106381E-3},{"$f":"+GV$20*$FE26","v":2.2786458333333335E-3},{"$f":"+SUM(GR26:GV26)","v":-3.1028368794326247E-3},null,null,{"$f":"+GZ$20*$FB26","v":0},{"$f":"+HA$20*$FC26","v":0},{"$f":"+HB$20*$FD26","v":-1.9635139627659573E-3},{"$f":"+HC$20*$FE26","v":-1.1393229166666667E-3},{"$f":"+SUM(GY26:HC26)","v":-3.1028368794326243E-3},null,null,null,null,null,null,null,null,null,null,null,null,null,null,null,null,null,null,null,null,null,0,0.109375,9.375E-2,7.8125E-2,6.25E-2,4.6875E-2,3.125E-2,1.5625E-2,0,null,null,null,null,null,null,null,null,null,null,null,null,null,null,null,null,{"$f":"+HZ26+HZ$6*$FB26+HZ$7*$FC26+HZ$8*$FD26+HZ$9*$FE26","v":0},{"$f":"+IA26+IA$6*$FB26+IA$7*$FC26+IA$8*$FD26+IA$9*$FE26","v":0.10602975398936171},{"$f":"+IB26+IB$6*$FB26+IB$7*$FC26+IB$8*$FD26+IB$9*$FE26","v":8.7059507978723402E-2},{"$f":"+IC26+IC$6*$FB26+IC$7*$FC26+IC$8*$FD26+IC$9*$FE26","v":6.808926196808511E-2},{"$f":"+ID26+ID$6*$FB26+ID$7*$FC26+ID$8*$FD26+ID$9*$FE26","v":4.9119015957446811E-2},{"$f":"+IE26+IE$6*$FB26+IE$7*$FC26+IE$8*$FD26+IE$9*$FE26","v":3.0148769946808512E-2},{"$f":"+IF26+IF$6*$FB26+IF$7*$FC26+IF$8*$FD26+IF$9*$FE26","v":1.1178523936170214E-2},{"$f":"+IG26+IG$6*$FB26+IG$7*$FC26+IG$8*$FD26+IG$9*$FE26","v":-7.7917220744680854E-3},{"$f":"+IH26+IH$6*$FB26+IH$7*$FC26+IH$8*$FD26+IH$9*$FE26","v":-2.6761968085106384E-2},{"$f":"+II26+II$6*$FB26+II$7*$FC26+II$8*$FD26+II$9*$FE26","v":-2.6761968085106384E-2},{"$f":"+IJ26+IJ$6*$FB26+IJ$7*$FC26+IJ$8*$FD26+IJ$9*$FE26","v":-2.2519808289007095E-2},{"$f":"+IK26+IK$6*$FB26+IK$7*$FC26+IK$8*$FD26+IK$9*$FE26","v":-1.8277648492907798E-2},{"$f":"+IL26+IL$6*$FB26+IL$7*$FC26+IL$8*$FD26+IL$9*$FE26","v":-1.4035488696808509E-2},{"$f":"+IM26+IM$6*$FB26+IM$7*$FC26+IM$8*$FD26+IM$9*$FE26","v":-9.7933289007092195E-3},{"$f":"+IN26+IN$6*$FB26+IN$7*$FC26+IN$8*$FD26+IN$9*$FE26","v":-5.5511691046099291E-3},{"$f":"+IO26+IO$6*$FB26+IO$7*$FC26+IO$8*$FD26+IO$9*$FE26","v":-1.3090093085106388E-3},{"$f":"+IP26+IP$6*$FB26+IP$7*$FC26+IP$8*$FD26+IP$9*$FE26","v":2.9331504875886524E-3},{"$f":"+IQ26+IQ$6*$FB26+IQ$7*$FC26+IQ$8*$FD26+IQ$9*$FE26","v":7.1753102836879436E-3},{"$f":"+IR26+IR$6*$FB26+IR$7*$FC26+IR$8*$FD26+IR$9*$FE26","v":7.1753102836879436E-3},{"$f":"+IS26+IS$6*$FB26+IS$7*$FC26+IS$8*$FD26+IS$9*$FE26","v":6.0359873670212758E-3},{"$f":"+IT26+IT$6*$FB26+IT$7*$FC26+IT$8*$FD26+IT$9*$FE26","v":4.8966644503546097E-3},{"$f":"+IU26+IU$6*$FB26+IU$7*$FC26+IU$8*$FD26+IU$9*$FE26","v":3.7573415336879428E-3},{"$f":"+IV26+IV$6*$FB26+IV$7*$FC26+IV$8*$FD26+IV$9*$FE26","v":2.6180186170212763E-3},null,null,null,0,1.0602975398936172,0.87059507978723405,0.68089261968085113,0.4911901595744681,0.30148769946808512,0.11178523936170214,-7.7917220744680854E-2,-0.26761968085106386,-0.26761968085106386,-0.22519808289007096,-0.182776484929078,-0.1403548869680851,-9.7933289007092195E-2,{"$f":"+JM26*10","v":-5.5511691046099293E-2},{"$f":"+JN26*10","v":-1.3090093085106388E-2},{"$f":"+JO26*10","v":2.9331504875886524E-2},{"$f":"+JP26*10","v":7.175310283687944E-2},7.175310283687944E-2,6.0359873670212755E-2,4.8966644503546097E-2,3.7573415336879426E-2,2.6180186170212762E-2,null,null,null,null,null,null,0,3.987630208333333E-3,6.591796875E-3,7.7311197916666661E-3,7.649739583333333E-3,6.591796875E-3,4.8014322916666661E-3,2.522786458333333E-3,0,null,null,null,null,null,null,null,null,null,null,null,null,null,null,null,null,null,null,null,null,null,{"$f":"+LB26+HZ$11*$FB26+HZ$12*$FC26+HZ$13*$FD26+HZ$14*$FE26","v":0},3.4388007847129874E-3,5.546407496675532E-3,6.2937093964705228E-3,5.9771165780141845E-3,4.8930391352227393E-3,3.3378871620124108E-3,1.6080707522994233E-3,0,0,-1.7270230232401098E-3,-2.6623340363198141E-3,-2.9550714695707279E-3,-2.754373753324468E-3,-2.2093793179126498E-3,-1.4692265936668883E-3,-6.8305401091879971E-4,0,0,4.6232913402800862E-4,7.1245558718417549E-4,7.9043368075756306E-4,7.3631773603723399E-4,null,0,0.34388007847129876,0.55464074966755317,0.62937093964705226,0.59771165780141844,0.48930391352227393,0.33378871620124106,0.16080707522994234,0,0,-0.17270230232401099,-0.26623340363198139,-0.29550714695707281,-0.27543737533244678,-0.22093793179126497,-0.14692265936668883,-6.8305401091879978E-2,0,0,4.6232913402800863E-2,7.1245558718417548E-2,7.9043368075756307E-2,7.3631773603723402E-2]
[null,null,15,0,-4.1633768284574463E-2,-8.3267536569148926E-2,-0.1249013048537234,-0.16653507313829785,-0.20816884142287231,-0.2498026097074468,-0.29143637799202127,-0.3330701462765957,-0.3330701462765957,-0.14899504100177305,3.5080064273049619E-2,0.21915516954787231,0.40323027482269502,0.58730538009751765,0.77138048537234027,0.95545559064716301,-0.73546930407801425,-0.73546930407801425,-0.61868870511968088,-0.50190810616134751,-0.3851275072030142,-0.26834690824468088,-3.3307014627659573E-2,9.8173389479905449E-2,-0.90182661052009461,6.2282986111111112E-2,-3.3307014627659573E-2,0.13148040410756501,0.96410959663120566,null,null,null,null,null,null,null,null,null,null,null,null,null,null,null,null,6.2282986111111112E-2,null,0,-3.3307014627659573E-2,null,null,null,null,null,null,null,null,null,null,null,null,null,null,-3.3307014627659573E-2,9.8173389479905449E-2,null,null,null,null,null,null,null,null,null,null,null,null,{"$f":"+$AB27","v":9.8173389479905449E-2},{"$f":"+$AC27","v":-0.90182661052009461},-0.90182661052009461,6.2282986111111112E-2,null,null,null,null,null,null,null,null,null,null,null,null,null,null,6.2282986111111112E-2,{"$f":"-AB39","v":-1.7227208924349879E-2},null,null,null,null,null,null,null,null,null,null,null,null,null,null,-1.7227208924349879E-2,5.963264627659573E-3,null,null,null,null,null,null,null,null,null,null,null,null,null,null,{"$f":"-AE39","v":5.963264627659573E-3},0,null,null,null,null,null,null,null,null,null,null,null,null,null,null,null,{"$f":"+ES26+1","v":2},null,{"$f":"+EU26+1/8","v":0.25},0.234375,0.234375,null,null,null,null,{"$f":"+(-EV27*$EK$14+EX27*$EK$12)/($EI$12*$EK$14-$EI$14*$EK$12)/2","v":-2.4933510638297872E-2},{"$f":"+(-EW27*$EL$15+EY27*$EL$13)/($EJ$13*$EL$15-$EJ$15*$EL$13)/2","v":-2.6041666666666668E-2},4.9867021276595773E-3,8.6805555555555611E-3,0.75,0.69902482269503552,0.25,0.34407013396375097,null,-5.466903073286053E-2,-0.25,-0.30097517730496454,null,4.3094956658786453E-2,null,4.3094956658786453E-2,null,-1.157407407407408E-2,null,-1.157407407407408E-2,null,-5.46875E-2,4.1555851063829786E-3,4.340277777777778E-3,0,0,-4.6191637115839249E-2,null,3.90625E-2,-8.3111702127659573E-3,-8.6805555555555559E-3,0,0,2.2070774231678487E-2,null,null,1.2466755319148936E-2,1.3020833333333334E-2,-1.2466755319148943E-3,-2.1701388888888903E-3,2.2070774231678483E-2,null,null,-6.233377659574468E-3,-6.510416666666667E-3,2.4933510638297887E-3,4.3402777777777806E-3,-5.9101654846335653E-3,null,null,0,0,-3.7400265957446832E-3,-2.1701388888888903E-3,-5.9101654846335731E-3,null,null,null,null,null,null,null,null,null,null,null,null,null,null,null,null,null,null,null,null,null,0,9.375E-2,0.1875,0.15625,0.125,9.375E-2,6.25E-2,3.125E-2,0,null,null,null,null,null,null,null,null,null,null,null,null,null,null,null,null,0,8.737810283687944E-2,0.17475620567375888,0.13713430851063829,9.9512411347517732E-2,6.1890514184397158E-2,2.4268617021276598E-2,-1.3353280141843973E-2,-5.0975177304964536E-2,-5.0975177304964536E-2,-4.2894872931442084E-2,-3.4814568557919617E-2,-2.6734264184397165E-2,-1.8653959810874698E-2,-1.0573655437352241E-2,-2.4933510638297796E-3,5.586953309692679E-3,1.3667257683215139E-2,1.3667257683215139E-2,1.1497118794326248E-2,9.3269799054373579E-3,7.156841016548468E-3,4.9867021276595773E-3,null,null,null,0,0.87378102836879434,1.7475620567375887,1.3713430851063828,0.99512411347517737,0.61890514184397161,0.24268617021276598,-0.13353280141843973,-0.50975177304964536,-0.50975177304964536,-0.42894872931442085,-0.34814568557919617,-0.26734264184397166,-0.18653959810874698,-0.1057365543735224,-2.4933510638297796E-2,5.5869533096926792E-2,0.13667257683215139,0.13667257683215139,0.11497118794326247,9.3269799054373576E-2,7.156841016548468E-2,4.9867021276595772E-2,null,null,null,null,null,null,0,6.591796875E-3,1.171875E-2,1.4241536458333332E-2,1.4322916666666666E-2,1.2451171875E-2,9.1145833333333322E-3,4.8014322916666661E-3,0,null,null,null,null,null,null,null,null,null,null,null,null,null,null,null,null,null,null,null,null,null,0,5.546407496675532E-3,9.7275321365248232E-3,1.1503611896054963E-2,1.1136968085106383E-2,9.2154428468528369E-3,6.3268783244680837E-3,3.059116661125886E-3,0,0,-3.2895676633144942E-3,-5.0711124501329769E-3,-5.6287075610871005E-3,-5.2464261968085098E-3,-4.2083415579288541E-3,-2.7985268450797865E-3,-1.3010552588929515E-3,0,0,8.8062692195811231E-4,1.3570582613031924E-3,1.5055879633477404E-3,1.4025099734042562E-3,null,0,0.55464074966755317,0.97275321365248235,1.1503611896054964,1.1136968085106382,0.92154428468528371,0.63268783244680837,0.30591166611258858,0,0,-0.32895676633144944,-0.50711124501329774,-0.56287075610871007,-0.52464261968085102,-0.42083415579288541,-0.27985268450797862,-0.13010552588929516,0,0,8.8062692195811226E-2,0.13570582613031923,0.15055879633477404,0.14025099734042562]
[null,null,16,0,0,0,0,0,0,0,0,0,0,0,0,0,0,0,0,0,0,0,0,0,0,0,0,0,-1,0,0,0,1,null,null,null,null,null,null,null,null,null,null,null,null,null,null,null,null,0,null,null,null,null,null,null,null,null,null,null,null,null,null,null,null,null,null,null,null,null,null,null,null,null,null,null,null,null,null,null,null,null,null,null,null,null,null,null,null,null,null,null,null,null,null,null,null,null,null,null,null,null,null,null,null,null,null,null,null,null,null,null,null,null,null,null,null,null,null,null,null,null,null,null,null,null,null,null,null,null,null,null,null,null,null,null,null,null,null,null,null,null,null,null,null,null,null,null,3,null,0.375,0.322265625,0.322265625,null,null,null,null,-3.4283577127659573E-2,-3.5807291666666664E-2,6.8567154255319007E-3,1.1935763888888876E-2,0.625,0.55490913120567376,0.375,0.50434643420015757,null,-7.5169917257683169E-2,-0.375,-0.44509086879432624,null,5.9255565405831337E-2,null,5.9255565405831337E-2,null,-1.5914351851851832E-2,null,-1.5914351851851832E-2,null,-6.34765625E-2,5.7139295212765952E-3,5.9678819444444441E-3,0,0,-5.1794751034278955E-2,null,5.37109375E-2,-1.142785904255319E-2,-1.1935763888888888E-2,0,0,3.0347314568557923E-2,null,null,1.7141788563829786E-2,1.7903645833333332E-2,-1.7141788563829752E-3,-2.983940972222219E-3,3.0347314568557927E-2,null,null,-8.5708942819148932E-3,-8.9518229166666661E-3,3.4283577127659504E-3,5.967881944444438E-3,-8.1264775413711736E-3,null,null,0,0,-5.1425365691489255E-3,-2.983940972222219E-3,-8.1264775413711441E-3,null,null,null,null,null,null,null,null,null,null,null,null,null,null,null,null,null,null,null,null,null,0,7.8125E-2,0.15625,0.234375,0.1875,0.140625,9.375E-2,4.6875E-2,0,null,null,null,null,null,null,null,null,null,null,null,null,null,null,null,null,0,6.9363641400709219E-2,0.13872728280141844,0.20809092420212766,0.15245456560283688,9.6818207003546097E-2,4.1181848404255317E-2,-1.4454510195035457E-2,-7.0090868794326244E-2,-7.0090868794326244E-2,-5.8980450280732857E-2,-4.7870031767139491E-2,-3.6759613253546104E-2,-2.5649194739952735E-2,-1.4538776226359356E-2,-3.4283577127659781E-3,7.6820608008273984E-3,1.8792479314420775E-2,1.8792479314420775E-2,1.5808538342198558E-2,1.2824597369976338E-2,9.8406563977541193E-3,6.8567154255319007E-3,null,null,null,0,0.69363641400709219,1.3872728280141844,2.0809092420212765,1.5245456560283688,0.96818207003546097,0.41181848404255317,-0.14454510195035458,-0.70090868794326244,-0.70090868794326244,-0.58980450280732855,-0.47870031767139493,-0.36759613253546103,-0.25649194739952735,-0.14538776226359357,-3.4283577127659781E-2,7.6820608008273977E-2,0.18792479314420774,0.18792479314420774,0.15808538342198558,0.12824597369976337,9.8406563977541189E-2,6.8567154255319007E-2,null,null,null,null,null,null,0,7.7311197916666661E-3,1.4241536458333332E-2,1.8310546875E-2,1.904296875E-2,1.6845703125E-2,1.2451171875E-2,6.591796875E-3,0,null,null,null,null,null,null,null,null,null,null,null,null,null,null,null,null,null,null,null,null,null,0,6.2937093964705228E-3,1.1503611896054965E-2,1.4545900601867242E-2,1.4662289450354611E-2,1.2396575711297653E-2,8.6180774878102835E-3,4.1961128830064276E-3,0,0,-4.5231555370574316E-3,-6.9727796189328469E-3,-7.7394728964947663E-3,-7.2138360206117063E-3,-5.7864696421521802E-3,-3.8479744119847108E-3,-1.7889509809778112E-3,0,0,1.2108620176924014E-3,1.8659551092918849E-3,2.0701834496031375E-3,1.9284512134308471E-3,null,0,0.62937093964705226,1.1503611896054966,1.4545900601867243,1.4662289450354611,1.2396575711297653,0.86180774878102839,0.41961128830064276,0,0,-0.45231555370574317,-0.69727796189328473,-0.77394728964947668,-0.72138360206117058,-0.578646964215218,-0.38479744119847109,-0.17889509809778112,0,0,0.12108620176924015,0.1865955109291885,0.20701834496031374,0.19284512134308471]
[null,null,{"$f":"+C28","v":16},0,0,0,0,0,0,0,0,0,0,0,0,0,0,0,0,0,0,0,0,0,0,0,0,0,0,1,0,0,1,null,null,null,null,null,null,null,null,null,null,null,null,null,null,null,null,0,null,null,null,null,null,null,null,null,null,null,null,null,null,null,null,null,null,null,null,null,null,null,null,null,null,null,null,null,null,null,null,null,null,null,null,null,null,null,null,null,null,null,null,null,null,null,null,null,null,null,null,null,null,null,null,null,null,null,null,null,null,null,null,null,null,null,null,null,null,null,null,null,null,null,null,null,null,null,null,null,null,null,null,null,null,null,null,null,null,null,null,null,null,null,null,null,null,null,4,null,0.5,0.375,0.375,null,null,null,null,-3.9893617021276598E-2,-4.1666666666666664E-2,7.9787234042553168E-3,1.3888888888888876E-2,0.5,0.41843971631205673,0.5,0.65051221434200157,null,-8.7470449172576806E-2,-0.5,-0.58156028368794321,null,6.8951930654058302E-2,null,6.8951930654058302E-2,null,-1.85185185185185E-2,null,-1.85185185185185E-2,null,-6.25E-2,6.648936170212766E-3,6.9444444444444441E-3,0,0,-4.8906619385342784E-2,null,6.25E-2,-1.3297872340425532E-2,-1.3888888888888888E-2,0,0,3.5313238770685582E-2,null,null,1.9946808510638299E-2,2.0833333333333332E-2,-1.9946808510638292E-3,-3.472222222222219E-3,3.5313238770685589E-2,null,null,-9.9734042553191495E-3,-1.0416666666666666E-2,3.9893617021276584E-3,6.944444444444438E-3,-9.4562647754137218E-3,null,null,0,0,-5.9840425531914876E-3,-3.472222222222219E-3,-9.4562647754137062E-3,null,null,null,null,null,null,null,null,null,null,null,null,null,null,null,null,null,null,null,null,null,0,6.25E-2,0.125,0.1875,0.25,0.1875,0.125,6.25E-2,0,null,null,null,null,null,null,null,null,null,null,null,null,null,null,null,null,0,5.2304964539007091E-2,0.10460992907801418,0.15691489361702127,0.20921985815602837,0.13652482269503546,6.3829787234042548E-2,-8.8652482269503535E-3,-8.1560283687943269E-2,-8.1560283687943269E-2,-6.8631796690307334E-2,-5.5703309692671406E-2,-4.2774822695035464E-2,-2.9846335697399539E-2,-1.6917848699763607E-2,-3.9893617021276723E-3,8.9391252955082594E-3,2.1867612293144191E-2,2.1867612293144191E-2,1.8395390070921974E-2,1.4923167848699754E-2,1.1450945626477535E-2,7.9787234042553168E-3,null,null,null,0,0.52304964539007093,1.0460992907801419,1.5691489361702127,2.0921985815602837,1.3652482269503547,0.63829787234042545,-8.8652482269503535E-2,-0.81560283687943269,-0.81560283687943269,-0.68631796690307334,-0.5570330969267141,-0.42774822695035464,-0.2984633569739954,-0.16917848699763607,-3.9893617021276723E-2,8.9391252955082601E-2,0.2186761229314419,0.2186761229314419,0.18395390070921974,0.14923167848699753,0.11450945626477535,7.9787234042553168E-2,null,null,null,null,null,null,0,7.649739583333333E-3,1.4322916666666666E-2,1.904296875E-2,2.0833333333333332E-2,1.904296875E-2,1.4322916666666666E-2,7.649739583333333E-3,0,null,null,null,null,null,null,null,null,null,null,null,null,null,null,null,null,null,null,null,null,null,0,5.9771165780141845E-3,1.1136968085106383E-2,1.4662289450354611E-2,1.5735815602836878E-2,1.386580230496454E-2,9.8625886524822681E-3,4.8620345744680845E-3,0,0,-5.263308261303193E-3,-8.1137799202127669E-3,-9.005932097739363E-3,-8.3942819148936192E-3,-6.7333464926861725E-3,-4.4776429521276619E-3,-2.081688414228725E-3,0,0,1.409003075132978E-3,2.1712932180851055E-3,2.4089407413563821E-3,2.2440159574468078E-3,null,0,0.59771165780141844,1.1136968085106382,1.4662289450354611,1.5735815602836878,1.3865802304964541,0.98625886524822681,0.48620345744680843,0,0,-0.52633082613031934,-0.81137799202127669,-0.90059320977393631,-0.83942819148936187,-0.6733346492686173,-0.44776429521276617,-0.20816884142287251,0,0,0.1409003075132978,0.21712932180851055,0.24089407413563821,0.22440159574468077]
[null,null,{"$f":"+C29+1","v":17},0,2.8180061502659573E-2,5.6360123005319146E-2,8.4540184507978719E-2,0.11272024601063829,0.14090030751329785,0.16908036901595744,0.19726043051861702,0.22544049202127658,0.22544049202127658,0.10332689217641843,-1.878670766843972E-2,-0.14090030751329785,-0.26301390735815605,-0.38512750720301414,-0.50724110704787229,-0.62935470689273054,-0.75146830673758869,-0.75146830673758869,0.94612283909574457,0.76871398492907794,0.59130513076241131,0.41389627659574468,2.2544049202127658E-2,-6.5127253250591016E-2,-6.5127253250591016E-2,0.90538194444444442,2.2544049202127658E-2,-8.7671302452718661E-2,0.9705091976950353,null,null,null,null,null,null,null,null,null,null,null,null,null,null,null,null,-9.4618055555555552E-2,null,0,{"$f":"+$AE30","v":2.2544049202127658E-2},null,null,null,null,null,null,null,null,null,null,null,null,null,null,{"$f":"+BA30","v":2.2544049202127658E-2},{"$f":"+AB30","v":-6.5127253250591016E-2},null,null,null,null,null,null,null,null,null,null,null,null,null,null,{"$f":"+BQ30","v":-6.5127253250591016E-2},{"$f":"+$AD30","v":0.90538194444444442},{"$f":"+$AD30","v":0.90538194444444442},{"$f":"-$AD36","v":-9.4618055555555552E-2},null,null,null,null,null,null,null,null,null,null,null,null,{"$f":"-$AD36","v":-9.4618055555555552E-2},{"$f":"-$AB36","v":2.5630725472813237E-2},null,null,null,null,null,null,null,null,null,null,null,null,null,null,{"$f":"-$AB36","v":2.5630725472813237E-2},{"$f":"+EB30","v":-8.8721742021276584E-3},null,null,null,null,null,null,null,null,null,null,null,null,null,null,{"$f":"-AE36","v":-8.8721742021276584E-3},0,null,null,null,null,null,null,null,null,null,null,null,null,null,null,null,5,null,0.625,0.380859375,0.380859375,null,null,null,null,-4.0516954787234043E-2,-4.2317708333333336E-2,8.1033909574468131E-3,1.410590277777779E-2,0.375,0.29216533687943264,0.625,0.77786396769109534,null,-8.8837174940898378E-2,-0.625,-0.70783466312056742,null,7.0029304570527987E-2,null,7.0029304570527987E-2,null,-1.8807870370370385E-2,null,-1.8807870370370385E-2,null,-5.37109375E-2,6.7528257978723399E-3,7.052951388888889E-3,0,0,-3.990516031323877E-2,null,6.34765625E-2,-1.350565159574468E-2,-1.4105902777777778E-2,0,0,3.5865008126477541E-2,null,null,2.0258477393617021E-2,2.1158854166666668E-2,-2.0258477393617033E-3,-3.5264756944444475E-3,3.5865008126477541E-2,null,null,-1.0129238696808511E-2,-1.0579427083333334E-2,4.0516954787234065E-3,7.0529513888888951E-3,-9.6040189125295439E-3,null,null,0,0,-6.0775432180851102E-3,-3.5264756944444475E-3,-9.6040189125295577E-3,null,null,null,null,null,null,null,null,null,null,null,null,null,null,null,null,null,null,null,null,null,0,4.6875E-2,9.375E-2,0.140625,0.1875,0.234375,0.15625,7.8125E-2,0,null,null,null,null,null,null,null,null,null,null,null,null,null,null,null,null,0,3.6520667109929079E-2,7.3041334219858159E-2,0.10956200132978725,0.14608266843971632,0.18260333554964539,9.4124002659574463E-2,5.6446697695035422E-3,-8.2834663120567378E-2,-8.2834663120567378E-2,-6.9704168513593387E-2,-5.6573673906619382E-2,-4.3443179299645383E-2,-3.0312684692671385E-2,-1.7182190085697387E-2,-4.0516954787233918E-3,9.0787991282506066E-3,2.2209293735224601E-2,2.2209293735224601E-2,1.8682818040780154E-2,1.5156342346335708E-2,1.1629866651891261E-2,8.1033909574468131E-3,null,null,null,0,0.36520667109929078,0.73041334219858156,1.0956200132978724,1.4608266843971631,1.8260333554964538,0.94124002659574457,5.6446697695035422E-2,-0.82834663120567376,-0.82834663120567376,-0.6970416851359339,-0.56573673906619382,-0.43443179299645385,-0.30312684692671388,-0.17182190085697385,-4.0516954787233918E-2,9.0787991282506059E-2,0.222092937352246,0.222092937352246,0.18682818040780153,0.15156342346335708,0.1162986665189126,8.1033909574468127E-2,null,null,null,null,null,null,0,6.591796875E-3,1.2451171875E-2,1.6845703125E-2,1.904296875E-2,1.8310546875E-2,1.4241536458333332E-2,7.7311197916666661E-3,0,null,null,null,null,null,null,null,null,null,null,null,null,null,null,null,null,null,null,null,null,null,0,4.8930391352227393E-3,9.2154428468528369E-3,1.2396575711297651E-2,1.3865802304964538E-2,1.305248720426086E-2,9.7115158189273049E-3,4.8998568920378986E-3,0,0,-5.3455474528860524E-3,-8.2405577314660881E-3,-9.1466497867665371E-3,-8.5254425698138275E-3,-6.8385550316343875E-3,-4.5476061232546522E-3,-2.114214795701046E-3,0,0,1.4310187481819325E-3,2.2052196746176877E-3,2.4465804404400779E-3,2.2790787067819163E-3,null,0,0.48930391352227393,0.92154428468528371,1.239657571129765,1.3865802304964538,1.3052487204260861,0.97115158189273054,0.48998568920378988,0,0,-0.53455474528860525,-0.82405577314660883,-0.91466497867665375,-0.8525442569813827,-0.68385550316343879,-0.45476061232546522,-0.2114214795701046,0,0,0.14310187481819325,0.22052196746176878,0.24465804404400779,0.22790787067819163]
[null,null,18,0,4.3425864361702128E-2,8.6851728723404256E-2,0.13027759308510636,0.17370345744680851,0.21712932180851063,0.26055518617021273,0.30398105053191488,0.34740691489361702,0.34740691489361702,0.15922816932624112,-2.8950576241134784E-2,-0.21712932180851063,-0.40530806737588654,-0.59348681294326244,-0.78166555851063824,-0.96984430407801414,-1.15802304964539,-1.15802304964539,0.31333111702127658,1.7846852836879432,1.38103945035461,0.97739361702127658,3.4740691489361701E-2,-0.10036199763593379,-0.10036199763593379,0.78472222222222221,3.4740691489361701E-2,-0.13510268912529549,0.88508421985815611,null,null,null,null,null,null,null,null,null,null,null,null,null,null,null,null,-0.21527777777777779,null,0,{"$f":"+$AE31","v":3.4740691489361701E-2},null,null,null,null,null,null,null,null,null,null,null,null,null,null,{"$f":"+BA31","v":3.4740691489361701E-2},{"$f":"+AB31","v":-0.10036199763593379},null,null,null,null,null,null,null,null,null,null,null,null,null,null,{"$f":"+BQ31","v":-0.10036199763593379},{"$f":"+$AD31","v":0.78472222222222221},null,null,{"$f":"+$AD31","v":0.78472222222222221},{"$f":"-$AD35","v":-0.21527777777777779},null,null,null,null,null,null,null,null,null,null,{"$f":"-$AD35","v":-0.21527777777777779},{"$f":"-$AB35","v":5.5223108747044912E-2},null,null,null,null,null,null,null,null,null,null,null,null,null,null,{"$f":"-$AB35","v":5.5223108747044912E-2},{"$f":"+EB31","v":-1.9115691489361701E-2},null,null,null,null,null,null,null,null,null,null,null,null,null,null,{"$f":"-AE35","v":-1.9115691489361701E-2},0,null,null,null,null,null,null,null,null,null,null,null,null,null,null,null,6,null,0.75,0.328125,0.328125,null,null,null,null,-3.4906914893617018E-2,-3.6458333333333336E-2,6.9813829787233979E-3,1.215277777777779E-2,0.25,0.17863475177304963,0.75,0.88169818754925133,null,-7.6536643026004741E-2,-0.75,-0.82136524822695034,null,6.0332939322301028E-2,null,6.0332939322301028E-2,null,-1.620370370370372E-2,null,-1.620370370370372E-2,null,-3.90625E-2,5.8178191489361691E-3,6.076388888888889E-3,0,0,-2.7168291962174941E-2,null,5.46875E-2,-1.1635638297872338E-2,-1.2152777777777778E-2,0,0,3.0899083924349882E-2,null,null,1.7453457446808509E-2,1.8229166666666668E-2,-1.7453457446808495E-3,-3.0381944444444475E-3,3.0899083924349882E-2,null,null,-8.7267287234042545E-3,-9.1145833333333339E-3,3.4906914893616989E-3,6.0763888888888951E-3,-8.274231678486994E-3,null,null,0,0,-5.2360372340425482E-3,-3.0381944444444475E-3,-8.2742316784869957E-3,null,null,null,null,null,null,null,null,null,null,null,null,null,null,null,null,null,null,null,null,null,0,3.125E-2,6.25E-2,9.375E-2,0.125,0.15625,0.1875,9.375E-2,0,null,null,null,null,null,null,null,null,null,null,null,null,null,null,null,null,0,2.2329343971631204E-2,4.4658687943262408E-2,6.6988031914893623E-2,8.9317375886524816E-2,0.11164671985815602,0.13397606382978725,3.1305407801418439E-2,-7.1365248226950354E-2,-7.1365248226950354E-2,-6.005282210401891E-2,-4.8740395981087467E-2,-3.7427969858156031E-2,-2.6115543735224581E-2,-1.4803117612293137E-2,-3.4906914893616976E-3,7.8217346335697456E-3,1.9134160756501189E-2,1.9134160756501189E-2,1.6095966312056741E-2,1.3057771867612294E-2,1.0019577423167846E-2,6.9813829787233979E-3,null,null,null,0,0.22329343971631205,0.4465868794326241,0.6698803191489362,0.89317375886524819,1.1164671985815602,1.3397606382978724,0.31305407801418439,-0.71365248226950351,-0.71365248226950351,-0.6005282210401891,-0.4874039598108747,-0.37427969858156029,-0.26115543735224578,-0.14803117612293137,-3.4906914893616976E-2,7.8217346335697463E-2,0.1913416075650119,0.1913416075650119,0.16095966312056742,0.13057771867612294,0.10019577423167847,6.981382978723398E-2,null,null,null,null,null,null,0,4.8014322916666661E-3,9.1145833333333322E-3,1.2451171875E-2,1.4322916666666666E-2,1.4241536458333332E-2,1.171875E-2,6.591796875E-3,0,null,null,null,null,null,null,null,null,null,null,null,null,null,null,null,null,null,null,null,null,null,0,3.3378871620124108E-3,6.3268783244680837E-3,8.6180774878102835E-3,9.8625886524822681E-3,9.7115158189273049E-3,7.8159629875886524E-3,4.1525549922429078E-3,0,0,-4.6053947286402918E-3,-7.0995574301861682E-3,-7.8801905855219404E-3,-7.3449966755319129E-3,-5.8916781811003977E-3,-3.9179375831117002E-3,-1.8214773624501326E-3,0,0,1.2328776907413559E-3,1.8998815658244671E-3,2.1078231486868337E-3,1.9635139627659556E-3,null,0,0.33378871620124106,0.63268783244680837,0.86180774878102839,0.98625886524822681,0.97115158189273054,0.78159629875886527,0.41525549922429078,0,0,-0.46053947286402919,-0.70995574301861686,-0.78801905855219401,-0.73449966755319129,-0.58916781811003982,-0.39179375831117003,-0.18214773624501326,0,0,0.12328776907413559,0.18998815658244672,0.21078231486868337,0.19635139627659556]
[null,null,19,0,4.8178814827127658E-2,9.6357629654255317E-2,0.14453644448138298,0.19271525930851063,0.24089407413563829,0.28907288896276595,0.33725170378989366,0.38543051861702127,0.38543051861702127,0.17665565436613478,-3.2119209884751761E-2,-0.24089407413563829,-0.44966893838652483,-0.65844380263741131,-0.86721866688829774,-1.0759935311391844,-1.284768395390071,-1.284768395390071,-7.220329122340427E-2,1.1403618129432624,2.352926917109929,1.6904920212765955,3.8543051861702128E-2,-0.11134659426713947,-0.11134659426713947,0.64670138888888884,3.8543051861702128E-2,-0.14988964612884159,0.75804798315602839,null,null,null,null,null,null,null,null,null,null,null,null,null,null,null,null,-0.3532986111111111,null,0,{"$f":"+$AE32","v":3.8543051861702128E-2},null,null,null,null,null,null,null,null,null,null,null,null,null,null,{"$f":"+BA32","v":3.8543051861702128E-2},{"$f":"+AB32","v":-0.11134659426713947},null,null,null,null,null,null,null,null,null,null,null,null,null,null,{"$f":"+BQ32","v":-0.11134659426713947},{"$f":"+$AD32","v":0.64670138888888884},null,null,null,null,{"$f":"+$AD32","v":0.64670138888888884},{"$f":"-$AD34","v":-0.3532986111111111},null,null,null,null,null,null,null,null,{"$f":"-$AD34","v":-0.3532986111111111},{"$f":"-$AB34","v":8.3134788711583918E-2},null,null,null,null,null,null,null,null,null,null,null,null,null,null,{"$f":"-$AB34","v":8.3134788711583918E-2},{"$f":"+EB32","v":-2.8777426861702128E-2},null,null,null,null,null,null,null,null,null,null,null,null,null,null,{"$f":"-AE34","v":-2.8777426861702128E-2},0,null,null,null,null,null,null,null,null,null,null,null,null,null,null,null,7,null,0.875,0.205078125,0.205078125,null,null,null,null,-2.1816821808510637E-2,-2.2786458333333332E-2,4.3633643617021212E-3,7.5954861111111049E-3,0.125,8.0396719858156038E-2,0.875,0.95731136721828214,null,-4.7835401891252932E-2,-0.875,-0.919603280141844,null,3.7708087076438128E-2,null,3.7708087076438128E-2,null,-1.0127314814814806E-2,null,-1.0127314814814806E-2,null,-2.05078125E-2,3.6361369680851059E-3,3.7977430555555551E-3,0,0,-1.3073932476359337E-2,null,3.41796875E-2,-7.2722739361702118E-3,-7.5954861111111101E-3,0,0,1.9311927452718675E-2,null,null,1.0908410904255319E-2,1.1393229166666666E-2,-1.0908410904255303E-3,-1.8988715277777762E-3,1.9311927452718678E-2,null,null,-5.4542054521276593E-3,-5.696614583333333E-3,2.1816821808510606E-3,3.7977430555555525E-3,-5.1713947990543793E-3,null,null,0,0,-3.2725232712765909E-3,-1.8988715277777762E-3,-5.1713947990543671E-3,null,null,null,null,null,null,null,null,null,null,null,null,null,null,null,null,null,null,null,null,null,0,1.5625E-2,3.125E-2,4.6875E-2,6.25E-2,7.8125E-2,9.375E-2,0.109375,0,null,null,null,null,null,null,null,null,null,null,null,null,null,null,null,null,0,1.0049589982269505E-2,2.0099179964539009E-2,3.0148769946808512E-2,4.0198359929078019E-2,5.0247949911347525E-2,6.0297539893617025E-2,7.0347129875886538E-2,-4.4603280141843969E-2,-4.4603280141843969E-2,-3.7533013815011819E-2,-3.0462747488179669E-2,-2.3392481161347522E-2,-1.6322214834515372E-2,-9.2519485076832213E-3,-2.1816821808510727E-3,4.8885841459810767E-3,1.1958850472813226E-2,1.1958850472813226E-2,1.005997894503545E-2,8.1611074172576736E-3,6.2622358894798974E-3,4.3633643617021212E-3,null,null,null,0,0.10049589982269505,0.2009917996453901,0.30148769946808512,0.4019835992907802,0.50247949911347523,0.60297539893617025,0.70347129875886538,-0.44603280141843971,-0.44603280141843971,-0.37533013815011818,-0.3046274748817967,-0.23392481161347523,-0.16322214834515372,-9.251948507683222E-2,-2.1816821808510727E-2,4.8885841459810765E-2,0.11958850472813226,0.11958850472813226,0.1005997894503545,8.1611074172576736E-2,6.2622358894798974E-2,4.3633643617021212E-2,null,null,null,null,null,null,0,2.522786458333333E-3,4.8014322916666661E-3,6.591796875E-3,7.649739583333333E-3,7.7311197916666661E-3,6.591796875E-3,3.987630208333333E-3,0,null,null,null,null,null,null,null,null,null,null,null,null,null,null,null,null,null,null,null,null,null,0,1.6080707522994233E-3,3.0591166611258864E-3,4.1961128830064276E-3,4.8620345744680854E-3,4.8998568920378995E-3,4.1525549922429086E-3,2.4631040316101505E-3,0,0,-2.8783717054001834E-3,-4.4372233938663576E-3,-4.9251191159512151E-3,-4.5906229222074475E-3,-3.682298863187751E-3,-2.4487109894448158E-3,-1.1384233515313339E-3,0,0,7.7054855671334667E-4,1.187425978640291E-3,1.31738946792927E-3,1.2271962267287216E-3,null,0,0.16080707522994234,0.30591166611258863,0.41961128830064276,0.48620345744680854,0.48998568920378993,0.41525549922429084,0.24631040316101505,0,0,-0.28783717054001834,-0.44372233938663574,-0.49251191159512153,-0.45906229222074474,-0.36822988631877507,-0.24487109894448159,-0.1138423351531334,0,0,7.705485567133466E-2,0.1187425978640291,0.131738946792927,0.12271962267287216]
[null,null,20,0,4.4880319148936171E-2,8.9760638297872342E-2,0.13464095744680851,0.17952127659574468,0.22440159574468085,0.26928191489361702,0.31416223404255322,0.35904255319148937,0.35904255319148937,0.16456117021276598,-2.9920212765957438E-2,-0.22440159574468085,-0.4188829787234043,-0.61336436170212771,-0.80784574468085113,-1.0023271276595744,-1.196808510638298,-1.196808510638298,-0.25930851063829796,0.67819148936170204,1.6156914893617018,2.5531914893617018,3.5904255319148939E-2,-0.10372340425531915,-0.10372340425531915,0.5,3.5904255319148939E-2,-0.1396276595744681,0.60372340425531912,null,null,null,null,null,null,null,null,null,null,null,null,null,null,null,null,-0.5,null,0,{"$f":"+$AE33","v":3.5904255319148939E-2},null,null,null,null,null,null,null,null,null,null,null,null,null,null,{"$f":"+BA33","v":3.5904255319148939E-2},{"$f":"+AB33","v":-0.10372340425531915},null,null,null,null,null,null,null,null,null,null,null,null,null,null,{"$f":"+BQ33","v":-0.10372340425531915},{"$f":"+$AD33","v":0.5},null,null,null,null,null,null,{"$f":"+$AD33","v":0.5},{"$f":"-$AD33","v":-0.5},null,null,null,null,null,null,{"$f":"-$AD33","v":-0.5},{"$f":"-$AB33","v":0.10372340425531915},null,null,null,null,null,null,null,null,null,null,null,null,null,null,{"$f":"-$AB33","v":0.10372340425531915},{"$f":"+EB33","v":-3.5904255319148939E-2},null,null,null,null,null,null,null,null,null,null,null,null,null,null,{"$f":"-AE33","v":-3.5904255319148939E-2},0,null,null,null,null,null,null,null,null,null,null,null,null,null,null,null,8,null,1,0,0,null,null,null,null,0,0,0,0,0,0,1,1,null,0,-1,-1,null,0,null,0,null,0,null,0,null,0,0,0,0,0,0,null,0,0,0,0,0,0,null,null,0,0,0,0,0,null,null,0,0,0,0,0,null,null,0,0,0,0,0,null,null,null,null,null,null,null,null,null,null,null,null,null,null,null,null,null,null,null,null,null,0,0,0,0,0,0,0,0,0,null,null,null,null,null,null,null,null,null,null,null,null,null,null,null,null,0,0,0,0,0,0,0,0,0,0,0,0,0,0,0,0,0,0,0,0,0,0,0,null,null,null,0,0,0,0,0,0,0,0,0,0,0,0,0,0,0,0,0,0,0,0,0,0,0,null,null,null,null,null,null,0,0,0,0,0,0,0,0,0,null,null,null,null,null,null,null,null,null,null,null,null,null,null,null,null,null,null,null,null,null,0,0,0,0,0,0,0,0,0,0,0,0,0,0,0,0,0,0,0,0,0,0,0,null,0,0,0,0,0,0,0,0,0,0,0,0,0,0,0,0,0,0,0,0,0,0,0]
[null,null,21,0,3.5971783577127658E-2,7.1943567154255317E-2,0.10791535073138299,0.14388713430851063,0.17985891788563829,0.21583070146276598,0.25180248503989361,0.28777426861702127,0.28777426861702127,0.13189653978280144,-2.3981189051418418E-2,-0.17985891788563829,-0.33573664671985809,-0.49161437555407805,-0.64749210438829774,-0.80336983322251787,-0.95924756205673756,-0.95924756205673756,-0.2968126662234043,0.36562222960992907,1.0280571254432624,1.6904920212765955,2.8777426861702128E-2,-8.3134788711583918E-2,-8.3134788711583918E-2,0.3532986111111111,2.8777426861702128E-2,-0.11191221557328604,0.43643339982269508,null,null,null,null,null,null,null,null,null,null,null,null,null,null,null,null,-0.64670138888888884,null,0,null,null,null,null,null,null,null,null,null,null,null,null,null,null,null,null,null,null,null,null,null,null,null,null,null,null,null,null,null,null,null,null,null,null,null,null,null,null,null,null,null,null,null,null,null,null,null,null,null,null,null,null,null,null,null,null,null,null,null,null,null,null,null,null,null,null,null,null,null,null,null,null,null,null,null,null,null,null,null,null,null,null,null,null,null,null,null,null,null,null,null,null,null,null,null,null,{"$f":"+ES33","v":8},2,0,{"$f":"+(2*$EU34-3*$EU34^2+$EU34^3)*Input!$B$1^2","v":0},0,{"$f":"+EV52","v":0},{"$f":"+EX34","v":0},null,null,0,0,0,0,null,0,{"$f":"1-EU34","v":1},1,{"$f":"+EU34","v":0},0,null,0,{"$f":"1-$EU34","v":1},1,{"$f":"-$EU34","v":0},0,null,0,null,0,null,null,0,0,0,0,0,null,null,0,0,0,0,0,null,{"$f":"+FW25*Input!$B$1^2","v":0},0,0,0,0,0,null,{"$f":"+GD25*Input!$B$1^2","v":0},0,0,0,0,0,null,null,0,0,0,0,0,null,null,null,null,null,null,null,null,null,null,null,null,null,null,null,null,null,null,null,null,null,null,null,null,null,null,null,null,null,null,0,{"$f":"+IF($EU34<=IJ$3,IJ$5/IJ$3*$EU34,IJ$5-IJ$5/(1-IJ$3)*($EU34-IJ$3))*Input!$B$1","v":0},{"$f":"+IF($EU34<=IK$3,IK$5/IK$3*$EU34,IK$5-IK$5/(1-IK$3)*($EU34-IK$3))*Input!$B$1","v":0},{"$f":"+IF($EU34<=IL$3,IL$5/IL$3*$EU34,IL$5-IL$5/(1-IL$3)*($EU34-IL$3))*Input!$B$1","v":0},{"$f":"+IF($EU34<=IM$3,IM$5/IM$3*$EU34,IM$5-IM$5/(1-IM$3)*($EU34-IM$3))*Input!$B$1","v":0},{"$f":"+IF($EU34<=IN$3,IN$5/IN$3*$EU34,IN$5-IN$5/(1-IN$3)*($EU34-IN$3))*Input!$B$1","v":0},{"$f":"+IF($EU34<=IO$3,IO$5/IO$3*$EU34,IO$5-IO$5/(1-IO$3)*($EU34-IO$3))*Input!$B$1","v":0},{"$f":"+IF($EU34<=IP$3,IP$5/IP$3*$EU34,IP$5-IP$5/(1-IP$3)*($EU34-IP$3))*Input!$B$1","v":0},{"$f":"+IF($EU34<=IQ$3,IQ$5/IQ$3*$EU34,IQ$5-IQ$5/(1-IQ$3)*($EU34-IQ$3))*Input!$B$1","v":0},null,null,null,null,null,null,null,0,0,0,0,0,0,0,0,0,0,0,0,0,0,0,0,0,0,0,0,0,0,0,null,null,null,0,0,0,0,0,0,0,0,0,0,0,0,0,0,0,0,0,0,0,0,0,0,0,null,null,null,null,null,null,null,null,null,null,null,null,null,null,null,{"$f":"+IF($EU34<=II$3,1/6*(1-II$3)*$EU34*(1-(1-II$3)^2-$EU34^2),1/6*II$3*(1-$EU34)*(1-II$3^2-(1-$EU34)^2))*Input!$B$1^3","v":0},{"$f":"+IF($EU34<=IJ$3,1/6*(1-IJ$3)*$EU34*(1-(1-IJ$3)^2-$EU34^2),1/6*IJ$3*(1-$EU34)*(1-IJ$3^2-(1-$EU34)^2))*Input!$B$1^3","v":0},{"$f":"+IF($EU34<=IK$3,1/6*(1-IK$3)*$EU34*(1-(1-IK$3)^2-$EU34^2),1/6*IK$3*(1-$EU34)*(1-IK$3^2-(1-$EU34)^2))*Input!$B$1^3","v":0},{"$f":"+IF($EU34<=IL$3,1/6*(1-IL$3)*$EU34*(1-(1-IL$3)^2-$EU34^2),1/6*IL$3*(1-$EU34)*(1-IL$3^2-(1-$EU34)^2))*Input!$B$1^3","v":0},{"$f":"+IF($EU34<=IM$3,1/6*(1-IM$3)*$EU34*(1-(1-IM$3)^2-$EU34^2),1/6*IM$3*(1-$EU34)*(1-IM$3^2-(1-$EU34)^2))*Input!$B$1^3","v":0},{"$f":"+IF($EU34<=IN$3,1/6*(1-IN$3)*$EU34*(1-(1-IN$3)^2-$EU34^2),1/6*IN$3*(1-$EU34)*(1-IN$3^2-(1-$EU34)^2))*Input!$B$1^3","v":0},{"$f":"+IF($EU34<=IO$3,1/6*(1-IO$3)*$EU34*(1-(1-IO$3)^2-$EU34^2),1/6*IO$3*(1-$EU34)*(1-IO$3^2-(1-$EU34)^2))*Input!$B$1^3","v":0},{"$f":"+IF($EU34<=IP$3,1/6*(1-IP$3)*$EU34*(1-(1-IP$3)^2-$EU34^2),1/6*IP$3*(1-$EU34)*(1-IP$3^2-(1-$EU34)^2))*Input!$B$1^3","v":0},{"$f":"+IF($EU34<=IQ$3,1/6*(1-IQ$3)*$EU34*(1-(1-IQ$3)^2-$EU34^2),1/6*IQ$3*(1-$EU34)*(1-IQ$3^2-(1-$EU34)^2))*Input!$B$1^3","v":0},null,null,null,null,null,null,null,null,null,null,null,null,0,0,0,0,0,0,0,0,0,0,0,0,0,0,0,0,0,0,0,0,0,0,0,null,0,0,0,0,0,0,0,0,0,0,0,0,0,0,0,0,0,0,0,0,0,0,0]
[null,null,22,0,2.3894614361702128E-2,4.7789228723404256E-2,7.1683843085106363E-2,9.5578457446808512E-2,0.11947307180851063,0.14336768617021273,0.16726230053191488,0.19115691489361702,0.19115691489361702,8.7613585992907791E-2,-1.5929742907801442E-2,-0.11947307180851063,-0.2230164007092198,-0.32655972960992902,-0.43010305851063829,-0.53364638741134751,-0.63718971631205668,-0.63718971631205668,-0.23354388297872342,0.17010195035460995,0.57374778368794321,0.97739361702127658,1.9115691489361701E-2,-5.5223108747044912E-2,-5.5223108747044912E-2,0.21527777777777779,1.9115691489361701E-2,-7.4338800236406599E-2,0.27050088652482274,null,null,null,null,null,null,null,null,null,null,null,null,null,null,null,null,-0.78472222222222221,null,null,null,null,null,null,null,null,null,null,null,null,null,null,null,null,null,null,null,null,null,null,null,null,null,null,null,null,null,null,null,null,null,null,null,null,null,null,null,null,null,null,null,null,null,null,null,null,null,null,null,null,null,null,null,null,null,null,null,null,null,null,null,null,null,null,null,null,null,null,null,null,null,null,null,null,null,null,null,null,null,null,null,null,null,null,null,null,null,null,null,null,null,null,null,null,null,null,{"$f":"+ES34+1","v":9},null,{"$f":"+EU34+1/8","v":0.125},{"$f":"+(2*$EU35-3*$EU35^2+$EU35^3)*Input!$B$1^2","v":0.46142578125},0.46142578125,{"$f":"+EV53","v":0.27685546875},{"$f":"+EX35","v":0.27685546875},null,null,-4.3197307180851061E-2,-4.1015625E-2,-9.8175698138297882E-3,-1.708984375E-2,null,-8.4212932180851061E-2,0.875,0.99741661125886527,0.125,0.10958277925531916,null,-8.4212932180851061E-2,{"$f":"1-$EU35","v":0.875},0.91320367907801425,-0.125,-8.6796320921985831E-2,null,2.2786458333333332E-2,null,2.2786458333333332E-2,null,null,7.1995511968085098E-3,6.8359375E-3,0,0,1.4035488696808509E-2,null,null,-1.439910239361702E-2,-1.3671875E-2,0,0,-2.8070977393617018E-2,null,{"$f":"+FW26*Input!$B$1^2","v":-7.6904296875E-2},2.159865359042553E-2,2.05078125E-2,2.4543924534574471E-3,4.2724609375E-3,-2.8070977393617025E-2,null,{"$f":"+GD26*Input!$B$1^2","v":4.6142578125E-2},-1.0799326795212765E-2,-1.025390625E-2,-4.9087849069148941E-3,-8.544921875E-3,1.1635638297872338E-2,null,null,0,0,7.3631773603723416E-3,4.2724609375E-3,1.1635638297872342E-2,null,null,null,null,null,null,null,null,null,null,null,null,null,null,null,null,null,null,null,null,null,null,null,null,null,null,null,null,null,null,0,{"$f":"+IF($EU35<=IJ$3,IJ$5/IJ$3*$EU35,IJ$5-IJ$5/(1-IJ$3)*($EU35-IJ$3))*Input!$B$1","v":0.1640625},{"$f":"+IF($EU35<=IK$3,IK$5/IK$3*$EU35,IK$5-IK$5/(1-IK$3)*($EU35-IK$3))*Input!$B$1","v":0.140625},{"$f":"+IF($EU35<=IL$3,IL$5/IL$3*$EU35,IL$5-IL$5/(1-IL$3)*($EU35-IL$3))*Input!$B$1","v":0.1171875},{"$f":"+IF($EU35<=IM$3,IM$5/IM$3*$EU35,IM$5-IM$5/(1-IM$3)*($EU35-IM$3))*Input!$B$1","v":9.375E-2},{"$f":"+IF($EU35<=IN$3,IN$5/IN$3*$EU35,IN$5-IN$5/(1-IN$3)*($EU35-IN$3))*Input!$B$1","v":7.03125E-2},{"$f":"+IF($EU35<=IO$3,IO$5/IO$3*$EU35,IO$5-IO$5/(1-IO$3)*($EU35-IO$3))*Input!$B$1","v":4.6875E-2},{"$f":"+IF($EU35<=IP$3,IP$5/IP$3*$EU35,IP$5-IP$5/(1-IP$3)*($EU35-IP$3))*Input!$B$1","v":2.34375E-2},{"$f":"+IF($EU35<=IQ$3,IQ$5/IQ$3*$EU35,IQ$5-IQ$5/(1-IQ$3)*($EU35-IQ$3))*Input!$B$1","v":0},null,null,null,null,null,null,null,0,-1.0526616522606383E-2,-2.1053233045212765E-2,-3.1579849567819146E-2,-4.210646609042553E-2,-5.2633082613031915E-2,-6.3159699135638292E-2,-7.3686315658244683E-2,-8.4212932180851061E-2,-8.4212932180851061E-2,8.7012757646276598E-2,7.0738447473404256E-2,5.4464137300531915E-2,3.8189827127659566E-2,2.1915516954787238E-2,5.6412067819148898E-3,-1.0633103390957448E-2,-2.6907413563829786E-2,-2.6907413563829786E-2,-2.2634952626329786E-2,-1.8362491688829786E-2,-1.4090030751329788E-2,-9.8175698138297882E-3,null,null,null,0,-0.10526616522606383,-0.21053233045212766,-0.31579849567819146,-0.42106466090425532,-0.52633082613031912,-0.63159699135638292,-0.73686315658244683,-0.84212932180851063,-0.84212932180851063,0.87012757646276595,0.70738447473404253,0.54464137300531912,0.38189827127659565,0.2191551695478724,5.6412067819148898E-2,-0.10633103390957449,-0.26907413563829785,-0.26907413563829785,-0.22634952626329785,-0.18362491688829785,-0.14090030751329788,-9.8175698138297879E-2,null,null,null,null,null,null,null,null,null,null,null,null,null,null,null,{"$f":"+IF($EU35<=II$3,1/6*(1-II$3)*$EU35*(1-(1-II$3)^2-$EU35^2),1/6*II$3*(1-$EU35)*(1-II$3^2-(1-$EU35)^2))*Input!$B$1^3","v":0},{"$f":"+IF($EU35<=IJ$3,1/6*(1-IJ$3)*$EU35*(1-(1-IJ$3)^2-$EU35^2),1/6*IJ$3*(1-$EU35)*(1-IJ$3^2-(1-$EU35)^2))*Input!$B$1^3","v":1.3458251953124998E-2},{"$f":"+IF($EU35<=IK$3,1/6*(1-IK$3)*$EU35*(1-(1-IK$3)^2-$EU35^2),1/6*IK$3*(1-$EU35)*(1-IK$3^2-(1-$EU35)^2))*Input!$B$1^3","v":2.2247314453125E-2},{"$f":"+IF($EU35<=IL$3,1/6*(1-IL$3)*$EU35*(1-(1-IL$3)^2-$EU35^2),1/6*IL$3*(1-$EU35)*(1-IL$3^2-(1-$EU35)^2))*Input!$B$1^3","v":2.6092529296874997E-2},{"$f":"+IF($EU35<=IM$3,1/6*(1-IM$3)*$EU35*(1-(1-IM$3)^2-$EU35^2),1/6*IM$3*(1-$EU35)*(1-IM$3^2-(1-$EU35)^2))*Input!$B$1^3","v":2.581787109375E-2},{"$f":"+IF($EU35<=IN$3,1/6*(1-IN$3)*$EU35*(1-(1-IN$3)^2-$EU35^2),1/6*IN$3*(1-$EU35)*(1-IN$3^2-(1-$EU35)^2))*Input!$B$1^3","v":2.2247314453125E-2},{"$f":"+IF($EU35<=IO$3,1/6*(1-IO$3)*$EU35*(1-(1-IO$3)^2-$EU35^2),1/6*IO$3*(1-$EU35)*(1-IO$3^2-(1-$EU35)^2))*Input!$B$1^3","v":1.6204833984374997E-2},{"$f":"+IF($EU35<=IP$3,1/6*(1-IP$3)*$EU35*(1-(1-IP$3)^2-$EU35^2),1/6*IP$3*(1-$EU35)*(1-IP$3^2-(1-$EU35)^2))*Input!$B$1^3","v":8.5144042968749983E-3},{"$f":"+IF($EU35<=IQ$3,1/6*(1-IQ$3)*$EU35*(1-(1-IQ$3)^2-$EU35^2),1/6*IQ$3*(1-$EU35)*(1-IQ$3^2-(1-$EU35)^2))*Input!$B$1^3","v":0},null,null,null,null,null,null,null,null,null,null,null,null,0,-1.7270230232401098E-3,-3.2895676633144947E-3,-4.5231555370574298E-3,-5.2633082613031913E-3,-5.3455474528860542E-3,-4.6053947286402927E-3,-2.8783717054001829E-3,0,0,5.7403381834638867E-3,9.5202669184258661E-3,1.0813297109400969E-2,1.0191572473404256E-2,8.2272367274507565E-3,5.4924335885555148E-3,2.5593067737335836E-3,0,0,-1.7337342526050326E-3,-2.6717084519406586E-3,-2.9641263028408623E-3,-2.7611915101396281E-3,null,0,-0.17270230232401099,-0.32895676633144949,-0.452315553705743,-0.52633082613031912,-0.53455474528860547,-0.4605394728640293,-0.28783717054001828,0,0,0.57403381834638867,0.95202669184258659,1.0813297109400968,1.0191572473404256,0.82272367274507563,0.54924335885555142,0.25593067737335834,0,0,-0.17337342526050326,-0.26717084519406586,-0.29641263028408621,-0.27611915101396278]
[null,null,23,0,1.1090217752659573E-2,2.2180435505319146E-2,3.3270653257978719E-2,4.4360871010638292E-2,5.5451088763297865E-2,6.6541306515957438E-2,7.7631524268617011E-2,8.8721742021276584E-2,8.8721742021276584E-2,4.0664131759751768E-2,-7.3934785017730573E-3,-5.5451088763297865E-2,-0.1035086990248227,-0.15156630928634754,-0.19962391954787231,-0.2476815298093972,-0.295739140070922,-0.295739140070922,-0.1183302859042553,5.9078568262411355E-2,0.23648742242907803,0.41389627659574468,8.8721742021276584E-3,-2.5630725472813237E-2,-2.5630725472813237E-2,9.4618055555555552E-2,8.8721742021276584E-3,-3.4502899674940898E-2,0.12024878102836881,null,null,null,null,null,null,null,null,null,null,null,null,null,null,null,null,-0.90538194444444442,null,null,null,null,null,null,null,null,null,null,null,null,null,null,null,null,null,null,null,null,null,null,null,null,null,null,null,null,null,null,null,null,null,null,null,null,null,null,null,null,null,null,null,null,null,null,null,null,null,null,null,null,null,null,null,null,null,null,null,null,null,null,null,null,null,null,null,null,null,null,null,null,null,null,null,null,null,null,null,null,null,null,null,null,null,null,null,null,null,null,null,null,null,null,null,null,null,null,{"$f":"+ES35+1","v":10},null,{"$f":"+EU35+1/8","v":0.25},{"$f":"+(2*$EU36-3*$EU36^2+$EU36^3)*Input!$B$1^2","v":0.73828125},0.73828125,0.52734375,0.52734375,null,null,-6.7320478723404256E-2,-6.25E-2,-2.1692154255319156E-2,-3.7760416666666664E-2,null,-0.12982047872340424,0.75,0.92673241725768307,0.25,0.25343528368794327,null,-0.12982047872340424,0.75,0.79691193853427889,-0.25,-0.20308806146572106,null,5.0347222222222217E-2,null,5.0347222222222217E-2,null,null,1.1220079787234043E-2,1.0416666666666666E-2,0,0,2.1636746453900707E-2,null,null,-2.2440159574468085E-2,-2.0833333333333332E-2,0,0,-4.3273492907801414E-2,null,{"$f":"+FW27*Input!$B$1^2","v":-0.123046875},3.3660239361702128E-2,3.125E-2,5.4230385638297891E-3,9.4401041666666661E-3,-4.3273492907801428E-2,null,{"$f":"+GD27*Input!$B$1^2","v":8.7890625E-2},-1.6830119680851064E-2,-1.5625E-2,-1.0846077127659578E-2,-1.8880208333333332E-2,2.5709219858156027E-2,null,null,0,0,1.6269115691489366E-2,9.4401041666666661E-3,2.5709219858156031E-2,null,null,null,null,null,null,null,null,null,null,null,null,null,null,null,null,null,null,null,null,null,null,null,null,null,null,null,null,null,null,0,{"$f":"+IF($EU36<=IJ$3,IJ$5/IJ$3*$EU36,IJ$5-IJ$5/(1-IJ$3)*($EU36-IJ$3))*Input!$B$1","v":0.140625},{"$f":"+IF($EU36<=IK$3,IK$5/IK$3*$EU36,IK$5-IK$5/(1-IK$3)*($EU36-IK$3))*Input!$B$1","v":0.28125},{"$f":"+IF($EU36<=IL$3,IL$5/IL$3*$EU36,IL$5-IL$5/(1-IL$3)*($EU36-IL$3))*Input!$B$1","v":0.234375},{"$f":"+IF($EU36<=IM$3,IM$5/IM$3*$EU36,IM$5-IM$5/(1-IM$3)*($EU36-IM$3))*Input!$B$1","v":0.1875},{"$f":"+IF($EU36<=IN$3,IN$5/IN$3*$EU36,IN$5-IN$5/(1-IN$3)*($EU36-IN$3))*Input!$B$1","v":0.140625},{"$f":"+IF($EU36<=IO$3,IO$5/IO$3*$EU36,IO$5-IO$5/(1-IO$3)*($EU36-IO$3))*Input!$B$1","v":9.375E-2},{"$f":"+IF($EU36<=IP$3,IP$5/IP$3*$EU36,IP$5-IP$5/(1-IP$3)*($EU36-IP$3))*Input!$B$1","v":4.6875E-2},{"$f":"+IF($EU36<=IQ$3,IQ$5/IQ$3*$EU36,IQ$5-IQ$5/(1-IQ$3)*($EU36-IQ$3))*Input!$B$1","v":0},null,null,null,null,null,null,null,0,-1.622755984042553E-2,-3.2455119680851061E-2,-4.8682679521276598E-2,-6.4910239361702121E-2,-8.1137799202127658E-2,-9.7365359042553196E-2,-0.11359291888297873,-0.12982047872340424,-0.12982047872340424,1.9600509751773042E-2,0.16902149822695037,0.13094248670212766,9.2863475177304977E-2,5.4784463652482261E-2,1.6705452127659573E-2,-2.1373559397163122E-2,-5.9452570921985817E-2,-5.9452570921985817E-2,-5.001246675531916E-2,-4.0572362588652489E-2,-3.1132258421985824E-2,-2.1692154255319156E-2,null,null,null,0,-0.16227559840425532,-0.32455119680851063,-0.48682679521276595,-0.64910239361702127,-0.81137799202127658,-0.9736535904255319,-1.1359291888297873,-1.2982047872340425,-1.2982047872340425,0.19600509751773043,1.6902149822695036,1.3094248670212765,0.92863475177304977,0.54784463652482263,0.16705452127659573,-0.21373559397163122,-0.59452570921985815,-0.59452570921985815,-0.50012466755319163,-0.40572362588652489,-0.31132258421985826,-0.21692154255319157,null,null,null,null,null,null,null,null,null,null,null,null,null,null,null,{"$f":"+IF($EU36<=II$3,1/6*(1-II$3)*$EU36*(1-(1-II$3)^2-$EU36^2),1/6*II$3*(1-$EU36)*(1-II$3^2-(1-$EU36)^2))*Input!$B$1^3","v":0},{"$f":"+IF($EU36<=IJ$3,1/6*(1-IJ$3)*$EU36*(1-(1-IJ$3)^2-$EU36^2),1/6*IJ$3*(1-$EU36)*(1-IJ$3^2-(1-$EU36)^2))*Input!$B$1^3","v":2.2247314453125E-2},{"$f":"+IF($EU36<=IK$3,1/6*(1-IK$3)*$EU36*(1-(1-IK$3)^2-$EU36^2),1/6*IK$3*(1-$EU36)*(1-IK$3^2-(1-$EU36)^2))*Input!$B$1^3","v":3.955078125E-2},{"$f":"+IF($EU36<=IL$3,1/6*(1-IL$3)*$EU36*(1-(1-IL$3)^2-$EU36^2),1/6*IL$3*(1-$EU36)*(1-IL$3^2-(1-$EU36)^2))*Input!$B$1^3","v":4.8065185546874993E-2},{"$f":"+IF($EU36<=IM$3,1/6*(1-IM$3)*$EU36*(1-(1-IM$3)^2-$EU36^2),1/6*IM$3*(1-$EU36)*(1-IM$3^2-(1-$EU36)^2))*Input!$B$1^3","v":4.833984375E-2},{"$f":"+IF($EU36<=IN$3,1/6*(1-IN$3)*$EU36*(1-(1-IN$3)^2-$EU36^2),1/6*IN$3*(1-$EU36)*(1-IN$3^2-(1-$EU36)^2))*Input!$B$1^3","v":4.2022705078125E-2},{"$f":"+IF($EU36<=IO$3,1/6*(1-IO$3)*$EU36*(1-(1-IO$3)^2-$EU36^2),1/6*IO$3*(1-$EU36)*(1-IO$3^2-(1-$EU36)^2))*Input!$B$1^3","v":3.0761718749999997E-2},{"$f":"+IF($EU36<=IP$3,1/6*(1-IP$3)*$EU36*(1-(1-IP$3)^2-$EU36^2),1/6*IP$3*(1-$EU36)*(1-IP$3^2-(1-$EU36)^2))*Input!$B$1^3","v":1.6204833984374997E-2},{"$f":"+IF($EU36<=IQ$3,1/6*(1-IQ$3)*$EU36*(1-(1-IQ$3)^2-$EU36^2),1/6*IQ$3*(1-$EU36)*(1-IQ$3^2-(1-$EU36)^2))*Input!$B$1^3","v":0},null,null,null,null,null,null,null,null,null,null,null,null,0,-2.6623340363198141E-3,-5.0711124501329786E-3,-6.9727796189328461E-3,-8.1137799202127651E-3,-8.2405577314660916E-3,-7.0995574301861708E-3,-4.4372233938663568E-3,0,0,9.5202669184258661E-3,1.8351453415890957E-2,2.2339110678814816E-2,2.1723321143617018E-2,{"$f":"+LP36+IN$11*$FB36+IN$12*$FC36+IN$13*$FD36+IN$14*$FE36","v":1.7842800059217085E-2},{"$f":"+LQ36+IO$11*$FB36+IO$12*$FC36+IO$13*$FD36+IO$14*$FE36","v":1.2036262674534573E-2},{"$f":"+LR36+IP$11*$FB36+IP$12*$FC36+IP$13*$FD36+IP$14*$FE36","v":5.6424242384890255E-3},{"$f":"+LS36+IQ$11*$FB36+IQ$12*$FC36+IQ$13*$FD36+IQ$14*$FE36","v":0},{"$f":"+LT36+IR$11*$FB36+IR$12*$FC36+IR$13*$FD36+IR$14*$FE36","v":0},{"$f":"+LU36+IS$11*$FB36+IS$12*$FC36+IS$13*$FD36+IS$14*$FE36","v":-3.8307271105177867E-3},{"$f":"+LV36+IT$11*$FB36+IT$12*$FC36+IT$13*$FD36+IT$14*$FE36","v":-5.9032034366688843E-3},{"$f":"+LW36+IU$11*$FB36+IU$12*$FC36+IU$13*$FD36+IU$14*$FE36","v":-6.5493076405626679E-3},{"$f":"+LX36+IV$11*$FB36+IV$12*$FC36+IV$13*$FD36+IV$14*$FE36","v":-6.1009183843085124E-3},null,0,-0.26623340363198139,-0.50711124501329785,-0.69727796189328461,-0.81137799202127647,-0.82405577314660916,-0.70995574301861708,-0.44372233938663569,0,0,0.95202669184258659,1.8351453415890957,2.2339110678814817,2.1723321143617018,1.7842800059217085,1.2036262674534572,0.56424242384890255,0,0,-0.38307271105177865,-0.59032034366688846,-0.65493076405626682,-0.61009183843085124]
[null,null,24,0,0,0,0,0,0,0,0,0,0,0,0,0,0,0,0,0,0,0,0,0,0,0,0,0,0,0,0,0,0,null,null,null,null,null,null,null,null,null,null,null,null,null,null,null,null,-1,null,null,null,null,null,null,null,null,null,null,null,null,null,null,null,null,null,null,null,null,null,null,null,null,null,null,null,null,null,null,null,null,null,null,null,null,null,null,null,null,null,null,null,null,null,null,null,null,null,null,null,null,null,null,null,null,null,null,null,null,null,null,null,null,null,null,null,null,null,null,null,null,null,null,null,null,null,null,null,null,null,null,null,null,null,null,null,null,null,null,null,null,null,null,null,null,null,null,11,null,0.375,{"$f":"+(2*$EU37-3*$EU37^2+$EU37^3)*Input!$B$1^2","v":0.85693359375},0.85693359375,0.72509765625,0.72509765625,null,null,-7.5735538563829793E-2,-6.8359375E-2,-3.3192736037234015E-2,-5.7779947916666664E-2,null,-0.14409491356382981,0.625,0.8045097333037825,0.375,0.41662511081560283,null,-0.14409491356382981,0.625,0.66041481973995264,-0.375,-0.3395851802600473,null,7.7039930555555552E-2,null,7.7039930555555552E-2,null,null,1.2622589760638299E-2,1.1393229166666666E-2,0,0,2.4015818927304963E-2,null,null,-2.5245179521276598E-2,-2.2786458333333332E-2,0,0,-4.8031637854609927E-2,null,{"$f":"+FW28*Input!$B$1^2","v":-0.142822265625},3.7867769281914897E-2,3.41796875E-2,8.2981840093085037E-3,1.4444986979166666E-2,-4.8031637854609927E-2,null,{"$f":"+GD28*Input!$B$1^2","v":0.120849609375},-1.8933884640957448E-2,-1.708984375E-2,-1.6596368018617007E-2,-2.8889973958333332E-2,3.9339539007092209E-2,null,null,0,0,2.4894552027925509E-2,1.4444986979166666E-2,3.9339539007092174E-2,null,null,null,null,null,null,null,null,null,null,null,null,null,null,null,null,null,null,null,null,null,null,null,null,null,null,null,null,null,null,0,{"$f":"+IF($EU37<=IJ$3,IJ$5/IJ$3*$EU37,IJ$5-IJ$5/(1-IJ$3)*($EU37-IJ$3))*Input!$B$1","v":0.1171875},{"$f":"+IF($EU37<=IK$3,IK$5/IK$3*$EU37,IK$5-IK$5/(1-IK$3)*($EU37-IK$3))*Input!$B$1","v":0.234375},{"$f":"+IF($EU37<=IL$3,IL$5/IL$3*$EU37,IL$5-IL$5/(1-IL$3)*($EU37-IL$3))*Input!$B$1","v":0.3515625},{"$f":"+IF($EU37<=IM$3,IM$5/IM$3*$EU37,IM$5-IM$5/(1-IM$3)*($EU37-IM$3))*Input!$B$1","v":0.28125},{"$f":"+IF($EU37<=IN$3,IN$5/IN$3*$EU37,IN$5-IN$5/(1-IN$3)*($EU37-IN$3))*Input!$B$1","v":0.2109375},{"$f":"+IF($EU37<=IO$3,IO$5/IO$3*$EU37,IO$5-IO$5/(1-IO$3)*($EU37-IO$3))*Input!$B$1","v":0.140625},{"$f":"+IF($EU37<=IP$3,IP$5/IP$3*$EU37,IP$5-IP$5/(1-IP$3)*($EU37-IP$3))*Input!$B$1","v":7.03125E-2},{"$f":"+IF($EU37<=IQ$3,IQ$5/IQ$3*$EU37,IQ$5-IQ$5/(1-IQ$3)*($EU37-IQ$3))*Input!$B$1","v":0},null,null,null,null,null,null,null,0,-1.8011864195478726E-2,-3.6023728390957452E-2,-5.4035592586436171E-2,-7.2047456781914904E-2,-9.0059320977393623E-2,-0.10807118517287234,-0.12608304936835107,-0.14409491356382981,-0.14409491356382981,-2.0267134862588659E-2,0.10356064383865249,0.22738842253989364,0.16371620124113476,0.1000439799423759,3.6371758643617039E-2,-2.7300462655141817E-2,-9.0972683953900679E-2,-9.0972683953900679E-2,-7.6527696974734022E-2,-6.2082709995567351E-2,-4.7637723016400679E-2,-3.3192736037234015E-2,null,null,null,0,-0.18011864195478727,-0.36023728390957455,-0.54035592586436176,-0.72047456781914909,-0.9005932097739362,-1.0807118517287235,-1.2608304936835109,-1.4409491356382982,-1.4409491356382982,-0.20267134862588659,1.0356064383865249,2.2738842253989362,1.6371620124113475,1.000439799423759,0.36371758643617036,-0.27300462655141816,-0.90972683953900679,-0.90972683953900679,-0.76527696974734027,-0.62082709995567353,-0.47637723016400679,-0.33192736037234016,null,null,null,null,null,null,null,null,null,null,null,null,null,null,null,{"$f":"+IF($EU37<=II$3,1/6*(1-II$3)*$EU37*(1-(1-II$3)^2-$EU37^2),1/6*II$3*(1-$EU37)*(1-II$3^2-(1-$EU37)^2))*Input!$B$1^3","v":0},{"$f":"+IF($EU37<=IJ$3,1/6*(1-IJ$3)*$EU37*(1-(1-IJ$3)^2-$EU37^2),1/6*IJ$3*(1-$EU37)*(1-IJ$3^2-(1-$EU37)^2))*Input!$B$1^3","v":2.6092529296874997E-2},{"$f":"+IF($EU37<=IK$3,1/6*(1-IK$3)*$EU37*(1-(1-IK$3)^2-$EU37^2),1/6*IK$3*(1-$EU37)*(1-IK$3^2-(1-$EU37)^2))*Input!$B$1^3","v":4.8065185546874993E-2},{"$f":"+IF($EU37<=IL$3,1/6*(1-IL$3)*$EU37*(1-(1-IL$3)^2-$EU37^2),1/6*IL$3*(1-$EU37)*(1-IL$3^2-(1-$EU37)^2))*Input!$B$1^3","v":6.1798095703125E-2},{"$f":"+IF($EU37<=IM$3,1/6*(1-IM$3)*$EU37*(1-(1-IM$3)^2-$EU37^2),1/6*IM$3*(1-$EU37)*(1-IM$3^2-(1-$EU37)^2))*Input!$B$1^3","v":6.427001953125E-2},{"$f":"+IF($EU37<=IN$3,1/6*(1-IN$3)*$EU37*(1-(1-IN$3)^2-$EU37^2),1/6*IN$3*(1-$EU37)*(1-IN$3^2-(1-$EU37)^2))*Input!$B$1^3","v":5.6854248046875E-2},{"$f":"+IF($EU37<=IO$3,1/6*(1-IO$3)*$EU37*(1-(1-IO$3)^2-$EU37^2),1/6*IO$3*(1-$EU37)*(1-IO$3^2-(1-$EU37)^2))*Input!$B$1^3","v":4.2022705078125E-2},{"$f":"+IF($EU37<=IP$3,1/6*(1-IP$3)*$EU37*(1-(1-IP$3)^2-$EU37^2),1/6*IP$3*(1-$EU37)*(1-IP$3^2-(1-$EU37)^2))*Input!$B$1^3","v":2.2247314453125E-2},{"$f":"+IF($EU37<=IQ$3,1/6*(1-IQ$3)*$EU37*(1-(1-IQ$3)^2-$EU37^2),1/6*IQ$3*(1-$EU37)*(1-IQ$3^2-(1-$EU37)^2))*Input!$B$1^3","v":0},null,null,null,null,null,null,null,null,null,null,null,null,0,{"$f":"+LC37+IA$11*$FB37+IA$12*$FC37+IA$13*$FD37+IA$14*$FE37","v":-2.9550714695707279E-3},{"$f":"+LD37+IB$11*$FB37+IB$12*$FC37+IB$13*$FD37+IB$14*$FE37","v":-5.6287075610871014E-3},{"$f":"+LE37+IC$11*$FB37+IC$12*$FC37+IC$13*$FD37+IC$14*$FE37","v":-7.7394728964947646E-3},{"$f":"+LF37+ID$11*$FB37+ID$12*$FC37+ID$13*$FD37+ID$14*$FE37","v":-9.005932097739363E-3},{"$f":"+LG37+IE$11*$FB37+IE$12*$FC37+IE$13*$FD37+IE$14*$FE37","v":-9.1466497867665406E-3},{"$f":"+LH37+IF$11*$FB37+IF$12*$FC37+IF$13*$FD37+IF$14*$FE37","v":-7.8801905855219422E-3},{"$f":"+LI37+IG$11*$FB37+IG$12*$FC37+IG$13*$FD37+IG$14*$FE37","v":-4.9251191159512143E-3},{"$f":"+LJ37+IH$11*$FB37+IH$12*$FC37+IH$13*$FD37+IH$14*$FE37","v":0},{"$f":"+LK37+II$11*$FB37+II$12*$FC37+II$13*$FD37+II$14*$FE37","v":0},{"$f":"+LL37+IJ$11*$FB37+IJ$12*$FC37+IJ$13*$FD37+IJ$14*$FE37","v":1.0813297109400969E-2},{"$f":"+LM37+IK$11*$FB37+IK$12*$FC37+IK$13*$FD37+IK$14*$FE37","v":2.2339110678814819E-2},{"$f":"+LN37+IL$11*$FB37+IL$12*$FC37+IL$13*$FD37+IL$14*$FE37","v":3.0224120363276055E-2},{"$f":"+LO37+IM$11*$FB37+IM$12*$FC37+IM$13*$FD37+IM$14*$FE37","v":3.121363863031916E-2},2.6447509197478604E-2,1.81642085947889E-2,8.6022133522845341E-3,0,0,-5.8616729492836778E-3,-9.0329190517993638E-3,-1.0021569881033383E-2,-9.3354570104720661E-3,null,0,-0.29550714695707281,-0.56287075610871018,-0.77394728964947646,-0.90059320977393631,-0.91466497867665408,-0.78801905855219423,-0.49251191159512142,0,0,1.0813297109400968,2.2339110678814817,3.0224120363276055,3.1213638630319158,2.6447509197478603,1.81642085947889,0.86022133522845345,0,0,-0.58616729492836783,-0.90329190517993641,-1.0021569881033383,-0.93354570104720658]
[null,null,{"$f":"+C37","v":24},0,0,0,0,0,0,0,0,0,0,0,0,0,0,0,0,0,0,0,0,0,0,0,0,0,0,0,0,0,0,null,null,null,null,null,null,null,null,null,null,null,null,null,null,null,null,0,null,null,null,null,null,null,null,null,null,null,null,null,null,null,null,null,null,null,null,null,null,null,null,null,null,null,null,null,null,null,null,null,null,null,null,null,null,null,null,null,null,null,null,null,null,null,null,null,null,null,null,null,null,null,null,null,null,null,null,null,null,null,null,null,null,null,null,null,null,null,null,null,null,null,null,null,null,null,null,null,null,null,null,null,null,null,null,null,null,null,null,null,null,null,null,null,null,null,12,null,0.5,{"$f":"+(2*$EU38-3*$EU38^2+$EU38^3)*Input!$B$1^2","v":0.84375},0.84375,0.84375,0.84375,null,null,-7.1808510638297879E-2,-6.25E-2,-4.188829787234042E-2,-7.2916666666666671E-2,null,-0.13430851063829788,0.5,0.64731087470449156,0.5,0.58421985815602839,null,-0.13430851063829788,0.5,0.51300236406619371,-0.5,-0.48699763593380613,null,9.7222222222222224E-2,null,9.7222222222222224E-2,null,null,1.1968085106382979E-2,1.0416666666666666E-2,0,0,2.2384751773049646E-2,null,null,-2.3936170212765957E-2,-2.0833333333333332E-2,0,0,-4.4769503546099293E-2,null,{"$f":"+FW29*Input!$B$1^2","v":-0.140625},3.5904255319148939E-2,3.125E-2,1.0472074468085105E-2,1.8229166666666668E-2,-4.4769503546099279E-2,null,{"$f":"+GD29*Input!$B$1^2","v":0.140625},-1.795212765957447E-2,-1.5625E-2,-2.094414893617021E-2,-3.6458333333333336E-2,4.9645390070921995E-2,null,null,0,0,3.1416223404255317E-2,1.8229166666666668E-2,4.9645390070921988E-2,null,null,null,null,null,null,null,null,null,null,null,null,null,null,null,null,null,null,null,null,null,null,null,null,null,null,null,null,null,null,0,{"$f":"+IF($EU38<=IJ$3,IJ$5/IJ$3*$EU38,IJ$5-IJ$5/(1-IJ$3)*($EU38-IJ$3))*Input!$B$1","v":9.375E-2},{"$f":"+IF($EU38<=IK$3,IK$5/IK$3*$EU38,IK$5-IK$5/(1-IK$3)*($EU38-IK$3))*Input!$B$1","v":0.1875},{"$f":"+IF($EU38<=IL$3,IL$5/IL$3*$EU38,IL$5-IL$5/(1-IL$3)*($EU38-IL$3))*Input!$B$1","v":0.28125},{"$f":"+IF($EU38<=IM$3,IM$5/IM$3*$EU38,IM$5-IM$5/(1-IM$3)*($EU38-IM$3))*Input!$B$1","v":0.375},{"$f":"+IF($EU38<=IN$3,IN$5/IN$3*$EU38,IN$5-IN$5/(1-IN$3)*($EU38-IN$3))*Input!$B$1","v":0.28125},{"$f":"+IF($EU38<=IO$3,IO$5/IO$3*$EU38,IO$5-IO$5/(1-IO$3)*($EU38-IO$3))*Input!$B$1","v":0.1875},{"$f":"+IF($EU38<=IP$3,IP$5/IP$3*$EU38,IP$5-IP$5/(1-IP$3)*($EU38-IP$3))*Input!$B$1","v":9.375E-2},{"$f":"+IF($EU38<=IQ$3,IQ$5/IQ$3*$EU38,IQ$5-IQ$5/(1-IQ$3)*($EU38-IQ$3))*Input!$B$1","v":0},null,null,null,null,null,null,null,0,-1.6788563829787235E-2,-3.357712765957447E-2,-5.0365691489361708E-2,-6.7154255319148939E-2,-8.3942819148936171E-2,-0.10073138297872342,-0.11751994680851065,-0.13430851063829788,-0.13430851063829788,-3.8120567375886531E-2,5.8067375886524802E-2,0.15425531914893617,0.25044326241134757,0.15913120567375888,6.781914893617022E-2,-2.3492907801418439E-2,-0.1148049645390071,-0.1148049645390071,-9.6575797872340413E-2,-7.8346631205673756E-2,-6.0117464539007084E-2,-4.188829787234042E-2,null,null,null,0,-0.16788563829787234,-0.33577127659574468,-0.50365691489361708,-0.67154255319148937,-0.83942819148936176,-1.0073138297872342,-1.1751994680851066,-1.3430851063829787,-1.3430851063829787,-0.38120567375886533,0.58067375886524797,1.5425531914893618,2.5044326241134756,1.5913120567375887,0.67819148936170226,-0.23492907801418439,-1.148049645390071,-1.148049645390071,-0.96575797872340408,-0.78346631205673756,-0.60117464539007082,-0.41888297872340419,null,null,null,null,null,null,null,null,null,null,null,null,null,null,null,{"$f":"+IF($EU38<=II$3,1/6*(1-II$3)*$EU38*(1-(1-II$3)^2-$EU38^2),1/6*II$3*(1-$EU38)*(1-II$3^2-(1-$EU38)^2))*Input!$B$1^3","v":0},{"$f":"+IF($EU38<=IJ$3,1/6*(1-IJ$3)*$EU38*(1-(1-IJ$3)^2-$EU38^2),1/6*IJ$3*(1-$EU38)*(1-IJ$3^2-(1-$EU38)^2))*Input!$B$1^3","v":2.581787109375E-2},{"$f":"+IF($EU38<=IK$3,1/6*(1-IK$3)*$EU38*(1-(1-IK$3)^2-$EU38^2),1/6*IK$3*(1-$EU38)*(1-IK$3^2-(1-$EU38)^2))*Input!$B$1^3","v":4.833984375E-2},{"$f":"+IF($EU38<=IL$3,1/6*(1-IL$3)*$EU38*(1-(1-IL$3)^2-$EU38^2),1/6*IL$3*(1-$EU38)*(1-IL$3^2-(1-$EU38)^2))*Input!$B$1^3","v":6.427001953125E-2},{"$f":"+IF($EU38<=IM$3,1/6*(1-IM$3)*$EU38*(1-(1-IM$3)^2-$EU38^2),1/6*IM$3*(1-$EU38)*(1-IM$3^2-(1-$EU38)^2))*Input!$B$1^3","v":7.03125E-2},{"$f":"+IF($EU38<=IN$3,1/6*(1-IN$3)*$EU38*(1-(1-IN$3)^2-$EU38^2),1/6*IN$3*(1-$EU38)*(1-IN$3^2-(1-$EU38)^2))*Input!$B$1^3","v":6.427001953125E-2},{"$f":"+IF($EU38<=IO$3,1/6*(1-IO$3)*$EU38*(1-(1-IO$3)^2-$EU38^2),1/6*IO$3*(1-$EU38)*(1-IO$3^2-(1-$EU38)^2))*Input!$B$1^3","v":4.833984375E-2},{"$f":"+IF($EU38<=IP$3,1/6*(1-IP$3)*$EU38*(1-(1-IP$3)^2-$EU38^2),1/6*IP$3*(1-$EU38)*(1-IP$3^2-(1-$EU38)^2))*Input!$B$1^3","v":2.581787109375E-2},{"$f":"+IF($EU38<=IQ$3,1/6*(1-IQ$3)*$EU38*(1-(1-IQ$3)^2-$EU38^2),1/6*IQ$3*(1-$EU38)*(1-IQ$3^2-(1-$EU38)^2))*Input!$B$1^3","v":0},null,null,null,null,null,null,null,null,null,null,null,null,0,-2.754373753324468E-3,-5.2464261968085107E-3,-7.2138360206117028E-3,-8.3942819148936174E-3,-8.5254425698138292E-3,-7.3449966755319155E-3,-4.5906229222074466E-3,0,0,1.0191572473404254E-2,2.1723321143617018E-2,3.1213638630319153E-2,3.5280917553191488E-2,3.1642183344414897E-2,2.2408992686170214E-2,1.0791535073138295E-2,0,0,-7.3972661444481379E-3,-1.1399289394946808E-2,-1.2646938892121009E-2,-1.1781083776595744E-2,null,0,-0.27543737533244678,-0.52464261968085102,-0.72138360206117025,-0.83942819148936176,-0.85254425698138292,-0.73449966755319152,-0.45906229222074468,0,0,1.0191572473404253,2.1723321143617018,3.1213638630319154,3.5280917553191489,3.1642183344414896,2.2408992686170213,1.0791535073138296,0,0,-0.7397266144448138,-1.1399289394946808,-1.2646938892121009,-1.1781083776595744]
[null,null,{"$f":"+C38+1","v":25},0,-7.4540807845744662E-3,-1.4908161569148932E-2,-2.2362242353723399E-2,-2.9816323138297865E-2,-3.7270403922872328E-2,-4.4724484707446797E-2,-5.2178565492021281E-2,-5.963264627659573E-2,-5.963264627659573E-2,-2.733162954343972E-2,4.9693871897163282E-3,3.7270403922872328E-2,6.9571420656028393E-2,0.10187243738918439,0.13417345412234039,0.16647447085549646,0.19877548758865246,0.19877548758865246,8.1994888630319118E-2,-3.478571032801421E-2,-0.15156630928634754,-0.26834690824468088,-5.963264627659573E-3,1.7227208924349879E-2,1.7227208924349879E-2,-6.2282986111111112E-2,-5.963264627659573E-3,2.3190473552009448E-2,-7.9510195035461001E-2,null,null,null,null,null,null,null,null,null,null,null,null,null,null,null,null,-6.2282986111111112E-2,null,null,null,null,null,null,null,null,null,null,null,null,null,null,null,null,null,null,null,null,null,null,null,null,null,null,null,null,null,null,null,null,null,null,null,null,null,null,null,null,null,null,null,null,null,null,null,null,null,null,null,null,null,null,null,null,null,null,null,null,null,null,null,null,null,null,null,null,null,null,null,null,null,null,null,null,null,null,null,null,null,null,null,null,null,null,null,null,null,null,null,null,null,null,null,null,null,null,13,null,0.625,{"$f":"+(2*$EU39-3*$EU39^2+$EU39^3)*Input!$B$1^2","v":0.72509765625},0.72509765625,0.85693359375,0.85693359375,null,null,-5.8905418882978726E-2,-4.8828125E-2,-4.5347822473404263E-2,-7.8938802083333329E-2,null,-0.10773354388297873,0.375,0.47169815676713944,0.625,0.74128712322695034,null,-0.10773354388297873,0.375,0.36396461288416071,-0.625,-0.63603538711583929,null,0.1052517361111111,null,0.1052517361111111,null,null,9.8175698138297865E-3,8.1380208333333322E-3,0,0,1.7955590647163119E-2,null,null,-1.9635139627659573E-2,-1.6276041666666664E-2,0,0,-3.5911181294326237E-2,null,{"$f":"+FW30*Input!$B$1^2","v":-0.120849609375},2.9452709441489363E-2,2.44140625E-2,1.1336955618351066E-2,1.9734700520833332E-2,-3.591118129432623E-2,null,{"$f":"+GD30*Input!$B$1^2","v":0.142822265625},-1.4726354720744681E-2,-1.220703125E-2,-2.2673911236702132E-2,-3.9469401041666664E-2,5.3745567375886517E-2,null,null,0,0,3.4010866855053196E-2,1.9734700520833332E-2,5.3745567375886524E-2,null,null,null,null,null,null,null,null,null,null,null,null,null,null,null,null,null,null,null,null,null,null,null,null,null,null,null,null,null,null,0,{"$f":"+IF($EU39<=IJ$3,IJ$5/IJ$3*$EU39,IJ$5-IJ$5/(1-IJ$3)*($EU39-IJ$3))*Input!$B$1","v":7.03125E-2},{"$f":"+IF($EU39<=IK$3,IK$5/IK$3*$EU39,IK$5-IK$5/(1-IK$3)*($EU39-IK$3))*Input!$B$1","v":0.140625},{"$f":"+IF($EU39<=IL$3,IL$5/IL$3*$EU39,IL$5-IL$5/(1-IL$3)*($EU39-IL$3))*Input!$B$1","v":0.2109375},{"$f":"+IF($EU39<=IM$3,IM$5/IM$3*$EU39,IM$5-IM$5/(1-IM$3)*($EU39-IM$3))*Input!$B$1","v":0.28125},{"$f":"+IF($EU39<=IN$3,IN$5/IN$3*$EU39,IN$5-IN$5/(1-IN$3)*($EU39-IN$3))*Input!$B$1","v":0.3515625},{"$f":"+IF($EU39<=IO$3,IO$5/IO$3*$EU39,IO$5-IO$5/(1-IO$3)*($EU39-IO$3))*Input!$B$1","v":0.234375},{"$f":"+IF($EU39<=IP$3,IP$5/IP$3*$EU39,IP$5-IP$5/(1-IP$3)*($EU39-IP$3))*Input!$B$1","v":0.1171875},{"$f":"+IF($EU39<=IQ$3,IQ$5/IQ$3*$EU39,IQ$5-IQ$5/(1-IQ$3)*($EU39-IQ$3))*Input!$B$1","v":0},null,null,null,null,null,null,null,0,-1.3466692985372342E-2,-2.6933385970744683E-2,-4.0400078956117025E-2,-5.3866771941489366E-2,-6.7333464926861708E-2,-8.080015791223405E-2,-9.4266850897606391E-2,-0.10773354388297873,-0.10773354388297873,-3.9490178967198586E-2,2.8753185948581551E-2,9.6996550864361708E-2,0.16523991578014185,0.233483280695922,0.11422664561170212,-5.0299894725177319E-3,-0.12428662455673758,-0.12428662455673758,-0.10455192403590427,-8.4817223515070927E-2,-6.5082522994237599E-2,-4.5347822473404263E-2,null,null,null,0,-0.13466692985372342,-0.26933385970744683,-0.40400078956117025,-0.53866771941489366,-0.67333464926861708,-0.8080015791223405,-0.94266850897606391,-1.0773354388297873,-1.0773354388297873,-0.39490178967198586,0.2875318594858155,0.96996550864361708,1.6523991578014185,2.3348328069592199,1.1422664561170213,-5.0299894725177319E-2,-1.2428662455673758,-1.2428662455673758,-1.0455192403590428,-0.84817223515070927,-0.65082522994237602,-0.45347822473404265,null,null,null,null,null,null,null,null,null,null,null,null,null,null,null,{"$f":"+IF($EU39<=II$3,1/6*(1-II$3)*$EU39*(1-(1-II$3)^2-$EU39^2),1/6*II$3*(1-$EU39)*(1-II$3^2-(1-$EU39)^2))*Input!$B$1^3","v":0},{"$f":"+IF($EU39<=IJ$3,1/6*(1-IJ$3)*$EU39*(1-(1-IJ$3)^2-$EU39^2),1/6*IJ$3*(1-$EU39)*(1-IJ$3^2-(1-$EU39)^2))*Input!$B$1^3","v":2.2247314453125E-2},{"$f":"+IF($EU39<=IK$3,1/6*(1-IK$3)*$EU39*(1-(1-IK$3)^2-$EU39^2),1/6*IK$3*(1-$EU39)*(1-IK$3^2-(1-$EU39)^2))*Input!$B$1^3","v":4.2022705078125E-2},{"$f":"+IF($EU39<=IL$3,1/6*(1-IL$3)*$EU39*(1-(1-IL$3)^2-$EU39^2),1/6*IL$3*(1-$EU39)*(1-IL$3^2-(1-$EU39)^2))*Input!$B$1^3","v":5.6854248046875E-2},{"$f":"+IF($EU39<=IM$3,1/6*(1-IM$3)*$EU39*(1-(1-IM$3)^2-$EU39^2),1/6*IM$3*(1-$EU39)*(1-IM$3^2-(1-$EU39)^2))*Input!$B$1^3","v":6.427001953125E-2},{"$f":"+IF($EU39<=IN$3,1/6*(1-IN$3)*$EU39*(1-(1-IN$3)^2-$EU39^2),1/6*IN$3*(1-$EU39)*(1-IN$3^2-(1-$EU39)^2))*Input!$B$1^3","v":6.1798095703125E-2},{"$f":"+IF($EU39<=IO$3,1/6*(1-IO$3)*$EU39*(1-(1-IO$3)^2-$EU39^2),1/6*IO$3*(1-$EU39)*(1-IO$3^2-(1-$EU39)^2))*Input!$B$1^3","v":4.8065185546874993E-2},{"$f":"+IF($EU39<=IP$3,1/6*(1-IP$3)*$EU39*(1-(1-IP$3)^2-$EU39^2),1/6*IP$3*(1-$EU39)*(1-IP$3^2-(1-$EU39)^2))*Input!$B$1^3","v":2.6092529296874997E-2},{"$f":"+IF($EU39<=IQ$3,1/6*(1-IQ$3)*$EU39*(1-(1-IQ$3)^2-$EU39^2),1/6*IQ$3*(1-$EU39)*(1-IQ$3^2-(1-$EU39)^2))*Input!$B$1^3","v":0},null,null,null,null,null,null,null,null,null,null,null,null,0,-2.2093793179126494E-3,-4.2083415579288568E-3,-5.7864696421521776E-3,-6.7333464926861708E-3,-6.8385550316343918E-3,-5.8916781811003995E-3,-3.6822988631877492E-3,0,0,8.2272367274507548E-3,1.7842800059217089E-2,2.6447509197478597E-2,3.164218334441489E-2,3.1027641702205573E-2,2.3303336285530246E-2,1.1563250359068519E-2,0,0,-8.0082010715565796E-3,-1.23407485637259E-2,-1.3691440541693507E-2,-1.2754075070644948E-2,null,0,-0.22093793179126495,-0.42083415579288569,-0.57864696421521777,-0.67333464926861708,-0.68385550316343913,-0.58916781811003993,-0.3682298863187749,0,0,0.82272367274507552,1.7842800059217088,2.6447509197478598,3.1642183344414891,3.1027641702205573,2.3303336285530247,1.1563250359068518,0,0,-0.80082010715565799,-1.2340748563725901,-1.3691440541693507,-1.2754075070644948]
[null,null,26,0,-1.1427859042553194E-2,-2.2855718085106388E-2,-3.4283577127659573E-2,-4.5711436170212776E-2,-5.7139295212765978E-2,-6.8567154255319146E-2,-7.9995013297872383E-2,-9.1422872340425551E-2,-9.1422872340425551E-2,-4.1902149822695078E-2,7.6185726950354568E-3,5.7139295212765978E-2,0.10666001773049646,0.15618074024822695,0.20570146276595752,0.2552221852836879,0.30474290780141849,0.30474290780141849,0.12570644946808518,-5.3330008865248163E-2,-0.23236646719858148,-0.41140292553191482,-9.1422872340425551E-3,2.641105200945627E-2,2.641105200945627E-2,-9.5486111111111105E-2,-9.1422872340425551E-3,3.5553339243498829E-2,-0.12189716312056738,null,null,null,null,null,null,null,null,null,null,null,null,null,null,null,null,-9.5486111111111105E-2,null,null,null,null,null,null,null,null,null,null,null,null,null,null,null,null,null,null,null,null,null,null,null,null,null,null,null,null,null,null,null,null,null,null,null,null,null,null,null,null,null,null,null,null,null,null,null,null,null,null,null,null,null,null,null,null,null,null,null,null,null,null,null,null,null,null,null,null,null,null,null,null,null,null,null,null,null,null,null,null,null,null,null,null,null,null,null,null,null,null,null,null,null,null,null,null,null,null,14,null,0.75,{"$f":"+(2*$EU40-3*$EU40^2+$EU40^3)*Input!$B$1^2","v":0.52734375},0.52734375,0.73828125,0.73828125,null,null,-4.0392287234042555E-2,-3.125E-2,-4.1140292553191481E-2,-7.1614583333333329E-2,null,-7.1642287234042562E-2,0.25,0.29423389479905437,0.75,0.87289450354609921,null,-7.1642287234042562E-2,0.25,0.22259160756501181,-0.75,-0.77740839243498816,null,9.5486111111111105E-2,null,9.5486111111111105E-2,null,null,6.7320478723404253E-3,5.208333333333333E-3,0,0,1.1940381205673759E-2,null,null,-1.3464095744680851E-2,-1.0416666666666666E-2,0,0,-2.3880762411347518E-2,null,{"$f":"+FW31*Input!$B$1^2","v":-8.7890625E-2},2.0196143617021278E-2,1.5625E-2,1.028507313829787E-2,1.7903645833333332E-2,-2.3880762411347515E-2,null,{"$f":"+GD31*Input!$B$1^2","v":0.123046875},-1.0098071808510639E-2,-7.8125E-3,-2.057014627659574E-2,-3.5807291666666664E-2,4.8758865248226958E-2,null,null,0,0,3.0855219414893609E-2,1.7903645833333332E-2,4.8758865248226937E-2,null,null,null,null,null,null,null,null,null,null,null,null,null,null,null,null,null,null,null,null,null,null,null,null,null,null,null,null,null,null,0,{"$f":"+IF($EU40<=IJ$3,IJ$5/IJ$3*$EU40,IJ$5-IJ$5/(1-IJ$3)*($EU40-IJ$3))*Input!$B$1","v":4.6875E-2},{"$f":"+IF($EU40<=IK$3,IK$5/IK$3*$EU40,IK$5-IK$5/(1-IK$3)*($EU40-IK$3))*Input!$B$1","v":9.375E-2},{"$f":"+IF($EU40<=IL$3,IL$5/IL$3*$EU40,IL$5-IL$5/(1-IL$3)*($EU40-IL$3))*Input!$B$1","v":0.140625},{"$f":"+IF($EU40<=IM$3,IM$5/IM$3*$EU40,IM$5-IM$5/(1-IM$3)*($EU40-IM$3))*Input!$B$1","v":0.1875},{"$f":"+IF($EU40<=IN$3,IN$5/IN$3*$EU40,IN$5-IN$5/(1-IN$3)*($EU40-IN$3))*Input!$B$1","v":0.234375},{"$f":"+IF($EU40<=IO$3,IO$5/IO$3*$EU40,IO$5-IO$5/(1-IO$3)*($EU40-IO$3))*Input!$B$1","v":0.28125},{"$f":"+IF($EU40<=IP$3,IP$5/IP$3*$EU40,IP$5-IP$5/(1-IP$3)*($EU40-IP$3))*Input!$B$1","v":0.140625},{"$f":"+IF($EU40<=IQ$3,IQ$5/IQ$3*$EU40,IQ$5-IQ$5/(1-IQ$3)*($EU40-IQ$3))*Input!$B$1","v":0},null,null,null,null,null,null,null,0,-8.9552859042553203E-3,-1.7910571808510641E-2,-2.6865857712765957E-2,-3.5821143617021281E-2,-4.4776429521276598E-2,-5.3731715425531915E-2,-6.2687001329787245E-2,-7.1642287234042562E-2,-7.1642287234042562E-2,-2.9906360815602842E-2,1.1829565602836881E-2,5.3565492021276598E-2,9.5301418439716346E-2,0.13703734485815605,0.17877327127659576,3.3009197695035478E-2,-0.1127548758865248,-0.1127548758865248,-9.4851230053191488E-2,-7.6947584219858145E-2,-5.9043938386524816E-2,-4.1140292553191481E-2,null,null,null,0,-8.9552859042553196E-2,-0.17910571808510639,-0.26865857712765956,-0.35821143617021278,-0.44776429521276595,-0.53731715425531912,-0.6268700132978724,-0.71642287234042556,-0.71642287234042556,-0.29906360815602839,0.11829565602836881,0.53565492021276595,0.95301418439716346,1.3703734485815606,1.7877327127659575,0.33009197695035475,-1.127548758865248,-1.127548758865248,-0.94851230053191493,-0.76947584219858145,-0.59043938386524819,-0.41140292553191482,null,null,null,null,null,null,null,null,null,null,null,null,null,null,null,{"$f":"+IF($EU40<=II$3,1/6*(1-II$3)*$EU40*(1-(1-II$3)^2-$EU40^2),1/6*II$3*(1-$EU40)*(1-II$3^2-(1-$EU40)^2))*Input!$B$1^3","v":0},{"$f":"+IF($EU40<=IJ$3,1/6*(1-IJ$3)*$EU40*(1-(1-IJ$3)^2-$EU40^2),1/6*IJ$3*(1-$EU40)*(1-IJ$3^2-(1-$EU40)^2))*Input!$B$1^3","v":1.6204833984374997E-2},{"$f":"+IF($EU40<=IK$3,1/6*(1-IK$3)*$EU40*(1-(1-IK$3)^2-$EU40^2),1/6*IK$3*(1-$EU40)*(1-IK$3^2-(1-$EU40)^2))*Input!$B$1^3","v":3.0761718749999997E-2},{"$f":"+IF($EU40<=IL$3,1/6*(1-IL$3)*$EU40*(1-(1-IL$3)^2-$EU40^2),1/6*IL$3*(1-$EU40)*(1-IL$3^2-(1-$EU40)^2))*Input!$B$1^3","v":4.2022705078125E-2},{"$f":"+IF($EU40<=IM$3,1/6*(1-IM$3)*$EU40*(1-(1-IM$3)^2-$EU40^2),1/6*IM$3*(1-$EU40)*(1-IM$3^2-(1-$EU40)^2))*Input!$B$1^3","v":4.833984375E-2},{"$f":"+IF($EU40<=IN$3,1/6*(1-IN$3)*$EU40*(1-(1-IN$3)^2-$EU40^2),1/6*IN$3*(1-$EU40)*(1-IN$3^2-(1-$EU40)^2))*Input!$B$1^3","v":4.8065185546874993E-2},{"$f":"+IF($EU40<=IO$3,1/6*(1-IO$3)*$EU40*(1-(1-IO$3)^2-$EU40^2),1/6*IO$3*(1-$EU40)*(1-IO$3^2-(1-$EU40)^2))*Input!$B$1^3","v":3.955078125E-2},{"$f":"+IF($EU40<=IP$3,1/6*(1-IP$3)*$EU40*(1-(1-IP$3)^2-$EU40^2),1/6*IP$3*(1-$EU40)*(1-IP$3^2-(1-$EU40)^2))*Input!$B$1^3","v":2.2247314453125E-2},{"$f":"+IF($EU40<=IQ$3,1/6*(1-IQ$3)*$EU40*(1-(1-IQ$3)^2-$EU40^2),1/6*IQ$3*(1-$EU40)*(1-IQ$3^2-(1-$EU40)^2))*Input!$B$1^3","v":0},null,null,null,null,null,null,null,null,null,null,null,null,0,-1.4692265936668883E-3,-2.7985268450797874E-3,-3.8479744119847077E-3,-4.4776429521276601E-3,-4.5476061232546539E-3,-3.9179375831117028E-3,-2.4487109894448141E-3,0,0,5.4924335885555165E-3,1.2036262674534573E-2,1.81642085947889E-2,2.240899268617022E-2,2.3303336285530246E-2,1.9379960729720744E-2,1.0270220168093418E-2,0,0,-7.2651721061544206E-3,-1.1195730655751327E-2,-1.2421100697618847E-2,-1.1570707280585103E-2,null,0,-0.14692265936668883,-0.27985268450797873,-0.38479744119847076,-0.44776429521276601,-0.45476061232546539,-0.3917937583111703,-0.24487109894448139,0,0,0.54924335885555164,1.2036262674534572,1.81642085947889,2.2408992686170222,2.3303336285530247,1.9379960729720744,1.0270220168093418,0,0,-0.72651721061544206,-1.1195730655751328,-1.2421100697618848,-1.1570707280585104]
[null,null,27,0,-1.2596617353723407E-2,-2.5193234707446815E-2,-3.7789852061170214E-2,-5.038646941489363E-2,-6.2983086768617011E-2,-7.5579704122340427E-2,-8.8176321476063843E-2,-0.10077293882978726,-0.10077293882978726,-4.6187596963652516E-2,8.3977449024822196E-3,6.2983086768617011E-2,0.1175684286347517,0.17215377050088645,0.22673911236702121,0.28132445423315583,0.33590979609929067,0.33590979609929067,0.13856279089095735,-5.8784214317375988E-2,-0.25613121952570933,-0.45347822473404265,-1.0077293882978726E-2,2.9112182328605195E-2,2.9112182328605195E-2,-0.1052517361111111,-1.0077293882978726E-2,3.9189476211583918E-2,-0.13436391843971629,null,null,null,null,null,null,null,null,null,null,null,null,null,null,null,null,-0.1052517361111111,null,null,null,null,null,null,null,null,null,null,null,null,null,null,null,null,null,null,null,null,null,null,null,null,null,null,null,null,null,null,null,null,null,null,null,null,null,null,null,null,null,null,null,null,null,null,null,null,null,null,null,null,null,null,null,null,null,null,null,null,null,null,null,null,null,null,null,null,null,null,null,null,null,null,null,null,null,null,null,null,null,null,null,null,null,null,null,null,null,null,null,null,null,null,null,null,null,null,15,null,0.875,{"$f":"+(2*$EU41-3*$EU41^2+$EU41^3)*Input!$B$1^2","v":0.27685546875},0.27685546875,0.46142578125,0.46142578125,null,null,-1.9635139627659573E-2,-1.3671875E-2,-2.6834690824468089E-2,-4.6712239583333336E-2,null,-3.3307014627659573E-2,0.125,0.13148040410756501,0.875,0.96410959663120566,null,-3.3307014627659573E-2,0.125,9.8173389479905449E-2,-0.875,-0.90182661052009461,null,6.2282986111111112E-2,null,6.2282986111111112E-2,null,null,3.2725232712765952E-3,2.278645833333333E-3,0,0,5.5511691046099283E-3,null,null,-6.5450465425531904E-3,-4.5572916666666661E-3,0,0,-1.1102338209219857E-2,null,{"$f":"+FW32*Input!$B$1^2","v":-4.6142578125E-2},9.8175698138297865E-3,6.8359375E-3,6.7086727061170222E-3,1.1678059895833334E-2,-1.1102338209219858E-2,null,{"$f":"+GD32*Input!$B$1^2","v":7.6904296875E-2},-4.9087849069148932E-3,-3.41796875E-3,-1.3417345412234044E-2,-2.3356119791666668E-2,3.1804078014184403E-2,null,null,0,0,2.0126018118351068E-2,1.1678059895833334E-2,3.1804078014184403E-2,null,null,null,null,null,null,null,null,null,null,null,null,null,null,null,null,null,null,null,null,null,null,null,null,null,null,null,null,null,null,0,{"$f":"+IF($EU41<=IJ$3,IJ$5/IJ$3*$EU41,IJ$5-IJ$5/(1-IJ$3)*($EU41-IJ$3))*Input!$B$1","v":2.34375E-2},{"$f":"+IF($EU41<=IK$3,IK$5/IK$3*$EU41,IK$5-IK$5/(1-IK$3)*($EU41-IK$3))*Input!$B$1","v":4.6875E-2},{"$f":"+IF($EU41<=IL$3,IL$5/IL$3*$EU41,IL$5-IL$5/(1-IL$3)*($EU41-IL$3))*Input!$B$1","v":7.03125E-2},{"$f":"+IF($EU41<=IM$3,IM$5/IM$3*$EU41,IM$5-IM$5/(1-IM$3)*($EU41-IM$3))*Input!$B$1","v":9.375E-2},{"$f":"+IF($EU41<=IN$3,IN$5/IN$3*$EU41,IN$5-IN$5/(1-IN$3)*($EU41-IN$3))*Input!$B$1","v":0.1171875},{"$f":"+IF($EU41<=IO$3,IO$5/IO$3*$EU41,IO$5-IO$5/(1-IO$3)*($EU41-IO$3))*Input!$B$1","v":0.140625},{"$f":"+IF($EU41<=IP$3,IP$5/IP$3*$EU41,IP$5-IP$5/(1-IP$3)*($EU41-IP$3))*Input!$B$1","v":0.1640625},{"$f":"+IF($EU41<=IQ$3,IQ$5/IQ$3*$EU41,IQ$5-IQ$5/(1-IQ$3)*($EU41-IQ$3))*Input!$B$1","v":0},null,null,null,null,null,null,null,0,-4.1633768284574466E-3,-8.3267536569148932E-3,-1.249013048537234E-2,-1.6653507313829786E-2,-2.0816884142287231E-2,-2.498026097074468E-2,-2.9143637799202128E-2,-3.3307014627659573E-2,-3.3307014627659573E-2,-1.4899504100177305E-2,3.5080064273049615E-3,2.1915516954787231E-2,4.03230274822695E-2,5.8730538009751761E-2,7.7138048537234022E-2,9.5545559064716304E-2,-7.3546930407801428E-2,-7.3546930407801428E-2,-6.1868870511968085E-2,-5.0190810616134757E-2,-3.8512750720301421E-2,-2.6834690824468089E-2,null,null,null,0,-4.1633768284574463E-2,-8.3267536569148926E-2,-0.1249013048537234,-0.16653507313829785,-0.20816884142287231,-0.2498026097074468,-0.29143637799202127,-0.3330701462765957,-0.3330701462765957,-0.14899504100177305,3.5080064273049619E-2,0.21915516954787231,0.40323027482269502,0.58730538009751765,0.77138048537234027,0.95545559064716301,-0.73546930407801425,-0.73546930407801425,-0.61868870511968088,-0.50190810616134751,-0.3851275072030142,-0.26834690824468088,null,null,null,null,null,null,null,null,null,null,null,null,null,null,null,{"$f":"+IF($EU41<=II$3,1/6*(1-II$3)*$EU41*(1-(1-II$3)^2-$EU41^2),1/6*II$3*(1-$EU41)*(1-II$3^2-(1-$EU41)^2))*Input!$B$1^3","v":0},{"$f":"+IF($EU41<=IJ$3,1/6*(1-IJ$3)*$EU41*(1-(1-IJ$3)^2-$EU41^2),1/6*IJ$3*(1-$EU41)*(1-IJ$3^2-(1-$EU41)^2))*Input!$B$1^3","v":8.5144042968749983E-3},{"$f":"+IF($EU41<=IK$3,1/6*(1-IK$3)*$EU41*(1-(1-IK$3)^2-$EU41^2),1/6*IK$3*(1-$EU41)*(1-IK$3^2-(1-$EU41)^2))*Input!$B$1^3","v":1.6204833984374997E-2},{"$f":"+IF($EU41<=IL$3,1/6*(1-IL$3)*$EU41*(1-(1-IL$3)^2-$EU41^2),1/6*IL$3*(1-$EU41)*(1-IL$3^2-(1-$EU41)^2))*Input!$B$1^3","v":2.2247314453125E-2},{"$f":"+IF($EU41<=IM$3,1/6*(1-IM$3)*$EU41*(1-(1-IM$3)^2-$EU41^2),1/6*IM$3*(1-$EU41)*(1-IM$3^2-(1-$EU41)^2))*Input!$B$1^3","v":2.581787109375E-2},{"$f":"+IF($EU41<=IN$3,1/6*(1-IN$3)*$EU41*(1-(1-IN$3)^2-$EU41^2),1/6*IN$3*(1-$EU41)*(1-IN$3^2-(1-$EU41)^2))*Input!$B$1^3","v":2.6092529296874997E-2},{"$f":"+IF($EU41<=IO$3,1/6*(1-IO$3)*$EU41*(1-(1-IO$3)^2-$EU41^2),1/6*IO$3*(1-$EU41)*(1-IO$3^2-(1-$EU41)^2))*Input!$B$1^3","v":2.2247314453125E-2},{"$f":"+IF($EU41<=IP$3,1/6*(1-IP$3)*$EU41*(1-(1-IP$3)^2-$EU41^2),1/6*IP$3*(1-$EU41)*(1-IP$3^2-(1-$EU41)^2))*Input!$B$1^3","v":1.3458251953124998E-2},{"$f":"+IF($EU41<=IQ$3,1/6*(1-IQ$3)*$EU41*(1-(1-IQ$3)^2-$EU41^2),1/6*IQ$3*(1-$EU41)*(1-IQ$3^2-(1-$EU41)^2))*Input!$B$1^3","v":0},null,null,null,null,null,null,null,null,null,null,null,null,0,-6.8305401091879982E-4,-1.301055258892952E-3,-1.7889509809778091E-3,-2.0816884142287233E-3,-2.1142147957010473E-3,-1.821477362450133E-3,-1.1384233515313331E-3,0,0,2.5593067737335841E-3,5.6424242384890255E-3,8.6022133522845341E-3,1.0791535073138295E-2,1.1563250359068522E-2,1.0270220168093418E-2,6.265305458231174E-3,0,0,-4.738873623787089E-3,-7.3026697686377996E-3,-8.1019452277650231E-3,-7.5472567943816503E-3,null,0,-6.8305401091879978E-2,-0.13010552588929519,-0.1788950980977809,-0.20816884142287234,-0.21142147957010474,-0.18214773624501329,-0.1138423351531333,0,0,0.2559306773733584,0.56424242384890255,0.86022133522845345,1.0791535073138296,1.1563250359068522,1.0270220168093418,0.6265305458231174,0,0,-0.47388736237870888,-0.73026697686377995,-0.81019452277650228,-0.75472567943816504]
[null,null,28,0,-1.1635638297872349E-2,-2.3271276595744697E-2,-3.4906914893617046E-2,-4.6542553191489394E-2,-5.8178191489361708E-2,-6.9813829787234091E-2,-8.1449468085106475E-2,-9.3085106382978788E-2,-9.3085106382978788E-2,-4.2664007092198655E-2,7.7570921985815541E-3,5.8178191489361708E-2,0.10859929078014185,0.15902039007092206,0.20944148936170215,0.25986258865248246,0.3102836879432625,0.3102836879432625,0.12799202127659581,-5.4299645390070844E-2,-0.23659131205673753,-0.41888297872340419,-9.3085106382978788E-3,2.689125295508275E-2,2.689125295508275E-2,-9.7222222222222224E-2,-9.3085106382978788E-3,3.6199763593380632E-2,-0.12411347517730498,null,null,null,null,null,null,null,null,null,null,null,null,null,null,null,null,-9.7222222222222224E-2,null,null,null,null,null,null,null,null,null,null,null,null,null,null,null,null,null,null,null,null,null,null,null,null,null,null,null,null,null,null,null,null,null,null,null,null,null,null,null,null,null,null,null,null,null,null,null,null,null,null,null,null,null,null,null,null,null,null,null,null,null,null,null,null,null,null,null,null,null,null,null,null,null,null,null,null,null,null,null,null,null,null,null,null,null,null,null,null,null,null,null,null,null,null,null,null,null,null,16,null,1,{"$f":"+(2*$EU42-3*$EU42^2+$EU42^3)*Input!$B$1^2","v":0},0,0,0,null,null,0,0,0,0,null,0,0,0,1,1,null,0,0,0,-1,-1,null,0,null,0,null,null,0,0,0,0,0,null,null,0,0,0,0,0,null,{"$f":"+FW33*Input!$B$1^2","v":0},0,0,0,0,0,null,{"$f":"+GD33*Input!$B$1^2","v":0},0,0,0,0,0,null,null,0,0,0,0,0,null,null,null,null,null,null,null,null,null,null,null,null,null,null,null,null,null,null,null,null,null,null,null,null,null,null,null,null,null,null,0,{"$f":"+IF($EU42<=IJ$3,IJ$5/IJ$3*$EU42,IJ$5-IJ$5/(1-IJ$3)*($EU42-IJ$3))*Input!$B$1","v":0},{"$f":"+IF($EU42<=IK$3,IK$5/IK$3*$EU42,IK$5-IK$5/(1-IK$3)*($EU42-IK$3))*Input!$B$1","v":0},{"$f":"+IF($EU42<=IL$3,IL$5/IL$3*$EU42,IL$5-IL$5/(1-IL$3)*($EU42-IL$3))*Input!$B$1","v":0},{"$f":"+IF($EU42<=IM$3,IM$5/IM$3*$EU42,IM$5-IM$5/(1-IM$3)*($EU42-IM$3))*Input!$B$1","v":0},{"$f":"+IF($EU42<=IN$3,IN$5/IN$3*$EU42,IN$5-IN$5/(1-IN$3)*($EU42-IN$3))*Input!$B$1","v":0},{"$f":"+IF($EU42<=IO$3,IO$5/IO$3*$EU42,IO$5-IO$5/(1-IO$3)*($EU42-IO$3))*Input!$B$1","v":0},{"$f":"+IF($EU42<=IP$3,IP$5/IP$3*$EU42,IP$5-IP$5/(1-IP$3)*($EU42-IP$3))*Input!$B$1","v":0},{"$f":"+IF($EU42<=IQ$3,IQ$5/IQ$3*$EU42,IQ$5-IQ$5/(1-IQ$3)*($EU42-IQ$3))*Input!$B$1","v":0},null,null,null,null,null,null,null,0,0,0,0,0,0,0,0,0,0,0,0,0,0,0,0,0,0,0,0,0,0,0,null,null,null,0,0,0,0,0,0,0,0,0,0,0,0,0,0,0,0,0,0,0,0,0,0,0,null,null,null,null,null,null,null,null,null,null,null,null,null,null,null,{"$f":"+IF($EU42<=II$3,1/6*(1-II$3)*$EU42*(1-(1-II$3)^2-$EU42^2),1/6*II$3*(1-$EU42)*(1-II$3^2-(1-$EU42)^2))*Input!$B$1^3","v":0},{"$f":"+IF($EU42<=IJ$3,1/6*(1-IJ$3)*$EU42*(1-(1-IJ$3)^2-$EU42^2),1/6*IJ$3*(1-$EU42)*(1-IJ$3^2-(1-$EU42)^2))*Input!$B$1^3","v":0},{"$f":"+IF($EU42<=IK$3,1/6*(1-IK$3)*$EU42*(1-(1-IK$3)^2-$EU42^2),1/6*IK$3*(1-$EU42)*(1-IK$3^2-(1-$EU42)^2))*Input!$B$1^3","v":0},{"$f":"+IF($EU42<=IL$3,1/6*(1-IL$3)*$EU42*(1-(1-IL$3)^2-$EU42^2),1/6*IL$3*(1-$EU42)*(1-IL$3^2-(1-$EU42)^2))*Input!$B$1^3","v":0},{"$f":"+IF($EU42<=IM$3,1/6*(1-IM$3)*$EU42*(1-(1-IM$3)^2-$EU42^2),1/6*IM$3*(1-$EU42)*(1-IM$3^2-(1-$EU42)^2))*Input!$B$1^3","v":0},{"$f":"+IF($EU42<=IN$3,1/6*(1-IN$3)*$EU42*(1-(1-IN$3)^2-$EU42^2),1/6*IN$3*(1-$EU42)*(1-IN$3^2-(1-$EU42)^2))*Input!$B$1^3","v":0},{"$f":"+IF($EU42<=IO$3,1/6*(1-IO$3)*$EU42*(1-(1-IO$3)^2-$EU42^2),1/6*IO$3*(1-$EU42)*(1-IO$3^2-(1-$EU42)^2))*Input!$B$1^3","v":0},{"$f":"+IF($EU42<=IP$3,1/6*(1-IP$3)*$EU42*(1-(1-IP$3)^2-$EU42^2),1/6*IP$3*(1-$EU42)*(1-IP$3^2-(1-$EU42)^2))*Input!$B$1^3","v":0},{"$f":"+IF($EU42<=IQ$3,1/6*(1-IQ$3)*$EU42*(1-(1-IQ$3)^2-$EU42^2),1/6*IQ$3*(1-$EU42)*(1-IQ$3^2-(1-$EU42)^2))*Input!$B$1^3","v":0},null,null,null,null,null,null,null,null,null,null,null,null,0,0,0,0,0,0,0,0,0,0,0,0,0,0,0,0,0,0,0,0,0,0,0,null,0,0,0,0,0,0,0,0,0,0,0,0,0,0,0,0,0,0,0,0,0,0,0]
[null,null,29,0,-9.2202044547872418E-3,-1.8440408909574484E-2,-2.7660613364361708E-2,-3.6880817819148967E-2,-4.6101022273936226E-2,-5.5321226728723416E-2,-6.4541431183510745E-2,-7.3761635638297934E-2,-7.3761635638297934E-2,-3.3807416334219943E-2,6.1468029698582075E-3,4.6101022273936226E-2,8.605524157801428E-2,0.12600946088209233,0.16596368018617041,0.20591789949024844,0.24587211879432649,0.24587211879432649,0.10142224900265985,-4.3027620789006828E-2,-0.18747749058067351,-0.33192736037234016,-7.3761635638297934E-3,2.1308916962174965E-2,2.1308916962174965E-2,-7.7039930555555552E-2,-7.3761635638297934E-3,2.8685080526004752E-2,-9.8348847517730514E-2,null,null,null,null,null,null,null,null,null,null,null,null,null,null,null,null,-7.7039930555555552E-2,null,null,null,null,null,null,null,null,null,null,null,null,null,null,null,null,null,null,null,null,null,null,null,null,null,null,null,null,null,null,null,null,null,null,null,null,null,null,null,null,null,null,null,null,null,null,null,null,null,null,null,null,null,null,null,null,null,null,null,null,null,null,null,null,null,null,null,null,null,null,null,null,null,null,null,null,null,null,null,null,null,null,null,null,null,null,null,null,null,null,null,null,null,null,null,null,null,null,{"$f":"+ES42","v":16},3,0,null,null,{"$f":"3*(EU43-EU43^2)*Input!$B$1^2","v":0},{"$f":"+($EU43-3*$EU43^2+2*$EU43^3)*Input!$B$1^2","v":0},null,null,0,0,0,0,null,0,null,0,{"$f":"1-EU43","v":1},1,null,0,null,0,null,0,{"$f":"1-$EU43","v":1},1,{"$f":"-$EU43","v":0},0,null,null,0,0,0,0,0,null,null,0,0,0,0,0,null,null,0,0,0,0,0,null,null,0,0,0,0,0,null,{"$f":"+GK34","v":0},0,0,0,0,0,null,null,null,null,null,null,null,null,null,null,null,null,null,null,null,null,null,null,null,null,null,null,null,null,null,null,null,null,null,null,null,null,null,null,null,null,null,null,null,0,{"$f":"+IF($EU43<=IS$3,IS$5/IS$3*$EU43,IS$5-IS$5/(1-IS$3)*($EU43-IS$3))*Input!$B$1","v":0},{"$f":"+IF($EU43<=IT$3,IT$5/IT$3*$EU43,IT$5-IT$5/(1-IT$3)*($EU43-IT$3))*Input!$B$1","v":0},{"$f":"+IF($EU43<=IU$3,IU$5/IU$3*$EU43,IU$5-IU$5/(1-IU$3)*($EU43-IU$3))*Input!$B$1","v":0},{"$f":"+IF($EU43<=IV$3,IV$5/IV$3*$EU43,IV$5-IV$5/(1-IV$3)*($EU43-IV$3))*Input!$B$1","v":0},null,null,0,0,0,0,0,0,0,0,0,0,0,0,0,0,0,0,0,0,0,0,0,0,0,null,null,null,0,0,0,0,0,0,0,0,0,0,0,0,0,0,0,0,0,0,0,0,0,0,0,null,null,null,null,null,null,null,null,null,null,null,null,null,null,null,null,null,null,null,null,null,null,null,null,{"$f":"+IF($EU43<=IR$3,1/6*(1-IR$3)*$EU43*(1-(1-IR$3)^2-$EU43^2),1/6*IR$3*(1-$EU43)*(1-IR$3^2-(1-$EU43)^2))*Input!$B$1^3","v":0},{"$f":"+IF($EU43<=IS$3,1/6*(1-IS$3)*$EU43*(1-(1-IS$3)^2-$EU43^2),1/6*IS$3*(1-$EU43)*(1-IS$3^2-(1-$EU43)^2))*Input!$B$1^3","v":0},{"$f":"+IF($EU43<=IT$3,1/6*(1-IT$3)*$EU43*(1-(1-IT$3)^2-$EU43^2),1/6*IT$3*(1-$EU43)*(1-IT$3^2-(1-$EU43)^2))*Input!$B$1^3","v":0},{"$f":"+IF($EU43<=IU$3,1/6*(1-IU$3)*$EU43*(1-(1-IU$3)^2-$EU43^2),1/6*IU$3*(1-$EU43)*(1-IU$3^2-(1-$EU43)^2))*Input!$B$1^3","v":0},{"$f":"+IF($EU43<=IV$3,1/6*(1-IV$3)*$EU43*(1-(1-IV$3)^2-$EU43^2),1/6*IV$3*(1-$EU43)*(1-IV$3^2-(1-$EU43)^2))*Input!$B$1^3","v":0},null,null,null,null,null,null,null,0,0,0,0,0,0,0,0,0,0,0,0,0,0,0,0,0,0,0,0,0,0,0,null,0,0,0,0,0,0,0,0,0,0,0,0,0,0,0,0,0,0,0,0,0,0,0]
[null,null,30,0,-6.0255984042553203E-3,-1.2051196808510641E-2,-1.8076795212765978E-2,-2.4102393617021281E-2,-3.0127992021276584E-2,-3.6153590425531956E-2,-4.2179188829787259E-2,-4.8204787234042562E-2,-4.8204787234042562E-2,-2.2093860815602877E-2,4.017065602836805E-3,3.0127992021276584E-2,5.6238918439716262E-2,8.2349844858155941E-2,0.1084607712765957,0.13457169769503535,0.16068262411347509,0.16068262411347509,6.6281582446808429E-2,-2.8119459219858242E-2,-0.1225205008865249,-0.21692154255319157,-4.8204787234042562E-3,1.3925827423167845E-2,1.3925827423167845E-2,-5.0347222222222217E-2,-4.8204787234042562E-3,1.8746306146572092E-2,-6.427304964539006E-2,null,null,null,null,null,null,null,null,null,null,null,null,null,null,null,null,-5.0347222222222217E-2,null,null,null,null,null,null,null,null,null,null,null,null,null,null,null,null,null,null,null,null,null,null,null,null,null,null,null,null,null,null,null,null,null,null,null,null,null,null,null,null,null,null,null,null,null,null,null,null,null,null,null,null,null,null,null,null,null,null,null,null,null,null,null,null,null,null,null,null,null,null,null,null,null,null,null,null,null,null,null,null,null,null,null,null,null,null,null,null,null,null,null,null,null,null,null,null,null,null,{"$f":"+ES43+1","v":17},null,{"$f":"+EU43+1/8","v":0.125},null,null,{"$f":"3*(EU44-EU44^2)*Input!$B$1^2","v":0.73828125},{"$f":"+($EU44-3*$EU44^2+2*$EU44^3)*Input!$B$1^2","v":0.1845703125},null,null,1.5708111702127658E-2,6.8359375E-3,-5.236037234042553E-2,-2.2786458333333332E-2,null,{"$f":"+FF44+FG$17*$FB44+FG$18*$FC44+FG$19*$FD44+FG$20*$FE44","v":2.2544049202127658E-2},null,-8.7671302452718661E-2,0.875,0.9705091976950353,null,2.2544049202127658E-2,null,-6.5127253250591016E-2,null,-6.5127253250591016E-2,{"$f":"1-$EU44","v":0.875},0.90538194444444442,-0.125,-9.4618055555555552E-2,null,null,-2.6180186170212763E-3,-1.1393229166666665E-3,0,0,-3.7573415336879428E-3,null,null,5.2360372340425525E-3,2.278645833333333E-3,0,0,7.5146830673758856E-3,null,null,-7.8540558510638292E-3,-3.41796875E-3,1.3090093085106383E-2,5.696614583333333E-3,7.5146830673758864E-3,null,null,3.9270279255319146E-3,1.708984375E-3,-2.6180186170212765E-2,-1.1393229166666666E-2,-3.1937403036347518E-2,null,{"$f":"+GK35","v":-7.6904296875E-2},0,0,3.9270279255319146E-2,5.696614583333333E-3,-3.1937403036347518E-2,null,null,null,null,null,null,null,null,null,null,null,null,null,null,null,null,null,null,null,null,null,null,null,null,null,null,null,null,null,null,null,null,null,null,null,null,null,null,null,0,{"$f":"+IF($EU44<=IS$3,IS$5/IS$3*$EU44,IS$5-IS$5/(1-IS$3)*($EU44-IS$3))*Input!$B$1","v":0.1640625},{"$f":"+IF($EU44<=IT$3,IT$5/IT$3*$EU44,IT$5-IT$5/(1-IT$3)*($EU44-IT$3))*Input!$B$1","v":0.140625},{"$f":"+IF($EU44<=IU$3,IU$5/IU$3*$EU44,IU$5-IU$5/(1-IU$3)*($EU44-IU$3))*Input!$B$1","v":0.1171875},{"$f":"+IF($EU44<=IV$3,IV$5/IV$3*$EU44,IV$5-IV$5/(1-IV$3)*($EU44-IV$3))*Input!$B$1","v":9.375E-2},null,null,0,2.8180061502659573E-3,5.6360123005319146E-3,8.4540184507978719E-3,1.1272024601063829E-2,1.4090030751329786E-2,1.6908036901595744E-2,1.9726043051861701E-2,2.2544049202127658E-2,2.2544049202127658E-2,1.0332689217641843E-2,-1.8786707668439718E-3,-1.4090030751329786E-2,-2.6301390735815604E-2,-3.8512750720301414E-2,-5.0724110704787231E-2,-6.2935470689273049E-2,-7.5146830673758866E-2,-7.5146830673758866E-2,9.4612283909574463E-2,7.6871398492907791E-2,5.9130513076241127E-2,4.138962765957447E-2,null,null,null,0,2.8180061502659573E-2,5.6360123005319146E-2,8.4540184507978719E-2,0.11272024601063829,0.14090030751329785,0.16908036901595744,0.19726043051861702,0.22544049202127658,0.22544049202127658,0.10332689217641843,-1.878670766843972E-2,-0.14090030751329785,-0.26301390735815605,-0.38512750720301414,-0.50724110704787229,-0.62935470689273054,-0.75146830673758869,-0.75146830673758869,0.94612283909574457,0.76871398492907794,0.59130513076241131,0.41389627659574468,null,null,null,null,null,null,null,null,null,null,null,null,null,null,null,null,null,null,null,null,null,null,null,null,{"$f":"+IF($EU44<=IR$3,1/6*(1-IR$3)*$EU44*(1-(1-IR$3)^2-$EU44^2),1/6*IR$3*(1-$EU44)*(1-IR$3^2-(1-$EU44)^2))*Input!$B$1^3","v":0},{"$f":"+IF($EU44<=IS$3,1/6*(1-IS$3)*$EU44*(1-(1-IS$3)^2-$EU44^2),1/6*IS$3*(1-$EU44)*(1-IS$3^2-(1-$EU44)^2))*Input!$B$1^3","v":1.3458251953124998E-2},{"$f":"+IF($EU44<=IT$3,1/6*(1-IT$3)*$EU44*(1-(1-IT$3)^2-$EU44^2),1/6*IT$3*(1-$EU44)*(1-IT$3^2-(1-$EU44)^2))*Input!$B$1^3","v":2.2247314453125E-2},{"$f":"+IF($EU44<=IU$3,1/6*(1-IU$3)*$EU44*(1-(1-IU$3)^2-$EU44^2),1/6*IU$3*(1-$EU44)*(1-IU$3^2-(1-$EU44)^2))*Input!$B$1^3","v":2.6092529296874997E-2},{"$f":"+IF($EU44<=IV$3,1/6*(1-IV$3)*$EU44*(1-(1-IV$3)^2-$EU44^2),1/6*IV$3*(1-$EU44)*(1-IV$3^2-(1-$EU44)^2))*Input!$B$1^3","v":2.581787109375E-2},null,null,null,null,null,null,null,0,4.6232913402800862E-4,8.8062692195811166E-4,1.2108620176924036E-3,1.4090030751329786E-3,1.4310187481819314E-3,1.2328776907413563E-3,7.7054855671334775E-4,0,0,-1.7337342526050324E-3,-3.8307271105177858E-3,-5.8616729492836812E-3,-7.3972661444481379E-3,-8.0082010715565779E-3,-7.2651721061544224E-3,-4.7388736237870882E-3,0,0,6.3145211402406065E-3,1.0401461986785239E-2,1.1785892730063578E-2,1.109151637300532E-2,null,0,4.6232913402800863E-2,8.8062692195811171E-2,0.12108620176924036,0.14090030751329785,0.14310187481819314,0.12328776907413563,7.7054855671334771E-2,0,0,-0.17337342526050323,-0.38307271105177859,-0.58616729492836817,-0.7397266144448138,-0.80082010715565777,-0.72651721061544228,-0.47388736237870882,0,0,0.63145211402406065,1.0401461986785239,1.1785892730063579,1.1091516373005321]
[null,null,31,0,-2.7271027260638257E-3,-5.4542054521276515E-3,-8.1813081781914598E-3,-1.0908410904255303E-2,-1.3635513630319146E-2,-1.636261635638292E-2,-1.9089719082446763E-2,-2.1816821808510606E-2,-2.1816821808510606E-2,-9.9993766622339959E-3,1.8180684840426141E-3,1.3635513630319146E-2,2.5452958776595758E-2,3.7270403922872369E-2,4.9087849069148932E-2,6.0905294215425537E-2,7.2722739361702121E-2,7.2722739361702121E-2,2.9998129986702118E-2,-1.2726479388297882E-2,-5.5451088763297879E-2,-9.8175698138297879E-2,-2.1816821808510606E-3,6.3026374113475132E-3,6.3026374113475132E-3,-2.2786458333333332E-2,-2.1816821808510606E-3,8.4843195921985703E-3,-2.9089095744680847E-2,null,null,null,null,null,null,null,null,null,null,null,null,null,null,null,null,-2.2786458333333332E-2,null,null,null,null,null,null,null,null,null,null,null,null,null,null,null,null,null,null,null,null,null,null,null,null,null,null,null,null,null,null,null,null,null,null,null,null,null,null,null,null,null,null,null,null,null,null,null,null,null,null,null,null,null,null,null,null,null,null,null,null,null,null,null,null,null,null,null,null,null,null,null,null,null,null,null,null,null,null,null,null,null,null,null,null,null,null,null,null,null,null,null,null,null,null,null,null,null,null,{"$f":"+ES44+1","v":18},null,{"$f":"+EU44+1/8","v":0.25},null,null,{"$f":"3*(EU45-EU45^2)*Input!$B$1^2","v":1.265625},{"$f":"+($EU45-3*$EU45^2+2*$EU45^3)*Input!$B$1^2","v":0.2109375},null,null,2.6928191489361701E-2,7.8125E-3,-8.9760638297872342E-2,-2.6041666666666668E-2,null,3.4740691489361701E-2,null,-0.13510268912529549,0.75,0.88508421985815611,null,3.4740691489361701E-2,null,-0.10036199763593379,null,-0.10036199763593379,0.75,0.78472222222222221,-0.25,-0.21527777777777779,null,null,-4.4880319148936166E-3,-1.3020833333333333E-3,0,0,-5.7901152482269496E-3,null,null,8.9760638297872331E-3,2.6041666666666665E-3,0,0,1.1580230496453899E-2,null,null,-1.3464095744680851E-2,-3.90625E-3,2.2440159574468085E-2,6.510416666666667E-3,1.1580230496453903E-2,null,null,6.7320478723404253E-3,1.953125E-3,-4.4880319148936171E-2,-1.3020833333333334E-2,-4.9215979609929079E-2,null,-0.123046875,0,0,6.7320478723404256E-2,6.510416666666667E-3,-4.9215979609929079E-2,null,null,null,null,null,null,null,null,null,null,null,null,null,null,null,null,null,null,null,null,null,null,null,null,null,null,null,null,null,null,null,null,null,null,null,null,null,null,null,0,{"$f":"+IF($EU45<=IS$3,IS$5/IS$3*$EU45,IS$5-IS$5/(1-IS$3)*($EU45-IS$3))*Input!$B$1","v":0.140625},{"$f":"+IF($EU45<=IT$3,IT$5/IT$3*$EU45,IT$5-IT$5/(1-IT$3)*($EU45-IT$3))*Input!$B$1","v":0.28125},{"$f":"+IF($EU45<=IU$3,IU$5/IU$3*$EU45,IU$5-IU$5/(1-IU$3)*($EU45-IU$3))*Input!$B$1","v":0.234375},{"$f":"+IF($EU45<=IV$3,IV$5/IV$3*$EU45,IV$5-IV$5/(1-IV$3)*($EU45-IV$3))*Input!$B$1","v":0.1875},null,null,0,4.3425864361702126E-3,8.6851728723404253E-3,1.3027759308510637E-2,1.7370345744680851E-2,2.1712932180851064E-2,2.6055518617021274E-2,3.0398105053191488E-2,3.4740691489361701E-2,3.4740691489361701E-2,1.5922816932624113E-2,-2.8950576241134783E-3,-2.1712932180851064E-2,-4.0530806737588652E-2,-5.9348681294326244E-2,-7.8166555851063829E-2,-9.6984430407801414E-2,-0.11580230496453901,-0.11580230496453901,3.1333111702127658E-2,0.17846852836879432,0.138103945035461,9.7739361702127658E-2,null,null,null,0,4.3425864361702128E-2,8.6851728723404256E-2,0.13027759308510636,0.17370345744680851,0.21712932180851063,0.26055518617021273,0.30398105053191488,0.34740691489361702,0.34740691489361702,0.15922816932624112,-2.8950576241134784E-2,-0.21712932180851063,-0.40530806737588654,-0.59348681294326244,-0.78166555851063824,-0.96984430407801414,-1.15802304964539,-1.15802304964539,0.31333111702127658,1.7846852836879432,1.38103945035461,0.97739361702127658,null,null,null,null,null,null,null,null,null,null,null,null,null,null,null,null,null,null,null,null,null,null,null,null,{"$f":"+IF($EU45<=IR$3,1/6*(1-IR$3)*$EU45*(1-(1-IR$3)^2-$EU45^2),1/6*IR$3*(1-$EU45)*(1-IR$3^2-(1-$EU45)^2))*Input!$B$1^3","v":0},{"$f":"+IF($EU45<=IS$3,1/6*(1-IS$3)*$EU45*(1-(1-IS$3)^2-$EU45^2),1/6*IS$3*(1-$EU45)*(1-IS$3^2-(1-$EU45)^2))*Input!$B$1^3","v":2.2247314453125E-2},{"$f":"+IF($EU45<=IT$3,1/6*(1-IT$3)*$EU45*(1-(1-IT$3)^2-$EU45^2),1/6*IT$3*(1-$EU45)*(1-IT$3^2-(1-$EU45)^2))*Input!$B$1^3","v":3.955078125E-2},{"$f":"+IF($EU45<=IU$3,1/6*(1-IU$3)*$EU45*(1-(1-IU$3)^2-$EU45^2),1/6*IU$3*(1-$EU45)*(1-IU$3^2-(1-$EU45)^2))*Input!$B$1^3","v":4.8065185546874993E-2},{"$f":"+IF($EU45<=IV$3,1/6*(1-IV$3)*$EU45*(1-(1-IV$3)^2-$EU45^2),1/6*IV$3*(1-$EU45)*(1-IV$3^2-(1-$EU45)^2))*Input!$B$1^3","v":4.833984375E-2},null,null,null,null,null,null,null,0,7.1245558718417549E-4,1.3570582613031915E-3,1.8659551092918883E-3,2.1712932180851063E-3,2.2052196746176859E-3,1.899881565824468E-3,1.1874259786402925E-3,0,0,-2.6717084519406581E-3,-5.9032034366688826E-3,-9.032919051799369E-3,-1.139928939494681E-2,-1.2340748563725898E-2,-1.1195730655751329E-2,-7.3026697686377996E-3,0,0,1.0401461986785239E-2,1.9701369265292552E-2,2.3825625155834435E-2,2.3094664228723402E-2,null,0,7.1245558718417548E-2,0.13570582613031915,0.18659551092918883,0.21712932180851063,0.22052196746176861,0.1899881565824468,0.11874259786402924,0,0,-0.26717084519406581,-0.59032034366688824,-0.90329190517993685,-1.139928939494681,-1.2340748563725898,-1.1195730655751328,-0.73026697686377995,0,0,1.0401461986785239,1.9701369265292552,2.3825625155834436,2.3094664228723403]
[null,null,32,0,0,0,0,0,0,0,0,0,0,0,0,0,0,0,0,0,0,0,0,0,0,0,0,0,0,0,0,0,0,null,null,null,null,null,null,null,null,null,null,null,null,null,null,null,null,0,null,null,null,null,null,null,null,null,null,null,null,null,null,null,null,null,null,null,null,null,null,null,null,null,null,null,null,null,null,null,null,null,null,null,null,null,null,null,null,null,null,null,null,null,null,null,null,null,null,null,null,null,null,null,null,null,null,null,null,null,null,null,null,null,null,null,null,null,null,null,null,null,null,null,null,null,null,null,null,null,null,null,null,null,null,null,null,null,null,null,null,null,null,null,null,null,null,null,19,null,0.375,null,null,{"$f":"3*(EU46-EU46^2)*Input!$B$1^2","v":1.58203125},{"$f":"+($EU46-3*$EU46^2+2*$EU46^3)*Input!$B$1^2","v":0.1318359375},null,null,3.3660239361702128E-2,4.8828125E-3,-0.11220079787234043,-1.6276041666666668E-2,null,3.8543051861702128E-2,null,-0.14988964612884159,0.625,0.75804798315602839,null,3.8543051861702128E-2,null,-0.11134659426713947,null,-0.11134659426713947,0.625,0.64670138888888884,-0.375,-0.3532986111111111,null,null,-5.6100398936170214E-3,-8.1380208333333326E-4,0,0,-6.4238419769503544E-3,null,null,1.1220079787234043E-2,1.6276041666666665E-3,0,0,1.2847683953900709E-2,null,null,-1.6830119680851064E-2,-2.44140625E-3,2.8050199468085107E-2,4.069010416666667E-3,1.2847683953900711E-2,null,null,8.415059840425532E-3,1.220703125E-3,-5.6100398936170214E-2,-8.1380208333333339E-3,-5.4602656804078019E-2,null,-0.142822265625,0,0,8.4150598404255317E-2,4.069010416666667E-3,-5.4602656804078019E-2,null,null,null,null,null,null,null,null,null,null,null,null,null,null,null,null,null,null,null,null,null,null,null,null,null,null,null,null,null,null,null,null,null,null,null,null,null,null,null,0,{"$f":"+IF($EU46<=IS$3,IS$5/IS$3*$EU46,IS$5-IS$5/(1-IS$3)*($EU46-IS$3))*Input!$B$1","v":0.1171875},{"$f":"+IF($EU46<=IT$3,IT$5/IT$3*$EU46,IT$5-IT$5/(1-IT$3)*($EU46-IT$3))*Input!$B$1","v":0.234375},{"$f":"+IF($EU46<=IU$3,IU$5/IU$3*$EU46,IU$5-IU$5/(1-IU$3)*($EU46-IU$3))*Input!$B$1","v":0.3515625},{"$f":"+IF($EU46<=IV$3,IV$5/IV$3*$EU46,IV$5-IV$5/(1-IV$3)*($EU46-IV$3))*Input!$B$1","v":0.28125},null,null,0,4.817881482712766E-3,9.635762965425532E-3,1.4453644448138299E-2,1.9271525930851064E-2,2.4089407413563829E-2,2.8907288896276598E-2,3.3725170378989366E-2,3.8543051861702128E-2,3.8543051861702128E-2,1.7665565436613479E-2,-3.2119209884751759E-3,-2.4089407413563829E-2,-4.4966893838652482E-2,-6.5844380263741134E-2,-8.672186668882978E-2,-0.10759935311391844,-0.1284768395390071,-0.1284768395390071,-7.220329122340427E-3,0.11403618129432624,0.2352926917109929,0.16904920212765956,null,null,null,0,4.8178814827127658E-2,9.6357629654255317E-2,0.14453644448138298,0.19271525930851063,0.24089407413563829,0.28907288896276595,0.33725170378989366,0.38543051861702127,0.38543051861702127,0.17665565436613478,-3.2119209884751761E-2,-0.24089407413563829,-0.44966893838652483,-0.65844380263741131,-0.86721866688829774,-1.0759935311391844,-1.284768395390071,-1.284768395390071,-7.220329122340427E-2,1.1403618129432624,2.352926917109929,1.6904920212765955,null,null,null,null,null,null,null,null,null,null,null,null,null,null,null,null,null,null,null,null,null,null,null,null,{"$f":"+IF($EU46<=IR$3,1/6*(1-IR$3)*$EU46*(1-(1-IR$3)^2-$EU46^2),1/6*IR$3*(1-$EU46)*(1-IR$3^2-(1-$EU46)^2))*Input!$B$1^3","v":0},{"$f":"+IF($EU46<=IS$3,1/6*(1-IS$3)*$EU46*(1-(1-IS$3)^2-$EU46^2),1/6*IS$3*(1-$EU46)*(1-IS$3^2-(1-$EU46)^2))*Input!$B$1^3","v":2.6092529296874997E-2},{"$f":"+IF($EU46<=IT$3,1/6*(1-IT$3)*$EU46*(1-(1-IT$3)^2-$EU46^2),1/6*IT$3*(1-$EU46)*(1-IT$3^2-(1-$EU46)^2))*Input!$B$1^3","v":4.8065185546874993E-2},{"$f":"+IF($EU46<=IU$3,1/6*(1-IU$3)*$EU46*(1-(1-IU$3)^2-$EU46^2),1/6*IU$3*(1-$EU46)*(1-IU$3^2-(1-$EU46)^2))*Input!$B$1^3","v":6.1798095703125E-2},{"$f":"+IF($EU46<=IV$3,1/6*(1-IV$3)*$EU46*(1-(1-IV$3)^2-$EU46^2),1/6*IV$3*(1-$EU46)*(1-IV$3^2-(1-$EU46)^2))*Input!$B$1^3","v":6.427001953125E-2},null,null,null,null,null,null,null,0,7.9043368075756317E-4,1.5055879633477393E-3,2.0701834496031418E-3,2.408940741356383E-3,2.4465804404400766E-3,2.1078231486868354E-3,1.3173894679292719E-3,0,0,-2.9641263028408618E-3,-6.549307640562667E-3,-1.002156988103339E-2,-1.2646938892121009E-2,-1.3691440541693505E-2,-1.2421100697618851E-2,-8.1019452277650231E-3,0,0,1.1785892730063577E-2,2.3825625155834435E-2,3.1856273082976644E-2,3.2713545129654256E-2,null,0,7.9043368075756321E-2,0.15055879633477393,0.20701834496031418,0.24089407413563829,0.24465804404400765,0.21078231486868354,0.13173894679292719,0,0,-0.29641263028408621,-0.65493076405626671,-1.002156988103339,-1.2646938892121009,-1.3691440541693505,-1.242110069761885,-0.81019452277650228,0,0,1.1785892730063576,2.3825625155834436,3.1856273082976645,3.2713545129654258]
[null,null,32,0,0,0,0,0,0,0,0,0,0,0,0,0,0,0,0,0,0,0,0,0,0,0,0,0,0,0,0,0,0,null,null,null,null,null,null,null,null,null,null,null,null,null,null,null,null,0,null,null,null,null,null,null,null,null,null,null,null,null,null,null,null,null,null,null,null,null,null,null,null,null,null,null,null,null,null,null,null,null,null,null,null,null,null,null,null,null,null,null,null,null,null,null,null,null,null,null,null,null,null,null,null,null,null,null,null,null,null,null,null,null,null,null,null,null,null,null,null,null,null,null,null,null,null,null,null,null,null,null,null,null,null,null,null,null,null,null,null,null,null,null,null,null,null,null,20,null,0.5,null,null,{"$f":"3*(EU47-EU47^2)*Input!$B$1^2","v":1.6875},{"$f":"+($EU47-3*$EU47^2+2*$EU47^3)*Input!$B$1^2","v":0},null,null,3.5904255319148939E-2,0,-0.11968085106382979,0,null,3.5904255319148939E-2,null,-0.1396276595744681,0.5,0.60372340425531912,null,3.5904255319148939E-2,null,-0.10372340425531915,null,-0.10372340425531915,0.5,0.5,-0.5,-0.5,null,null,-5.9840425531914893E-3,0,0,0,-5.9840425531914893E-3,null,null,1.1968085106382979E-2,0,0,0,1.1968085106382979E-2,null,null,-1.795212765957447E-2,0,2.9920212765957448E-2,0,1.1968085106382979E-2,null,null,8.9760638297872349E-3,0,-5.9840425531914897E-2,0,-5.0864361702127658E-2,null,-0.140625,0,0,8.9760638297872342E-2,0,-5.0864361702127658E-2,null,null,null,null,null,null,null,null,null,null,null,null,null,null,null,null,null,null,null,null,null,null,null,null,null,null,null,null,null,null,null,null,null,null,null,null,null,null,null,0,{"$f":"+IF($EU47<=IS$3,IS$5/IS$3*$EU47,IS$5-IS$5/(1-IS$3)*($EU47-IS$3))*Input!$B$1","v":9.375E-2},{"$f":"+IF($EU47<=IT$3,IT$5/IT$3*$EU47,IT$5-IT$5/(1-IT$3)*($EU47-IT$3))*Input!$B$1","v":0.1875},{"$f":"+IF($EU47<=IU$3,IU$5/IU$3*$EU47,IU$5-IU$5/(1-IU$3)*($EU47-IU$3))*Input!$B$1","v":0.28125},{"$f":"+IF($EU47<=IV$3,IV$5/IV$3*$EU47,IV$5-IV$5/(1-IV$3)*($EU47-IV$3))*Input!$B$1","v":0.375},null,null,0,4.4880319148936174E-3,8.9760638297872349E-3,1.3464095744680852E-2,1.795212765957447E-2,2.2440159574468085E-2,2.6928191489361705E-2,3.1416223404255324E-2,3.5904255319148939E-2,3.5904255319148939E-2,1.6456117021276598E-2,-2.9920212765957438E-3,-2.2440159574468085E-2,-4.1888297872340427E-2,-6.1336436170212769E-2,-8.078457446808511E-2,-0.10023271276595745,-0.11968085106382979,-0.11968085106382979,-2.5930851063829793E-2,6.7819148936170207E-2,0.16156914893617019,0.25531914893617019,null,null,null,0,4.4880319148936171E-2,8.9760638297872342E-2,0.13464095744680851,0.17952127659574468,0.22440159574468085,0.26928191489361702,0.31416223404255322,0.35904255319148937,0.35904255319148937,0.16456117021276598,-2.9920212765957438E-2,-0.22440159574468085,-0.4188829787234043,-0.61336436170212771,-0.80784574468085113,-1.0023271276595744,-1.196808510638298,-1.196808510638298,-0.25930851063829796,0.67819148936170204,1.6156914893617018,2.5531914893617018,null,null,null,null,null,null,null,null,null,null,null,null,null,null,null,null,null,null,null,null,null,null,null,null,{"$f":"+IF($EU47<=IR$3,1/6*(1-IR$3)*$EU47*(1-(1-IR$3)^2-$EU47^2),1/6*IR$3*(1-$EU47)*(1-IR$3^2-(1-$EU47)^2))*Input!$B$1^3","v":0},{"$f":"+IF($EU47<=IS$3,1/6*(1-IS$3)*$EU47*(1-(1-IS$3)^2-$EU47^2),1/6*IS$3*(1-$EU47)*(1-IS$3^2-(1-$EU47)^2))*Input!$B$1^3","v":2.581787109375E-2},{"$f":"+IF($EU47<=IT$3,1/6*(1-IT$3)*$EU47*(1-(1-IT$3)^2-$EU47^2),1/6*IT$3*(1-$EU47)*(1-IT$3^2-(1-$EU47)^2))*Input!$B$1^3","v":4.833984375E-2},{"$f":"+IF($EU47<=IU$3,1/6*(1-IU$3)*$EU47*(1-(1-IU$3)^2-$EU47^2),1/6*IU$3*(1-$EU47)*(1-IU$3^2-(1-$EU47)^2))*Input!$B$1^3","v":6.427001953125E-2},{"$f":"+IF($EU47<=IV$3,1/6*(1-IV$3)*$EU47*(1-(1-IV$3)^2-$EU47^2),1/6*IV$3*(1-$EU47)*(1-IV$3^2-(1-$EU47)^2))*Input!$B$1^3","v":7.03125E-2},null,null,null,null,null,null,null,0,7.363177360372341E-4,1.4025099734042553E-3,1.9284512134308512E-3,2.2440159574468087E-3,2.279078706781915E-3,1.9635139627659577E-3,1.2271962267287235E-3,0,0,-2.7611915101396272E-3,-6.1009183843085098E-3,-9.3354570104720765E-3,-1.1781083776595744E-2,-1.2754075070644948E-2,-1.1570707280585107E-2,-7.5472567943816486E-3,0,0,1.1091516373005319E-2,2.3094664228723402E-2,3.2713545129654256E-2,3.6652260638297872E-2,null,0,7.3631773603723416E-2,0.14025099734042554,0.19284512134308512,0.22440159574468088,0.22790787067819152,0.19635139627659579,0.12271962267287236,0,0,-0.27611915101396273,-0.61009183843085102,-0.93354570104720769,-1.1781083776595744,-1.2754075070644948,-1.1570707280585106,-0.75472567943816482,0,0,1.1091516373005319,2.3094664228723403,3.2713545129654258,3.6652260638297873]
[null,null,{"$f":"+C47+1","v":33},0,1.2120456560283689E-3,2.4240913120567378E-3,3.6361369680851068E-3,4.8481826241134757E-3,6.0602282801418446E-3,7.2722739361702135E-3,8.4843195921985651E-3,9.6963652482269513E-3,9.6963652482269513E-3,4.4441674054373353E-3,-8.0803043735224594E-4,-6.0602282801418446E-3,-1.1312426122931443E-2,-1.6564623965721042E-2,-2.1816821808510641E-2,-2.7069019651300239E-2,-3.2321217494089838E-2,-3.2321217494089838E-2,-1.3332502216312075E-2,5.6562130614656869E-3,2.4644928339243449E-2,4.3633643617021212E-2,9.6963652482269513E-4,-2.8011721828211191E-3,-2.8011721828211191E-3,1.0127314814814806E-2,9.6963652482269513E-4,-3.7708087076438143E-3,1.2928486997635926E-2,null,null,null,null,null,null,null,null,null,null,null,null,null,null,null,null,1.0127314814814806E-2,null,null,null,null,null,null,null,null,null,null,null,null,null,null,null,null,null,null,null,null,null,null,null,null,null,null,null,null,null,null,null,null,null,null,null,null,null,null,null,null,null,null,null,null,null,null,null,null,null,null,null,null,null,null,null,null,null,null,null,null,null,null,null,null,null,null,null,null,null,null,null,null,null,null,null,null,null,null,null,null,null,null,null,null,null,null,null,null,null,null,null,null,null,null,null,null,null,null,21,null,0.625,null,null,{"$f":"3*(EU48-EU48^2)*Input!$B$1^2","v":1.58203125},{"$f":"+($EU48-3*$EU48^2+2*$EU48^3)*Input!$B$1^2","v":-0.1318359375},null,null,3.3660239361702128E-2,-4.8828125E-3,-0.11220079787234043,1.6276041666666668E-2,null,2.8777426861702128E-2,null,-0.11191221557328604,0.375,0.43643339982269508,null,2.8777426861702128E-2,null,-8.3134788711583918E-2,null,-8.3134788711583918E-2,0.375,0.3532986111111111,-0.625,-0.64670138888888884,null,null,-5.6100398936170214E-3,8.1380208333333326E-4,0,0,-4.7962378102836883E-3,null,null,1.1220079787234043E-2,-1.6276041666666665E-3,0,0,9.5924756205673766E-3,null,null,-1.6830119680851064E-2,2.44140625E-3,2.8050199468085107E-2,-4.069010416666667E-3,9.5924756205673749E-3,null,null,8.415059840425532E-3,-1.220703125E-3,-5.6100398936170214E-2,8.1380208333333339E-3,-4.0768021387411348E-2,null,-0.120849609375,0,0,8.4150598404255317E-2,-4.069010416666667E-3,-4.0768021387411348E-2,null,null,null,null,null,null,null,null,null,null,null,null,null,null,null,null,null,null,null,null,null,null,null,null,null,null,null,null,null,null,null,null,null,null,null,null,null,null,null,0,{"$f":"+IF($EU48<=IS$3,IS$5/IS$3*$EU48,IS$5-IS$5/(1-IS$3)*($EU48-IS$3))*Input!$B$1","v":7.03125E-2},{"$f":"+IF($EU48<=IT$3,IT$5/IT$3*$EU48,IT$5-IT$5/(1-IT$3)*($EU48-IT$3))*Input!$B$1","v":0.140625},{"$f":"+IF($EU48<=IU$3,IU$5/IU$3*$EU48,IU$5-IU$5/(1-IU$3)*($EU48-IU$3))*Input!$B$1","v":0.2109375},{"$f":"+IF($EU48<=IV$3,IV$5/IV$3*$EU48,IV$5-IV$5/(1-IV$3)*($EU48-IV$3))*Input!$B$1","v":0.28125},null,null,0,3.597178357712766E-3,7.194356715425532E-3,1.0791535073138299E-2,1.4388713430851064E-2,1.7985891788563829E-2,2.1583070146276598E-2,2.5180248503989363E-2,2.8777426861702128E-2,2.8777426861702128E-2,1.3189653978280143E-2,-2.398118905141842E-3,-1.7985891788563829E-2,-3.357366467198581E-2,-4.9161437555407805E-2,-6.474921043882978E-2,-8.0336983322251782E-2,-9.5924756205673756E-2,-9.5924756205673756E-2,-2.9681266622340427E-2,3.6562222960992909E-2,0.10280571254432624,0.16904920212765956,null,null,null,0,3.5971783577127658E-2,7.1943567154255317E-2,0.10791535073138299,0.14388713430851063,0.17985891788563829,0.21583070146276598,0.25180248503989361,0.28777426861702127,0.28777426861702127,0.13189653978280144,-2.3981189051418418E-2,-0.17985891788563829,-0.33573664671985809,-0.49161437555407805,-0.64749210438829774,-0.80336983322251787,-0.95924756205673756,-0.95924756205673756,-0.2968126662234043,0.36562222960992907,1.0280571254432624,1.6904920212765955,null,null,null,null,null,null,null,null,null,null,null,null,null,null,null,null,null,null,null,null,null,null,null,null,{"$f":"+IF($EU48<=IR$3,1/6*(1-IR$3)*$EU48*(1-(1-IR$3)^2-$EU48^2),1/6*IR$3*(1-$EU48)*(1-IR$3^2-(1-$EU48)^2))*Input!$B$1^3","v":0},{"$f":"+IF($EU48<=IS$3,1/6*(1-IS$3)*$EU48*(1-(1-IS$3)^2-$EU48^2),1/6*IS$3*(1-$EU48)*(1-IS$3^2-(1-$EU48)^2))*Input!$B$1^3","v":2.2247314453125E-2},{"$f":"+IF($EU48<=IT$3,1/6*(1-IT$3)*$EU48*(1-(1-IT$3)^2-$EU48^2),1/6*IT$3*(1-$EU48)*(1-IT$3^2-(1-$EU48)^2))*Input!$B$1^3","v":4.2022705078125E-2},{"$f":"+IF($EU48<=IU$3,1/6*(1-IU$3)*$EU48*(1-(1-IU$3)^2-$EU48^2),1/6*IU$3*(1-$EU48)*(1-IU$3^2-(1-$EU48)^2))*Input!$B$1^3","v":5.6854248046875E-2},{"$f":"+IF($EU48<=IV$3,1/6*(1-IV$3)*$EU48*(1-(1-IV$3)^2-$EU48^2),1/6*IV$3*(1-$EU48)*(1-IV$3^2-(1-$EU48)^2))*Input!$B$1^3","v":6.427001953125E-2},null,null,null,null,null,null,null,0,5.9016207431225067E-4,1.1241182367852393E-3,1.5456625755797041E-3,1.798589178856383E-3,1.8266921347760141E-3,1.5737655314993352E-3,9.8360345718708441E-4,0,0,-2.21310777867094E-3,-4.889914330015792E-3,-7.482412013601749E-3,-9.4425931889960089E-3,-1.0222450215765771E-2,-9.2739754534782257E-3,-6.04916126170057E-3,0,0,8.9420359185401425E-3,1.8927553866771942E-2,2.7627681164031331E-2,3.2713545129654256E-2,null,0,5.9016207431225064E-2,0.11241182367852393,0.1545662575579704,0.17985891788563829,0.1826692134776014,0.15737655314993351,9.8360345718708442E-2,0,0,-0.22131077786709399,-0.48899143300157921,-0.74824120136017491,-0.94425931889960091,-1.022245021576577,-0.92739754534782259,-0.60491612617005697,0,0,0.89420359185401421,1.8927553866771942,2.7627681164031332,3.2713545129654258]
[null,null,34,0,1.9392730496453972E-3,3.8785460992907944E-3,5.8178191489361916E-3,7.7570921985815888E-3,9.696365248226986E-3,1.1635638297872383E-2,1.3574911347517815E-2,1.5514184397163178E-2,1.5514184397163178E-2,7.1106678486998259E-3,-1.2928486997635952E-3,-9.696365248226986E-3,-1.8099881796690368E-2,-2.6503398345153757E-2,-3.490691489361715E-2,-4.3310431442080535E-2,-5.1713947990543921E-2,-5.1713947990543921E-2,-2.1332003546099446E-2,9.0499408983450279E-3,3.9431885342789505E-2,6.981382978723398E-2,1.5514184397163178E-3,-4.4818754925138081E-3,-4.4818754925138081E-3,1.620370370370372E-2,1.5514184397163178E-3,-6.0332939322301224E-3,2.0685579196217527E-2,null,null,null,null,null,null,null,null,null,null,null,null,null,null,null,null,1.620370370370372E-2,null,null,null,null,null,null,null,null,null,null,null,null,null,null,null,null,null,null,null,null,null,null,null,null,null,null,null,null,null,null,null,null,null,null,null,null,null,null,null,null,null,null,null,null,null,null,null,null,null,null,null,null,null,null,null,null,null,null,null,null,null,null,null,null,null,null,null,null,null,null,null,null,null,null,null,null,null,null,null,null,null,null,null,null,null,null,null,null,null,null,null,null,null,null,null,null,null,null,22,null,0.75,null,null,{"$f":"3*(EU49-EU49^2)*Input!$B$1^2","v":1.265625},{"$f":"+($EU49-3*$EU49^2+2*$EU49^3)*Input!$B$1^2","v":-0.2109375},null,null,2.6928191489361701E-2,-7.8125E-3,-8.9760638297872342E-2,2.6041666666666668E-2,null,1.9115691489361701E-2,null,-7.4338800236406599E-2,0.25,0.27050088652482274,null,1.9115691489361701E-2,null,-5.5223108747044912E-2,null,-5.5223108747044912E-2,0.25,0.21527777777777779,-0.75,-0.78472222222222221,null,null,-4.4880319148936166E-3,1.3020833333333333E-3,0,0,-3.1859485815602835E-3,null,null,8.9760638297872331E-3,-2.6041666666666665E-3,0,0,6.371897163120567E-3,null,null,-1.3464095744680851E-2,3.90625E-3,2.2440159574468085E-2,-6.510416666666667E-3,6.3718971631205679E-3,null,null,6.7320478723404253E-3,-1.953125E-3,-4.4880319148936171E-2,1.3020833333333334E-2,-2.7080562943262408E-2,null,-8.7890625E-2,0,0,6.7320478723404256E-2,-6.510416666666667E-3,-2.7080562943262412E-2,null,null,null,null,null,null,null,null,null,null,null,null,null,null,null,null,null,null,null,null,null,null,null,null,null,null,null,null,null,null,null,null,null,null,null,null,null,null,null,0,{"$f":"+IF($EU49<=IS$3,IS$5/IS$3*$EU49,IS$5-IS$5/(1-IS$3)*($EU49-IS$3))*Input!$B$1","v":4.6875E-2},{"$f":"+IF($EU49<=IT$3,IT$5/IT$3*$EU49,IT$5-IT$5/(1-IT$3)*($EU49-IT$3))*Input!$B$1","v":9.375E-2},{"$f":"+IF($EU49<=IU$3,IU$5/IU$3*$EU49,IU$5-IU$5/(1-IU$3)*($EU49-IU$3))*Input!$B$1","v":0.140625},{"$f":"+IF($EU49<=IV$3,IV$5/IV$3*$EU49,IV$5-IV$5/(1-IV$3)*($EU49-IV$3))*Input!$B$1","v":0.1875},null,null,0,2.3894614361702126E-3,4.7789228723404253E-3,7.168384308510637E-3,9.5578457446808505E-3,1.1947307180851064E-2,1.4336768617021274E-2,1.6726230053191488E-2,1.9115691489361701E-2,1.9115691489361701E-2,8.7613585992907788E-3,-1.5929742907801444E-3,-1.1947307180851064E-2,-2.2301640070921981E-2,-3.2655972960992902E-2,-4.3010305851063829E-2,-5.336463874113475E-2,-6.371897163120567E-2,-6.371897163120567E-2,-2.3354388297872342E-2,1.7010195035460994E-2,5.7374778368794323E-2,9.7739361702127658E-2,null,null,null,0,2.3894614361702128E-2,4.7789228723404256E-2,7.1683843085106363E-2,9.5578457446808512E-2,0.11947307180851063,0.14336768617021273,0.16726230053191488,0.19115691489361702,0.19115691489361702,8.7613585992907791E-2,-1.5929742907801442E-2,-0.11947307180851063,-0.2230164007092198,-0.32655972960992902,-0.43010305851063829,-0.53364638741134751,-0.63718971631205668,-0.63718971631205668,-0.23354388297872342,0.17010195035460995,0.57374778368794321,0.97739361702127658,null,null,null,null,null,null,null,null,null,null,null,null,null,null,null,null,null,null,null,null,null,null,null,null,{"$f":"+IF($EU49<=IR$3,1/6*(1-IR$3)*$EU49*(1-(1-IR$3)^2-$EU49^2),1/6*IR$3*(1-$EU49)*(1-IR$3^2-(1-$EU49)^2))*Input!$B$1^3","v":0},{"$f":"+IF($EU49<=IS$3,1/6*(1-IS$3)*$EU49*(1-(1-IS$3)^2-$EU49^2),1/6*IS$3*(1-$EU49)*(1-IS$3^2-(1-$EU49)^2))*Input!$B$1^3","v":1.6204833984374997E-2},{"$f":"+IF($EU49<=IT$3,1/6*(1-IT$3)*$EU49*(1-(1-IT$3)^2-$EU49^2),1/6*IT$3*(1-$EU49)*(1-IT$3^2-(1-$EU49)^2))*Input!$B$1^3","v":3.0761718749999997E-2},{"$f":"+IF($EU49<=IU$3,1/6*(1-IU$3)*$EU49*(1-(1-IU$3)^2-$EU49^2),1/6*IU$3*(1-$EU49)*(1-IU$3^2-(1-$EU49)^2))*Input!$B$1^3","v":4.2022705078125E-2},{"$f":"+IF($EU49<=IV$3,1/6*(1-IV$3)*$EU49*(1-(1-IV$3)^2-$EU49^2),1/6*IV$3*(1-$EU49)*(1-IV$3^2-(1-$EU49)^2))*Input!$B$1^3","v":4.833984375E-2},null,null,null,null,null,null,null,0,3.9202101687167549E-4,7.467066988031915E-4,1.0267217108543883E-3,1.1947307180851063E-3,1.2133983855551862E-3,1.045389378324468E-3,6.5336836145279248E-4,0,0,-1.4700788132687831E-3,-3.2481741397938826E-3,-4.970266463908744E-3,-6.2723362699468096E-3,-6.7903640422415229E-3,-6.1603302651263292E-3,-4.0182154229346746E-3,0,0,5.9611543695977359E-3,1.2743361452792548E-2,1.8927553866771942E-2,2.3094664228723402E-2,null,0,3.9202101687167548E-2,7.4670669880319146E-2,0.10267217108543883,0.11947307180851063,0.12133983855551862,0.1045389378324468,6.5336836145279242E-2,0,0,-0.14700788132687831,-0.32481741397938824,-0.4970266463908744,-0.62723362699468099,-0.67903640422415235,-0.61603302651263292,-0.40182154229346745,0,0,0.59611543695977354,1.2743361452792548,1.8927553866771942,2.3094664228723403]
[null,null,35,0,2.2509419326241162E-3,4.5018838652482324E-3,6.7528257978723485E-3,9.0037677304964647E-3,1.1254709663120581E-2,1.3505651595744697E-2,1.5756593528368848E-2,1.8007535460992929E-2,1.8007535460992929E-2,8.2534537529551245E-3,-1.5006279550827456E-3,-1.1254709663120581E-2,-2.1008791371158422E-2,-3.076287307919626E-2,-4.0516954787234091E-2,-5.0271036495271933E-2,-6.0025118203309774E-2,-6.0025118203309774E-2,-2.4760361258865295E-2,1.050439568557918E-2,4.5769152630023652E-2,8.1033909574468127E-2,1.8007535460992929E-3,-5.2021769109535133E-3,-5.2021769109535133E-3,1.8807870370370385E-2,1.8007535460992929E-3,-7.0029304570527959E-3,2.4010047281323901E-2,null,null,null,null,null,null,null,null,null,null,null,null,null,null,null,null,1.8807870370370385E-2,null,null,null,null,null,null,null,null,null,null,null,null,null,null,null,null,null,null,null,null,null,null,null,null,null,null,null,null,null,null,null,null,null,null,null,null,null,null,null,null,null,null,null,null,null,null,null,null,null,null,null,null,null,null,null,null,null,null,null,null,null,null,null,null,null,null,null,null,null,null,null,null,null,null,null,null,null,null,null,null,null,null,null,null,null,null,null,null,null,null,null,null,null,null,null,null,null,null,23,null,0.875,null,null,{"$f":"3*(EU50-EU50^2)*Input!$B$1^2","v":0.73828125},{"$f":"+($EU50-3*$EU50^2+2*$EU50^3)*Input!$B$1^2","v":-0.1845703125},null,null,1.5708111702127658E-2,-6.8359375E-3,-5.236037234042553E-2,2.2786458333333332E-2,null,8.8721742021276584E-3,null,-3.4502899674940898E-2,0.125,0.12024878102836881,null,8.8721742021276584E-3,null,-2.5630725472813237E-2,null,-2.5630725472813237E-2,0.125,9.4618055555555552E-2,-0.875,-0.90538194444444442,null,null,-2.6180186170212763E-3,1.1393229166666665E-3,0,0,-1.4786957003546097E-3,null,null,5.2360372340425525E-3,-2.278645833333333E-3,0,0,2.9573914007092195E-3,null,null,-7.8540558510638292E-3,3.41796875E-3,1.3090093085106383E-2,-5.696614583333333E-3,2.9573914007092203E-3,null,null,3.9270279255319146E-3,-1.708984375E-3,-2.6180186170212765E-2,1.1393229166666666E-2,-1.2568913453014184E-2,null,-4.6142578125E-2,0,0,3.9270279255319146E-2,-5.696614583333333E-3,-1.2568913453014186E-2,null,null,null,null,null,null,null,null,null,null,null,null,null,null,null,null,null,null,null,null,null,null,null,null,null,null,null,null,null,null,null,null,null,null,null,null,null,null,null,0,{"$f":"+IF($EU50<=IS$3,IS$5/IS$3*$EU50,IS$5-IS$5/(1-IS$3)*($EU50-IS$3))*Input!$B$1","v":2.34375E-2},{"$f":"+IF($EU50<=IT$3,IT$5/IT$3*$EU50,IT$5-IT$5/(1-IT$3)*($EU50-IT$3))*Input!$B$1","v":4.6875E-2},{"$f":"+IF($EU50<=IU$3,IU$5/IU$3*$EU50,IU$5-IU$5/(1-IU$3)*($EU50-IU$3))*Input!$B$1","v":7.03125E-2},{"$f":"+IF($EU50<=IV$3,IV$5/IV$3*$EU50,IV$5-IV$5/(1-IV$3)*($EU50-IV$3))*Input!$B$1","v":9.375E-2},null,null,0,1.1090217752659573E-3,2.2180435505319146E-3,3.3270653257978719E-3,4.4360871010638292E-3,5.5451088763297865E-3,6.6541306515957438E-3,7.7631524268617011E-3,8.8721742021276584E-3,8.8721742021276584E-3,4.0664131759751768E-3,-7.3934785017730573E-4,-5.5451088763297865E-3,-1.035086990248227E-2,-1.5156630928634753E-2,-1.9962391954787231E-2,-2.476815298093972E-2,-2.9573914007092198E-2,-2.9573914007092198E-2,-1.183302859042553E-2,5.9078568262411358E-3,2.3648742242907802E-2,4.138962765957447E-2,null,null,null,0,1.1090217752659573E-2,2.2180435505319146E-2,3.3270653257978719E-2,4.4360871010638292E-2,5.5451088763297865E-2,6.6541306515957438E-2,7.7631524268617011E-2,8.8721742021276584E-2,8.8721742021276584E-2,4.0664131759751768E-2,-7.3934785017730573E-3,-5.5451088763297865E-2,-0.1035086990248227,-0.15156630928634754,-0.19962391954787231,-0.2476815298093972,-0.295739140070922,-0.295739140070922,-0.1183302859042553,5.9078568262411355E-2,0.23648742242907803,0.41389627659574468,null,null,null,null,null,null,null,null,null,null,null,null,null,null,null,null,null,null,null,null,null,null,null,null,{"$f":"+IF($EU50<=IR$3,1/6*(1-IR$3)*$EU50*(1-(1-IR$3)^2-$EU50^2),1/6*IR$3*(1-$EU50)*(1-IR$3^2-(1-$EU50)^2))*Input!$B$1^3","v":0},{"$f":"+IF($EU50<=IS$3,1/6*(1-IS$3)*$EU50*(1-(1-IS$3)^2-$EU50^2),1/6*IS$3*(1-$EU50)*(1-IS$3^2-(1-$EU50)^2))*Input!$B$1^3","v":8.5144042968749983E-3},{"$f":"+IF($EU50<=IT$3,1/6*(1-IT$3)*$EU50*(1-(1-IT$3)^2-$EU50^2),1/6*IT$3*(1-$EU50)*(1-IT$3^2-(1-$EU50)^2))*Input!$B$1^3","v":1.6204833984374997E-2},{"$f":"+IF($EU50<=IU$3,1/6*(1-IU$3)*$EU50*(1-(1-IU$3)^2-$EU50^2),1/6*IU$3*(1-$EU50)*(1-IU$3^2-(1-$EU50)^2))*Input!$B$1^3","v":2.2247314453125E-2},{"$f":"+IF($EU50<=IV$3,1/6*(1-IV$3)*$EU50*(1-(1-IV$3)^2-$EU50^2),1/6*IV$3*(1-$EU50)*(1-IV$3^2-(1-$EU50)^2))*Input!$B$1^3","v":2.581787109375E-2},null,null,null,null,null,null,null,0,1.8194888500457112E-4,3.4656930477061166E-4,4.7653279405959108E-4,5.5451088763297865E-4,5.6317512025224389E-4,4.8519702667885632E-4,3.0324814167428525E-4,0,0,-6.8230831876714177E-4,-1.5075764757521608E-3,-2.3068519348793844E-3,-2.9111821600731379E-3,-3.1516146152577498E-3,-2.8591967643575474E-3,-1.8649760712968538E-3,0,0,2.772574729107794E-3,5.9611543695977359E-3,8.9420359185401442E-3,1.109151637300532E-2,null,0,1.8194888500457113E-2,3.4656930477061164E-2,4.7653279405959106E-2,5.5451088763297865E-2,5.6317512025224392E-2,4.8519702667885634E-2,3.0324814167428524E-2,0,0,-6.8230831876714179E-2,-0.15075764757521609,-0.23068519348793842,-0.2911182160073138,-0.31516146152577496,-0.28591967643575472,-0.18649760712968538,0,0,0.2772574729107794,0.59611543695977354,0.89420359185401443,1.1091516373005321]
[null,null,36,0,2.2163120567375832E-3,4.4326241134751664E-3,6.6489361702127582E-3,8.8652482269503327E-3,1.1081560283687925E-2,1.3297872340425516E-2,1.5514184397163039E-2,1.7730496453900665E-2,1.7730496453900665E-2,8.1264775413710903E-3,-1.4775413711583816E-3,-1.1081560283687925E-2,-2.0685579196217461E-2,-3.0289598108746985E-2,-3.9893617021276528E-2,-4.9497635933806051E-2,-5.9101654846335588E-2,-5.9101654846335588E-2,-2.4379432624113406E-2,1.0342789598108788E-2,4.5065011820330986E-2,7.9787234042553168E-2,1.7730496453900665E-3,-5.1221434200157514E-3,-5.1221434200157514E-3,1.85185185185185E-2,1.7730496453900665E-3,-6.8951930654058144E-3,2.3640661938534254E-2,null,null,null,null,null,null,null,null,null,null,null,null,null,null,null,null,1.85185185185185E-2,null,null,null,null,null,null,null,null,null,null,null,null,null,null,null,null,null,null,null,null,null,null,null,null,null,null,null,null,null,null,null,null,null,null,null,null,null,null,null,null,null,null,null,null,null,null,null,null,null,null,null,null,null,null,null,null,null,null,null,null,null,null,null,null,null,null,null,null,null,null,null,null,null,null,null,null,null,null,null,null,null,null,null,null,null,null,null,null,null,null,null,null,null,null,null,null,null,null,24,null,1,null,null,{"$f":"3*(EU51-EU51^2)*Input!$B$1^2","v":0},{"$f":"+($EU51-3*$EU51^2+2*$EU51^3)*Input!$B$1^2","v":0},null,null,0,0,0,0,null,0,null,0,0,0,null,0,null,0,null,0,0,0,-1,-1,null,null,0,0,0,0,0,null,null,0,0,0,0,0,null,null,0,0,0,0,0,null,null,0,0,0,0,0,null,0,0,0,0,0,0,null,null,null,null,null,null,null,null,null,null,null,null,null,null,null,null,null,null,null,null,null,null,null,null,null,null,null,null,null,null,null,null,null,null,null,null,null,null,null,0,{"$f":"+IF($EU51<=IS$3,IS$5/IS$3*$EU51,IS$5-IS$5/(1-IS$3)*($EU51-IS$3))*Input!$B$1","v":0},{"$f":"+IF($EU51<=IT$3,IT$5/IT$3*$EU51,IT$5-IT$5/(1-IT$3)*($EU51-IT$3))*Input!$B$1","v":0},{"$f":"+IF($EU51<=IU$3,IU$5/IU$3*$EU51,IU$5-IU$5/(1-IU$3)*($EU51-IU$3))*Input!$B$1","v":0},{"$f":"+IF($EU51<=IV$3,IV$5/IV$3*$EU51,IV$5-IV$5/(1-IV$3)*($EU51-IV$3))*Input!$B$1","v":0},null,null,0,0,0,0,0,0,0,0,0,0,0,0,0,0,0,0,0,0,0,0,0,0,0,null,null,null,0,0,0,0,0,0,0,0,0,0,0,0,0,0,0,0,0,0,0,0,0,0,0,null,null,null,null,null,null,null,null,null,null,null,null,null,null,null,null,null,null,null,null,null,null,null,null,{"$f":"+IF($EU51<=IR$3,1/6*(1-IR$3)*$EU51*(1-(1-IR$3)^2-$EU51^2),1/6*IR$3*(1-$EU51)*(1-IR$3^2-(1-$EU51)^2))*Input!$B$1^3","v":0},{"$f":"+IF($EU51<=IS$3,1/6*(1-IS$3)*$EU51*(1-(1-IS$3)^2-$EU51^2),1/6*IS$3*(1-$EU51)*(1-IS$3^2-(1-$EU51)^2))*Input!$B$1^3","v":0},{"$f":"+IF($EU51<=IT$3,1/6*(1-IT$3)*$EU51*(1-(1-IT$3)^2-$EU51^2),1/6*IT$3*(1-$EU51)*(1-IT$3^2-(1-$EU51)^2))*Input!$B$1^3","v":0},{"$f":"+IF($EU51<=IU$3,1/6*(1-IU$3)*$EU51*(1-(1-IU$3)^2-$EU51^2),1/6*IU$3*(1-$EU51)*(1-IU$3^2-(1-$EU51)^2))*Input!$B$1^3","v":0},{"$f":"+IF($EU51<=IV$3,1/6*(1-IV$3)*$EU51*(1-(1-IV$3)^2-$EU51^2),1/6*IV$3*(1-$EU51)*(1-IV$3^2-(1-$EU51)^2))*Input!$B$1^3","v":0},null,null,null,null,null,null,null,0,0,0,0,0,0,0,0,0,0,0,0,0,0,0,0,0,0,0,0,0,0,0,null,0,0,0,0,0,0,0,0,0,0,0,0,0,0,0,0,0,0,0,0,0,0,0]
[null,null,37,0,1.9046431737588642E-3,3.8092863475177284E-3,5.7139295212766013E-3,7.6185726950354568E-3,9.5232158687943297E-3,1.1427859042553203E-2,1.3332502216312006E-2,1.5237145390070914E-2,1.5237145390070914E-2,6.9836916371157874E-3,-1.2697621158392356E-3,-9.5232158687943297E-3,-1.7776669621749418E-2,-2.6030123374704492E-2,-3.4283577127659587E-2,-4.2537030880614661E-2,-5.0790484633569749E-2,-5.0790484633569749E-2,-2.0951074911347567E-2,8.8883348108746273E-3,3.8727744533096818E-2,6.8567154255319007E-2,1.5237145390070914E-3,-4.4018420015760444E-3,-4.4018420015760444E-3,1.5914351851851832E-2,1.5237145390070914E-3,-5.9255565405831323E-3,2.031619385342788E-2,null,null,null,null,null,null,null,null,null,null,null,null,null,null,null,null,1.5914351851851832E-2,null,null,null,null,null,null,null,null,null,null,null,null,null,null,null,null,null,null,null,null,null,null,null,null,null,null,null,null,null,null,null,null,null,null,null,null,null,null,null,null,null,null,null,null,null,null,null,null,null,null,null,null,null,null,null,null,null,null,null,null,null,null,null,null,null,null,null,null,null,null,null,null,null,null,null,null,null,null,null,null,null,null,null,null,null,null,null,null,null,null,null,null,null,null,null,null,null,null,{"$f":"+ES51","v":24},4,0,{"$f":"($EU52-$EU52^3)*Input!$B$1^2","v":0},{"$f":"-EV52","v":0},{"$f":"+EV34","v":0},{"$f":"-EW34","v":0},null,null,0,0,0,0,null,0,null,0,null,0,null,0,null,0,null,0,null,0,null,0,null,null,0,0,0,0,0,null,null,0,0,0,0,0,null,null,0,0,0,0,0,null,null,0,0,0,0,0,null,null,0,0,0,0,0,null,null,null,null,null,null,null,null,null,null,null,null,null,null,null,null,null,null,null,null,null,null,null,null,null,null,null,null,null,null,null,null,null,null,null,null,null,null,null,null,null,null,null,null,null,null,0,0,0,0,0,0,0,0,0,0,0,0,0,0,0,0,0,0,0,0,0,0,0,null,null,null,0,0,0,0,0,0,0,0,0,0,0,0,0,0,0,0,0,0,0,0,0,0,0,null,null,null,null,null,null,null,null,null,null,null,null,null,null,null,null,null,null,null,null,null,null,null,null,null,null,null,null,null,null,null,null,null,null,null,null,0,0,0,0,0,0,0,0,0,0,0,0,0,0,0,0,0,0,0,0,0,0,0,null,0,0,0,0,0,0,0,0,0,0,0,0,0,0,0,0,0,0,0,0,0,0,0]
[null,null,38,0,1.3851950354609949E-3,2.7703900709219898E-3,4.1555851063829891E-3,5.5407801418439796E-3,6.9259751773049702E-3,8.3111702127659781E-3,9.696365248226986E-3,1.1081560283687959E-2,1.1081560283687959E-2,5.0790484633570047E-3,-9.2346335697398359E-4,-6.9259751773049702E-3,-1.2928486997635939E-2,-1.8930998817966907E-2,-2.4933510638297893E-2,-3.0936022458628872E-2,-3.6938534278959836E-2,-3.6938534278959836E-2,-1.523714539007094E-2,6.4642434988179676E-3,2.816563238770687E-2,4.9867021276595772E-2,1.1081560283687959E-3,-3.2013396375098527E-3,-3.2013396375098527E-3,1.157407407407408E-2,1.1081560283687959E-3,-4.3094956658786526E-3,1.4775413711583935E-2,null,null,null,null,null,null,null,null,null,null,null,null,null,null,null,null,1.157407407407408E-2,null,null,null,null,null,null,null,null,null,null,null,null,null,null,null,null,null,null,null,null,null,null,null,null,null,null,null,null,null,null,null,null,null,null,null,null,null,null,null,null,null,null,null,null,null,null,null,null,null,null,null,null,null,null,null,null,null,null,null,null,null,null,null,null,null,null,null,null,null,null,null,null,null,null,null,null,null,null,null,null,null,null,null,null,null,null,null,null,null,null,null,null,null,null,null,null,null,null,{"$f":"+ES52+1","v":25},null,{"$f":"+EU52+1/8","v":0.125},{"$f":"($EU53-$EU53^3)*Input!$B$1^2","v":0.27685546875},{"$f":"-EV53","v":-0.27685546875},{"$f":"+EV35","v":0.46142578125},{"$f":"-EW35","v":-0.46142578125},null,null,-1.9635139627659573E-2,1.3671875E-2,-2.6834690824468089E-2,4.6712239583333336E-2,null,-5.963264627659573E-3,null,2.3190473552009448E-2,null,-7.9510195035461001E-2,null,-5.963264627659573E-3,null,1.7227208924349879E-2,null,1.7227208924349879E-2,null,-6.2282986111111112E-2,null,-6.2282986111111112E-2,null,null,3.2725232712765952E-3,-2.278645833333333E-3,0,0,9.9387743794326217E-4,null,null,-6.5450465425531904E-3,4.5572916666666661E-3,0,0,-1.9877548758865243E-3,null,null,9.8175698138297865E-3,-6.8359375E-3,6.7086727061170222E-3,-1.1678059895833334E-2,-1.9877548758865261E-3,null,null,-4.9087849069148932E-3,3.41796875E-3,-1.3417345412234044E-2,2.3356119791666668E-2,8.4479582225177301E-3,null,null,0,0,2.0126018118351068E-2,-1.1678059895833334E-2,8.4479582225177336E-3,null,null,null,null,null,null,null,null,null,null,null,null,null,null,null,null,null,null,null,null,null,null,null,null,null,null,null,null,null,null,null,null,null,null,null,null,null,null,null,null,null,null,null,null,null,null,0,-7.4540807845744662E-4,-1.4908161569148932E-3,-2.2362242353723399E-3,-2.9816323138297865E-3,-3.7270403922872331E-3,-4.4724484707446797E-3,-5.2178565492021281E-3,-5.963264627659573E-3,-5.963264627659573E-3,-2.7331629543439718E-3,4.9693871897163282E-4,3.7270403922872331E-3,6.9571420656028386E-3,1.0187243738918439E-2,1.3417345412234039E-2,1.6647447085549646E-2,1.9877548758865247E-2,1.9877548758865247E-2,8.1994888630319111E-3,-3.478571032801421E-3,-1.5156630928634755E-2,-2.6834690824468089E-2,null,null,null,{"$f":"+IY53*10","v":0},{"$f":"+IZ53*10","v":-7.4540807845744662E-3},{"$f":"+JA53*10","v":-1.4908161569148932E-2},{"$f":"+JB53*10","v":-2.2362242353723399E-2},{"$f":"+JC53*10","v":-2.9816323138297865E-2},{"$f":"+JD53*10","v":-3.7270403922872328E-2},{"$f":"+JE53*10","v":-4.4724484707446797E-2},{"$f":"+JF53*10","v":-5.2178565492021281E-2},{"$f":"+JG53*10","v":-5.963264627659573E-2},{"$f":"+JH53*10","v":-5.963264627659573E-2},{"$f":"+JI53*10","v":-2.733162954343972E-2},{"$f":"+JJ53*10","v":4.9693871897163282E-3},{"$f":"+JK53*10","v":3.7270403922872328E-2},{"$f":"+JL53*10","v":6.9571420656028393E-2},{"$f":"+JM53*10","v":0.10187243738918439},{"$f":"+JN53*10","v":0.13417345412234039},{"$f":"+JO53*10","v":0.16647447085549646},{"$f":"+JP53*10","v":0.19877548758865246},0.19877548758865246,8.1994888630319118E-2,-3.478571032801421E-2,-0.15156630928634754,-0.26834690824468088,null,null,null,null,null,null,null,null,null,null,null,null,null,null,null,null,null,null,null,null,null,null,null,null,null,null,null,null,null,null,null,null,null,null,null,null,0,-1.2229351287192482E-4,-2.3294002451795207E-4,-3.2029253371218406E-4,-3.7270403922872331E-4,-3.7852753984167205E-4,-3.2611603432513301E-4,-2.0382252145320807E-4,0,0,4.5860067326971817E-4,1.0132891066530914E-3,1.5505070381976183E-3,1.9566962059507972E-3,2.1182983479601271E-3,1.9217552022731048E-3,1.2535085069372296E-3,0,0,-1.8649760712968547E-3,-4.0182154229346746E-3,-6.04916126170057E-3,-7.5472567943816503E-3,null,{"$f":"+MF53*100","v":0},{"$f":"+MG53*100","v":-1.2229351287192483E-2},{"$f":"+MH53*100","v":-2.3294002451795207E-2},{"$f":"+MI53*100","v":-3.2029253371218404E-2},{"$f":"+MJ53*100","v":-3.7270403922872328E-2},{"$f":"+MK53*100","v":-3.7852753984167202E-2},{"$f":"+ML53*100","v":-3.2611603432513299E-2},{"$f":"+MM53*100","v":-2.0382252145320807E-2},{"$f":"+MN53*100","v":0},{"$f":"+MO53*100","v":0},{"$f":"+MP53*100","v":4.5860067326971815E-2},{"$f":"+MQ53*100","v":0.10132891066530914},{"$f":"+MR53*100","v":0.15505070381976183},{"$f":"+MS53*100","v":0.19566962059507972},{"$f":"+MT53*100","v":0.21182983479601269},{"$f":"+MU53*100","v":0.19217552022731046},{"$f":"+MV53*100","v":0.12535085069372295},{"$f":"+MW53*100","v":0},0,-0.18649760712968547,-0.40182154229346745,-0.60491612617005697,-0.75472567943816504]
[null,null,39,0,7.2722739361702178E-4,1.4544547872340436E-3,2.1816821808510675E-3,2.9089095744680871E-3,3.6361369680851068E-3,4.363364361702135E-3,5.090591755319146E-3,5.8178191489361743E-3,5.8178191489361743E-3,2.6665004432624073E-3,-4.848182624113428E-4,-3.6361369680851068E-3,-6.7874556737588659E-3,-9.9387743794326251E-3,-1.3090093085106384E-2,-1.6241411790780154E-2,-1.9392730496453906E-2,-1.9392730496453906E-2,-7.9995013297872383E-3,3.3937278368794278E-3,1.4786957003546096E-2,2.6180186170212762E-2,5.8178191489361743E-4,-1.6807033096926714E-3,-1.6807033096926714E-3,6.076388888888889E-3,5.8178191489361743E-4,-2.2624852245862886E-3,7.7570921985815611E-3,null,null,null,null,null,null,null,null,null,null,null,null,null,null,null,null,6.076388888888889E-3,null,null,null,null,null,null,null,null,null,null,null,null,null,null,null,null,null,null,null,null,null,null,null,null,null,null,null,null,null,null,null,null,null,null,null,null,null,null,null,null,null,null,null,null,null,null,null,null,null,null,null,null,null,null,null,null,null,null,null,null,null,null,null,null,null,null,null,null,null,null,null,null,null,null,null,null,null,null,null,null,null,null,null,null,null,null,null,null,null,null,null,null,null,null,null,null,null,null,{"$f":"+ES53+1","v":26},null,{"$f":"+EU53+1/8","v":0.25},{"$f":"($EU54-$EU54^3)*Input!$B$1^2","v":0.52734375},-0.52734375,0.73828125,-0.73828125,null,null,-4.0392287234042555E-2,3.125E-2,-4.1140292553191481E-2,7.1614583333333329E-2,null,-9.1422872340425551E-3,null,3.5553339243498829E-2,null,-0.12189716312056738,null,-9.1422872340425551E-3,null,2.641105200945627E-2,null,2.641105200945627E-2,null,-9.5486111111111105E-2,null,-9.5486111111111105E-2,null,null,6.7320478723404253E-3,-5.208333333333333E-3,0,0,1.5237145390070922E-3,null,null,-1.3464095744680851E-2,1.0416666666666666E-2,0,0,-3.0474290780141845E-3,null,null,2.0196143617021278E-2,-1.5625E-2,1.028507313829787E-2,-1.7903645833333332E-2,-3.0474290780141845E-3,null,null,-1.0098071808510639E-2,7.8125E-3,-2.057014627659574E-2,3.5807291666666664E-2,1.2951573581560287E-2,null,null,0,0,3.0855219414893609E-2,-1.7903645833333332E-2,1.2951573581560277E-2,null,null,null,null,null,null,null,null,null,null,null,null,null,null,null,null,null,null,null,null,null,null,null,null,null,null,null,null,null,null,null,null,null,null,null,null,null,null,null,null,null,null,null,null,null,null,0,-1.1427859042553194E-3,-2.2855718085106388E-3,-3.4283577127659573E-3,-4.5711436170212776E-3,-5.7139295212765978E-3,-6.8567154255319146E-3,-7.9995013297872383E-3,-9.1422872340425551E-3,-9.1422872340425551E-3,-4.1902149822695082E-3,7.6185726950354568E-4,5.7139295212765978E-3,1.0666001773049646E-2,1.5618074024822695E-2,2.0570146276595751E-2,2.5522218528368792E-2,3.0474290780141848E-2,3.0474290780141848E-2,1.2570644946808519E-2,-5.3330008865248163E-3,-2.3236646719858148E-2,-4.1140292553191481E-2,null,null,null,0,-1.1427859042553194E-2,-2.2855718085106388E-2,-3.4283577127659573E-2,-4.5711436170212776E-2,-5.7139295212765978E-2,-6.8567154255319146E-2,-7.9995013297872383E-2,-9.1422872340425551E-2,-9.1422872340425551E-2,-4.1902149822695078E-2,7.6185726950354568E-3,5.7139295212765978E-2,0.10666001773049646,0.15618074024822695,0.20570146276595752,0.2552221852836879,0.30474290780141849,0.30474290780141849,0.12570644946808518,-5.3330008865248163E-2,-0.23236646719858148,-0.41140292553191482,null,null,null,null,null,null,null,null,null,null,null,null,null,null,null,null,null,null,null,null,null,null,null,null,null,null,null,null,null,null,null,null,null,null,null,null,0,-1.8748831241688834E-4,-3.5712059507978736E-4,-4.9104081823470773E-4,-5.7139295212765969E-4,-5.8032096700465436E-4,-4.999688331117024E-4,-3.1248052069481383E-4,0,0,7.0308117156333162E-4,1.5534745885970747E-3,2.3770839609998339E-3,2.9998129986702144E-3,3.2475654115068156E-3,2.9462449094082455E-3,1.9217552022731061E-3,0,0,-2.8591967643575456E-3,-6.1603302651263275E-3,-9.2739754534782223E-3,-1.1570707280585103E-2,null,0,-1.8748831241688836E-2,-3.5712059507978733E-2,-4.9104081823470772E-2,-5.7139295212765971E-2,-5.8032096700465434E-2,-4.9996883311170241E-2,-3.1248052069481384E-2,0,0,7.0308117156333158E-2,0.15534745885970747,0.2377083960999834,0.29998129986702143,0.32475654115068153,0.29462449094082455,0.1921755202273106,0,0,-0.28591967643575456,-0.6160330265126327,-0.92739754534782226,-1.1570707280585104]
[null,null,40,0,0,0,0,0,0,0,0,0,0,0,0,0,0,0,0,0,0,0,0,0,0,0,0,0,0,0,0,0,0,null,null,null,null,null,null,null,null,null,null,null,null,null,null,null,null,0,null,null,null,null,null,null,null,null,null,null,null,null,null,null,null,null,null,null,null,null,null,null,null,null,null,null,null,null,null,null,null,null,null,null,null,null,null,null,null,null,null,null,null,null,null,null,null,null,null,null,null,null,null,null,null,null,null,null,null,null,null,null,null,null,null,null,null,null,null,null,null,null,null,null,null,null,null,null,null,null,null,null,null,null,null,null,null,null,null,null,null,null,null,null,null,null,null,null,27,null,0.375,{"$f":"($EU55-$EU55^3)*Input!$B$1^2","v":0.72509765625},-0.72509765625,0.85693359375,-0.85693359375,null,null,-5.8905418882978726E-2,4.8828125E-2,-4.5347822473404263E-2,7.8938802083333329E-2,null,-1.0077293882978726E-2,null,3.9189476211583918E-2,null,-0.13436391843971629,null,-1.0077293882978726E-2,null,2.9112182328605195E-2,null,2.9112182328605195E-2,null,-0.1052517361111111,null,-0.1052517361111111,null,null,9.8175698138297865E-3,-8.1380208333333322E-3,0,0,1.6795489804964543E-3,null,null,-1.9635139627659573E-2,1.6276041666666664E-2,0,0,-3.3590979609929086E-3,null,null,2.9452709441489363E-2,-2.44140625E-2,1.1336955618351066E-2,-1.9734700520833332E-2,-3.3590979609929052E-3,null,null,-1.4726354720744681E-2,1.220703125E-2,-2.2673911236702132E-2,3.9469401041666664E-2,1.4276166334219853E-2,null,null,0,0,3.4010866855053196E-2,-1.9734700520833332E-2,1.4276166334219863E-2,null,null,null,null,null,null,null,null,null,null,null,null,null,null,null,null,null,null,null,null,null,null,null,null,null,null,null,null,null,null,null,null,null,null,null,null,null,null,null,null,null,null,null,null,null,null,0,-1.2596617353723407E-3,-2.5193234707446815E-3,-3.7789852061170214E-3,-5.038646941489363E-3,-6.2983086768617011E-3,-7.5579704122340427E-3,-8.8176321476063843E-3,-1.0077293882978726E-2,-1.0077293882978726E-2,-4.618759696365252E-3,8.3977449024822196E-4,6.2983086768617011E-3,1.175684286347517E-2,1.7215377050088645E-2,2.2673911236702121E-2,2.8132445423315583E-2,3.3590979609929066E-2,3.3590979609929066E-2,1.3856279089095737E-2,-5.8784214317375988E-3,-2.5613121952570931E-2,-4.5347822473404263E-2,null,null,null,0,-1.2596617353723407E-2,-2.5193234707446815E-2,-3.7789852061170214E-2,-5.038646941489363E-2,-6.2983086768617011E-2,-7.5579704122340427E-2,-8.8176321476063843E-2,-0.10077293882978726,-0.10077293882978726,-4.6187596963652516E-2,8.3977449024822196E-3,6.2983086768617011E-2,0.1175684286347517,0.17215377050088645,0.22673911236702121,0.28132445423315583,0.33590979609929067,0.33590979609929067,0.13856279089095735,-5.8784214317375988E-2,-0.25613121952570933,-0.45347822473404265,null,null,null,null,null,null,null,null,null,null,null,null,null,null,null,null,null,null,null,null,null,null,null,null,null,null,null,null,null,null,null,null,null,null,null,null,0,-2.0666325345952458E-4,-3.9364429230385632E-4,-5.412609019178026E-4,-6.2983086768617037E-4,-6.3967197499376679E-4,-5.5110200922539902E-4,-3.4443875576587422E-4,0,0,7.7498720047321657E-4,1.7123526715217743E-3,2.6201948206475423E-3,3.3066120553523932E-3,3.5797027831381929E-3,3.2475654115068139E-3,2.1182983479601271E-3,0,0,-3.1516146152577515E-3,-6.7903640422415246E-3,-1.0222450215765773E-2,-1.2754075070644948E-2,null,0,-2.0666325345952457E-2,-3.9364429230385634E-2,-5.412609019178026E-2,-6.2983086768617039E-2,-6.3967197499376682E-2,-5.5110200922539904E-2,-3.4443875576587422E-2,0,0,7.7498720047321654E-2,0.17123526715217743,0.26201948206475423,0.33066120553523931,0.35797027831381928,0.32475654115068137,0.21182983479601269,0,0,-0.31516146152577518,-0.67903640422415246,-1.0222450215765773,-1.2754075070644948]
[null,null,null,"×L1/10",null,null,null,null,null,null,null,null,null,null,null,null,null,null,null,null,null,null,null,null,null,null,"×1",null,null,null,null,null,null,null,null,null,null,null,null,null,null,null,null,null,null,null,null,null,null,null,null,null,null,null,null,null,null,null,null,null,null,null,null,null,null,null,null,null,null,null,null,null,null,null,null,null,null,null,null,null,null,null,null,null,null,null,null,null,null,null,null,null,null,null,null,null,null,null,null,null,null,null,null,null,null,null,null,null,null,null,null,null,null,null,null,null,null,null,null,null,null,null,null,null,null,null,null,null,null,null,null,null,null,null,null,null,null,null,null,null,null,null,null,null,null,null,null,null,28,null,0.5,{"$f":"($EU56-$EU56^3)*Input!$B$1^2","v":0.84375},-0.84375,0.84375,-0.84375,null,null,-7.1808510638297879E-2,6.25E-2,-4.188829787234042E-2,7.2916666666666671E-2,null,-9.3085106382978788E-3,null,3.6199763593380632E-2,null,-0.12411347517730498,null,-9.3085106382978788E-3,null,2.689125295508275E-2,null,2.689125295508275E-2,null,-9.7222222222222224E-2,null,-9.7222222222222224E-2,null,null,1.1968085106382979E-2,-1.0416666666666666E-2,0,0,1.5514184397163126E-3,null,null,-2.3936170212765957E-2,2.0833333333333332E-2,0,0,-3.1028368794326251E-3,null,null,3.5904255319148939E-2,-3.125E-2,1.0472074468085105E-2,-1.8229166666666668E-2,-3.1028368794326234E-3,null,null,-1.795212765957447E-2,1.5625E-2,-2.094414893617021E-2,3.6458333333333336E-2,1.3187056737588656E-2,null,null,0,0,3.1416223404255317E-2,-1.8229166666666668E-2,1.3187056737588649E-2,null,null,null,null,null,null,null,null,null,null,null,null,null,null,null,null,null,null,null,null,null,null,null,null,null,null,null,null,null,null,null,null,null,null,null,null,null,null,null,null,null,null,null,null,null,null,0,-1.1635638297872349E-3,-2.3271276595744697E-3,-3.4906914893617046E-3,-4.6542553191489394E-3,-5.8178191489361708E-3,-6.9813829787234091E-3,-8.1449468085106475E-3,-9.3085106382978788E-3,-9.3085106382978788E-3,-4.2664007092198652E-3,7.7570921985815541E-4,5.8178191489361708E-3,1.0859929078014186E-2,1.5902039007092205E-2,2.0944148936170214E-2,2.5986258865248246E-2,3.1028368794326251E-2,3.1028368794326251E-2,1.279920212765958E-2,-5.4299645390070844E-3,-2.3659131205673752E-2,-4.188829787234042E-2,null,null,null,0,-1.1635638297872349E-2,-2.3271276595744697E-2,-3.4906914893617046E-2,-4.6542553191489394E-2,-5.8178191489361708E-2,-6.9813829787234091E-2,-8.1449468085106475E-2,-9.3085106382978788E-2,-9.3085106382978788E-2,-4.2664007092198655E-2,7.7570921985815541E-3,5.8178191489361708E-2,0.10859929078014185,0.15902039007092206,0.20944148936170215,0.25986258865248246,0.3102836879432625,0.3102836879432625,0.12799202127659581,-5.4299645390070844E-2,-0.23659131205673753,-0.41888297872340419,null,null,null,null,null,null,null,null,null,null,null,null,null,null,null,null,null,null,null,null,null,null,null,null,null,null,null,null,null,null,null,null,null,null,null,null,0,-1.9089719082446819E-4,-3.6361369680851068E-4,-4.999688331117024E-4,-5.8178191489361743E-4,-5.9087225731383006E-4,-5.0905917553191547E-4,-3.1816198470744706E-4,0,0,7.1586446559175447E-4,1.5817195811170205E-3,2.4203036693816495E-3,3.0543550531914893E-3,3.3066120553523932E-3,2.9998129986702126E-3,1.956696205950798E-3,0,0,-2.9111821600731379E-3,-6.2723362699468078E-3,-9.4425931889960089E-3,-1.1781083776595744E-2,null,0,-1.9089719082446818E-2,-3.6361369680851068E-2,-4.9996883311170241E-2,-5.8178191489361743E-2,-5.9087225731383003E-2,-5.0905917553191543E-2,-3.1816198470744704E-2,0,0,7.1586446559175454E-2,0.15817195811170204,0.24203036693816493,0.30543550531914893,0.33066120553523931,0.29998129986702127,0.19566962059507981,0,0,-0.2911182160073138,-0.62723362699468077,-0.94425931889960091,-1.1781083776595744]
[null,null,"Span 1",{"$f":"+JY79","v":0},0.47890809692671393,0.80156619385342787,0.96797429078014185,0.97813238770685573,0.83204048463356961,0.52969858156028382,7.1106678486997643E-2,-0.54373522458628831,-0.54373522458628831,{"$f":"+KI79","v":-0.45754531126871556},-0.37135539795114259,-0.28516548463356972,-0.1989755713159968,-0.11278565799842397,-2.6595744680851033E-2,5.9594168636721859E-2,0.14578408195429476,0.14578408195429476,0.12263593380614657,{"$f":"+KS79","v":9.9487785657998429E-2},7.6339637509850261E-2,5.3191489361702107E-2,{"$f":"+FM79","v":-0.55437352245862881},{"$f":"+FO79","v":4.5967953769372211E-2},{"$f":"+FQ79","v":4.5967953769372211E-2},{"$f":"+FS79","v":-1.2345679012345685E-2},{"$f":"+FG79","v":0.44562647754137114},{"$f":"+FI79","v":0.60034147622800105},{"$f":"+FK79","v":-5.8313632781717889E-2},null,null,null,null,null,null,null,null,null,null,null,null,null,null,null,null,{"$f":"+FU79","v":-1.2345679012345685E-2},null,0,{"$f":"+AE57","v":0.44562647754137114},null,null,null,null,null,null,null,null,null,null,null,null,null,null,{"$f":"+AA57","v":-0.55437352245862881},4.5967953769372211E-2,null,null,null,null,null,null,null,null,null,null,null,null,null,null,{"$f":"+AC57","v":4.5967953769372211E-2},-1.2345679012345685E-2,null,null,null,null,null,null,null,null,null,null,null,null,null,null,{"$f":"-AD61","v":-1.2345679012345685E-2},{"$f":"-AC61","v":3.4147622800105126E-3},null,null,null,null,null,null,null,null,null,null,null,null,null,null,{"$f":"-AB61","v":3.4147622800105126E-3},{"$f":"-AA61","v":-1.1820330969267122E-3},null,null,null,null,null,null,null,null,null,null,null,null,null,null,{"$f":"-AE61","v":-1.1820330969267122E-3},0,null,null,null,null,null,null,null,null,null,null,null,null,null,null,null,29,null,0.625,{"$f":"($EU57-$EU57^3)*Input!$B$1^2","v":0.85693359375},-0.85693359375,0.72509765625,-0.72509765625,null,null,-7.5735538563829793E-2,6.8359375E-2,-3.3192736037234015E-2,5.7779947916666664E-2,null,-7.3761635638297934E-3,null,2.8685080526004752E-2,null,-9.8348847517730514E-2,null,-7.3761635638297934E-3,null,2.1308916962174965E-2,null,2.1308916962174965E-2,null,-7.7039930555555552E-2,null,-7.7039930555555552E-2,null,null,1.2622589760638299E-2,-1.1393229166666666E-2,0,0,1.2293605939716328E-3,null,null,-2.5245179521276598E-2,2.2786458333333332E-2,0,0,-2.4587211879432656E-3,null,null,3.7867769281914897E-2,-3.41796875E-2,8.2981840093085037E-3,-1.4444986979166666E-2,-2.4587211879432656E-3,null,null,-1.8933884640957448E-2,1.708984375E-2,-1.6596368018617007E-2,2.8889973958333332E-2,1.0449565048758876E-2,null,null,0,0,2.4894552027925509E-2,-1.4444986979166666E-2,1.0449565048758843E-2,null,null,null,null,null,null,null,null,null,null,null,null,null,null,null,null,null,null,null,null,null,null,null,null,null,null,null,null,null,null,null,null,null,null,null,null,null,null,null,null,null,null,null,null,null,null,0,-9.2202044547872418E-4,-1.8440408909574484E-3,-2.7660613364361708E-3,-3.6880817819148967E-3,-4.6101022273936226E-3,-5.5321226728723416E-3,-6.4541431183510745E-3,-7.3761635638297934E-3,-7.3761635638297934E-3,-3.3807416334219942E-3,6.1468029698582075E-4,4.6101022273936226E-3,8.605524157801428E-3,1.2600946088209233E-2,1.6596368018617042E-2,2.0591789949024844E-2,2.4587211879432649E-2,2.4587211879432649E-2,1.0142224900265985E-2,-4.3027620789006828E-3,-1.8747749058067351E-2,-3.3192736037234015E-2,null,null,null,0,-9.2202044547872418E-3,-1.8440408909574484E-2,-2.7660613364361708E-2,-3.6880817819148967E-2,-4.6101022273936226E-2,-5.5321226728723416E-2,-6.4541431183510745E-2,-7.3761635638297934E-2,-7.3761635638297934E-2,-3.3807416334219943E-2,6.1468029698582075E-3,4.6101022273936226E-2,8.605524157801428E-2,0.12600946088209233,0.16596368018617041,0.20591789949024844,0.24587211879432649,0.24587211879432649,0.10142224900265985,-4.3027620789006828E-2,-0.18747749058067351,-0.33192736037234016,null,null,null,null,null,null,null,null,null,null,null,null,null,null,null,null,null,null,null,null,null,null,null,null,null,null,null,null,null,null,null,null,null,null,null,null,0,-1.5126897933635309E-4,-2.8813138921210141E-4,-3.9618066016663955E-4,-4.6101022273936209E-4,-4.6821350746966469E-4,-4.0338394489694215E-4,-2.5211496556058885E-4,0,0,5.6725867251132458E-4,1.2533715430726416E-3,1.91787455944305E-3,2.4203036693816529E-3,2.6201948206475466E-3,2.3770839609998365E-3,1.5505070381976204E-3,0,0,-2.3068519348793809E-3,-4.9702664639087379E-3,-7.482412013601742E-3,-9.3354570104720661E-3,null,0,-1.5126897933635308E-2,-2.8813138921210141E-2,-3.9618066016663955E-2,-4.6101022273936212E-2,-4.6821350746966472E-2,-4.0338394489694215E-2,-2.5211496556058886E-2,0,0,5.6725867251132461E-2,0.12533715430726416,0.19178745594430499,0.24203036693816529,0.26201948206475467,0.23770839609998365,0.15505070381976205,0,0,-0.23068519348793809,-0.49702664639087379,-0.74824120136017425,-0.93354570104720658]
[null,null,"Span 2",0,-0.16788563829787234,-0.33577127659574468,-0.50365691489361708,-0.67154255319148937,-0.83942819148936176,-1.0073138297872342,-1.1751994680851066,-1.3430851063829787,-1.3430851063829787,-8.8236923758865354E-2,0.81504875886524797,1.3667719414893618,1.5669326241134751,1.4155308067375887,0.91256648936170226,5.8039671985815611E-2,-1.148049645390071,-1.148049645390071,-0.96575797872340408,-0.78346631205673756,-0.60117464539007082,-0.41888297872340419,{"$f":"+FM80","v":-0.13430851063829788},{"$f":"+FO80","v":0.76300236406619371},{"$f":"+FQ80","v":-0.73699763593380629},{"$f":"+FS80","v":9.7222222222222224E-2},{"$f":"+FG80","v":-0.13430851063829788},{"$f":"+FI80","v":0.89731087470449156},{"$f":"+FK80","v":0.8342198581560285},null,null,null,null,null,null,null,null,null,null,null,null,null,null,null,null,{"$f":"+FU80","v":9.7222222222222224E-2},null,0,-0.13430851063829788,null,null,null,null,null,null,null,null,null,null,null,null,null,null,-0.13430851063829788,0.76300236406619371,null,null,null,null,null,null,null,null,null,null,null,null,null,null,-0.73699763593380629,9.7222222222222224E-2,null,null,null,null,null,null,null,null,null,null,null,null,null,null,{"$f":"-AD60","v":9.7222222222222224E-2},{"$f":"-AC60","v":-2.689125295508275E-2},null,null,null,null,null,null,null,null,null,null,null,null,null,null,{"$f":"-AB60","v":-2.689125295508275E-2},{"$f":"-AA60","v":9.3085106382978788E-3},null,null,null,null,null,null,null,null,null,null,null,null,null,null,{"$f":"-AE60","v":9.3085106382978788E-3},0,null,null,null,null,null,null,null,null,null,null,null,null,null,null,null,30,null,0.75,{"$f":"($EU58-$EU58^3)*Input!$B$1^2","v":0.73828125},-0.73828125,0.52734375,-0.52734375,null,null,-6.7320478723404256E-2,6.25E-2,-2.1692154255319156E-2,3.7760416666666664E-2,null,-4.8204787234042562E-3,null,1.8746306146572092E-2,null,-6.427304964539006E-2,null,-4.8204787234042562E-3,null,1.3925827423167845E-2,null,1.3925827423167845E-2,null,-5.0347222222222217E-2,null,-5.0347222222222217E-2,null,null,1.1220079787234043E-2,-1.0416666666666666E-2,0,0,8.0341312056737661E-4,null,null,-2.2440159574468085E-2,2.0833333333333332E-2,0,0,-1.6068262411347532E-3,null,null,3.3660239361702128E-2,-3.125E-2,5.4230385638297891E-3,-9.4401041666666661E-3,-1.606826241134748E-3,null,null,-1.6830119680851064E-2,1.5625E-2,-1.0846077127659578E-2,1.8880208333333332E-2,6.8290115248226899E-3,null,null,0,0,1.6269115691489366E-2,-9.4401041666666661E-3,6.8290115248227003E-3,null,null,null,null,null,null,null,null,null,null,null,null,null,null,null,null,null,null,null,null,null,null,null,null,null,null,null,null,null,null,null,null,null,null,null,null,null,null,null,null,null,null,null,null,null,null,0,-6.0255984042553203E-4,-1.2051196808510641E-3,-1.8076795212765978E-3,-2.4102393617021281E-3,-3.0127992021276584E-3,-3.6153590425531956E-3,-4.2179188829787259E-3,-4.8204787234042562E-3,-4.8204787234042562E-3,-2.2093860815602879E-3,4.017065602836805E-4,3.0127992021276584E-3,5.6238918439716259E-3,8.2349844858155934E-3,1.084607712765957E-2,1.3457169769503535E-2,1.6068262411347508E-2,1.6068262411347508E-2,6.6281582446808436E-3,-2.8119459219858242E-3,-1.225205008865249E-2,-2.1692154255319156E-2,null,null,null,0,-6.0255984042553203E-3,-1.2051196808510641E-2,-1.8076795212765978E-2,-2.4102393617021281E-2,-3.0127992021276584E-2,-3.6153590425531956E-2,-4.2179188829787259E-2,-4.8204787234042562E-2,-4.8204787234042562E-2,-2.2093860815602877E-2,4.017065602836805E-3,3.0127992021276584E-2,5.6238918439716262E-2,8.2349844858155941E-2,0.1084607712765957,0.13457169769503535,0.16068262411347509,0.16068262411347509,6.6281582446808429E-2,-2.8119459219858242E-2,-0.1225205008865249,-0.21692154255319157,null,null,null,null,null,null,null,null,null,null,null,null,null,null,null,null,null,null,null,null,null,null,null,null,null,null,null,null,null,null,null,null,null,null,null,null,0,-9.8857473819813834E-5,-1.8829995013297865E-4,-2.5891243143284564E-4,-3.0127992021276601E-4,-3.0598741896609074E-4,-2.6361993018617037E-4,-1.6476245636635632E-4,0,0,3.7071552682430161E-4,8.191047830784573E-4,1.2533715430726377E-3,1.5817195811170196E-3,1.7123526715217747E-3,1.5534745885970739E-3,1.0132891066530912E-3,0,0,-1.5075764757521617E-3,-3.2481741397938843E-3,-4.8899143300157929E-3,-6.1009183843085124E-3,null,0,-9.8857473819813843E-3,-1.8829995013297865E-2,-2.5891243143284566E-2,-3.0127992021276601E-2,-3.0598741896609074E-2,-2.6361993018617039E-2,-1.6476245636635634E-2,0,0,3.7071552682430162E-2,8.191047830784573E-2,0.12533715430726378,0.15817195811170195,0.17123526715217746,0.15534745885970738,0.10132891066530912,0,0,-0.15075764757521617,-0.32481741397938846,-0.48899143300157927,-0.61009183843085124]
[null,null,"Span 3",0,4.4880319148936171E-2,8.9760638297872342E-2,0.13464095744680851,0.17952127659574468,0.22440159574468085,0.26928191489361702,0.31416223404255322,0.35904255319148937,0.35904255319148937,0.16456117021276598,-2.9920212765957438E-2,-0.22440159574468085,-0.4188829787234043,-0.61336436170212771,-0.80784574468085113,-1.0023271276595744,-1.196808510638298,-1.196808510638298,3.3660239361702066E-2,0.91256648936170204,1.4399102393617018,1.6156914893617018,{"$f":"+FM81","v":3.5904255319148939E-2},{"$f":"+FO81","v":-0.10372340425531915},{"$f":"+FQ81","v":-0.10372340425531915},{"$f":"+FS81","v":0.75},{"$f":"+FG81","v":3.5904255319148939E-2},{"$f":"+FI81","v":-0.1396276595744681},{"$f":"+FK81","v":0.85372340425531912},null,null,null,null,null,null,null,null,null,null,null,null,null,null,null,null,{"$f":"+FU81","v":-0.75},null,0,3.5904255319148939E-2,null,null,null,null,null,null,null,null,null,null,null,null,null,null,3.5904255319148939E-2,-0.10372340425531915,null,null,null,null,null,null,null,null,null,null,null,null,null,null,-0.10372340425531915,0.75,null,null,null,null,null,null,null,null,null,null,null,null,null,null,{"$f":"-AD59","v":-0.75},{"$f":"-AC59","v":0.10372340425531915},null,null,null,null,null,null,null,null,null,null,null,null,null,null,{"$f":"-AB59","v":0.10372340425531915},{"$f":"-AA59","v":-3.5904255319148939E-2},null,null,null,null,null,null,null,null,null,null,null,null,null,null,{"$f":"-AE59","v":-3.5904255319148939E-2},0,null,null,null,null,null,null,null,null,null,null,null,null,null,null,null,31,null,0.875,{"$f":"($EU59-$EU59^3)*Input!$B$1^2","v":0.46142578125},-0.46142578125,0.27685546875,-0.27685546875,null,null,-4.3197307180851061E-2,4.1015625E-2,-9.8175698138297882E-3,1.708984375E-2,null,-2.1816821808510606E-3,null,8.4843195921985703E-3,null,-2.9089095744680847E-2,null,-2.1816821808510606E-3,null,6.3026374113475132E-3,null,6.3026374113475132E-3,null,-2.2786458333333332E-2,null,-2.2786458333333332E-2,null,null,7.1995511968085098E-3,-6.8359375E-3,0,0,3.6361369680850981E-4,null,null,-1.439910239361702E-2,1.3671875E-2,0,0,-7.2722739361701962E-4,null,null,2.159865359042553E-2,-2.05078125E-2,2.4543924534574471E-3,-4.2724609375E-3,-7.2722739361702265E-4,null,null,-1.0799326795212765E-2,1.025390625E-2,-4.9087849069148941E-3,8.544921875E-3,3.0907164228723407E-3,null,null,0,0,7.3631773603723416E-3,-4.2724609375E-3,3.0907164228723416E-3,null,null,null,null,null,null,null,null,null,null,null,null,null,null,null,null,null,null,null,null,null,null,null,null,null,null,null,null,null,null,null,null,null,null,null,null,null,null,null,null,null,null,null,null,null,null,0,-2.7271027260638257E-4,-5.4542054521276515E-4,-8.1813081781914598E-4,-1.0908410904255303E-3,-1.3635513630319146E-3,-1.636261635638292E-3,-1.9089719082446763E-3,-2.1816821808510606E-3,-2.1816821808510606E-3,-9.9993766622339959E-4,1.8180684840426141E-4,1.3635513630319146E-3,2.5452958776595756E-3,3.7270403922872366E-3,4.9087849069148932E-3,6.0905294215425534E-3,7.2722739361702118E-3,7.2722739361702118E-3,2.9998129986702118E-3,-1.2726479388297882E-3,-5.5451088763297882E-3,-9.8175698138297882E-3,null,null,null,0,-2.7271027260638257E-3,-5.4542054521276515E-3,-8.1813081781914598E-3,-1.0908410904255303E-2,-1.3635513630319146E-2,-1.636261635638292E-2,-1.9089719082446763E-2,-2.1816821808510606E-2,-2.1816821808510606E-2,-9.9993766622339959E-3,1.8180684840426141E-3,1.3635513630319146E-2,2.5452958776595758E-2,3.7270403922872369E-2,4.9087849069148932E-2,6.0905294215425537E-2,7.2722739361702121E-2,7.2722739361702121E-2,2.9998129986702118E-2,-1.2726479388297882E-2,-5.5451088763297879E-2,-9.8175698138297879E-2,null,null,null,null,null,null,null,null,null,null,null,null,null,null,null,null,null,null,null,null,null,null,null,null,null,null,null,null,null,null,null,null,null,null,null,null,0,-4.4741529099484654E-5,-8.5221960189494662E-5,-1.1718019526055484E-4,-1.3635513630319129E-4,-1.3848568530792872E-4,-1.1931074426529227E-4,-7.4569215165807721E-5,0,0,1.6778073412306808E-4,3.7071552682430226E-4,5.6725867251132414E-4,7.1586446559175534E-4,7.7498720047321766E-4,7.0308117156333118E-4,4.5860067326971828E-4,0,0,-6.8230831876714198E-4,-1.4700788132687836E-3,-2.2131077786709404E-3,-2.7611915101396281E-3,null,0,-4.4741529099484659E-3,-8.5221960189494662E-3,-1.1718019526055484E-2,-1.3635513630319129E-2,-1.3848568530792872E-2,-1.1931074426529227E-2,-7.4569215165807721E-3,0,0,1.6778073412306808E-2,3.7071552682430224E-2,5.6725867251132413E-2,7.1586446559175537E-2,7.7498720047321765E-2,7.0308117156333116E-2,4.5860067326971829E-2,0,0,-6.8230831876714193E-2,-0.14700788132687836,-0.22131077786709405,-0.27611915101396278]
[null,null,"Span 4",0,-1.1635638297872349E-2,-2.3271276595744697E-2,-3.4906914893617046E-2,-4.6542553191489394E-2,-5.8178191489361708E-2,-6.9813829787234091E-2,-8.1449468085106475E-2,-9.3085106382978788E-2,-9.3085106382978788E-2,-4.2664007092198655E-2,7.7570921985815541E-3,5.8178191489361708E-2,0.10859929078014185,0.15902039007092206,0.20944148936170215,0.25986258865248246,0.3102836879432625,0.3102836879432625,0.12799202127659581,-5.4299645390070844E-2,-0.23659131205673753,-0.41888297872340419,{"$f":"+FM82","v":-9.3085106382978788E-3},{"$f":"+FO82","v":2.689125295508275E-2},{"$f":"+FQ82","v":2.689125295508275E-2},{"$f":"+FS82","v":-9.7222222222222224E-2},{"$f":"+FG82","v":-9.3085106382978788E-3},{"$f":"+FI82","v":3.6199763593380632E-2},{"$f":"+FK82","v":-0.12411347517730498},null,null,null,null,null,null,null,null,null,null,null,null,null,null,null,null,{"$f":"+FU82","v":-9.7222222222222224E-2},null,0,-9.3085106382978788E-3,null,null,null,null,null,null,null,null,null,null,null,null,null,null,-9.3085106382978788E-3,2.689125295508275E-2,null,null,null,null,null,null,null,null,null,null,null,null,null,null,2.689125295508275E-2,-9.7222222222222224E-2,null,null,null,null,null,null,null,null,null,null,null,null,null,null,{"$f":"-AD58","v":-9.7222222222222224E-2},{"$f":"-AC58","v":0.73699763593380629},null,null,null,null,null,null,null,null,null,null,null,null,null,null,{"$f":"-AB58","v":-0.76300236406619371},{"$f":"-AA58","v":0.13430851063829788},null,null,null,null,null,null,null,null,null,null,null,null,null,null,{"$f":"-AE58","v":0.13430851063829788},0,null,null,null,null,null,null,null,null,null,null,null,null,null,null,null,32,null,1,{"$f":"($EU60-$EU60^3)*Input!$B$1^2","v":0},0,0,0,null,null,0,0,0,0,null,0,null,0,null,0,null,0,null,0,null,0,null,0,null,0,null,null,0,0,0,0,0,null,null,0,0,0,0,0,null,null,0,0,0,0,0,null,null,0,0,0,0,0,null,null,0,0,0,0,0,null,null,null,null,null,null,null,null,null,null,null,null,null,null,null,null,null,null,null,null,null,null,null,null,null,null,null,null,null,null,null,null,null,null,null,null,null,null,null,null,null,null,null,null,null,null,0,0,0,0,0,0,0,0,0,0,0,0,0,0,0,0,0,0,0,0,0,0,0,null,null,null,0,0,0,0,0,0,0,0,0,0,0,0,0,0,0,0,0,0,0,0,0,0,0,null,null,null,null,null,null,null,null,null,null,null,null,null,null,null,null,null,null,null,null,null,null,null,null,null,null,null,null,null,null,null,null,null,null,null,null,0,0,0,0,0,0,0,0,0,0,0,0,0,0,0,0,0,0,0,0,0,0,0,null,0,0,0,0,0,0,0,0,0,0,0,0,0,0,0,0,0,0,0,0,0,0,0]
[null,null,"Span 5",0,1.4775413711583902E-3,2.9550827423167805E-3,4.4326241134751664E-3,5.9101654846335609E-3,7.3877068557919728E-3,8.8652482269503327E-3,1.0342789598108727E-2,1.1820330969267122E-2,1.1820330969267122E-2,5.4176516942474103E-3,-9.8502758077230208E-4,-7.3877068557919728E-3,-1.3790386130811703E-2,-2.019306540583142E-2,-2.6595744680851109E-2,-3.2998423955870826E-2,-3.9401103230890529E-2,-3.9401103230890529E-2,-1.6252955082742368E-2,6.8951930654057893E-3,3.004334121355395E-2,5.3191489361702107E-2,{"$f":"+FM83","v":1.1820330969267122E-3},{"$f":"+FO83","v":-3.4147622800105126E-3},{"$f":"+FQ83","v":-3.4147622800105126E-3},{"$f":"+FS83","v":1.2345679012345685E-2},{"$f":"+FG83","v":1.1820330969267122E-3},{"$f":"+FI83","v":-4.5967953769372218E-3},{"$f":"+FK83","v":1.5760441292356198E-2},null,null,null,null,null,null,null,null,null,null,null,null,null,null,null,null,{"$f":"+FU83","v":1.2345679012345685E-2},null,0,1.1820330969267122E-3,null,null,null,null,null,null,null,null,null,null,null,null,null,null,1.1820330969267122E-3,-3.4147622800105126E-3,null,null,null,null,null,null,null,null,null,null,null,null,null,null,-3.4147622800105126E-3,1.2345679012345685E-2,null,null,null,null,null,null,null,null,null,null,null,null,null,null,{"$f":"-AD57","v":1.2345679012345685E-2},{"$f":"-AC57","v":-4.5967953769372211E-2},null,null,null,null,null,null,null,null,null,null,null,null,null,null,{"$f":"-AB57","v":-4.5967953769372211E-2},{"$f":"-AA57","v":0.55437352245862881},null,null,null,null,null,null,null,null,null,null,null,null,null,null,{"$f":"-AE57","v":-0.44562647754137114},0,null,null,null,null,null,null,null,null,null,null,null,null,null,null,null,{"$f":"+ES60","v":32},5,0,{"$f":"+(2*$EU61-3*$EU61^2+$EU61^3)","v":0},0,null,null,null,null,0,0,0,0,null,0,null,0,null,0,null,0,null,0,null,0,null,0,null,0,null,null,0,0,0,0,0,null,null,0,0,0,0,0,null,null,0,0,0,0,0,null,null,0,0,0,0,0,null,null,0,0,0,0,0,null,null,null,null,null,null,null,null,null,null,null,null,null,null,null,null,null,null,null,null,null,null,null,null,null,null,null,null,null,null,null,null,null,null,null,null,null,null,null,null,null,null,null,null,null,null,0,0,0,0,0,0,0,0,0,0,0,0,0,0,0,0,0,0,0,0,0,0,0,null,null,null,{"$f":"+IY61*10","v":0},{"$f":"+IZ61*10","v":0},{"$f":"+JA61*10","v":0},{"$f":"+JB61*10","v":0},{"$f":"+JC61*10","v":0},{"$f":"+JD61*10","v":0},{"$f":"+JE61*10","v":0},{"$f":"+JF61*10","v":0},{"$f":"+JG61*10","v":0},{"$f":"+JH61*10","v":0},{"$f":"+JI61*10","v":0},{"$f":"+JJ61*10","v":0},{"$f":"+JK61*10","v":0},{"$f":"+JL61*10","v":0},{"$f":"+JM61*10","v":0},{"$f":"+JN61*10","v":0},{"$f":"+JO61*10","v":0},{"$f":"+JP61*10","v":0},{"$f":"+JQ61*10","v":0},{"$f":"+JR61*10","v":0},{"$f":"+JS61*10","v":0},{"$f":"+JT61*10","v":0},{"$f":"+JU61*10","v":0},null,null,null,null,null,null,null,null,null,null,null,null,null,null,null,null,null,null,null,null,null,null,null,null,null,null,null,null,null,null,null,null,null,null,null,null,{"$f":"+LB61+HZ$11*$FB61+HZ$12*$FC61+HZ$13*$FD61+HZ$14*$FE61","v":0},{"$f":"+LC61+IA$11*$FB61+IA$12*$FC61+IA$13*$FD61+IA$14*$FE61","v":0},{"$f":"+LD61+IB$11*$FB61+IB$12*$FC61+IB$13*$FD61+IB$14*$FE61","v":0},{"$f":"+LE61+IC$11*$FB61+IC$12*$FC61+IC$13*$FD61+IC$14*$FE61","v":0},{"$f":"+LF61+ID$11*$FB61+ID$12*$FC61+ID$13*$FD61+ID$14*$FE61","v":0},{"$f":"+LG61+IE$11*$FB61+IE$12*$FC61+IE$13*$FD61+IE$14*$FE61","v":0},{"$f":"+LH61+IF$11*$FB61+IF$12*$FC61+IF$13*$FD61+IF$14*$FE61","v":0},{"$f":"+LI61+IG$11*$FB61+IG$12*$FC61+IG$13*$FD61+IG$14*$FE61","v":0},{"$f":"+LJ61+IH$11*$FB61+IH$12*$FC61+IH$13*$FD61+IH$14*$FE61","v":0},{"$f":"+LK61+II$11*$FB61+II$12*$FC61+II$13*$FD61+II$14*$FE61","v":0},{"$f":"+LL61+IJ$11*$FB61+IJ$12*$FC61+IJ$13*$FD61+IJ$14*$FE61","v":0},{"$f":"+LM61+IK$11*$FB61+IK$12*$FC61+IK$13*$FD61+IK$14*$FE61","v":0},{"$f":"+LN61+IL$11*$FB61+IL$12*$FC61+IL$13*$FD61+IL$14*$FE61","v":0},{"$f":"+LO61+IM$11*$FB61+IM$12*$FC61+IM$13*$FD61+IM$14*$FE61","v":0},{"$f":"+LP61+IN$11*$FB61+IN$12*$FC61+IN$13*$FD61+IN$14*$FE61","v":0},{"$f":"+LQ61+IO$11*$FB61+IO$12*$FC61+IO$13*$FD61+IO$14*$FE61","v":0},{"$f":"+LR61+IP$11*$FB61+IP$12*$FC61+IP$13*$FD61+IP$14*$FE61","v":0},{"$f":"+LS61+IQ$11*$FB61+IQ$12*$FC61+IQ$13*$FD61+IQ$14*$FE61","v":0},{"$f":"+LT61+IR$11*$FB61+IR$12*$FC61+IR$13*$FD61+IR$14*$FE61","v":0},{"$f":"+LU61+IS$11*$FB61+IS$12*$FC61+IS$13*$FD61+IS$14*$FE61","v":0},{"$f":"+LV61+IT$11*$FB61+IT$12*$FC61+IT$13*$FD61+IT$14*$FE61","v":0},{"$f":"+LW61+IU$11*$FB61+IU$12*$FC61+IU$13*$FD61+IU$14*$FE61","v":0},{"$f":"+LX61+IV$11*$FB61+IV$12*$FC61+IV$13*$FD61+IV$14*$FE61","v":0},null,{"$f":"+MF61*100","v":0},{"$f":"+MG61*100","v":0},{"$f":"+MH61*100","v":0},{"$f":"+MI61*100","v":0},{"$f":"+MJ61*100","v":0},{"$f":"+MK61*100","v":0},{"$f":"+ML61*100","v":0},{"$f":"+MM61*100","v":0},{"$f":"+MN61*100","v":0},{"$f":"+MO61*100","v":0},{"$f":"+MP61*100","v":0},{"$f":"+MQ61*100","v":0},{"$f":"+MR61*100","v":0},{"$f":"+MS61*100","v":0},{"$f":"+MT61*100","v":0},{"$f":"+MU61*100","v":0},{"$f":"+MV61*100","v":0},{"$f":"+MW61*100","v":0},{"$f":"+MX61*100","v":0},{"$f":"+MY61*100","v":0},{"$f":"+MZ61*100","v":0},{"$f":"+NA61*100","v":0},{"$f":"+NB61*100","v":0}]
[null,null,"Sum",{"$f":"+JY85","v":0},0.34574468085106386,0.5352393617021276,0.5684840425531914,0.44547872340425515,0.16622340425531906,-0.26928191489361708,-0.86103723404255328,-1.6090425531914896,-1.6090425531914896,-0.41846742021276628,0.42054521276595724,0.90799534574468099,1.0438829787234041,0.82820811170212771,0.26097074468085119,-0.65782912234042545,-1.9281914893617023,-1.9281914893617023,-0.69772273936170204,0.18118351063829785,0.70852726063829774,0.88430851063829763,{"$f":"+FM85","v":-0.66090425531914887},{"$f":"+FO85","v":0.72872340425531912},{"$f":"+FQ85","v":-0.77127659574468088},{"$f":"+FS85","v":0.75000000000000011},{"$f":"+FG85","v":0.33909574468085096},{"$f":"+FI85","v":1.3896276595744679},{"$f":"+FK85","v":1.521276595744681},null,null,null,null,null,null,null,null,null,null,null,null,null,null,null,null,{"$f":"+FU85","v":-0.74999999999999989},null,0,0.33909574468085096,null,null,null,null,null,null,null,null,null,null,null,null,null,null,-0.66090425531914887,0.72872340425531912,null,null,null,null,null,null,null,null,null,null,null,null,null,null,-0.77127659574468088,0.75000000000000011,null,null,null,null,null,null,null,null,null,null,null,null,null,null,{"$f":"-AD62","v":-0.75000000000000011},{"$f":"-AC62","v":0.77127659574468088},null,null,null,null,null,null,null,null,null,null,null,null,null,null,{"$f":"-AB62","v":-0.72872340425531912},{"$f":"-AA62","v":0.66090425531914887},null,null,null,null,null,null,null,null,null,null,null,null,null,null,{"$f":"-AE62","v":-0.33909574468085096},0,null,null,null,null,null,null,null,null,null,null,null,null,null,null,null,{"$f":"+ES61+1","v":33},null,{"$f":"+EU61+1/8","v":0.125},{"$f":"+(2*$EU62-3*$EU62^2+$EU62^3)","v":0.205078125},-0.205078125,null,null,null,null,-2.1816821808510637E-2,2.2786458333333332E-2,4.3633643617021212E-3,-7.5954861111111049E-3,null,9.6963652482269513E-4,null,-3.7708087076438143E-3,null,1.2928486997635926E-2,null,9.6963652482269513E-4,null,-2.8011721828211191E-3,null,-2.8011721828211191E-3,null,1.0127314814814806E-2,null,1.0127314814814806E-2,null,null,3.6361369680851059E-3,-3.7977430555555551E-3,0,0,-1.6160608747044919E-4,null,null,-7.2722739361702118E-3,7.5954861111111101E-3,0,0,3.2321217494089838E-4,null,null,1.0908410904255319E-2,-1.1393229166666666E-2,-1.0908410904255303E-3,1.8988715277777762E-3,3.2321217494089838E-4,null,null,-5.4542054521276593E-3,5.696614583333333E-3,2.1816821808510606E-3,-3.7977430555555525E-3,-1.3736517434988181E-3,null,null,0,0,-3.2725232712765909E-3,1.8988715277777762E-3,-1.3736517434988146E-3,null,null,null,null,null,null,null,null,null,null,null,null,null,null,null,null,null,null,null,null,null,null,null,null,null,null,null,null,null,null,null,null,null,null,null,null,null,null,null,null,null,null,null,null,null,null,0,1.2120456560283689E-4,2.4240913120567378E-4,3.6361369680851068E-4,4.8481826241134757E-4,6.0602282801418446E-4,7.2722739361702135E-4,8.4843195921985651E-4,9.6963652482269513E-4,9.6963652482269513E-4,4.4441674054373353E-4,-8.0803043735224594E-5,-6.0602282801418446E-4,-1.1312426122931443E-3,-1.6564623965721042E-3,-2.1816821808510641E-3,-2.7069019651300239E-3,-3.2321217494089838E-3,-3.2321217494089838E-3,-1.3332502216312075E-3,5.6562130614656869E-4,2.4644928339243449E-3,4.3633643617021212E-3,null,null,null,0,1.2120456560283689E-3,2.4240913120567378E-3,3.6361369680851068E-3,4.8481826241134757E-3,6.0602282801418446E-3,7.2722739361702135E-3,8.4843195921985651E-3,9.6963652482269513E-3,9.6963652482269513E-3,4.4441674054373353E-3,-8.0803043735224594E-4,-6.0602282801418446E-3,-1.1312426122931443E-2,-1.6564623965721042E-2,-2.1816821808510641E-2,-2.7069019651300239E-2,-3.2321217494089838E-2,-3.2321217494089838E-2,-1.3332502216312075E-2,5.6562130614656869E-3,2.4644928339243449E-2,4.3633643617021212E-2,null,null,null,null,null,null,null,null,null,null,null,null,null,null,null,null,null,null,null,null,null,null,null,null,null,null,null,null,null,null,null,null,null,null,null,null,0,1.9885124044215468E-5,3.7876426750886529E-5,5.2080086782468936E-5,6.0602282801418446E-5,6.1549193470190541E-5,5.3026997451241032E-5,3.3141873407025726E-5,0,0,-7.4569215165807775E-5,-1.6476245636635621E-4,-2.521149655605882E-4,-3.1816198470744662E-4,-3.4443875576587433E-4,-3.1248052069481373E-4,-2.0382252145320813E-4,0,0,3.032481416742846E-4,6.533683614527914E-4,9.8360345718708289E-4,1.2271962267287216E-3,null,0,1.988512404421547E-3,3.7876426750886529E-3,5.2080086782468936E-3,6.0602282801418446E-3,6.1549193470190541E-3,5.3026997451241032E-3,3.3141873407025726E-3,0,0,-7.4569215165807773E-3,-1.647624563663562E-2,-2.521149655605882E-2,-3.1816198470744662E-2,-3.4443875576587436E-2,-3.1248052069481374E-2,-2.0382252145320814E-2,0,0,3.0324814167428459E-2,6.5336836145279145E-2,9.8360345718708289E-2,0.12271962267287216]
[null,null,null,"×L12/10",null,null,null,null,null,null,null,null,null,null,null,null,null,null,null,null,null,null,null,null,null,null,"×L1",null,null,null,null,null,null,null,null,null,null,null,null,null,null,null,null,null,null,null,null,null,null,null,null,null,null,null,null,null,null,null,null,null,null,null,null,null,null,null,null,null,null,null,null,null,null,null,null,null,null,null,null,null,null,null,null,null,null,null,null,null,null,null,null,null,null,null,null,null,null,null,null,null,null,null,null,null,null,null,null,null,null,null,null,null,null,null,null,null,null,null,null,null,null,null,null,null,null,null,null,null,null,null,null,null,null,null,null,null,null,null,null,null,null,null,null,null,null,null,null,null,{"$f":"+ES62+1","v":34},null,{"$f":"+EU62+1/8","v":0.25},0.328125,-0.328125,null,null,null,null,-3.4906914893617018E-2,3.6458333333333336E-2,6.9813829787233979E-3,-1.215277777777779E-2,null,1.5514184397163178E-3,null,-6.0332939322301224E-3,null,2.0685579196217527E-2,null,1.5514184397163178E-3,null,-4.4818754925138081E-3,null,-4.4818754925138081E-3,null,1.620370370370372E-2,null,1.620370370370372E-2,null,null,5.8178191489361691E-3,-6.076388888888889E-3,0,0,-2.5856973995271992E-4,null,null,-1.1635638297872338E-2,1.2152777777777778E-2,0,0,5.1713947990543983E-4,null,null,1.7453457446808509E-2,-1.8229166666666668E-2,-1.7453457446808495E-3,3.0381944444444475E-3,5.1713947990543897E-4,null,null,-8.7267287234042545E-3,9.1145833333333339E-3,3.4906914893616989E-3,-6.0763888888888951E-3,-2.1978427895981167E-3,null,null,0,0,-5.2360372340425482E-3,3.0381944444444475E-3,-2.1978427895981006E-3,null,null,null,null,null,null,null,null,null,null,null,null,null,null,null,null,null,null,null,null,null,null,null,null,null,null,null,null,null,null,null,null,null,null,null,null,null,null,null,null,null,null,null,null,null,null,0,1.9392730496453972E-4,3.8785460992907944E-4,5.8178191489361916E-4,7.7570921985815888E-4,9.696365248226986E-4,1.1635638297872383E-3,1.3574911347517815E-3,1.5514184397163178E-3,1.5514184397163178E-3,7.1106678486998259E-4,-1.2928486997635952E-4,-9.696365248226986E-4,-1.8099881796690368E-3,-2.6503398345153759E-3,-3.490691489361715E-3,-4.3310431442080532E-3,-5.1713947990543923E-3,-5.1713947990543923E-3,-2.1332003546099447E-3,9.0499408983450279E-4,3.9431885342789503E-3,6.9813829787233979E-3,null,null,null,0,1.9392730496453972E-3,3.8785460992907944E-3,5.8178191489361916E-3,7.7570921985815888E-3,9.696365248226986E-3,1.1635638297872383E-2,1.3574911347517815E-2,1.5514184397163178E-2,1.5514184397163178E-2,7.1106678486998259E-3,-1.2928486997635952E-3,-9.696365248226986E-3,-1.8099881796690368E-2,-2.6503398345153757E-2,-3.490691489361715E-2,-4.3310431442080535E-2,-5.1713947990543921E-2,-5.1713947990543921E-2,-2.1332003546099446E-2,9.0499408983450279E-3,3.9431885342789505E-2,6.981382978723398E-2,null,null,null,null,null,null,null,null,null,null,null,null,null,null,null,null,null,null,null,null,null,null,null,null,null,null,null,null,null,null,null,null,null,null,null,null,0,3.1816198470744771E-5,6.0602282801418663E-5,8.3328138851950688E-5,9.696365248226986E-5,9.84787095523053E-5,8.4843195921986345E-5,5.3026997451241249E-5,0,0,-1.1931074426529324E-4,-2.6361993018617113E-4,-4.0338394489694324E-4,-5.090591755319172E-4,-5.5110200922540119E-4,-4.9996883311170435E-4,-3.2611603432513431E-4,0,0,4.8519702667885518E-4,1.0453893783244662E-3,1.5737655314993332E-3,1.9635139627659556E-3,null,0,3.1816198470744771E-3,6.0602282801418663E-3,8.332813885195068E-3,9.696365248226986E-3,9.84787095523053E-3,8.4843195921986345E-3,5.3026997451241249E-3,0,0,-1.1931074426529324E-2,-2.6361993018617112E-2,-4.0338394489694326E-2,-5.0905917553191724E-2,-5.5110200922540119E-2,-4.9996883311170436E-2,-3.2611603432513431E-2,0,0,4.8519702667885516E-2,0.10453893783244662,0.15737655314993332,0.19635139627659556]
[null,null,null,null,null,null,null,null,null,null,null,null,null,null,null,null,null,null,null,null,null,null,null,null,null,null,null,null,null,null,null,null,null,null,null,null,null,null,null,null,null,null,null,null,null,null,null,null,null,null,null,null,null,null,null,null,null,null,null,null,null,null,null,null,null,null,null,null,null,null,null,null,null,null,null,null,null,null,null,null,null,null,null,null,null,null,null,null,null,null,null,null,null,null,null,null,null,null,null,null,null,null,null,null,null,null,null,null,null,null,null,null,null,null,null,null,null,null,null,null,null,null,null,null,null,null,null,null,null,null,null,null,null,null,null,null,null,null,null,null,null,null,null,null,null,null,null,null,35,null,0.375,0.380859375,-0.380859375,null,null,null,null,-4.0516954787234043E-2,4.2317708333333336E-2,8.1033909574468131E-3,-1.410590277777779E-2,null,1.8007535460992929E-3,null,-7.0029304570527959E-3,null,2.4010047281323901E-2,null,1.8007535460992929E-3,null,-5.2021769109535133E-3,null,-5.2021769109535133E-3,null,1.8807870370370385E-2,null,1.8807870370370385E-2,null,null,6.7528257978723399E-3,-7.052951388888889E-3,0,0,-3.0012559101654911E-4,null,null,-1.350565159574468E-2,1.4105902777777778E-2,0,0,6.0025118203309823E-4,null,null,2.0258477393617021E-2,-2.1158854166666668E-2,-2.0258477393617033E-3,3.5264756944444475E-3,6.0025118203309779E-4,null,null,-1.0129238696808511E-2,1.0579427083333334E-2,4.0516954787234065E-3,-7.0529513888888951E-3,-2.5510675236406653E-3,null,null,0,0,-6.0775432180851102E-3,3.5264756944444475E-3,-2.5510675236406627E-3,null,null,null,null,null,null,null,null,null,null,null,null,null,null,null,null,null,null,null,null,null,null,null,null,null,null,null,null,null,null,null,null,null,null,null,null,null,null,null,null,null,null,null,null,null,null,0,2.2509419326241162E-4,4.5018838652482324E-4,6.7528257978723485E-4,9.0037677304964647E-4,1.1254709663120581E-3,1.3505651595744697E-3,1.5756593528368848E-3,1.8007535460992929E-3,1.8007535460992929E-3,8.2534537529551245E-4,-1.5006279550827456E-4,-1.1254709663120581E-3,-2.1008791371158421E-3,-3.076287307919626E-3,-4.0516954787234091E-3,-5.0271036495271931E-3,-6.0025118203309771E-3,-6.0025118203309771E-3,-2.4760361258865295E-3,1.050439568557918E-3,4.5769152630023655E-3,8.1033909574468131E-3,null,null,null,0,2.2509419326241162E-3,4.5018838652482324E-3,6.7528257978723485E-3,9.0037677304964647E-3,1.1254709663120581E-2,1.3505651595744697E-2,1.5756593528368848E-2,1.8007535460992929E-2,1.8007535460992929E-2,8.2534537529551245E-3,-1.5006279550827456E-3,-1.1254709663120581E-2,-2.1008791371158422E-2,-3.076287307919626E-2,-4.0516954787234091E-2,-5.0271036495271933E-2,-6.0025118203309774E-2,-6.0025118203309774E-2,-2.4760361258865295E-2,1.050439568557918E-2,4.5769152630023652E-2,8.1033909574468127E-2,null,null,null,null,null,null,null,null,null,null,null,null,null,null,null,null,null,null,null,null,null,null,null,null,null,null,null,null,null,null,null,null,null,null,null,null,0,3.6929516082114325E-5,7.0341935394503631E-5,9.6720161167442465E-5,1.1254709663120581E-4,1.1430564501606864E-4,9.84787095523053E-5,6.1549193470190758E-5,0,0,-1.3848568530792926E-4,-3.0598741896609128E-4,-4.6821350746966556E-4,-5.9087225731383093E-4,-6.3967197499376766E-4,-5.8032096700465522E-4,-3.785275398416728E-4,0,0,5.631751202522441E-4,1.2133983855551866E-3,1.8266921347760148E-3,2.2790787067819163E-3,null,0,3.6929516082114325E-3,7.0341935394503631E-3,9.6720161167442465E-3,1.1254709663120581E-2,1.1430564501606864E-2,9.84787095523053E-3,6.1549193470190758E-3,0,0,-1.3848568530792926E-2,-3.0598741896609129E-2,-4.6821350746966556E-2,-5.9087225731383093E-2,-6.3967197499376766E-2,-5.8032096700465524E-2,-3.7852753984167278E-2,0,0,5.6317512025224413E-2,0.12133983855551866,0.18266921347760148,0.22790787067819163]
[null,null,null,"Deflection",null,null,null,null,null,null,null,null,null,null,null,null,null,null,null,null,null,null,null,null,null,null,"Slope",null,null,null,null,null,null,null,null,null,null,null,null,null,null,null,null,null,null,null,null,null,null,null,null,null,null,null,null,null,null,null,null,null,null,null,null,null,null,null,null,null,null,null,null,null,null,null,null,null,null,null,null,null,null,null,null,null,null,null,null,null,null,null,null,null,null,null,null,null,null,null,null,null,null,null,null,null,null,null,null,null,null,null,null,null,null,null,null,null,null,null,null,null,null,null,null,null,null,null,null,null,null,null,null,null,null,null,null,null,null,null,null,null,null,null,null,null,null,null,null,null,36,null,0.5,0.375,-0.375,null,null,null,null,-3.9893617021276598E-2,4.1666666666666664E-2,7.9787234042553168E-3,-1.3888888888888876E-2,null,1.7730496453900665E-3,null,-6.8951930654058144E-3,null,2.3640661938534254E-2,null,1.7730496453900665E-3,null,-5.1221434200157514E-3,null,-5.1221434200157514E-3,null,1.85185185185185E-2,null,1.85185185185185E-2,null,null,6.648936170212766E-3,-6.9444444444444441E-3,0,0,-2.9550827423167805E-4,null,null,-1.3297872340425532E-2,1.3888888888888888E-2,0,0,5.9101654846335609E-4,null,null,1.9946808510638299E-2,-2.0833333333333332E-2,-1.9946808510638292E-3,3.472222222222219E-3,5.9101654846335653E-4,null,null,-9.9734042553191495E-3,1.0416666666666666E-2,3.9893617021276584E-3,-6.944444444444438E-3,-2.511820330969263E-3,null,null,0,0,-5.9840425531914876E-3,3.472222222222219E-3,-2.5118203309692686E-3,null,null,null,null,null,null,null,null,null,null,null,null,null,null,null,null,null,null,null,null,null,null,null,null,null,null,null,null,null,null,null,null,null,null,null,null,null,null,null,null,null,null,null,null,null,null,0,2.2163120567375832E-4,4.4326241134751664E-4,6.6489361702127582E-4,8.8652482269503327E-4,1.1081560283687925E-3,1.3297872340425516E-3,1.5514184397163039E-3,1.7730496453900665E-3,1.7730496453900665E-3,8.1264775413710899E-4,-1.4775413711583816E-4,-1.1081560283687925E-3,-2.0685579196217463E-3,-3.0289598108746985E-3,-3.9893617021276532E-3,-4.9497635933806053E-3,-5.9101654846335592E-3,-5.9101654846335592E-3,-2.4379432624113406E-3,1.0342789598108788E-3,4.5065011820330982E-3,7.9787234042553168E-3,null,null,null,0,2.2163120567375832E-3,4.4326241134751664E-3,6.6489361702127582E-3,8.8652482269503327E-3,1.1081560283687925E-2,1.3297872340425516E-2,1.5514184397163039E-2,1.7730496453900665E-2,1.7730496453900665E-2,8.1264775413710903E-3,-1.4775413711583816E-3,-1.1081560283687925E-2,-2.0685579196217461E-2,-3.0289598108746985E-2,-3.9893617021276528E-2,-4.9497635933806051E-2,-5.9101654846335588E-2,-5.9101654846335588E-2,-2.4379432624113406E-2,1.0342789598108788E-2,4.5065011820330986E-2,7.9787234042553168E-2,null,null,null,null,null,null,null,null,null,null,null,null,null,null,null,null,null,null,null,null,null,null,null,null,null,null,null,null,null,null,null,null,null,null,null,null,0,3.6361369680850981E-5,6.9259751773049529E-5,9.523215868794321E-5,1.1081560283687916E-4,1.1254709663120538E-4,9.6963652482268993E-5,6.0602282801418229E-5,0,0,-1.3635513630319129E-4,-3.0127992021276558E-4,-4.6101022273936057E-4,-5.8178191489361569E-4,-6.2983086768616929E-4,-5.7139295212765839E-4,-3.7270403922872255E-4,0,0,5.5451088763297887E-4,1.1947307180851063E-3,1.7985891788563828E-3,2.2440159574468078E-3,null,0,3.6361369680850981E-3,6.9259751773049529E-3,9.523215868794321E-3,1.1081560283687916E-2,1.1254709663120538E-2,9.6963652482268993E-3,6.0602282801418229E-3,0,0,-1.3635513630319129E-2,-3.0127992021276556E-2,-4.610102227393606E-2,-5.8178191489361569E-2,-6.2983086768616928E-2,-5.7139295212765839E-2,-3.7270403922872258E-2,0,0,5.5451088763297886E-2,0.11947307180851063,0.17985891788563829,0.22440159574468077]
[null,null,null,0,{"$f":"+D66+1","v":1},2,3,4,5,6,7,8,{"$f":"+L66","v":8},{"$f":"+M66+1","v":9},10,11,12,13,14,15,16,16,{"$f":"+V66+1","v":17},{"$f":"+W66+1","v":18},{"$f":"+X66+1","v":19},{"$f":"+Y66+1","v":20},"SA","lSB","lSC",null,null,null,null,null,null,null,null,null,null,null,null,null,null,null,null,null,null,null,null,null,null,null,null,null,null,null,null,null,null,null,null,null,null,null,null,null,null,null,null,null,null,null,null,null,null,null,null,null,null,null,null,null,null,null,null,null,null,null,null,null,null,null,null,null,null,null,null,null,null,null,null,null,null,null,null,null,null,null,null,null,null,null,null,null,null,null,null,null,null,null,null,null,null,null,null,null,null,null,null,null,null,null,null,null,null,null,null,null,null,null,null,null,null,null,null,null,null,null,37,null,0.625,0.322265625,-0.322265625,null,null,null,null,-3.4283577127659573E-2,3.5807291666666664E-2,6.8567154255319007E-3,-1.1935763888888876E-2,null,1.5237145390070914E-3,null,-5.9255565405831323E-3,null,2.031619385342788E-2,null,1.5237145390070914E-3,null,-4.4018420015760444E-3,null,-4.4018420015760444E-3,null,1.5914351851851832E-2,null,1.5914351851851832E-2,null,null,5.7139295212765952E-3,-5.9678819444444441E-3,0,0,-2.5395242316784885E-4,null,null,-1.142785904255319E-2,1.1935763888888888E-2,0,0,5.079048463356977E-4,null,null,1.7141788563829786E-2,-1.7903645833333332E-2,-1.7141788563829752E-3,2.983940972222219E-3,5.0790484633569813E-4,null,null,-8.5708942819148932E-3,8.9518229166666661E-3,3.4283577127659504E-3,-5.967881944444438E-3,-2.1585955969267148E-3,null,null,0,0,-5.1425365691489255E-3,2.983940972222219E-3,-2.1585955969267065E-3,null,null,null,null,null,null,null,null,null,null,null,null,null,null,null,null,null,null,null,null,null,null,null,null,null,null,null,null,null,null,null,null,null,null,null,null,null,null,null,null,null,null,null,null,null,null,0,1.9046431737588642E-4,3.8092863475177284E-4,5.7139295212766013E-4,7.6185726950354568E-4,9.5232158687943297E-4,1.1427859042553203E-3,1.3332502216312006E-3,1.5237145390070914E-3,1.5237145390070914E-3,6.983691637115787E-4,-1.2697621158392356E-4,-9.5232158687943297E-4,-1.7776669621749419E-3,-2.6030123374704492E-3,-3.428357712765959E-3,-4.2537030880614663E-3,-5.0790484633569753E-3,-5.0790484633569753E-3,-2.0951074911347567E-3,8.8883348108746273E-4,3.8727744533096817E-3,6.8567154255319007E-3,null,null,null,0,1.9046431737588642E-3,3.8092863475177284E-3,5.7139295212766013E-3,7.6185726950354568E-3,9.5232158687943297E-3,1.1427859042553203E-2,1.3332502216312006E-2,1.5237145390070914E-2,1.5237145390070914E-2,6.9836916371157874E-3,-1.2697621158392356E-3,-9.5232158687943297E-3,-1.7776669621749418E-2,-2.6030123374704492E-2,-3.4283577127659587E-2,-4.2537030880614661E-2,-5.0790484633569749E-2,-5.0790484633569749E-2,-2.0951074911347567E-2,8.8883348108746273E-3,3.8727744533096818E-2,6.8567154255319007E-2,null,null,null,null,null,null,null,null,null,null,null,null,null,null,null,null,null,null,null,null,null,null,null,null,null,null,null,null,null,null,null,null,null,null,null,null,0,3.1248052069481427E-5,5.9520099179964561E-5,8.1840136372451217E-5,9.523215868794321E-5,9.6720161167442031E-5,8.3328138851950038E-5,5.2080086782468936E-5,0,0,-1.1718019526055522E-4,-2.5891243143284543E-4,-3.9618066016663912E-4,-4.9996883311170196E-4,-5.412609019178026E-4,-4.9104081823470752E-4,-3.2029253371218438E-4,0,0,4.7653279405958973E-4,1.0267217108543857E-3,1.5456625755797006E-3,1.9284512134308471E-3,null,0,3.1248052069481427E-3,5.9520099179964561E-3,8.1840136372451217E-3,9.523215868794321E-3,9.6720161167442031E-3,8.3328138851950038E-3,5.2080086782468936E-3,0,0,-1.1718019526055522E-2,-2.5891243143284542E-2,-3.9618066016663914E-2,-4.9996883311170193E-2,-5.412609019178026E-2,-4.9104081823470751E-2,-3.2029253371218439E-2,0,0,4.7653279405958975E-2,0.10267217108543858,0.15456625755797007,0.19284512134308471]
[null,null,null,{"$f":"+E67+1","v":40},39,38,37,36,35,34,33,{"$f":"+M67","v":32},{"$f":"+N67+1","v":32},31,30,29,28,27,26,25,24,{"$f":"+W67+1","v":24},{"$f":"+X67+1","v":23},{"$f":"+Y67+1","v":22},{"$f":"+Z67+1","v":21},{"$f":"+Z66","v":20},null,null,null,null,null,null,null,null,null,null,null,null,null,null,null,null,null,null,null,null,null,null,null,null,null,null,null,null,null,null,null,null,null,null,null,null,null,null,null,null,null,null,null,null,null,null,null,null,null,null,null,null,null,null,null,null,null,null,null,null,null,null,null,null,null,null,null,null,null,null,null,null,null,null,null,null,null,null,null,null,null,null,null,null,null,null,null,null,null,null,null,null,null,null,null,null,null,null,null,null,null,null,null,null,null,null,null,null,null,null,null,null,null,null,null,null,null,null,null,null,null,null,38,null,0.75,0.234375,-0.234375,null,null,null,null,-2.4933510638297872E-2,2.6041666666666668E-2,4.9867021276595773E-3,-8.6805555555555611E-3,null,1.1081560283687959E-3,null,-4.3094956658786526E-3,null,1.4775413711583935E-2,null,1.1081560283687959E-3,null,-3.2013396375098527E-3,null,-3.2013396375098527E-3,null,1.157407407407408E-2,null,1.157407407407408E-2,null,null,4.1555851063829786E-3,-4.340277777777778E-3,0,0,-1.8469267139479932E-4,null,null,-8.3111702127659573E-3,8.6805555555555559E-3,0,0,3.6938534278959864E-4,null,null,1.2466755319148936E-2,-1.3020833333333334E-2,-1.2466755319148943E-3,2.1701388888888903E-3,3.6938534278959799E-4,null,null,-6.233377659574468E-3,6.510416666666667E-3,2.4933510638297887E-3,-4.3402777777777806E-3,-1.5698877068557929E-3,null,null,0,0,-3.7400265957446832E-3,2.1701388888888903E-3,-1.5698877068557929E-3,null,null,null,null,null,null,null,null,null,null,null,null,null,null,null,null,null,null,null,null,null,null,null,null,null,null,null,null,null,null,null,null,null,null,null,null,null,null,null,null,null,null,null,null,null,null,0,1.3851950354609949E-4,2.7703900709219898E-4,4.1555851063829891E-4,5.5407801418439796E-4,6.9259751773049702E-4,8.3111702127659781E-4,9.696365248226986E-4,1.1081560283687959E-3,1.1081560283687959E-3,5.0790484633570052E-4,-9.2346335697398359E-5,-6.9259751773049702E-4,-1.2928486997635939E-3,-1.8930998817966909E-3,-2.4933510638297891E-3,-3.0936022458628873E-3,-3.6938534278959838E-3,-3.6938534278959838E-3,-1.523714539007094E-3,6.4642434988179676E-4,2.816563238770687E-3,4.9867021276595773E-3,null,null,null,0,1.3851950354609949E-3,2.7703900709219898E-3,4.1555851063829891E-3,5.5407801418439796E-3,6.9259751773049702E-3,8.3111702127659781E-3,9.696365248226986E-3,1.1081560283687959E-2,1.1081560283687959E-2,5.0790484633570047E-3,-9.2346335697398359E-4,-6.9259751773049702E-3,-1.2928486997635939E-2,-1.8930998817966907E-2,-2.4933510638297893E-2,-3.0936022458628872E-2,-3.6938534278959836E-2,-3.6938534278959836E-2,-1.523714539007094E-2,6.4642434988179676E-3,2.816563238770687E-2,4.9867021276595772E-2,null,null,null,null,null,null,null,null,null,null,null,null,null,null,null,null,null,null,null,null,null,null,null,null,null,null,null,null,null,null,null,null,null,null,null,null,0,2.2725856050531917E-5,4.3287344858156064E-5,5.9520099179964561E-5,6.9259751773049745E-5,7.0341935394503631E-5,6.0602282801418663E-5,3.7876426750886529E-5,0,0,-8.5221960189494825E-5,-1.8829995013297876E-4,-2.8813138921210131E-4,-3.6361369680851111E-4,-3.9364429230385664E-4,-3.5712059507978758E-4,-2.3294002451795229E-4,0,0,3.4656930477061193E-4,7.4670669880319194E-4,1.12411823678524E-3,1.4025099734042562E-3,null,0,2.2725856050531917E-3,4.3287344858156064E-3,5.9520099179964561E-3,6.9259751773049745E-3,7.0341935394503631E-3,6.0602282801418663E-3,3.7876426750886529E-3,0,0,-8.5221960189494819E-3,-1.8829995013297875E-2,-2.8813138921210131E-2,-3.6361369680851109E-2,-3.9364429230385661E-2,-3.5712059507978761E-2,-2.3294002451795227E-2,0,0,3.4656930477061192E-2,7.4670669880319188E-2,0.11241182367852399,0.14025099734042562]
[null,null,{"$f":"+E68","v":0},{"$f":"+ND25","v":0},{"$f":"+NE25","v":0},{"$f":"+NF25","v":0},{"$f":"+NG25","v":0},{"$f":"+NH25","v":0},{"$f":"+NI25","v":0},{"$f":"+NJ25","v":0},{"$f":"+NK25","v":0},{"$f":"+NL25","v":0},{"$f":"+NM25","v":0},{"$f":"+NN25","v":0},{"$f":"+NO25","v":0},{"$f":"+NP25","v":0},{"$f":"+NQ25","v":0},{"$f":"+NR25","v":0},{"$f":"+NS25","v":0},{"$f":"+NT25","v":0},{"$f":"+NU25","v":0},{"$f":"+NV25","v":0},{"$f":"+NW25","v":0},{"$f":"+NX25","v":0},{"$f":"+NY25","v":0},{"$f":"+NZ25","v":0},{"$f":"+GB25*10","v":0},{"$f":"+GI25*10","v":0},{"$f":"+GW25*10","v":0},null,null,null,null,null,null,null,null,null,null,null,null,null,null,null,null,null,null,null,null,null,null,null,null,null,null,null,null,null,null,null,null,null,null,null,null,null,null,null,null,null,null,null,null,null,null,null,null,null,null,null,null,null,null,null,null,null,null,null,null,null,null,null,null,null,null,null,null,null,null,null,null,null,null,null,null,null,null,null,null,null,null,null,null,null,null,null,null,null,null,null,null,null,null,null,null,null,null,null,null,null,null,null,null,null,null,null,null,null,null,null,null,null,null,null,null,null,null,null,39,null,0.875,0.123046875,-0.123046875,null,null,null,null,-1.3090093085106383E-2,1.3671875E-2,2.6180186170212763E-3,-4.557291666666667E-3,null,5.8178191489361743E-4,null,-2.2624852245862886E-3,null,7.7570921985815611E-3,null,5.8178191489361743E-4,null,-1.6807033096926714E-3,null,-1.6807033096926714E-3,null,6.076388888888889E-3,null,6.076388888888889E-3,null,null,2.1816821808510636E-3,-2.278645833333333E-3,0,0,-9.6963652482269427E-5,null,null,-4.3633643617021272E-3,4.5572916666666661E-3,0,0,1.9392730496453885E-4,null,null,6.5450465425531913E-3,-6.8359375E-3,-6.5450465425531906E-4,1.1393229166666667E-3,1.9392730496453896E-4,null,null,-3.2725232712765956E-3,3.41796875E-3,1.3090093085106381E-3,-2.2786458333333335E-3,-8.2419104609929099E-4,null,null,0,0,-1.9635139627659573E-3,1.1393229166666667E-3,-8.2419104609929056E-4,null,null,null,null,null,null,null,null,null,null,null,null,null,null,null,null,null,null,null,null,null,null,null,null,null,null,null,null,null,null,null,null,null,null,null,null,null,null,null,null,null,null,null,null,null,null,0,7.2722739361702178E-5,1.4544547872340436E-4,2.1816821808510675E-4,2.9089095744680871E-4,3.6361369680851068E-4,4.363364361702135E-4,5.090591755319146E-4,5.8178191489361743E-4,5.8178191489361743E-4,2.6665004432624071E-4,-4.848182624113428E-5,-3.6361369680851068E-4,-6.7874556737588664E-4,-9.938774379432626E-4,-1.3090093085106383E-3,-1.6241411790780154E-3,-1.9392730496453907E-3,-1.9392730496453907E-3,-7.9995013297872375E-4,3.3937278368794278E-4,1.4786957003546095E-3,2.6180186170212763E-3,null,null,null,0,7.2722739361702178E-4,1.4544547872340436E-3,2.1816821808510675E-3,2.9089095744680871E-3,3.6361369680851068E-3,4.363364361702135E-3,5.090591755319146E-3,5.8178191489361743E-3,5.8178191489361743E-3,2.6665004432624073E-3,-4.848182624113428E-4,-3.6361369680851068E-3,-6.7874556737588659E-3,-9.9387743794326251E-3,-1.3090093085106384E-2,-1.6241411790780154E-2,-1.9392730496453906E-2,-1.9392730496453906E-2,-7.9995013297872383E-3,3.3937278368794278E-3,1.4786957003546096E-2,2.6180186170212762E-2,null,null,null,null,null,null,null,null,null,null,null,null,null,null,null,null,null,null,null,null,null,null,null,null,null,null,null,null,null,null,null,null,null,null,null,null,0,1.1931074426529248E-5,2.2725856050531917E-5,3.1248052069481427E-5,3.6361369680851089E-5,3.6929516082114433E-5,3.1816198470744662E-5,1.9885124044215414E-5,0,0,-4.4741529099484654E-5,-9.8857473819813889E-5,-1.5126897933635298E-4,-1.9089719082446797E-4,-2.0666325345952469E-4,-1.8748831241688829E-4,-1.2229351287192488E-4,0,0,1.8194888500457112E-4,3.9202101687167549E-4,5.9016207431225056E-4,7.3631773603723399E-4,null,0,1.1931074426529248E-3,2.2725856050531917E-3,3.1248052069481427E-3,3.6361369680851089E-3,3.6929516082114433E-3,3.1816198470744662E-3,1.9885124044215414E-3,0,0,-4.4741529099484659E-3,-9.8857473819813895E-3,-1.5126897933635298E-2,-1.9089719082446797E-2,-2.0666325345952467E-2,-1.8748831241688829E-2,-1.2229351287192488E-2,0,0,1.8194888500457113E-2,3.9202101687167548E-2,5.9016207431225057E-2,7.3631773603723402E-2]
[null,null,{"$f":"+C68+1","v":1},0,0.34388007847129876,0.55464074966755317,0.62937093964705226,0.59771165780141844,0.48930391352227393,0.33378871620124106,0.16080707522994234,0,0,-0.17270230232401099,-0.26623340363198139,-0.29550714695707281,-0.27543737533244678,-0.22093793179126497,-0.14692265936668883,-6.8305401091879978E-2,0,0,4.6232913402800863E-2,7.1245558718417548E-2,7.9043368075756307E-2,7.3631773603723402E-2,-0.29719359485815605,0.11587156471631206,-3.1028368794326248E-2,null,null,null,null,null,null,null,null,null,null,null,null,null,null,null,null,null,null,null,null,null,null,null,null,null,null,null,null,null,null,null,null,null,null,null,null,null,null,null,null,null,null,null,null,null,null,null,null,null,null,null,null,null,null,null,null,null,null,null,null,null,null,null,null,null,null,null,null,null,null,null,null,null,null,null,null,null,null,null,null,null,null,null,null,null,null,null,null,null,null,null,null,null,null,null,null,null,null,null,null,null,null,null,null,null,null,null,null,null,null,null,null,null,null,null,null,null,null,null,40,null,1,0,0,null,null,null,null,0,0,0,0,null,0,null,0,null,0,null,0,null,0,null,0,null,0,null,0,null,null,0,0,0,0,0,null,null,0,0,0,0,0,null,null,0,0,0,0,0,null,null,0,0,0,0,0,null,null,0,0,0,0,0,null,null,null,null,null,null,null,null,null,null,null,null,null,null,null,null,null,null,null,null,null,null,null,null,null,null,null,null,null,null,null,null,null,null,null,null,null,null,null,null,null,null,null,null,null,null,0,0,0,0,0,0,0,0,0,0,0,0,0,0,0,0,0,0,0,0,0,0,0,null,null,null,0,0,0,0,0,0,0,0,0,0,0,0,0,0,0,0,0,0,0,0,0,0,0,null,null,null,null,null,null,null,null,null,null,null,null,null,null,null,null,null,null,null,null,null,null,null,null,null,null,null,null,null,null,null,null,null,null,null,null,0,0,0,0,0,0,0,0,0,0,0,0,0,0,0,0,0,0,0,0,0,0,0,null,0,0,0,0,0,0,0,0,0,0,0,0,0,0,0,0,0,0,0,0,0,0,0]
[null,null,2,0,0.55464074966755317,0.97275321365248235,1.1503611896054964,1.1136968085106382,0.92154428468528371,0.63268783244680837,0.30591166611258858,0,0,-0.32895676633144944,-0.50711124501329774,-0.56287075610871007,-0.52464261968085102,-0.42083415579288541,-0.27985268450797862,-0.13010552588929516,0,0,8.8062692195811226E-2,0.13570582613031923,0.15055879633477404,0.14025099734042562,-0.46191637115839246,0.22070774231678486,-5.9101654846335651E-2]
[null,null,3,0,0.62937093964705226,1.1503611896054966,1.4545900601867243,1.4662289450354611,1.2396575711297653,0.86180774878102839,0.41961128830064276,0,0,-0.45231555370574317,-0.69727796189328473,-0.77394728964947668,-0.72138360206117058,-0.578646964215218,-0.38479744119847109,-0.17889509809778112,0,0,0.12108620176924015,0.1865955109291885,0.20701834496031374,0.19284512134308471,-0.51794751034278952,0.30347314568557926,-8.1264775413711743E-2]
[null,null,4,0,0.59771165780141844,1.1136968085106382,1.4662289450354611,1.5735815602836878,1.3865802304964541,0.98625886524822681,0.48620345744680843,0,0,-0.52633082613031934,-0.81137799202127669,-0.90059320977393631,-0.83942819148936187,-0.6733346492686173,-0.44776429521276617,-0.20816884142287251,0,0,0.1409003075132978,0.21712932180851055,0.24089407413563821,0.22440159574468077,-0.48906619385342787,0.35313238770685584,-9.4562647754137225E-2,null,null,null,null,null,null,null,null,null,null,null,null,null,null,null,null,null,null,null,null,null,null,null,null,null,null,null,null,null,null,null,null,null,null,null,null,null,null,null,null,null,null,null,null,null,null,null,null,null,null,null,null,null,null,null,null,null,null,null,null,null,null,null,null,null,null,null,null,null,null,null,null,null,null,null,null,null,null,null,null,null,null,null,null,null,null,null,null,null,null,null,null,null,null,null,null,null,null,null,null,null,null,null,null,null,null,null,null,null,null,null,null,null,null,null,null,null,null,null,null,null,null,null,null,null,null,null,null,null,null,null,null,null,null,null,null,null,null,null,null,null,null,null,null,null,null,null,null,null,null,null,null,null,null,null,null,null,null,null,null,null,null,null,null,null,null,null,null,null,null,null,null,null,null,null,null,null,null,null,null,null,null,null,null,null,null,null,null,null,null,null,null,null,null,null,null,null,null,null,null,null,null,null,null,null,null,null,null,null,null,null,null,null,null,null,null,null,null,null,null,null,null,null,null,null,null,null,null,1,{"$f":"+HZ5/2","v":0},{"$f":"+IA5/2","v":5.46875E-2},9.375E-2,0.1171875,0.125,0.1171875,9.375E-2,5.46875E-2,0,null,null,null,null,null,null,null,null,null,null,null,null,null,null,null,null,null,null,null,null,null,null,null,null,null,null,null,null,null,null,null,null,null,null,null,null,null,null,null,null,null,null,null,null,null,null,null,null,null,null,null,null,null,null,null,null,null,null,null,null,null,null,null,null,null,null,null,null,null,null,null,null,null,null,null,1,{"$f":"+(HZ$4*(0.5*HZ$3^2-0.5*HZ$3^2*HZ$4^2-0.25*HZ$3^4)+HZ$3*(0.5*HZ$4^2-0.5*HZ$3^2*HZ$4^2-0.25*HZ$4^4))/6","v":0},5.055745442708333E-3,9.27734375E-3,1.2054443359375E-2,1.3020833333333334E-2,1.2054443359375E-2,9.27734375E-3,5.055745442708333E-3,0]
[null,null,5,0,0.48930391352227393,0.92154428468528371,1.239657571129765,1.3865802304964538,1.3052487204260861,0.97115158189273054,0.48998568920378988,0,0,-0.53455474528860525,-0.82405577314660883,-0.91466497867665375,-0.8525442569813827,-0.68385550316343879,-0.45476061232546522,-0.2114214795701046,0,0,0.14310187481819325,0.22052196746176878,0.24465804404400779,0.22790787067819163,-0.39905160313238769,0.35865008126477538,-9.6040189125295439E-2,null,null,null,null,null,null,null,null,null,null,null,null,null,null,null,null,null,null,null,null,null,null,null,null,null,null,null,null,null,null,null,null,null,null,null,null,null,null,null,null,null,null,null,null,null,null,null,null,null,null,null,null,null,null,null,null,null,null,null,null,null,null,null,null,null,null,null,null,null,null,null,null,null,null,null,null,null,null,null,null,null,null,null,null,null,null,null,null,null,null,null,null,null,null,null,null,null,null,null,null,null,null,null,null,null,null,null,null,null,null,null,null,null,null,null,null,null,null,null,null,null,null,null,null,null,null,null,null,null,null,null,null,null,null,null,null,null,null,null,null,null,null,null,null,null,null,null,null,null,null,null,null,null,null,null,null,null,null,null,null,null,null,null,null,null,null,null,null,null,null,null,null,null,null,null,null,null,null,null,null,null,null,null,null,null,null,null,null,null,null,null,null,null,null,null,null,null,null,null,null,null,null,null,null,null,null,null,null,null,null,null,null,null,null,null,null,null,null,null,null,null,null,null,null,null,null,null,null,2,null,null,null,null,null,null,null,null,null,{"$f":"+II5/2*Input!$B$1^2","v":0},{"$f":"+IJ5/2*Input!$B$1^2","v":0.123046875},{"$f":"+IK5/2*Input!$B$1^2","v":0.2109375},{"$f":"+IL5/2*Input!$B$1^2","v":0.263671875},{"$f":"+IM5/2*Input!$B$1^2","v":0.28125},{"$f":"+IN5/2*Input!$B$1^2","v":0.263671875},{"$f":"+IO5/2*Input!$B$1^2","v":0.2109375},{"$f":"+IP5/2*Input!$B$1^2","v":0.123046875},{"$f":"+IQ5/2*Input!$B$1^2","v":0},null,null,null,null,null,null,null,null,null,null,null,null,null,null,null,null,null,null,null,null,null,null,null,null,null,null,null,null,null,null,null,null,null,null,null,null,null,null,null,null,null,null,null,null,null,null,null,null,null,null,null,null,null,null,null,null,null,null,null,null,null,null,null,null,null,null,2,null,null,null,null,null,null,null,null,null,{"$f":"+(II$4*(0.5*II$3^2-0.5*II$3^2*II$4^2-0.25*II$3^4)+II$3*(0.5*II$4^2-0.5*II$3^2*II$4^2-0.25*II$4^4))/6*Input!$B$1^4","v":0},{"$f":"+(IJ$4*(0.5*IJ$3^2-0.5*IJ$3^2*IJ$4^2-0.25*IJ$3^4)+IJ$3*(0.5*IJ$4^2-0.5*IJ$3^2*IJ$4^2-0.25*IJ$4^4))/6*Input!$B$1^4","v":2.5594711303710938E-2},{"$f":"+(IK$4*(0.5*IK$3^2-0.5*IK$3^2*IK$4^2-0.25*IK$3^4)+IK$3*(0.5*IK$4^2-0.5*IK$3^2*IK$4^2-0.25*IK$4^4))/6*Input!$B$1^4","v":4.6966552734375E-2},{"$f":"+(IL$4*(0.5*IL$3^2-0.5*IL$3^2*IL$4^2-0.25*IL$3^4)+IL$3*(0.5*IL$4^2-0.5*IL$3^2*IL$4^2-0.25*IL$4^4))/6*Input!$B$1^4","v":6.1025619506835938E-2},{"$f":"+(IM$4*(0.5*IM$3^2-0.5*IM$3^2*IM$4^2-0.25*IM$3^4)+IM$3*(0.5*IM$4^2-0.5*IM$3^2*IM$4^2-0.25*IM$4^4))/6*Input!$B$1^4","v":6.591796875E-2},{"$f":"+(IN$4*(0.5*IN$3^2-0.5*IN$3^2*IN$4^2-0.25*IN$3^4)+IN$3*(0.5*IN$4^2-0.5*IN$3^2*IN$4^2-0.25*IN$4^4))/6*Input!$B$1^4","v":6.1025619506835938E-2},{"$f":"+(IO$4*(0.5*IO$3^2-0.5*IO$3^2*IO$4^2-0.25*IO$3^4)+IO$3*(0.5*IO$4^2-0.5*IO$3^2*IO$4^2-0.25*IO$4^4))/6*Input!$B$1^4","v":4.6966552734375E-2},{"$f":"+(IP$4*(0.5*IP$3^2-0.5*IP$3^2*IP$4^2-0.25*IP$3^4)+IP$3*(0.5*IP$4^2-0.5*IP$3^2*IP$4^2-0.25*IP$4^4))/6*Input!$B$1^4","v":2.5594711303710938E-2},{"$f":"+(IQ$4*(0.5*IQ$3^2-0.5*IQ$3^2*IQ$4^2-0.25*IQ$3^4)+IQ$3*(0.5*IQ$4^2-0.5*IQ$3^2*IQ$4^2-0.25*IQ$4^4))/6*Input!$B$1^4","v":0}]
[null,null,6,0,0.33378871620124106,0.63268783244680837,0.86180774878102839,0.98625886524822681,0.97115158189273054,0.78159629875886527,0.41525549922429078,0,0,-0.46053947286402919,-0.70995574301861686,-0.78801905855219401,-0.73449966755319129,-0.58916781811003982,-0.39179375831117003,-0.18214773624501326,0,0,0.12328776907413559,0.18998815658244672,0.21078231486868337,0.19635139627659556,-0.2716829196217494,0.30899083924349879,-8.2742316784869943E-2,null,null,null,null,null,null,null,null,null,null,null,null,null,null,null,null,null,null,null,null,null,null,null,null,null,null,null,null,null,null,null,null,null,null,null,null,null,null,null,null,null,null,null,null,null,null,null,null,null,null,null,null,null,null,null,null,null,null,null,null,null,null,null,null,null,null,null,null,null,null,null,null,null,null,null,null,null,null,null,null,null,null,null,null,null,null,null,null,null,null,null,null,null,null,null,null,null,null,null,null,null,null,null,null,null,null,null,null,null,null,null,null,null,null,null,null,null,null,null,null,null,null,null,null,null,null,null,null,null,null,null,null,null,null,null,null,null,null,null,null,null,null,null,null,null,null,null,null,null,null,null,null,null,null,null,null,null,null,null,null,null,null,null,null,null,null,null,null,null,null,null,null,null,null,null,null,null,null,null,null,null,null,null,null,null,null,null,null,null,null,null,null,null,null,null,null,null,null,null,null,null,null,null,null,null,null,null,null,null,null,null,null,null,null,null,null,null,null,null,null,null,null,null,null,null,null,null,null,3,null,null,null,null,null,null,null,null,null,null,null,null,null,null,null,null,null,null,{"$f":"+IR5/2*Input!$B$1^2","v":0},{"$f":"+IS5/2*Input!$B$1^2","v":0.123046875},{"$f":"+IT5/2*Input!$B$1^2","v":0.2109375},{"$f":"+IU5/2*Input!$B$1^2","v":0.263671875},{"$f":"+IV5/2*Input!$B$1^2","v":0.28125},null,null,null,null,null,null,null,null,null,null,null,null,null,null,null,null,null,null,null,null,null,null,null,null,null,null,null,null,null,null,null,null,null,null,null,null,null,null,null,null,null,null,null,null,null,null,null,null,null,null,null,null,null,null,null,null,null,null,null,null,null,3,null,null,null,null,null,null,null,null,null,null,null,null,null,null,null,null,null,null,{"$f":"+(IR$4*(0.5*IR$3^2-0.5*IR$3^2*IR$4^2-0.25*IR$3^4)+IR$3*(0.5*IR$4^2-0.5*IR$3^2*IR$4^2-0.25*IR$4^4))/6*Input!$B$1^4","v":0},{"$f":"+(IS$4*(0.5*IS$3^2-0.5*IS$3^2*IS$4^2-0.25*IS$3^4)+IS$3*(0.5*IS$4^2-0.5*IS$3^2*IS$4^2-0.25*IS$4^4))/6*Input!$B$1^4","v":2.5594711303710938E-2},{"$f":"+(IT$4*(0.5*IT$3^2-0.5*IT$3^2*IT$4^2-0.25*IT$3^4)+IT$3*(0.5*IT$4^2-0.5*IT$3^2*IT$4^2-0.25*IT$4^4))/6*Input!$B$1^4","v":4.6966552734375E-2},{"$f":"+(IU$4*(0.5*IU$3^2-0.5*IU$3^2*IU$4^2-0.25*IU$3^4)+IU$3*(0.5*IU$4^2-0.5*IU$3^2*IU$4^2-0.25*IU$4^4))/6*Input!$B$1^4","v":6.1025619506835938E-2},{"$f":"+(IV$4*(0.5*IV$3^2-0.5*IV$3^2*IV$4^2-0.25*IV$3^4)+IV$3*(0.5*IV$4^2-0.5*IV$3^2*IV$4^2-0.25*IV$4^4))/6*Input!$B$1^4","v":6.591796875E-2}]
[null,null,7,0,0.16080707522994234,0.30591166611258863,0.41961128830064276,0.48620345744680854,0.48998568920378993,0.41525549922429084,0.24631040316101505,0,0,-0.28783717054001834,-0.44372233938663574,-0.49251191159512153,-0.45906229222074474,-0.36822988631877507,-0.24487109894448159,-0.1138423351531334,0,0,7.705485567133466E-2,0.1187425978640291,0.131738946792927,0.12271962267287216,-0.13073932476359337,0.19311927452718675,-5.1713947990543796E-2,null,null,null,null,null,null,null,null,null,null,null,null,null,null,null,null,null,null,null,null,null,null,null,null,null,null,null,null,null,null,null,null,null,null,null,null,null,null,null,null,null,null,null,null,null,null,null,null,null,null,null,null,null,null,null,null,null,null,null,null,null,null,null,null,null,null,null,null,null,null,null,null,null,null,null,null,null,null,null,null,null,null,null,null,null,null,null,null,null,null,null,null,null,null,null,null,null,null,null,null,null,null,null,null,null,null,null,null,null,null,null,null,null,null,null,null,null,null,null,null,null,null,null,null,null,null,null,null,null,null,null,null,null,null,null,null,null,null,null,null,null,null,null,null,null,null,null,null,null,null,null,null,null,null,null,null,null,null,null,null,null,null,null,null,null,null,null,null,null,null,null,null,null,null,null,null,null,null,null,null,null,null,null,null,null,null,null,null,null,null,null,null,null,null,null,null,null,null,null,null,null,null,null,null,null,null,null,null,null,null,null,null,null,null,null,null,null,null,null,null,null,null,null,null,null,null,null,null,4,null,null,null,null,null,null,null,null,null,null,null,null,null,null,null,null,null,null,null,null,null,null,null,null,null,null,null,null,null,null,null,null,null,null,null,null,null,null,null,null,null,null,null,null,null,null,null,null,null,null,null,null,null,null,null,null,null,null,null,null,null,null,null,null,null,null,null,null,null,null,null,null,null,null,null,null,null,null,null,null,null,null,null,null,4]
[null,null,8,0,0,0,0,0,0,0,0,0,0,0,0,0,0,0,0,0,0,0,0,0,0,0,0,0,0,null,null,null,null,null,null,null,null,null,null,null,null,null,null,null,null,null,null,null,null,null,null,null,null,null,null,null,null,null,null,null,null,null,null,null,null,null,null,null,null,null,null,null,null,null,null,null,null,null,null,null,null,null,null,null,null,null,null,null,null,null,null,null,null,null,null,null,null,null,null,null,null,null,null,null,null,null,null,null,null,null,null,null,null,null,null,null,null,null,null,null,null,null,null,null,null,null,null,null,null,null,null,null,null,null,null,null,null,null,null,null,null,null,null,null,null,null,null,null,null,null,null,null,null,null,null,null,null,null,null,null,null,null,null,null,null,null,null,null,null,null,null,null,null,null,null,null,null,null,null,null,null,null,null,null,null,null,null,null,null,null,null,null,null,null,null,null,null,null,null,null,null,null,null,null,null,null,null,null,null,null,null,null,null,null,null,null,null,null,null,null,null,null,null,null,null,null,null,null,null,null,null,null,null,null,null,null,null,null,null,null,null,null,null,null,null,null,null,null,null,null,null,null,null,null,null,null,null,5,null,null,null,null,null,null,null,null,null,null,null,null,null,null,null,null,null,null,null,null,null,null,null,null,null,null,null,null,null,null,null,null,null,null,null,null,null,null,null,null,null,null,null,null,null,null,null,null,null,null,null,null,null,null,null,null,null,null,null,null,null,null,null,null,null,null,null,null,null,null,null,null,null,null,null,null,null,null,null,null,null,null,null,null,5]
[null,null,{"$f":"+C76","v":8},0,0,0,0,0,0,0,0,0,0,0,0,0,0,0,0,0,0,0,0,0,0,0,0,0,0]
[null,null,{"$f":"+C77+1","v":9},0,-0.17270230232401099,-0.32895676633144949,-0.452315553705743,-0.52633082613031912,-0.53455474528860547,-0.4605394728640293,-0.28783717054001828,0,0,0.57403381834638867,0.95202669184258659,1.0813297109400968,1.0191572473404256,0.82272367274507563,0.54924335885555142,0.25593067737335834,0,0,-0.17337342526050326,-0.26717084519406586,-0.29641263028408621,-0.27611915101396278,0.1403548869680851,-0.28070977393617019,0.11635638297872339,null,null,null,null,null,null,null,null,null,null,null,null,null,null,null,null,null,null,null,null,null,null,null,null,null,null,null,null,null,null,null,null,null,null,null,null,null,null,null,null,null,null,null,null,null,null,null,null,null,null,null,null,null,null,null,null,null,null,null,null,null,null,null,null,null,null,null,null,null,null,null,null,null,null,null,null,null,null,null,null,null,null,null,null,null,null,null,null,null,null,null,null,null,null,null,null,null,null,null,null,null,null,null,null,null,null,null,null,null,null,null,null,null,null,null,null,null,null,null,null,null,null,null,null,null,null,null,"Span","Fx(1)","Fx(2)","Fx(3)","Fx(4)"]
[null,null,10,0,-0.26623340363198139,-0.50711124501329785,-0.69727796189328461,-0.81137799202127647,-0.82405577314660916,-0.70995574301861708,-0.44372233938663569,0,0,0.95202669184258659,1.8351453415890957,2.2339110678814817,2.1723321143617018,1.7842800059217085,1.2036262674534572,0.56424242384890255,0,0,-0.38307271105177865,-0.59032034366688846,-0.65493076405626682,-0.61009183843085124,0.21636746453900707,-0.43273492907801414,0.25709219858156029,null,null,null,null,null,null,null,null,null,null,null,null,null,null,null,null,null,null,null,null,null,null,null,null,null,null,null,null,null,null,null,null,null,null,null,null,null,null,null,null,null,null,null,null,null,null,null,null,null,null,null,null,null,null,null,null,null,null,null,null,null,null,null,null,null,null,null,null,null,null,null,null,null,null,null,null,null,null,null,null,null,null,null,null,null,null,null,null,null,null,null,null,null,null,null,null,null,null,null,null,null,null,null,null,null,null,null,null,null,null,null,null,null,null,null,null,null,null,null,null,null,null,null,null,null,null,null,1,{"$f":"+(-EI19*$EK$14+EK19*$EK$12)/($EI$12*$EK$14-$EI$14*$EK$12)/2","v":-2.6595744680851064E-2},{"$f":"+(-EJ19*$EL$15+EL19*$EL$13)/($EJ$13*$EL$15-$EJ$15*$EL$13)/2","v":-2.7777777777777776E-2},{"$f":"-(EI19/2+$EI$12*FB79)/$EK$12","v":5.3191489361702109E-3},{"$f":"-(EJ19/2+$EJ$13*FC79)/$EL$13","v":9.2592592592592639E-3},0.5,{"$f":"FF79+FG$17*$FB79+FG$18*$FC79+FG$19*$FD79+FG$20*$FE79","v":0.44562647754137114},0.5,{"$f":"FH79+FI$17*$FB79+FI$18*$FC79+FI$19*$FD79+FI$20*$FE79","v":0.60034147622800105},null,{"$f":"FJ79+FK$17*$FB79+FK$18*$FC79+FK$19*$FD79+FK$20*$FE79","v":-5.8313632781717889E-2},-0.5,{"$f":"FL79+FM$17*$FB79+FM$18*$FC79+FM$19*$FD79+FM$20*$FE79","v":-0.55437352245862881},null,{"$f":"FN79+FO$17*$FB79+FO$18*$FC79+FO$19*$FD79+FO$20*$FE79","v":4.5967953769372211E-2},null,{"$f":"FP79+FQ$17*$FB79+FQ$18*$FC79+FQ$19*$FD79+FQ$20*$FE79","v":4.5967953769372211E-2},null,{"$f":"FR79+FS$17*$FB79+FS$18*$FC79+FS$19*$FD79+FS$20*$FE79","v":-1.2345679012345685E-2},null,{"$f":"FT79+FU$17*$FB79+FU$18*$FC79+FU$19*$FD79+FU$20*$FE79","v":-1.2345679012345685E-2},null,-4.1666666666666664E-2,{"$f":"+FX$20*$FB79","v":4.4326241134751768E-3},{"$f":"+FY$20*$FC79","v":4.6296296296296294E-3},{"$f":"+FZ$20*$FD79","v":0},{"$f":"+GA$20*$FE79","v":0},{"$f":"+SUM(FW79:GA79)","v":-3.2604412923561858E-2},null,4.1666666666666664E-2,{"$f":"+GE$20*$FB79","v":-8.8652482269503535E-3},{"$f":"+GF$20*$FC79","v":-9.2592592592592587E-3},{"$f":"+GG$20*$FD79","v":0},{"$f":"+GH$20*$FE79","v":0},{"$f":"+SUM(GD79:GH79)","v":2.3542159180457052E-2},null,null,{"$f":"+GL$20*$FB79","v":1.3297872340425532E-2},{"$f":"+GM$20*$FC79","v":1.3888888888888888E-2},{"$f":"+GN$20*$FD79","v":-1.3297872340425527E-3},{"$f":"+GO$20*$FE79","v":-2.314814814814816E-3},{"$f":"+SUM(GK79:GO79)","v":2.3542159180457052E-2},null,null,{"$f":"+GS$20*$FB79","v":-6.648936170212766E-3},{"$f":"+GT$20*$FC79","v":-6.9444444444444441E-3},{"$f":"+GU$20*$FD79","v":2.6595744680851055E-3},{"$f":"+GV$20*$FE79","v":4.629629629629632E-3},{"$f":"+SUM(GR79:GV79)","v":-6.3041765169424722E-3},null,null,{"$f":"+GZ$20*$FB79","v":0},{"$f":"+HA$20*$FC79","v":0},{"$f":"+HB$20*$FD79","v":-3.9893617021276584E-3},{"$f":"+HC$20*$FE79","v":-2.314814814814816E-3},{"$f":"+SUM(GY79:HC79)","v":-6.3041765169424748E-3},null,null,null,null,null,null,null,null,null,null,null,null,null,null,null,null,null,null,null,null,null,null,null,null,null,null,null,null,null,null,null,null,null,null,null,null,null,null,null,null,null,null,null,null,null,null,{"$f":"+IY72+HZ$6*$FB79+HZ$7*$FC79+HZ$8*$FD79+HZ$9*$FE79","v":0},4.7890809692671392E-2,8.0156619385342784E-2,9.6797429078014183E-2,9.7813238770685568E-2,8.3204048463356967E-2,5.2969858156028379E-2,7.1106678486997643E-3,-5.4373522458628837E-2,-5.4373522458628837E-2,{"$f":"+JI72+IJ$6*$FB79+IJ$7*$FC79+IJ$8*$FD79+IJ$9*$FE79","v":-4.5754531126871556E-2},-3.7135539795114261E-2,-2.8516548463356974E-2,-1.9897557131599679E-2,-1.1278565799842396E-2,-2.6595744680851033E-3,5.9594168636721862E-3,1.4578408195429476E-2,1.4578408195429476E-2,1.2263593380614658E-2,{"$f":"+JS72+IT$6*$FB79+IT$7*$FC79+IT$8*$FD79+IT$9*$FE79","v":9.9487785657998429E-3},7.6339637509850265E-3,5.3191489361702109E-3,null,null,null,{"$f":"+IY79*10","v":0},0.47890809692671393,0.80156619385342787,0.96797429078014185,0.97813238770685573,0.83204048463356961,0.52969858156028382,7.1106678486997643E-2,-0.54373522458628831,-0.54373522458628831,-0.45754531126871556,-0.37135539795114259,-0.28516548463356972,-0.1989755713159968,{"$f":"+JM79*10","v":-0.11278565799842397},-2.6595744680851033E-2,5.9594168636721859E-2,0.14578408195429476,{"$f":"+JQ79*10","v":0.14578408195429476},{"$f":"+JR79*10","v":0.12263593380614657},{"$f":"+JS79*10","v":9.9487785657998429E-2},{"$f":"+JT79*10","v":7.6339637509850261E-2},{"$f":"+JU79*10","v":5.3191489361702107E-2},null,null,null,null,null,null,null,null,null,null,null,null,null,null,null,null,null,null,null,null,null,null,null,null,null,null,null,null,null,null,null,null,null,null,null,null,{"$f":"+MF72+HZ$11*$FB79+HZ$12*$FC79+HZ$13*$FD79+HZ$14*$FE79","v":0},3.940663439162234E-3,7.1533780289598121E-3,9.1339904929447387E-3,9.6224881796690316E-3,8.6029990626846926E-3,6.3037917405437353E-3,3.1972754367981674E-3,0,0,{"$f":"+MP72+IJ$11*$FB79+IJ$12*$FC79+IJ$13*$FD79+IJ$14*$FE79","v":-3.5088721742021272E-3},-5.4091866134751768E-3,-6.0039547318262417E-3,-5.5961879432624116E-3,-4.4888976617907805E-3,-2.9850953014184398E-3,-1.3877922761524821E-3,0,0,9.3933538342198569E-4,{"$f":"+MZ72+IT$11*$FB79+IT$12*$FC79+IT$13*$FD79+IT$14*$FE79","v":1.4475288120567374E-3},1.6059604942375884E-3,1.4960106382978719E-3,null,{"$f":"+MF79*100","v":0},{"$f":"+MG79*100","v":0.39406634391622342},0.71533780289598126,0.91339904929447391,0.9622488179669032,0.86029990626846931,0.63037917405437349,0.31972754367981676,0,0,-0.35088721742021273,-0.54091866134751765,-0.60039547318262421,-0.55961879432624118,-0.44888976617907805,-0.298509530141844,-0.13877922761524822,0,0,9.3933538342198572E-2,0.14475288120567373,0.16059604942375882,0.14960106382978719]
[null,null,11,0,-0.29550714695707281,-0.56287075610871018,-0.77394728964947646,-0.90059320977393631,-0.91466497867665408,-0.78801905855219423,-0.49251191159512142,0,0,1.0813297109400968,2.2339110678814817,3.0224120363276055,3.1213638630319158,2.6447509197478603,1.81642085947889,0.86022133522845345,0,0,-0.58616729492836783,-0.90329190517993641,-1.0021569881033383,-0.93354570104720658,0.24015818927304963,-0.48031637854609927,0.39339539007092206,null,null,null,null,null,null,null,null,null,null,null,null,null,null,null,null,null,null,null,null,null,null,null,null,null,null,null,null,null,null,null,null,null,null,null,null,null,null,null,null,null,null,null,null,null,null,null,null,null,null,null,null,null,null,null,null,null,null,null,null,null,null,null,null,null,null,null,null,null,null,null,null,null,null,null,null,null,null,null,null,null,null,null,null,null,null,null,null,null,null,null,null,null,null,null,null,null,null,null,null,null,null,null,null,null,null,null,null,null,null,null,null,null,null,null,null,null,null,null,null,null,null,null,null,null,null,null,2,{"$f":"+(-EI20*$EK$14+EK20*$EK$12)/($EI$12*$EK$14-$EI$14*$EK$12)/2","v":-7.1808510638297879E-2},{"$f":"+(-EJ20*$EL$15+EL20*$EL$13)/($EJ$13*$EL$15-$EJ$15*$EL$13)/2","v":-6.25E-2},{"$f":"-(EI20/2+$EI$12*FB80)/$EK$12","v":-4.188829787234042E-2},{"$f":"-(EJ20/2+$EJ$13*FC80)/$EL$13","v":-7.2916666666666671E-2},null,{"$f":"FF80+FG$17*$FB80+FG$18*$FC80+FG$19*$FD80+FG$20*$FE80","v":-0.13430851063829788},{"$f":"0.5*Input!B1","v":0.75},{"$f":"FH80+FI$17*$FB80+FI$18*$FC80+FI$19*$FD80+FI$20*$FE80","v":0.89731087470449156},{"$f":"0.5*Input!B1","v":0.75},{"$f":"FJ80+FK$17*$FB80+FK$18*$FC80+FK$19*$FD80+FK$20*$FE80","v":0.8342198581560285},null,{"$f":"FL80+FM$17*$FB80+FM$18*$FC80+FM$19*$FD80+FM$20*$FE80","v":-0.13430851063829788},{"$f":"0.5*Input!B1","v":0.75},{"$f":"FN80+FO$17*$FB80+FO$18*$FC80+FO$19*$FD80+FO$20*$FE80","v":0.76300236406619371},{"$f":"-0.5*Input!B1","v":-0.75},{"$f":"FP80+FQ$17*$FB80+FQ$18*$FC80+FQ$19*$FD80+FQ$20*$FE80","v":-0.73699763593380629},null,{"$f":"FR80+FS$17*$FB80+FS$18*$FC80+FS$19*$FD80+FS$20*$FE80","v":9.7222222222222224E-2},null,{"$f":"FT80+FU$17*$FB80+FU$18*$FC80+FU$19*$FD80+FU$20*$FE80","v":9.7222222222222224E-2},null,null,1.1968085106382979E-2,1.0416666666666666E-2,0,0,2.2384751773049646E-2,null,null,-2.3936170212765957E-2,-2.0833333333333332E-2,0,0,-4.4769503546099293E-2,null,{"$f":"-0.0416666666666667*Input!B1^3","v":-0.14062500000000011},3.5904255319148939E-2,3.125E-2,1.0472074468085105E-2,1.8229166666666668E-2,-4.476950354609939E-2,null,{"$f":"0.0416666666666667*Input!B1^3","v":0.14062500000000011},-1.795212765957447E-2,-1.5625E-2,-2.094414893617021E-2,-3.6458333333333336E-2,4.9645390070922106E-2,null,null,0,0,3.1416223404255317E-2,1.8229166666666668E-2,4.9645390070921988E-2,null,null,null,null,null,null,null,null,null,null,null,null,null,null,null,null,null,null,null,null,null,null,null,null,null,null,null,null,null,null,null,null,null,null,null,null,null,null,null,null,null,null,null,null,null,null,0,-1.6788563829787235E-2,-3.357712765957447E-2,-5.0365691489361708E-2,-6.7154255319148939E-2,-8.3942819148936171E-2,-0.10073138297872342,-0.11751994680851065,-0.13430851063829788,-0.13430851063829788,-8.8236923758865347E-3,8.1504875886524802E-2,0.13667719414893617,0.15669326241134751,0.14155308067375888,9.125664893617022E-2,5.8039671985815611E-3,-0.1148049645390071,-0.1148049645390071,-9.6575797872340413E-2,-7.8346631205673756E-2,-6.0117464539007084E-2,-4.188829787234042E-2,null,null,null,0,-0.16788563829787234,-0.33577127659574468,-0.50365691489361708,-0.67154255319148937,-0.83942819148936176,-1.0073138297872342,-1.1751994680851066,-1.3430851063829787,-1.3430851063829787,-8.8236923758865354E-2,0.81504875886524797,1.3667719414893618,1.5669326241134751,1.4155308067375887,0.91256648936170226,5.8039671985815611E-2,-1.148049645390071,-1.148049645390071,-0.96575797872340408,-0.78346631205673756,-0.60117464539007082,-0.41888297872340419,null,null,null,null,null,null,null,null,null,null,null,null,null,null,null,null,null,null,null,null,null,null,null,null,null,null,null,null,null,null,null,null,null,null,null,null,0,-2.754373753324468E-3,-5.2464261968085107E-3,-7.2138360206117028E-3,-8.3942819148936174E-3,-8.5254425698138292E-3,-7.3449966755319155E-3,-4.5906229222074466E-3,0,0,9.968412683365192E-3,2.0350030127992018E-2,2.796923860590509E-2,3.0886386303191488E-2,2.8397783320000834E-2,2.1035701670545217E-2,1.0568375283099233E-2,0,0,-7.3972661444481379E-3,-1.1399289394946808E-2,-1.2646938892121009E-2,-1.1781083776595744E-2,null,{"$f":"+MF80*100","v":0},-0.27543737533244678,-0.52464261968085102,-0.72138360206117025,-0.83942819148936176,-0.85254425698138292,-0.73449966755319152,-0.45906229222074468,0,0,0.9968412683365192,2.0350030127992018,2.7969238605905091,3.0886386303191489,2.8397783320000833,2.1035701670545217,1.0568375283099234,0,0,-0.7397266144448138,-1.1399289394946808,-1.2646938892121009,-1.1781083776595744]
[null,null,12,0,-0.27543737533244678,-0.52464261968085102,-0.72138360206117025,-0.83942819148936176,-0.85254425698138292,-0.73449966755319152,-0.45906229222074468,0,0,1.0191572473404253,2.1723321143617018,3.1213638630319154,3.5280917553191489,3.1642183344414896,2.2408992686170213,1.0791535073138296,0,0,-0.7397266144448138,-1.1399289394946808,-1.2646938892121009,-1.1781083776595744,0.22384751773049646,-0.44769503546099293,0.49645390070921996,null,null,null,null,null,null,null,null,null,null,null,null,null,null,null,null,null,null,null,null,null,null,null,null,null,null,null,null,null,null,null,null,null,null,null,null,null,null,null,null,null,null,null,null,null,null,null,null,null,null,null,null,null,null,null,null,null,null,null,null,null,null,null,null,null,null,null,null,null,null,null,null,null,null,null,null,null,null,null,null,null,null,null,null,null,null,null,null,null,null,null,null,null,null,null,null,null,null,null,null,null,null,null,null,null,null,null,null,null,null,null,null,null,null,null,null,null,null,null,null,null,null,null,null,null,null,null,3,{"$f":"+(-EI21*$EK$14+EK21*$EK$12)/($EI$12*$EK$14-$EI$14*$EK$12)/2","v":3.5904255319148939E-2},{"$f":"+(-EJ21*$EL$15+EL21*$EL$13)/($EJ$13*$EL$15-$EJ$15*$EL$13)/2","v":0},{"$f":"-(EI21/2+$EI$12*FB81)/$EK$12","v":-0.11968085106382979},{"$f":"-(EJ21/2+$EJ$13*FC81)/$EL$13","v":0},null,{"$f":"FF81+FG$17*$FB81+FG$18*$FC81+FG$19*$FD81+FG$20*$FE81","v":3.5904255319148939E-2},null,{"$f":"FH81+FI$17*$FB81+FI$18*$FC81+FI$19*$FD81+FI$20*$FE81","v":-0.1396276595744681},{"$f":"+FJ80","v":0.75},{"$f":"FJ81+FK$17*$FB81+FK$18*$FC81+FK$19*$FD81+FK$20*$FE81","v":0.85372340425531912},null,{"$f":"FL81+FM$17*$FB81+FM$18*$FC81+FM$19*$FD81+FM$20*$FE81","v":3.5904255319148939E-2},null,{"$f":"FN81+FO$17*$FB81+FO$18*$FC81+FO$19*$FD81+FO$20*$FE81","v":-0.10372340425531915},null,{"$f":"FP81+FQ$17*$FB81+FQ$18*$FC81+FQ$19*$FD81+FQ$20*$FE81","v":-0.10372340425531915},{"$f":"0.5*Input!B1","v":0.75},{"$f":"FR81+FS$17*$FB81+FS$18*$FC81+FS$19*$FD81+FS$20*$FE81","v":0.75},{"$f":"-FR81","v":-0.75},{"$f":"FT81+FU$17*$FB81+FU$18*$FC81+FU$19*$FD81+FU$20*$FE81","v":-0.75},null,null,-5.9840425531914893E-3,0,0,0,-5.9840425531914893E-3,null,null,1.1968085106382979E-2,0,0,0,1.1968085106382979E-2,null,null,-1.795212765957447E-2,0,2.9920212765957448E-2,0,1.1968085106382979E-2,null,null,8.9760638297872349E-3,0,-5.9840425531914897E-2,0,-5.0864361702127658E-2,null,{"$f":"-0.0416666666666667*Input!B1^3","v":-0.14062500000000011},0,0,8.9760638297872342E-2,0,-5.0864361702127769E-2,null,null,null,null,null,null,null,null,null,null,null,null,null,null,null,null,null,null,null,null,null,null,null,null,null,null,null,null,null,null,null,null,null,null,null,null,null,null,null,null,null,null,null,null,null,null,0,4.4880319148936174E-3,8.9760638297872349E-3,1.3464095744680852E-2,1.795212765957447E-2,2.2440159574468085E-2,2.6928191489361705E-2,3.1416223404255324E-2,3.5904255319148939E-2,3.5904255319148939E-2,1.6456117021276598E-2,-2.9920212765957438E-3,-2.2440159574468085E-2,-4.1888297872340427E-2,-6.1336436170212769E-2,-8.078457446808511E-2,-0.10023271276595745,-0.11968085106382979,-0.11968085106382979,3.3660239361702066E-3,9.1256648936170207E-2,0.14399102393617019,0.16156914893617019,null,null,null,0,4.4880319148936171E-2,8.9760638297872342E-2,0.13464095744680851,0.17952127659574468,0.22440159574468085,0.26928191489361702,0.31416223404255322,0.35904255319148937,0.35904255319148937,0.16456117021276598,-2.9920212765957438E-2,-0.22440159574468085,-0.4188829787234043,-0.61336436170212771,-0.80784574468085113,-1.0023271276595744,-1.196808510638298,-1.196808510638298,3.3660239361702066E-2,0.91256648936170204,1.4399102393617018,1.6156914893617018,null,null,null,null,null,null,null,null,null,null,null,null,null,null,null,null,null,null,null,null,null,null,null,null,null,null,null,null,null,null,null,null,null,null,null,null,0,7.363177360372341E-4,1.4025099734042553E-3,1.9284512134308512E-3,2.2440159574468087E-3,2.279078706781915E-3,1.9635139627659577E-3,1.2271962267287235E-3,0,0,-2.7611915101396272E-3,-6.1009183843085098E-3,-9.3354570104720765E-3,-1.1781083776595744E-2,-1.2754075070644948E-2,-1.1570707280585107E-2,-7.5472567943816486E-3,0,0,1.0868356582966256E-2,2.1721373213098402E-2,2.9469145105240194E-2,3.2257729388297872E-2,null,{"$f":"+MF81*100","v":0},7.3631773603723416E-2,0.14025099734042554,0.19284512134308512,0.22440159574468088,0.22790787067819152,0.19635139627659579,0.12271962267287236,0,0,-0.27611915101396273,-0.61009183843085102,-0.93354570104720769,-1.1781083776595744,-1.2754075070644948,-1.1570707280585106,-0.75472567943816482,0,0,1.0868356582966257,2.1721373213098403,2.9469145105240195,3.2257729388297873]
[null,null,13,0,-0.22093793179126495,-0.42083415579288569,-0.57864696421521777,-0.67333464926861708,-0.68385550316343913,-0.58916781811003993,-0.3682298863187749,0,0,0.82272367274507552,1.7842800059217088,2.6447509197478598,3.1642183344414891,3.1027641702205573,2.3303336285530247,1.1563250359068518,0,0,-0.80082010715565799,-1.2340748563725901,-1.3691440541693507,-1.2754075070644948,0.17955590647163119,-0.35911181294326239,0.53745567375886516,null,null,null,null,null,null,null,null,null,null,null,null,null,null,null,null,null,null,null,null,null,null,null,null,null,null,null,null,null,null,null,null,null,null,null,null,null,null,null,null,null,null,null,null,null,null,null,null,null,null,null,null,null,null,null,null,null,null,null,null,null,null,null,null,null,null,null,null,null,null,null,null,null,null,null,null,null,null,null,null,null,null,null,null,null,null,null,null,null,null,null,null,null,null,null,null,null,null,null,null,null,null,null,null,null,null,null,null,null,null,null,null,null,null,null,null,null,null,null,null,null,null,null,null,null,null,null,4,{"$f":"+(-EI22*$EK$14+EK22*$EK$12)/($EI$12*$EK$14-$EI$14*$EK$12)/2","v":-7.1808510638297879E-2},{"$f":"+(-EJ22*$EL$15+EL22*$EL$13)/($EJ$13*$EL$15-$EJ$15*$EL$13)/2","v":6.25E-2},{"$f":"-(EI22/2+$EI$12*FB82)/$EK$12","v":-4.188829787234042E-2},{"$f":"-(EJ22/2+$EJ$13*FC82)/$EL$13","v":7.2916666666666671E-2},null,{"$f":"FF82+FG$17*$FB82+FG$18*$FC82+FG$19*$FD82+FG$20*$FE82","v":-9.3085106382978788E-3},null,{"$f":"FH82+FI$17*$FB82+FI$18*$FC82+FI$19*$FD82+FI$20*$FE82","v":3.6199763593380632E-2},null,{"$f":"FJ82+FK$17*$FB82+FK$18*$FC82+FK$19*$FD82+FK$20*$FE82","v":-0.12411347517730498},null,{"$f":"FL82+FM$17*$FB82+FM$18*$FC82+FM$19*$FD82+FM$20*$FE82","v":-9.3085106382978788E-3},null,{"$f":"FN82+FO$17*$FB82+FO$18*$FC82+FO$19*$FD82+FO$20*$FE82","v":2.689125295508275E-2},null,{"$f":"FP82+FQ$17*$FB82+FQ$18*$FC82+FQ$19*$FD82+FQ$20*$FE82","v":2.689125295508275E-2},null,{"$f":"FR82+FS$17*$FB82+FS$18*$FC82+FS$19*$FD82+FS$20*$FE82","v":-9.7222222222222224E-2},null,{"$f":"FT82+FU$17*$FB82+FU$18*$FC82+FU$19*$FD82+FU$20*$FE82","v":-9.7222222222222224E-2},null,null,1.1968085106382979E-2,-1.0416666666666666E-2,0,0,1.5514184397163126E-3,null,null,-2.3936170212765957E-2,2.0833333333333332E-2,0,0,-3.1028368794326251E-3,null,null,3.5904255319148939E-2,-3.125E-2,1.0472074468085105E-2,-1.8229166666666668E-2,-3.1028368794326234E-3,null,null,-1.795212765957447E-2,1.5625E-2,-2.094414893617021E-2,3.6458333333333336E-2,1.3187056737588656E-2,null,null,0,0,3.1416223404255317E-2,-1.8229166666666668E-2,1.3187056737588649E-2,null,null,null,null,null,null,null,null,null,null,null,null,null,null,null,null,null,null,null,null,null,null,null,null,null,null,null,null,null,null,null,null,null,null,null,null,null,null,null,null,null,null,null,null,null,null,0,-1.1635638297872349E-3,-2.3271276595744697E-3,-3.4906914893617046E-3,-4.6542553191489394E-3,-5.8178191489361708E-3,-6.9813829787234091E-3,-8.1449468085106475E-3,-9.3085106382978788E-3,-9.3085106382978788E-3,-4.2664007092198652E-3,7.7570921985815541E-4,5.8178191489361708E-3,1.0859929078014186E-2,1.5902039007092205E-2,2.0944148936170214E-2,2.5986258865248246E-2,3.1028368794326251E-2,3.1028368794326251E-2,1.279920212765958E-2,-5.4299645390070844E-3,-2.3659131205673752E-2,-4.188829787234042E-2,null,null,null,0,-1.1635638297872349E-2,-2.3271276595744697E-2,-3.4906914893617046E-2,-4.6542553191489394E-2,-5.8178191489361708E-2,-6.9813829787234091E-2,-8.1449468085106475E-2,-9.3085106382978788E-2,-9.3085106382978788E-2,-4.2664007092198655E-2,7.7570921985815541E-3,5.8178191489361708E-2,0.10859929078014185,{"$f":"+JM82*10","v":0.15902039007092206},{"$f":"+JN82*10","v":0.20944148936170215},{"$f":"+JO82*10","v":0.25986258865248246},{"$f":"+JP82*10","v":0.3102836879432625},0.3102836879432625,0.12799202127659581,-5.4299645390070844E-2,-0.23659131205673753,-0.41888297872340419,null,null,null,null,null,null,null,null,null,null,null,null,null,null,null,null,null,null,null,null,null,null,null,null,null,null,null,null,null,null,null,null,null,null,null,null,0,-1.9089719082446819E-4,-3.6361369680851068E-4,-4.999688331117024E-4,-5.8178191489361743E-4,-5.9087225731383006E-4,-5.0905917553191547E-4,-3.1816198470744706E-4,0,0,7.1586446559175447E-4,1.5817195811170205E-3,2.4203036693816495E-3,3.0543550531914893E-3,3.3066120553523932E-3,2.9998129986702126E-3,1.956696205950798E-3,0,0,-2.9111821600731379E-3,-6.2723362699468078E-3,-9.4425931889960089E-3,-1.1781083776595744E-2,null,{"$f":"+MF82*100","v":0},-1.9089719082446818E-2,-3.6361369680851068E-2,-4.9996883311170241E-2,-5.8178191489361743E-2,-5.9087225731383003E-2,-5.0905917553191543E-2,-3.1816198470744704E-2,0,0,7.1586446559175454E-2,0.15817195811170204,0.24203036693816493,0.30543550531914893,0.33066120553523931,0.29998129986702127,0.19566962059507981,0,0,-0.2911182160073138,-0.62723362699468077,-0.94425931889960091,-1.1781083776595744]
[null,null,14,0,-0.14692265936668883,-0.27985268450797873,-0.38479744119847076,-0.44776429521276601,-0.45476061232546539,-0.3917937583111703,-0.24487109894448139,0,0,0.54924335885555164,1.2036262674534572,1.81642085947889,2.2408992686170222,2.3303336285530247,1.9379960729720744,1.0270220168093418,0,0,-0.72651721061544206,-1.1195730655751328,-1.2421100697618848,-1.1570707280585104,0.11940381205673758,-0.23880762411347517,0.48758865248226957,null,null,null,null,null,null,null,null,null,null,null,null,null,null,null,null,null,null,null,null,null,null,null,null,null,null,null,null,null,null,null,null,null,null,null,null,null,null,null,null,null,null,null,null,null,null,null,null,null,null,null,null,null,null,null,null,null,null,null,null,null,null,null,null,null,null,null,null,null,null,null,null,null,null,null,null,null,null,null,null,null,null,null,null,null,null,null,null,null,null,null,null,null,null,null,null,null,null,null,null,null,null,null,null,null,null,null,null,null,null,null,null,null,null,null,null,null,null,null,null,null,null,null,null,null,null,null,5,{"$f":"+(-EI23*$EK$14+EK23*$EK$12)/($EI$12*$EK$14-$EI$14*$EK$12)/2","v":-2.6595744680851064E-2},{"$f":"+(-EJ23*$EL$15+EL23*$EL$13)/($EJ$13*$EL$15-$EJ$15*$EL$13)/2","v":2.7777777777777776E-2},{"$f":"-(EI23/2+$EI$12*FB83)/$EK$12","v":5.3191489361702109E-3},{"$f":"-(EJ23/2+$EJ$13*FC83)/$EL$13","v":-9.2592592592592639E-3},null,{"$f":"FF83+FG$17*$FB83+FG$18*$FC83+FG$19*$FD83+FG$20*$FE83","v":1.1820330969267122E-3},null,{"$f":"FH83+FI$17*$FB83+FI$18*$FC83+FI$19*$FD83+FI$20*$FE83","v":-4.5967953769372218E-3},null,{"$f":"FJ83+FK$17*$FB83+FK$18*$FC83+FK$19*$FD83+FK$20*$FE83","v":1.5760441292356198E-2},null,{"$f":"FL83+FM$17*$FB83+FM$18*$FC83+FM$19*$FD83+FM$20*$FE83","v":1.1820330969267122E-3},null,{"$f":"FN83+FO$17*$FB83+FO$18*$FC83+FO$19*$FD83+FO$20*$FE83","v":-3.4147622800105126E-3},null,{"$f":"FP83+FQ$17*$FB83+FQ$18*$FC83+FQ$19*$FD83+FQ$20*$FE83","v":-3.4147622800105126E-3},null,{"$f":"FR83+FS$17*$FB83+FS$18*$FC83+FS$19*$FD83+FS$20*$FE83","v":1.2345679012345685E-2},null,{"$f":"FT83+FU$17*$FB83+FU$18*$FC83+FU$19*$FD83+FU$20*$FE83","v":1.2345679012345685E-2},null,null,4.4326241134751768E-3,-4.6296296296296294E-3,0,0,-1.9700551615445261E-4,null,null,-8.8652482269503535E-3,9.2592592592592587E-3,0,0,3.9401103230890522E-4,null,null,1.3297872340425532E-2,-1.3888888888888888E-2,-1.3297872340425527E-3,2.314814814814816E-3,3.9401103230890717E-4,null,null,-6.648936170212766E-3,6.9444444444444441E-3,2.6595744680851055E-3,-4.629629629629632E-3,-1.6745468873128485E-3,null,null,0,0,-3.9893617021276584E-3,2.314814814814816E-3,-1.6745468873128424E-3,null,null,null,null,null,null,null,null,null,null,null,null,null,null,null,null,null,null,null,null,null,null,null,null,null,null,null,null,null,null,null,null,null,null,null,null,null,null,null,null,null,null,null,null,null,null,0,1.4775413711583902E-4,2.9550827423167805E-4,4.4326241134751664E-4,5.9101654846335609E-4,7.3877068557919728E-4,8.8652482269503327E-4,1.0342789598108727E-3,1.1820330969267122E-3,1.1820330969267122E-3,5.4176516942474099E-4,-9.8502758077230208E-5,-7.3877068557919728E-4,-1.3790386130811704E-3,-2.0193065405831418E-3,-2.6595744680851111E-3,-3.2998423955870829E-3,-3.940110323089053E-3,-3.940110323089053E-3,-1.6252955082742366E-3,6.8951930654057893E-4,3.0043341213553949E-3,5.3191489361702109E-3,null,null,null,{"$f":"+IY83*10","v":0},{"$f":"+IZ83*10","v":1.4775413711583902E-3},{"$f":"+JA83*10","v":2.9550827423167805E-3},{"$f":"+JB83*10","v":4.4326241134751664E-3},{"$f":"+JC83*10","v":5.9101654846335609E-3},{"$f":"+JD83*10","v":7.3877068557919728E-3},{"$f":"+JE83*10","v":8.8652482269503327E-3},{"$f":"+JF83*10","v":1.0342789598108727E-2},{"$f":"+JG83*10","v":1.1820330969267122E-2},{"$f":"+JH83*10","v":1.1820330969267122E-2},{"$f":"+JI83*10","v":5.4176516942474103E-3},{"$f":"+JJ83*10","v":-9.8502758077230208E-4},{"$f":"+JK83*10","v":-7.3877068557919728E-3},{"$f":"+JL83*10","v":-1.3790386130811703E-2},{"$f":"+JM83*10","v":-2.019306540583142E-2},{"$f":"+JN83*10","v":-2.6595744680851109E-2},{"$f":"+JO83*10","v":-3.2998423955870826E-2},{"$f":"+JP83*10","v":-3.9401103230890529E-2},-3.9401103230890529E-2,-1.6252955082742368E-2,6.8951930654057893E-3,3.004334121355395E-2,5.3191489361702107E-2,null,null,null,null,null,null,null,null,null,null,null,null,null,null,null,null,null,null,null,null,null,null,null,null,null,null,null,null,null,null,null,null,null,null,null,null,0,2.4240913120567248E-5,4.617316784869983E-5,6.3488105791961996E-5,7.3877068557919512E-5,7.5031397754136845E-5,6.4642434988179545E-5,4.0401521867612297E-5,0,0,-9.090342420212794E-5,-2.0085328014184437E-4,-3.0734014849290885E-4,-3.8785460992907901E-4,-4.1988724512411434E-4,-3.8092863475177392E-4,-2.4846935948581603E-4,0,0,3.6967392508865216E-4,7.9648714539007045E-4,1.1990594525709214E-3,1.4960106382978719E-3,null,{"$f":"+MF83*100","v":0},2.4240913120567248E-3,4.617316784869983E-3,6.3488105791961996E-3,7.3877068557919512E-3,7.5031397754136845E-3,6.4642434988179545E-3,4.0401521867612297E-3,0,0,-9.0903424202127946E-3,-2.0085328014184438E-2,-3.0734014849290885E-2,-3.8785460992907902E-2,-4.1988724512411431E-2,-3.8092863475177395E-2,-2.4846935948581603E-2,0,0,3.6967392508865216E-2,7.9648714539007043E-2,0.11990594525709214,0.14960106382978719]
[null,null,15,0,-6.8305401091879978E-2,-0.13010552588929519,-0.1788950980977809,-0.20816884142287234,-0.21142147957010474,-0.18214773624501329,-0.1138423351531333,0,0,0.2559306773733584,0.56424242384890255,0.86022133522845345,1.0791535073138296,1.1563250359068522,1.0270220168093418,0.6265305458231174,0,0,-0.47388736237870888,-0.73026697686377995,-0.81019452277650228,-0.75472567943816504,5.5511691046099279E-2,-0.11102338209219856,0.318040780141844]
[null,null,16,0,0,0,0,0,0,0,0,0,0,0,0,0,0,0,0,0,0,0,0,0,0,0,0,0,0,null,null,null,null,null,null,null,null,null,null,null,null,null,null,null,null,null,null,null,null,null,null,null,null,null,null,null,null,null,null,null,null,null,null,null,null,null,null,null,null,null,null,null,null,null,null,null,null,null,null,null,null,null,null,null,null,null,null,null,null,null,null,null,null,null,null,null,null,null,null,null,null,null,null,null,null,null,null,null,null,null,null,null,null,null,null,null,null,null,null,null,null,null,null,null,null,null,null,null,null,null,null,null,null,null,null,null,null,null,null,null,null,null,null,null,null,null,null,null,null,null,null,null,null,null,null,null,null,null,null,null,null,null,{"$f":"+SUM(FG79:FG84)","v":0.33909574468085096},null,{"$f":"+SUM(FI79:FI84)","v":1.3896276595744679},null,{"$f":"+SUM(FK79:FK84)","v":1.521276595744681},null,{"$f":"+SUM(FM79:FM84)","v":-0.66090425531914887},null,{"$f":"+SUM(FO79:FO84)","v":0.72872340425531912},null,{"$f":"+SUM(FQ79:FQ84)","v":-0.77127659574468088},null,{"$f":"+SUM(FS79:FS84)","v":0.75000000000000011},null,{"$f":"+SUM(FU79:FU84)","v":-0.74999999999999989},null,null,null,null,null,null,{"$f":"+SUM(GB79:GB84)","v":-1.4849290780141839E-2},null,null,null,null,null,null,{"$f":"+SUM(GI79:GI84)","v":-1.1968085106382982E-2},null,null,null,null,null,null,{"$f":"+SUM(GP79:GP84)","v":-1.1968085106383076E-2},null,null,null,null,null,null,{"$f":"+SUM(GW79:GW84)","v":3.989361702127785E-3},null,null,null,null,null,null,{"$f":"+SUM(HD79:HD84)","v":3.9893617021275491E-3},null,null,null,null,null,null,null,null,null,null,null,null,null,null,null,null,null,null,null,null,null,null,null,null,null,null,null,null,null,null,null,null,null,null,null,null,null,null,null,null,null,null,null,null,null,null,{"$f":"+SUM(IY79:IY84)","v":0},{"$f":"+SUM(IZ79:IZ84)","v":3.4574468085106384E-2},5.3523936170212762E-2,5.6848404255319139E-2,4.4547872340425516E-2,1.6622340425531908E-2,-2.6928191489361708E-2,-8.6103723404255331E-2,-0.16090425531914895,-0.16090425531914895,-4.1846742021276626E-2,4.2054521276595723E-2,9.0799534574468099E-2,0.10438829787234041,8.2820811170212769E-2,2.6097074468085117E-2,-6.5782912234042548E-2,-0.19281914893617022,-0.19281914893617022,-6.9772273936170207E-2,1.8118351063829786E-2,7.085272606382978E-2,8.8430851063829766E-2,null,null,null,{"$f":"+IY85*10","v":0},0.34574468085106386,0.5352393617021276,0.5684840425531914,0.44547872340425515,0.16622340425531906,-0.26928191489361708,-0.86103723404255328,-1.6090425531914896,-1.6090425531914896,-0.41846742021276628,0.42054521276595724,0.90799534574468099,1.0438829787234041,{"$f":"+JM85*10","v":0.82820811170212771},0.26097074468085119,-0.65782912234042545,-1.9281914893617023,{"$f":"+JQ85*10","v":-1.9281914893617023},{"$f":"+JR85*10","v":-0.69772273936170204},{"$f":"+JS85*10","v":0.18118351063829785},{"$f":"+JT85*10","v":0.70852726063829774},{"$f":"+JU85*10","v":0.88430851063829763},null,null,null,null,null,null,null,null,null,null,null,null,null,null,null,null,null,null,null,null,null,null,null,null,null,null,null,null,null,null,null,null,null,null,null,null,{"$f":"+SUM(MF79:MF84)","v":0},{"$f":"+SUM(MG79:MG84)","v":1.7559511441710991E-3},2.992021276595746E-3,3.4121249584441469E-3,2.9643173758865252E-3,1.8407943400930852E-3,4.7789228723404162E-4,-4.4391172152039048E-4,0,0,4.3233100404130639E-3,1.0220791431183509E-2,1.4742790384495514E-2,1.6175615026595744E-2,1.4041535397793384E-2,9.0987834524601102E-3,3.3415530590300848E-3,0,0,1.8689175869556179E-3,6.2937635056515943E-3,1.0184632970931685E-2,1.1687583111702128E-2,null,{"$f":"+MF85*100","v":0},{"$f":"+MG85*100","v":0.1755951144171099},0.2992021276595746,0.34121249584441471,0.29643173758865254,0.18407943400930851,4.7789228723404159E-2,-4.4391172152039048E-2,0,0,0.43233100404130637,1.0220791431183509,1.4742790384495514,1.6175615026595744,1.4041535397793383,0.90987834524601108,0.33415530590300846,0,0,0.18689175869556179,0.62937635056515939,1.0184632970931684,1.1687583111702129]
[null,null,{"$f":"+C85","v":16},0,0,0,0,0,0,0,0,0,0,0,0,0,0,0,0,0,0,0,0,0,0,0,0,0,0]
[null,null,{"$f":"+C86+1","v":17},0,4.6232913402800863E-2,8.8062692195811171E-2,0.12108620176924036,0.14090030751329785,0.14310187481819314,0.12328776907413563,7.7054855671334771E-2,0,0,-0.17337342526050323,-0.38307271105177859,-0.58616729492836817,-0.7397266144448138,-0.80082010715565777,-0.72651721061544228,-0.47388736237870882,0,0,0.63145211402406065,1.0401461986785239,1.1785892730063579,1.1091516373005321,-3.7573415336879426E-2,7.5146830673758852E-2,-0.31937403036347517]
[null,null,18,0,7.1245558718417548E-2,0.13570582613031915,0.18659551092918883,0.21712932180851063,0.22052196746176861,0.1899881565824468,0.11874259786402924,0,0,-0.26717084519406581,-0.59032034366688824,-0.90329190517993685,-1.139928939494681,-1.2340748563725898,-1.1195730655751328,-0.73026697686377995,0,0,1.0401461986785239,1.9701369265292552,2.3825625155834436,2.3094664228723403,-5.79011524822695E-2,0.115802304964539,-0.49215979609929078]
[null,null,19,0,7.9043368075756321E-2,0.15055879633477393,0.20701834496031418,0.24089407413563829,0.24465804404400765,0.21078231486868354,0.13173894679292719,0,0,-0.29641263028408621,-0.65493076405626671,-1.002156988103339,-1.2646938892121009,-1.3691440541693505,-1.242110069761885,-0.81019452277650228,0,0,1.1785892730063576,2.3825625155834436,3.1856273082976645,3.2713545129654258,-6.4238419769503549E-2,0.1284768395390071,-0.5460265680407802]
[null,null,20,0,7.3631773603723416E-2,0.14025099734042554,0.19284512134308512,0.22440159574468088,0.22790787067819152,0.19635139627659579,0.12271962267287236,0,0,-0.27611915101396273,-0.61009183843085102,-0.93354570104720769,-1.1781083776595744,-1.2754075070644948,-1.1570707280585106,-0.75472567943816482,0,0,1.1091516373005319,2.3094664228723403,3.2713545129654258,3.6652260638297873,-5.984042553191489E-2,0.11968085106382978,-0.50864361702127658]
[null,null,21,0,5.9016207431225064E-2,0.11241182367852393,0.1545662575579704,0.17985891788563829,0.1826692134776014,0.15737655314993351,9.8360345718708442E-2,0,0,-0.22131077786709399,-0.48899143300157921,-0.74824120136017491,-0.94425931889960091,-1.022245021576577,-0.92739754534782259,-0.60491612617005697,0,0,0.89420359185401421,1.8927553866771942,2.7627681164031332,3.2713545129654258,-4.7962378102836885E-2,9.592475620567377E-2,-0.40768021387411346]
[null,null,22,0,3.9202101687167548E-2,7.4670669880319146E-2,0.10267217108543883,0.11947307180851063,0.12133983855551862,0.1045389378324468,6.5336836145279242E-2,0,0,-0.14700788132687831,-0.32481741397938824,-0.4970266463908744,-0.62723362699468099,-0.67903640422415235,-0.61603302651263292,-0.40182154229346745,0,0,0.59611543695977354,1.2743361452792548,1.8927553866771942,2.3094664228723403,-3.1859485815602835E-2,6.371897163120567E-2,-0.2708056294326241]
[null,null,23,0,1.8194888500457113E-2,3.4656930477061164E-2,4.7653279405959106E-2,5.5451088763297865E-2,5.6317512025224392E-2,4.8519702667885634E-2,3.0324814167428524E-2,0,0,-6.8230831876714179E-2,-0.15075764757521609,-0.23068519348793842,-0.2911182160073138,-0.31516146152577496,-0.28591967643575472,-0.18649760712968538,0,0,0.2772574729107794,0.59611543695977354,0.89420359185401443,1.1091516373005321,-1.4786957003546097E-2,2.9573914007092195E-2,-0.12568913453014185]
[null,null,24,0,0,0,0,0,0,0,0,0,0,0,0,0,0,0,0,0,0,0,0,0,0,0,0,0,0]
[null,null,24,0,0,0,0,0,0,0,0,0,0,0,0,0,0,0,0,0,0,0,0,0,0,0,0,0,0]
[null,null,{"$f":"+C95+1","v":25},0,-1.2229351287192483E-2,-2.3294002451795207E-2,-3.2029253371218404E-2,-3.7270403922872328E-2,-3.7852753984167202E-2,-3.2611603432513299E-2,-2.0382252145320807E-2,0,0,4.5860067326971815E-2,0.10132891066530914,0.15505070381976183,0.19566962059507972,0.21182983479601269,0.19217552022731046,0.12535085069372295,0,0,-0.18649760712968547,-0.40182154229346745,-0.60491612617005697,-0.75472567943816504,9.9387743794326217E-3,-1.9877548758865243E-2,8.4479582225177305E-2]
[null,null,26,0,-1.8748831241688836E-2,-3.5712059507978733E-2,-4.9104081823470772E-2,-5.7139295212765971E-2,-5.8032096700465434E-2,-4.9996883311170241E-2,-3.1248052069481384E-2,0,0,7.0308117156333158E-2,0.15534745885970747,0.2377083960999834,0.29998129986702143,0.32475654115068153,0.29462449094082455,0.1921755202273106,0,0,-0.28591967643575456,-0.6160330265126327,-0.92739754534782226,-1.1570707280585104,1.5237145390070922E-2,-3.0474290780141845E-2,0.12951573581560288]
[null,null,27,0,-2.0666325345952457E-2,-3.9364429230385634E-2,-5.412609019178026E-2,-6.2983086768617039E-2,-6.3967197499376682E-2,-5.5110200922539904E-2,-3.4443875576587422E-2,0,0,7.7498720047321654E-2,0.17123526715217743,0.26201948206475423,0.33066120553523931,0.35797027831381928,0.32475654115068137,0.21182983479601269,0,0,-0.31516146152577518,-0.67903640422415246,-1.0222450215765773,-1.2754075070644948,1.6795489804964543E-2,-3.3590979609929086E-2,0.14276166334219853]
[null,null,28,0,-1.9089719082446818E-2,-3.6361369680851068E-2,-4.9996883311170241E-2,-5.8178191489361743E-2,-5.9087225731383003E-2,-5.0905917553191543E-2,-3.1816198470744704E-2,0,0,7.1586446559175454E-2,0.15817195811170204,0.24203036693816493,0.30543550531914893,0.33066120553523931,0.29998129986702127,0.19566962059507981,0,0,-0.2911182160073138,-0.62723362699468077,-0.94425931889960091,-1.1781083776595744,1.5514184397163126E-2,-3.1028368794326251E-2,0.13187056737588657]
[null,null,29,0,-1.5126897933635308E-2,-2.8813138921210141E-2,-3.9618066016663955E-2,-4.6101022273936212E-2,-4.6821350746966472E-2,-4.0338394489694215E-2,-2.5211496556058886E-2,0,0,5.6725867251132461E-2,0.12533715430726416,0.19178745594430499,0.24203036693816529,0.26201948206475467,0.23770839609998365,0.15505070381976205,0,0,-0.23068519348793809,-0.49702664639087379,-0.74824120136017425,-0.93354570104720658,1.2293605939716328E-2,-2.4587211879432656E-2,0.10449565048758877]
[null,null,30,0,-9.8857473819813843E-3,-1.8829995013297865E-2,-2.5891243143284566E-2,-3.0127992021276601E-2,-3.0598741896609074E-2,-2.6361993018617039E-2,-1.6476245636635634E-2,0,0,3.7071552682430162E-2,8.191047830784573E-2,0.12533715430726378,0.15817195811170195,0.17123526715217746,0.15534745885970738,0.10132891066530912,0,0,-0.15075764757521617,-0.32481741397938846,-0.48899143300157927,-0.61009183843085124,8.0341312056737661E-3,-1.6068262411347532E-2,6.8290115248226896E-2]
[null,null,31,0,-4.4741529099484659E-3,-8.5221960189494662E-3,-1.1718019526055484E-2,-1.3635513630319129E-2,-1.3848568530792872E-2,-1.1931074426529227E-2,-7.4569215165807721E-3,0,0,1.6778073412306808E-2,3.7071552682430224E-2,5.6725867251132413E-2,7.1586446559175537E-2,7.7498720047321765E-2,7.0308117156333116E-2,4.5860067326971829E-2,0,0,-6.8230831876714193E-2,-0.14700788132687836,-0.22131077786709405,-0.27611915101396278,3.6361369680850981E-3,-7.2722739361701962E-3,3.0907164228723409E-2]
[null,null,32,0,0,0,0,0,0,0,0,0,0,0,0,0,0,0,0,0,0,0,0,0,0,0,0,0,0]
[null,null,32,0,0,0,0,0,0,0,0,0,0,0,0,0,0,0,0,0,0,0,0,0,0,0,0,0,0]
[null,null,{"$f":"+C104+1","v":33},0,1.988512404421547E-3,3.7876426750886529E-3,5.2080086782468936E-3,6.0602282801418446E-3,6.1549193470190541E-3,5.3026997451241032E-3,3.3141873407025726E-3,0,0,-7.4569215165807773E-3,-1.647624563663562E-2,-2.521149655605882E-2,-3.1816198470744662E-2,-3.4443875576587436E-2,-3.1248052069481374E-2,-2.0382252145320814E-2,0,0,3.0324814167428459E-2,6.5336836145279145E-2,9.8360345718708289E-2,0.12271962267287216,-1.6160608747044919E-3,3.2321217494089838E-3,-1.3736517434988181E-2]
[null,null,34,0,3.1816198470744771E-3,6.0602282801418663E-3,8.332813885195068E-3,9.696365248226986E-3,9.84787095523053E-3,8.4843195921986345E-3,5.3026997451241249E-3,0,0,-1.1931074426529324E-2,-2.6361993018617112E-2,-4.0338394489694326E-2,-5.0905917553191724E-2,-5.5110200922540119E-2,-4.9996883311170436E-2,-3.2611603432513431E-2,0,0,4.8519702667885516E-2,0.10453893783244662,0.15737655314993332,0.19635139627659556,-2.5856973995271992E-3,5.1713947990543983E-3,-2.1978427895981166E-2]
[null,null,35,0,3.6929516082114325E-3,7.0341935394503631E-3,9.6720161167442465E-3,1.1254709663120581E-2,1.1430564501606864E-2,9.84787095523053E-3,6.1549193470190758E-3,0,0,-1.3848568530792926E-2,-3.0598741896609129E-2,-4.6821350746966556E-2,-5.9087225731383093E-2,-6.3967197499376766E-2,-5.8032096700465524E-2,-3.7852753984167278E-2,0,0,5.6317512025224413E-2,0.12133983855551866,0.18266921347760148,0.22790787067819163,-3.0012559101654911E-3,6.0025118203309823E-3,-2.5510675236406655E-2]
[null,null,36,0,3.6361369680850981E-3,6.9259751773049529E-3,9.523215868794321E-3,1.1081560283687916E-2,1.1254709663120538E-2,9.6963652482268993E-3,6.0602282801418229E-3,0,0,-1.3635513630319129E-2,-3.0127992021276556E-2,-4.610102227393606E-2,-5.8178191489361569E-2,-6.2983086768616928E-2,-5.7139295212765839E-2,-3.7270403922872258E-2,0,0,5.5451088763297886E-2,0.11947307180851063,0.17985891788563829,0.22440159574468077,-2.9550827423167805E-3,5.9101654846335609E-3,-2.5118203309692631E-2]
[null,null,37,0,3.1248052069481427E-3,5.9520099179964561E-3,8.1840136372451217E-3,9.523215868794321E-3,9.6720161167442031E-3,8.3328138851950038E-3,5.2080086782468936E-3,0,0,-1.1718019526055522E-2,-2.5891243143284542E-2,-3.9618066016663914E-2,-4.9996883311170193E-2,-5.412609019178026E-2,-4.9104081823470751E-2,-3.2029253371218439E-2,0,0,4.7653279405958975E-2,0.10267217108543858,0.15456625755797007,0.19284512134308471,-2.5395242316784885E-3,5.079048463356977E-3,-2.158595596926715E-2]
[null,null,38,0,2.2725856050531917E-3,4.3287344858156064E-3,5.9520099179964561E-3,6.9259751773049745E-3,7.0341935394503631E-3,6.0602282801418663E-3,3.7876426750886529E-3,0,0,-8.5221960189494819E-3,-1.8829995013297875E-2,-2.8813138921210131E-2,-3.6361369680851109E-2,-3.9364429230385661E-2,-3.5712059507978761E-2,-2.3294002451795227E-2,0,0,3.4656930477061192E-2,7.4670669880319188E-2,0.11241182367852399,0.14025099734042562,-1.8469267139479932E-3,3.6938534278959864E-3,-1.569887706855793E-2]
[null,null,39,0,1.1931074426529248E-3,2.2725856050531917E-3,3.1248052069481427E-3,3.6361369680851089E-3,3.6929516082114433E-3,3.1816198470744662E-3,1.9885124044215414E-3,0,0,-4.4741529099484659E-3,-9.8857473819813895E-3,-1.5126897933635298E-2,-1.9089719082446797E-2,-2.0666325345952467E-2,-1.8748831241688829E-2,-1.2229351287192488E-2,0,0,1.8194888500457113E-2,3.9202101687167548E-2,5.9016207431225057E-2,7.3631773603723402E-2,-9.6963652482269427E-4,1.9392730496453885E-3,-8.2419104609929104E-3]
[null,null,40,0,0,0,0,0,0,0,0,0,0,0,0,0,0,0,0,0,0,0,0,0,0,0,0,0,0]
[null,null,null,"×L13/(100×EI)",null,null,null,null,null,null,null,null,null,null,null,null,null,null,null,null,null,null,null,null,null,null,"×(L12/EI)/10"]
[null,null,"Span 1",{"$f":"+ND79","v":0},0.39406634391622342,0.71533780289598126,0.91339904929447391,0.9622488179669032,0.86029990626846931,0.63037917405437349,0.31972754367981676,0,0,{"$f":"+NN79","v":-0.35088721742021273},-0.54091866134751765,-0.60039547318262421,-0.55961879432624118,-0.44888976617907805,-0.298509530141844,-0.13877922761524822,0,0,9.3933538342198572E-2,{"$f":"+NX79","v":0.14475288120567373},0.16059604942375882,0.14960106382978719,{"$f":"+GB79*10","v":-0.3260441292356186},{"$f":"+GI79*10","v":0.23542159180457051},{"$f":"+GW79*10","v":-6.3041765169424724E-2}]
[null,null,"Span 2",0,-0.27543737533244678,-0.52464261968085102,-0.72138360206117025,-0.83942819148936176,-0.85254425698138292,-0.73449966755319152,-0.45906229222074468,0,0,0.9968412683365192,2.0350030127992018,2.7969238605905091,3.0886386303191489,2.8397783320000833,2.1035701670545217,1.0568375283099234,0,0,-0.7397266144448138,-1.1399289394946808,-1.2646938892121009,-1.1781083776595744,{"$f":"+GB80*10","v":0.22384751773049646},{"$f":"+GI80*10","v":-0.44769503546099293},{"$f":"+GW80*10","v":0.49645390070922107}]
[null,null,"Span 3",0,7.3631773603723416E-2,0.14025099734042554,0.19284512134308512,0.22440159574468088,0.22790787067819152,0.19635139627659579,0.12271962267287236,0,0,-0.27611915101396273,-0.61009183843085102,-0.93354570104720769,-1.1781083776595744,-1.2754075070644948,-1.1570707280585106,-0.75472567943816482,0,0,1.0868356582966257,2.1721373213098403,2.9469145105240195,3.2257729388297873,{"$f":"+GB81*10","v":-5.984042553191489E-2},{"$f":"+GI81*10","v":0.11968085106382978},{"$f":"+GW81*10","v":-0.50864361702127658}]
[null,null,"Span 4",0,-1.9089719082446818E-2,-3.6361369680851068E-2,-4.9996883311170241E-2,-5.8178191489361743E-2,-5.9087225731383003E-2,-5.0905917553191543E-2,-3.1816198470744704E-2,0,0,7.1586446559175454E-2,0.15817195811170204,0.24203036693816493,0.30543550531914893,0.33066120553523931,0.29998129986702127,0.19566962059507981,0,0,-0.2911182160073138,-0.62723362699468077,-0.94425931889960091,-1.1781083776595744,{"$f":"+GB82*10","v":1.5514184397163126E-2},{"$f":"+GI82*10","v":-3.1028368794326251E-2},{"$f":"+GW82*10","v":0.13187056737588657}]
[null,null,"Span 5",0,2.4240913120567248E-3,4.617316784869983E-3,6.3488105791961996E-3,7.3877068557919512E-3,7.5031397754136845E-3,6.4642434988179545E-3,4.0401521867612297E-3,0,0,-9.0903424202127946E-3,-2.0085328014184438E-2,-3.0734014849290885E-2,-3.8785460992907902E-2,-4.1988724512411431E-2,-3.8092863475177395E-2,-2.4846935948581603E-2,0,0,3.6967392508865216E-2,7.9648714539007043E-2,0.11990594525709214,0.14960106382978719,{"$f":"+GB83*10","v":-1.9700551615445261E-3},{"$f":"+GI83*10","v":3.9401103230890522E-3},{"$f":"+GW83*10","v":-1.6745468873128486E-2}]
[null,null,"Sum",{"$f":"+ND85","v":0},0.1755951144171099,0.2992021276595746,0.34121249584441471,0.29643173758865254,0.18407943400930851,4.7789228723404159E-2,-4.4391172152039048E-2,0,0,0.43233100404130637,1.0220791431183509,1.4742790384495514,1.6175615026595744,1.4041535397793383,0.90987834524601108,0.33415530590300846,0,0,0.18689175869556179,0.62937635056515939,1.0184632970931684,1.1687583111702129,{"$f":"+GB85*10","v":-0.14849290780141838},{"$f":"+GI85*10","v":-0.11968085106382982},{"$f":"+GW85*10","v":3.9893617021277847E-2}]
[null,null,null,"×L14/(100×EI)",null,null,null,null,null,null,null,null,null,null,null,null,null,null,null,null,null,null,null,null,null,null,"×(L13/EI)/10"]