{"text_format":"1","workbook":"xlsx","n_sheets":109,"sheets":["Input","4 span Calculation","M1","M2","M3","M4","M5","M6","M7","MB","M9","M10","M11","M12","M13","M14","M15","MC","RA","RB","RC","Q1","Q2","Q3","Q4","Q5","Q6","Q7","lQB","rQB","Q9","Q10","Q11","Q12","Q13","Q14","Q15","lQC","D1","D2","D3","D4","D5","D6","D7","D09","D10","D11","D12","D13","D14","D15","SA","SB","SC","M-1","M-2","M-3","M-4","M-5","M-6","M-7","M-9","M-10","M-11","M-12","M-13","M-14","M-15","MS1","MS2","MSA","Q-1","Q-2","Q-3","Q-4","Q-5","Q-6","Q-7","Q-9","Q-10","Q-11","Q-12","Q-13","Q-14","Q-15","QS1","QS2","QSA","D-1","D-2","D-3","D-4","D-5","D-6","D-7","D-9","D-10","D-11","D-12","D-13","D-14","D-15","DS1","DS2","DSA","SS1","SS2","SSA"],"not_rendered":{"charts":214,"images":0,"macros":1,"external_links":0,"defined_names":1,"comments":0,"pivot_tables":0},"unopened":[{"sheet":"M1","index":2,"reason":"not_a_worksheet"},{"sheet":"M2","index":3,"reason":"not_a_worksheet"},{"sheet":"M3","index":4,"reason":"not_a_worksheet"},{"sheet":"M4","index":5,"reason":"not_a_worksheet"},{"sheet":"M5","index":6,"reason":"not_a_worksheet"},{"sheet":"M6","index":7,"reason":"not_a_worksheet"},{"sheet":"M7","index":8,"reason":"not_a_worksheet"},{"sheet":"MB","index":9,"reason":"not_a_worksheet"},{"sheet":"M9","index":10,"reason":"not_a_worksheet"},{"sheet":"M10","index":11,"reason":"not_a_worksheet"},{"sheet":"M11","index":12,"reason":"not_a_worksheet"},{"sheet":"M12","index":13,"reason":"not_a_worksheet"},{"sheet":"M13","index":14,"reason":"not_a_worksheet"},{"sheet":"M14","index":15,"reason":"not_a_worksheet"},{"sheet":"M15","index":16,"reason":"not_a_worksheet"},{"sheet":"MC","index":17,"reason":"not_a_worksheet"},{"sheet":"RA","index":18,"reason":"not_a_worksheet"},{"sheet":"RB","index":19,"reason":"not_a_worksheet"},{"sheet":"RC","index":20,"reason":"not_a_worksheet"},{"sheet":"Q1","index":21,"reason":"not_a_worksheet"},{"sheet":"Q2","index":22,"reason":"not_a_worksheet"},{"sheet":"Q3","index":23,"reason":"not_a_worksheet"},{"sheet":"Q4","index":24,"reason":"not_a_worksheet"},{"sheet":"Q5","index":25,"reason":"not_a_worksheet"},{"sheet":"Q6","index":26,"reason":"not_a_worksheet"},{"sheet":"Q7","index":27,"reason":"not_a_worksheet"},{"sheet":"lQB","index":28,"reason":"not_a_worksheet"},{"sheet":"rQB","index":29,"reason":"not_a_worksheet"},{"sheet":"Q9","index":30,"reason":"not_a_worksheet"},{"sheet":"Q10","index":31,"reason":"not_a_worksheet"},{"sheet":"Q11","index":32,"reason":"not_a_worksheet"},{"sheet":"Q12","index":33,"reason":"not_a_worksheet"},{"sheet":"Q13","index":34,"reason":"not_a_worksheet"},{"sheet":"Q14","index":35,"reason":"not_a_worksheet"},{"sheet":"Q15","index":36,"reason":"not_a_worksheet"},{"sheet":"lQC","index":37,"reason":"not_a_worksheet"},{"sheet":"D1","index":38,"reason":"not_a_worksheet"},{"sheet":"D2","index":39,"reason":"not_a_worksheet"},{"sheet":"D3","index":40,"reason":"not_a_worksheet"},{"sheet":"D4","index":41,"reason":"not_a_worksheet"},{"sheet":"D5","index":42,"reason":"not_a_worksheet"},{"sheet":"D6","index":43,"reason":"not_a_worksheet"},{"sheet":"D7","index":44,"reason":"not_a_worksheet"},{"sheet":"D09","index":45,"reason":"not_a_worksheet"},{"sheet":"D10","index":46,"reason":"not_a_worksheet"},{"sheet":"D11","index":47,"reason":"not_a_worksheet"},{"sheet":"D12","index":48,"reason":"not_a_worksheet"},{"sheet":"D13","index":49,"reason":"not_a_worksheet"},{"sheet":"D14","index":50,"reason":"not_a_worksheet"},{"sheet":"D15","index":51,"reason":"not_a_worksheet"},{"sheet":"SA","index":52,"reason":"not_a_worksheet"},{"sheet":"SB","index":53,"reason":"not_a_worksheet"},{"sheet":"SC","index":54,"reason":"not_a_worksheet"},{"sheet":"M-1","index":55,"reason":"not_a_worksheet"},{"sheet":"M-2","index":56,"reason":"not_a_worksheet"},{"sheet":"M-3","index":57,"reason":"not_a_worksheet"},{"sheet":"M-4","index":58,"reason":"not_a_worksheet"},{"sheet":"M-5","index":59,"reason":"not_a_worksheet"},{"sheet":"M-6","index":60,"reason":"not_a_worksheet"},{"sheet":"M-7","index":61,"reason":"not_a_worksheet"},{"sheet":"M-9","index":62,"reason":"not_a_worksheet"},{"sheet":"M-10","index":63,"reason":"not_a_worksheet"},{"sheet":"M-11","index":64,"reason":"not_a_worksheet"},{"sheet":"M-12","index":65,"reason":"not_a_worksheet"},{"sheet":"M-13","index":66,"reason":"not_a_worksheet"},{"sheet":"M-14","index":67,"reason":"not_a_worksheet"},{"sheet":"M-15","index":68,"reason":"not_a_worksheet"},{"sheet":"MS1","index":69,"reason":"not_a_worksheet"},{"sheet":"MS2","index":70,"reason":"not_a_worksheet"},{"sheet":"MSA","index":71,"reason":"not_a_worksheet"},{"sheet":"Q-1","index":72,"reason":"not_a_worksheet"},{"sheet":"Q-2","index":73,"reason":"not_a_worksheet"},{"sheet":"Q-3","index":74,"reason":"not_a_worksheet"},{"sheet":"Q-4","index":75,"reason":"not_a_worksheet"},{"sheet":"Q-5","index":76,"reason":"not_a_worksheet"},{"sheet":"Q-6","index":77,"reason":"not_a_worksheet"},{"sheet":"Q-7","index":78,"reason":"not_a_worksheet"},{"sheet":"Q-9","index":79,"reason":"not_a_worksheet"},{"sheet":"Q-10","index":80,"reason":"not_a_worksheet"},{"sheet":"Q-11","index":81,"reason":"not_a_worksheet"},{"sheet":"Q-12","index":82,"reason":"not_a_worksheet"},{"sheet":"Q-13","index":83,"reason":"not_a_worksheet"},{"sheet":"Q-14","index":84,"reason":"not_a_worksheet"},{"sheet":"Q-15","index":85,"reason":"not_a_worksheet"},{"sheet":"QS1","index":86,"reason":"not_a_worksheet"},{"sheet":"QS2","index":87,"reason":"not_a_worksheet"},{"sheet":"QSA","index":88,"reason":"not_a_worksheet"},{"sheet":"D-1","index":89,"reason":"not_a_worksheet"},{"sheet":"D-2","index":90,"reason":"not_a_worksheet"},{"sheet":"D-3","index":91,"reason":"not_a_worksheet"},{"sheet":"D-4","index":92,"reason":"not_a_worksheet"},{"sheet":"D-5","index":93,"reason":"not_a_worksheet"},{"sheet":"D-6","index":94,"reason":"not_a_worksheet"},{"sheet":"D-7","index":95,"reason":"not_a_worksheet"},{"sheet":"D-9","index":96,"reason":"not_a_worksheet"},{"sheet":"D-10","index":97,"reason":"not_a_worksheet"},{"sheet":"D-11","index":98,"reason":"not_a_worksheet"},{"sheet":"D-12","index":99,"reason":"not_a_worksheet"},{"sheet":"D-13","index":100,"reason":"not_a_worksheet"},{"sheet":"D-14","index":101,"reason":"not_a_worksheet"},{"sheet":"D-15","index":102,"reason":"not_a_worksheet"},{"sheet":"DS1","index":103,"reason":"not_a_worksheet"},{"sheet":"DS2","index":104,"reason":"not_a_worksheet"},{"sheet":"DSA","index":105,"reason":"not_a_worksheet"},{"sheet":"SS1","index":106,"reason":"not_a_worksheet"},{"sheet":"SS2","index":107,"reason":"not_a_worksheet"},{"sheet":"SSA","index":108,"reason":"not_a_worksheet"}],"bounds":{"document_bytes":16777216,"sheet_cells":100000,"rows_first":2000,"rows_last":500,"rows_between":2000,"halvings":0,"cell_chars":16384,"cell_head_chars":4096},"cells_cut":0,"cells_raw":0,"read":"whole","date_system":"1900"}

{"sheet":"Input","index":0,"n_rows":14,"n_cols":3,"rows_kept":14,"cut":false,"hidden":false,"merged":[]}
["L2/L1 =",1.079]
[]
["Mi","(L1/10)","Moment influence line for point i"]
["Ri","(1)","Reaction influence line for support i"]
["Qi","(1)","Shear influence line for point i"]
["Di","(L1^3/EI)/100","Deflection influence line for point i"]
["Si","(L1^2/EI)/10","Rotation angle influence line for support i"]
["M-i","(L1/10)","Moment diagram when a unit point load is applied at point i"]
["MSi","(L1^2/10)","Moment diagram when uniformly distributed loads are applied at span i"]
["Q-i","(1)","Shear diagram when a unit point load is applied at point i"]
["QSi","(L1)","Shear diagram when uniformly distributed loads are applied at span i"]
["D-i","(L1^3/EI)/100","Deflection diagram when a unit point load is applied at point i"]
["DSi","(L1^4/EI)/100","Deflection diagram when uniformly distributed loads are applied at span i"]
["SSi","(L1^3/EI)/10","Rotation angle diagram when uniformly distributed loads are applied at support i"]

{"sheet":"4 span Calculation","index":1,"n_rows":100,"n_cols":309,"rows_kept":100,"cut":false,"hidden":true,"merged":[[7,2,8,2],[54,2,55,2],[93,3,93,20],[46,3,46,20],[52,3,52,20],[99,3,99,20],[52,21,52,26],[7,21,7,23],[7,24,7,26],[46,21,46,26],[54,3,54,20],[7,3,7,20],[93,21,93,23],[99,21,99,23],[54,21,54,23],[1,267,1,275],[1,276,1,284],[1,291,1,299],[1,300,1,308],[51,107,59,107],[1,237,1,245],[1,246,1,254],[24,107,32,107],[33,107,41,107],[42,107,50,107],[1,157,1,165],[1,166,1,174],[1,182,1,190],[1,191,1,199]]}
[]
[null,null,null,null,null,null,null,null,null,null,null,null,null,null,null,null,null,null,null,null,null,null,null,null,null,null,null,null,null,null,null,null,null,null,null,null,null,null,null,null,null,null,null,null,null,null,null,null,null,null,null,null,null,null,null,null,null,null,null,null,null,null,null,null,null,null,null,null,null,null,null,null,null,null,null,null,null,null,null,null,null,null,null,null,null,null,null,null,null,null,null,null,null,null,null,null,null,null,null,null,null,null,null,null,null,null,null,null,null,null,null,null,null,null,null,null,null,null,null,null,null,null,null,null,null,null,null,null,null,null,null,null,null,null,null,null,null,null,null,null,null,null,null,null,null,null,null,null,null,null,null,null,null,null,null,null,"Span",1,null,null,null,null,null,null,null,null,2,null,null,null,null,null,null,null,null,null,null,null,null,null,null,null,1,null,null,null,null,null,null,null,null,2,null,null,null,null,null,null,null,null,null,null,null,null,null,null,null,null,null,null,null,null,null,null,null,null,null,null,null,null,null,null,null,null,null,null,null,null,null,null,null,null,null,null,null,null,null,1,null,null,null,null,null,null,null,null,2,null,null,null,null,null,null,null,null,null,null,null,null,null,null,null,null,null,null,null,null,1,null,null,null,null,null,null,null,null,2,null,null,null,null,null,null,null,null,null,null,null,null,null,null,1,null,null,null,null,null,null,null,null,2]
[null,null,null,null,null,null,null,null,null,null,null,null,null,null,null,null,null,null,null,null,null,null,null,null,null,null,null,null,null,null,null,null,null,null,null,null,null,null,null,null,null,null,null,null,null,null,null,null,null,null,null,null,null,null,null,null,null,null,null,null,null,null,null,null,null,null,null,null,null,null,null,null,null,null,null,null,null,null,null,null,null,null,null,null,null,null,null,null,null,null,null,null,null,null,null,null,null,null,null,null,null,null,null,null,null,null,null,null,null,null,null,null,null,null,null,null,null,null,null,null,null,null,null,null,null,null,null,null,null,null,null,null,null,null,null,null,null,null,null,null,null,null,null,null,null,null,null,null,null,null,null,null,null,null,null,null,"x/L",0,{"$f":"+FB3+1/8","v":0.125},0.25,0.375,0.5,0.625,0.75,0.875,1,0,{"$f":"+FK3+1/8","v":0.125},{"$f":"+FL3+1/8","v":0.25},{"$f":"+FM3+1/8","v":0.375},{"$f":"+FN3+1/8","v":0.5},{"$f":"+FO3+1/8","v":0.625},0.75,0.875,1,null,null,null,null,null,null,null,0,{"$f":"+GA3+1/8","v":0.125},{"$f":"+GB3+1/8","v":0.25},{"$f":"+GC3+1/8","v":0.375},{"$f":"+GD3+1/8","v":0.5},{"$f":"+GE3+1/8","v":0.625},{"$f":"+GF3+1/8","v":0.75},{"$f":"+GG3+1/8","v":0.875},{"$f":"+GH3+1/8","v":1},0,{"$f":"+GJ3+1/8","v":0.125},{"$f":"+GK3+1/8","v":0.25},{"$f":"+GL3+1/8","v":0.375},{"$f":"+GM3+1/8","v":0.5},{"$f":"+GN3+1/8","v":0.625},{"$f":"+GO3+1/8","v":0.75},{"$f":"+GP3+1/8","v":0.875},{"$f":"+GQ3+1/8","v":1},null,null,null,null,null,null,null,null,null,null,null,null,null,null,null,null,null,null,null,null,null,null,null,null,null,null,null,null,null,null,null,null,null,null,null,null,null,0,{"$f":"+ID3+1/8","v":0.125},{"$f":"+IE3+1/8","v":0.25},{"$f":"+IF3+1/8","v":0.375},{"$f":"+IG3+1/8","v":0.5},{"$f":"+IH3+1/8","v":0.625},{"$f":"+II3+1/8","v":0.75},{"$f":"+IJ3+1/8","v":0.875},{"$f":"+IK3+1/8","v":1},0,{"$f":"+IM3+1/8","v":0.125},{"$f":"+IN3+1/8","v":0.25},{"$f":"+IO3+1/8","v":0.375},{"$f":"+IP3+1/8","v":0.5},{"$f":"+IQ3+1/8","v":0.625},0.75,0.875,1,null,null,null,null,null,null,null,null,null,null,null,null,0,{"$f":"+JH3+1/8","v":0.125},{"$f":"+JI3+1/8","v":0.25},{"$f":"+JJ3+1/8","v":0.375},{"$f":"+JK3+1/8","v":0.5},{"$f":"+JL3+1/8","v":0.625},{"$f":"+JM3+1/8","v":0.75},{"$f":"+JN3+1/8","v":0.875},{"$f":"+JO3+1/8","v":1},0,{"$f":"+JQ3+1/8","v":0.125},{"$f":"+JR3+1/8","v":0.25},{"$f":"+JS3+1/8","v":0.375},{"$f":"+JT3+1/8","v":0.5},{"$f":"+JU3+1/8","v":0.625},0.75,0.875,1,null,null,null,null,null,null,0,{"$f":"+KF3+1/8","v":0.125},{"$f":"+KG3+1/8","v":0.25},{"$f":"+KH3+1/8","v":0.375},{"$f":"+KI3+1/8","v":0.5},{"$f":"+KJ3+1/8","v":0.625},{"$f":"+KK3+1/8","v":0.75},{"$f":"+KL3+1/8","v":0.875},{"$f":"+KM3+1/8","v":1},0,{"$f":"+KO3+1/8","v":0.125},{"$f":"+KP3+1/8","v":0.25},{"$f":"+KQ3+1/8","v":0.375},{"$f":"+KR3+1/8","v":0.5},{"$f":"+KS3+1/8","v":0.625},0.75,0.875,1]
[null,null,null,null,null,null,null,null,null,null,null,null,null,null,null,null,null,null,null,null,null,null,null,null,null,null,null,null,null,null,null,null,null,null,null,null,null,null,null,null,null,null,null,null,null,null,null,null,null,null,null,null,null,null,null,null,null,null,null,null,null,null,null,null,null,null,null,null,null,null,null,null,null,null,null,null,null,null,null,null,null,null,null,null,null,null,null,null,null,null,null,null,null,null,null,null,null,null,null,null,null,null,null,null,null,null,null,null,null,null,null,null,null,null,null,null,null,null,null,null,null,null,null,null,null,null,null,null,null,null,null,null,null,null,null,null,null,null,null,null,null,null,null,null,null,null,null,null,null,null,null,null,null,null,null,null,"1-x/L",{"$f":"1-FB3","v":1},{"$f":"1-FC3","v":0.875},0.75,0.625,0.5,0.375,0.25,0.125,0,1,0.875,0.75,0.625,0.5,{"$f":"1-FP3","v":0.375},0.25,0.125,0]
[null,null,null,null,null,null,null,null,null,null,null,null,null,null,null,null,null,null,null,null,null,null,null,null,null,null,null,null,null,null,null,null,null,null,null,null,null,null,null,null,null,null,null,null,null,null,null,null,null,null,null,null,null,null,null,null,null,null,null,null,null,null,null,null,null,null,null,null,null,null,null,null,null,null,null,null,null,null,null,null,null,null,null,null,null,null,null,null,null,null,null,null,null,null,null,null,null,null,null,null,null,null,null,null,null,null,null,null,null,null,null,null,null,null,null,null,null,null,null,null,null,null,null,null,null,null,null,null,null,null,null,null,null,null,null,null,null,null,null,null,null,null,null,null,null,null,null,null,null,null,null,null,null,null,null,null,"Mx0",{"$f":"+FB3*(1-FB3)","v":0},0.109375,0.1875,0.234375,0.25,0.234375,0.1875,0.109375,0,0,0.109375,0.1875,0.234375,0.25,{"$f":"+FP3*(1-FP3)","v":0.234375},0.1875,0.109375,0]
[null,null,null,null,null,null,null,null,null,null,null,null,null,null,null,null,null,null,null,null,null,null,null,null,null,null,null,null,null,null,null,null,null,null,null,null,null,null,null,null,null,null,null,null,null,null,null,null,null,null,null,null,null,null,null,null,null,null,null,null,null,null,null,null,null,null,null,null,null,null,null,null,null,null,null,null,null,null,null,null,null,null,null,null,null,null,null,null,null,null,null,null,null,null,null,null,null,null,null,null,null,null,null,null,null,null,null,null,null,null,null,null,null,null,null,null,null,null,null,null,null,null,null,null,null,null,null,null,null,null,null,null,null,null,null,null,null,null,null,null,null,null,null,null,null,null,null,null,null,null,null,null,null,null,null,null,"Mx1",{"$f":"+FB3","v":0},0.125,0.25,0.375,0.5,0.625,0.75,0.875,1,{"$f":"1-FK3","v":1},{"$f":"1-FL3","v":0.875},0.75,0.625,0.5,0.375,0.25,0.125,0]
[null,null,null,null,null,null,null,null,null,null,null,null,null,null,null,null,null,null,null,null,null,null,null,null,null,null,null,null,null,null,null,null,null,null,null,null,null,null,null,null,null,null,null,null,null,null,null,null,null,null,null,null,null,null,null,null,null,null,null,null,null,null,null,null,null,null,null,null,null,null,null,null,null,null,null,null,null,null,null,null,null,null,null,null,null,null,null,null,null,null,null,null,null,null,null,null,null,null,null,null,null,null,null,null,null,null,null,null,null,null,null,null,null,null,null,null,null,null,null,null,null,null,null,null,null,null,null,null,null,null,null,null,null,null,null,null,null,null,null,null,null,null,null,null,null,null,null,null,null,null,null,null,null,null,null,null,"Mx2",{"$f":"+FB3","v":0},0.125,0.25,0.375,0.5,0.625,0.75,0.875,1,{"$f":"+FK6","v":1},{"$f":"+FL6","v":0.875},0.75,0.625,0.5,0.375,0.25,0.125,0]
[null,null,null,"Bending Moment",null,null,null,null,null,null,null,null,null,null,null,null,null,null,null,null,null,"Shear Force",null,null,"Reaction",null,null,null,null,null,null,null,null,null,null,null,null,null,null,null,null,null,null,null,null,null,null,null,null,null,null,null,null,null,null,null,null,null,null,null,null,null,null,null,null,null,null,null,null,null,null,null,null,null,null,null,null,null,null,null,null,null,null,null,null,null,null,null,null,null,null,null,null,null,null,null,null,null,null,null,null,null,null,null,null,null,null,null,null,null,null,null,null,null,null,null,null,null,null,null,null,null,null,null,null,null,null,null,null,null,null,null,null,null,null,null,null,null,null,null,null,null,null,null,null,null,null,null,null,null,null,null,null,null,null,null,"Mx3",null,null,null,null,null,null,null,null,null,{"$f":"+FK3","v":0},{"$f":"+FL3","v":0.125},0.25,0.375,0.5,0.625,0.75,0.875,1]
[null,null,null,0,{"$f":"+D9+1","v":1},2,3,4,5,6,7,8,{"$f":"+L9","v":8},{"$f":"+M9+1","v":9},10,11,12,13,14,15,16,"lQB","rQB","lQC","RA","RB","RC",null,null,null,null,null,null,null,null,null,null,null,null,null,null,null,null,null,null,null,null,null,null,null,null,null,null,null,null,null,null,null,null,null,null,null,null,null,null,null,null,null,null,null,null,null,null,null,null,null,null,null,null,null,null,null,null,null,null,null,null,null,null,null,null,null,null,null,null,null,null,null,null,null,null,null,null,null,null,null,null,null,null,null,null,null,null,null,null,null,null,null,null,null,null,null,null,null,null,null,null,null,null,null,null,null,null,null,null,null,null,null,null,null,null,null,null,null,null,null,null,null,null,null,null,null,null,null,null,null,"Mx4"]
[null,null,null,{"$f":"+E10+1","v":32},31,30,29,28,27,26,25,{"$f":"+M10","v":24},{"$f":"+N10+1","v":24},23,22,21,20,19,18,17,{"$f":"+U9","v":16},null,null,null,null,null,null,null,null,null,null,null,null,null,null,0,0,{"$f":"+AJ10+1","v":1},1,2,2,3,3,4,4,5,5,6,6,7,7,8,8,9,9,10,10,11,11,12,12,13,13,14,14,15,15,16,16,{"$f":"+BP10+1","v":17},17,18,18,19,19,20,20,21,21,22,22,23,23,24,24,25,25,26,26,27,27,28,28,29,29,30,30,31,31,32,32]
[null,null,{"$f":"+E11","v":0},{"$f":"+HA25","v":0},{"$f":"+HB25","v":0},{"$f":"+HC25","v":0},{"$f":"+HD25","v":0},{"$f":"+HE25","v":0},{"$f":"+HF25","v":0},{"$f":"+HG25","v":0},{"$f":"+HH25","v":0},{"$f":"+HI25","v":0},{"$f":"+HJ25","v":0},{"$f":"+HK25","v":0},{"$f":"+HL25","v":0},{"$f":"+HM25","v":0},{"$f":"+HN25","v":0},{"$f":"+HO25","v":0},{"$f":"+HP25","v":0},{"$f":"+HQ25","v":0},{"$f":"+HR25","v":0},{"$f":"+DS25","v":0},{"$f":"+DV25","v":0},{"$f":"+DZ25","v":0},{"$f":"+DJ25","v":1},{"$f":"+DM25","v":0},{"$f":"+DP25","v":0},null,null,null,null,null,null,null,null,null,null,null,null,null,null,null,null,null,null,null,null,null,null,null,null,null,null,null,null,null,null,null,null,null,null,null,null,null,null,null,null,null,null,null,null,null,null,null,null,null,null,null,null,null,null,null,null,null,null,null,null,null,null,null,null,null,null,null,null,null,null,null,null,null,null,null,null,null,null,null,null,null,null,null,null,null,null,null,null,null,null,null,null,null,null,null,null,null,null,null,null,null,null,null,null,null,null,null,null,null,null,null,null,null,null,null,null,null,null,null,null,null,null,null,null,null,null,null,null,null,"fx1",{"$f":"+(FB3-FB3^3)/6","v":0},{"$f":"+(FC3-FC3^3)/6","v":2.05078125E-2},3.90625E-2,5.37109375E-2,6.25E-2,6.34765625E-2,5.46875E-2,3.41796875E-2,0,{"$f":"+(2*FK3-3*FK3^2+FK3^3)/6*Input!$B$1^2","v":0},{"$f":"+(2*FL3-3*FL3^2+FL3^3)/6*Input!$B$1^2","v":3.9793393554687494E-2},{"$f":"+(2*FM3-3*FM3^2+FM3^3)/6*Input!$B$1^2","v":6.3669429687499987E-2},{"$f":"+(2*FN3-3*FN3^2+FN3^3)/6*Input!$B$1^2","v":7.3902016601562495E-2},{"$f":"+(2*FO3-3*FO3^2+FO3^3)/6*Input!$B$1^2","v":7.2765062499999991E-2},{"$f":"+(2*FP3-3*FP3^2+FP3^3)/6*Input!$B$1^2","v":6.2532475585937497E-2},{"$f":"+(2*FQ3-3*FQ3^2+FQ3^3)/6*Input!$B$1^2","v":4.5478164062499993E-2},{"$f":"+(2*FR3-3*FR3^2+FR3^3)/6*Input!$B$1^2","v":2.3876036132812497E-2},{"$f":"+(2*FS3-3*FS3^2+FS3^3)/6*Input!$B$1^2","v":0}]
[null,null,{"$f":"+C11+1","v":1},0,1.0540014106734228,0.85800282134684558,0.66200423202026815,0.46600564269369105,0.27000705336711389,7.4008464040536626E-2,-0.1219901252860406,-0.31798871461261785,-0.31798871461261785,-0.26761358156972165,-0.21723844852682556,-0.16686331548392938,-0.11648818244103326,-6.6113049398137114E-2,-1.5737916355240966E-2,3.4637216687655181E-2,8.5012349730551329E-2,-0.15679887146126179,3.7349496231989729E-2,3.7349496231989729E-2,0.8432011285387383,0.1941483676932515,-4.7272854345070246E-2,null,null,null,null,null,null,null,null,0,{"$f":"+$Y12","v":0.8432011285387383},{"$f":"+$Y12","v":0.8432011285387383},{"$f":"+$V12","v":-0.15679887146126179},{"$f":"+$V12","v":-0.15679887146126179},null,null,null,null,null,null,null,null,null,null,null,{"$f":"+$V12","v":-0.15679887146126179},{"$f":"+$W12","v":3.7349496231989729E-2},null,null,null,null,null,null,null,null,null,null,null,null,null,null,{"$f":"+$W12","v":3.7349496231989729E-2},{"$f":"+CF12","v":-9.9233581130805191E-3},null,null,null,null,null,null,null,null,null,null,null,null,null,null,{"$f":"-W45","v":-9.9233581130805191E-3},{"$f":"+CV12","v":2.2060684309587481E-3},null,null,null,null,null,null,null,null,null,null,null,null,null,null,{"$f":"-Y45","v":2.2060684309587481E-3},0,null,null,null,null,null,null,null,null,null,null,null,null,null,null,null,null,null,null,null,null,null,null,null,null,null,null,null,null,null,null,null,null,null,null,null,null,null,null,null,null,null,null,null,null,null,null,null,null,null,null,null,null,null,null,null,"fx2",{"$f":"+FB11","v":0},{"$f":"+FC11","v":2.05078125E-2},3.90625E-2,5.37109375E-2,6.25E-2,6.34765625E-2,5.46875E-2,3.41796875E-2,0,{"$f":"+FK11","v":0},{"$f":"+FL11","v":3.9793393554687494E-2},6.3669429687499987E-2,7.3902016601562495E-2,7.2765062499999991E-2,6.2532475585937497E-2,4.5478164062499993E-2,2.3876036132812497E-2,0]
[null,null,2,0,0.86178840128271017,1.7235768025654203,1.3353652038481301,0.94715360513084024,0.55894200641355019,0.17073040769626024,-0.2174811910210297,-0.60569278973831964,-0.60569278973831964,-0.50974015537089845,-0.41378752100347721,-0.31783488663605597,-0.22188225226863476,-0.12592961790121354,-2.9976983533792304E-2,6.5975650833628927E-2,0.16192828520105013,-0.31056927897383196,7.1141897584742333E-2,7.1141897584742333E-2,0.68943072102616809,0.38171117655857434,-9.0043532085848088E-2,null,null,null,null,null,null,null,null,0,{"$f":"+$Y13","v":0.68943072102616809},null,null,{"$f":"+$Y13","v":0.68943072102616809},{"$f":"+$V13","v":-0.31056927897383196},null,null,null,null,null,null,null,null,null,null,-0.31056927897383196,7.1141897584742333E-2,null,null,null,null,null,null,null,null,null,null,null,null,null,null,7.1141897584742333E-2,-1.8901634501105755E-2,null,null,null,null,null,null,null,null,null,null,null,null,null,null,{"$f":"-W44","v":-1.8901634501105755E-2},4.2020351065880923E-3,null,null,null,null,null,null,null,null,null,null,null,null,null,null,{"$f":"-Y44","v":4.2020351065880923E-3},0,null,null,null,null,null,null,null,null,null,null,null,null,null,null,null,null,null,null,null,null,null,null,null,null,null,null,null,null,null,null,null,null,null,null,null,null,null,null,null,null,null,null,null,null,null,null,null,null,null,null,null,null,null,null,null,"fx3",null,null,null,null,null,null,null,null,null,{"$f":"+(FK3-FK3^3)/6*Input!$B$1^2","v":0},{"$f":"+(FL3-FL3^3)/6*Input!$B$1^2","v":2.3876036132812497E-2},{"$f":"+(FM3-FM3^3)/6*Input!$B$1^2","v":4.5478164062499993E-2},{"$f":"+(FN3-FN3^3)/6*Input!$B$1^2","v":6.2532475585937497E-2},{"$f":"+(FO3-FO3^3)/6*Input!$B$1^2","v":7.2765062499999991E-2},{"$f":"+(FP3-FP3^3)/6*Input!$B$1^2","v":7.3902016601562495E-2},{"$f":"+(FQ3-FQ3^3)/6*Input!$B$1^2","v":6.3669429687499987E-2},{"$f":"+(FR3-FR3^3)/6*Input!$B$1^2","v":3.9793393554687494E-2},{"$f":"+(FS3-FS3^3)/6*Input!$B$1^2","v":0}]
[null,null,3,0,0.6771465517637264,1.3542931035274528,2.0314396552911789,1.4585862070549052,0.88573275881863156,0.31287931058235785,-0.25997413765391586,-0.83282758589018957,-0.83282758589018957,-0.70089271363498529,-0.56895784137978123,-0.437022969124577,-0.30508809686937283,-0.17315322461416865,-4.121835235896442E-2,9.0716519896239772E-2,0.22265139215144394,-0.45828275858901896,9.7820109179020717E-2,9.7820109179020717E-2,0.5417172414109811,0.55610286776803974,-0.12380985661804114,null,null,null,null,null,null,null,null,0,0.5417172414109811,null,null,null,null,{"$f":"+$Y14","v":0.5417172414109811},{"$f":"+$V14","v":-0.45828275858901896},null,null,null,null,null,null,null,null,-0.45828275858901896,9.7820109179020717E-2,null,null,null,null,null,null,null,null,null,null,null,null,null,null,9.7820109179020717E-2,-2.5989747439020414E-2,null,null,null,null,null,null,null,null,null,null,null,null,null,null,{"$f":"-W43","v":-2.5989747439020414E-2},5.7777982715586235E-3,null,null,null,null,null,null,null,null,null,null,null,null,null,null,{"$f":"-Y43","v":5.7777982715586235E-3},0,null,null,null,null,null,null,null,null,null,null,null,null,null,null,null,null,null,null,null,null,null,null,null,null,null,null,null,null,null,null,null,null,null,null,null,null,null,null,null,null,null,null,null,null,null,null,null,null,null,null,null,null,null,null,null,"fx4"]
[null,null,4,0,0.50386144205233596,1.0077228841046719,1.5115843261570083,2.0154457682093438,1.2693072102616805,0.52316865231401644,-0.2229699056336476,-0.96910846358131164,-0.96910846358131164,-0.81558424859343748,-0.66206003360556365,-0.50853581861768959,-0.35501160362981565,-0.20148738864194166,-4.7963173654067721E-2,0.10556104133380625,0.25908525632168022,-0.59691084635813108,0.11382703613558776,0.11382703613558776,0.40308915364186881,0.71073788249371894,-0.14406965133735694,null,null,null,null,null,null,null,null,0,0.40308915364186881,null,null,null,null,null,null,{"$f":"+$Y15","v":0.40308915364186881},{"$f":"+$V15","v":-0.59691084635813108},null,null,null,null,null,null,-0.59691084635813108,0.11382703613558776,null,null,null,null,null,null,null,null,null,null,null,null,null,null,0.11382703613558776,-3.0242615201769206E-2,null,null,null,null,null,null,null,null,null,null,null,null,null,null,{"$f":"-W42","v":-3.0242615201769206E-2},6.7232561705409463E-3,null,null,null,null,null,null,null,null,null,null,null,null,null,null,{"$f":"-Y42","v":6.7232561705409463E-3},0]
[null,null,5,0,0.34571865208440383,0.69143730416880766,1.0371559562532116,1.3828746083376153,1.7285932604220189,0.82431191250642299,-7.9969435409173242E-2,-0.98425078332476945,-0.98425078332476945,-0.82832775247770984,-0.67240472163065046,-0.51648169078359107,-0.36055865993653152,-0.20463562908947192,-4.871259824241251E-2,0.10721043260464699,0.26313346345170652,-0.72342507833247693,0.11560558357520631,0.11560558357520631,0.27657492166752307,0.83903066190768327,-0.14632073963950315,null,null,null,null,null,null,null,null,0,0.27657492166752307,null,null,null,null,null,null,null,null,{"$f":"+$Y16","v":0.27657492166752307},{"$f":"+$V16","v":-0.72342507833247693},null,null,null,null,-0.72342507833247693,0.11560558357520631,null,null,null,null,null,null,null,null,null,null,null,null,null,null,0.11560558357520631,-3.0715156064296846E-2,null,null,null,null,null,null,null,null,null,null,null,null,null,null,{"$f":"-W41","v":-3.0715156064296846E-2},6.8283070482056535E-3,null,null,null,null,null,null,null,null,null,null,null,null,null,null,{"$f":"-Y41","v":6.8283070482056535E-3},0]
[null,null,6,0,0.20650376179579405,0.4130075235915881,0.61951128538738209,0.8260150471831762,1.0325188089789703,1.2390225707747642,0.1955263325705584,-0.8479699056336476,-0.8479699056336476,-0.71363621751925788,-0.57930252940486815,-0.44496884129047842,-0.3106351531760887,-0.17630146506169897,-4.1967776947309243E-2,9.2365911167080483E-2,0.22669959928147021,-0.83479699056336476,9.9598656618639272E-2,9.9598656618639272E-2,0.16520300943663524,0.93439564718200396,-0.12606094492018732,null,null,null,null,null,null,null,null,0,0.16520300943663524,null,null,null,null,null,null,null,null,null,null,{"$f":"+$Y17","v":0.16520300943663524},{"$f":"+$V17","v":-0.83479699056336476},null,null,-0.83479699056336476,9.9598656618639272E-2,null,null,null,null,null,null,null,null,null,null,null,null,null,null,9.9598656618639272E-2,-2.6462288301548054E-2,null,null,null,null,null,null,null,null,null,null,null,null,null,null,{"$f":"-W40","v":-2.6462288301548054E-2},5.8828491492233306E-3,null,null,null,null,null,null,null,null,null,null,null,null,null,null,{"$f":"-Y40","v":5.8828491492233306E-3},0]
[null,null,7,0,9.0002351122371288E-2,0.18000470224474258,0.27000705336711389,0.36000940448948515,0.45001175561185647,0.54001410673422778,0.6300164578565991,-0.5299811910210297,-0.5299811910210297,-0.44602263594953617,-0.36206408087804254,-0.27810552580654896,-0.19414697073505544,-0.11018841566356183,-2.6229860592068277E-2,5.7728694479425302E-2,0.14168724955091888,-0.92799811910210306,6.224916038664955E-2,6.224916038664955E-2,7.2001880897897025E-2,0.99024727948875257,-7.8788090575117084E-2,null,null,null,null,null,null,null,null,0,7.2001880897897025E-2,null,null,null,null,null,null,null,null,null,null,null,null,{"$f":"+$Y18","v":7.2001880897897025E-2},{"$f":"+$V18","v":-0.92799811910210306},-0.92799811910210306,6.224916038664955E-2,null,null,null,null,null,null,null,null,null,null,null,null,null,null,6.224916038664955E-2,-1.6538930188467534E-2,null,null,null,null,null,null,null,null,null,null,null,null,null,null,{"$f":"-W39","v":-1.6538930188467534E-2},3.6767807182645808E-3,null,null,null,null,null,null,null,null,null,null,null,null,null,null,{"$f":"-Y39","v":3.6767807182645808E-3},0]
[null,null,8,0,0,0,0,0,0,0,0,0,0,0,0,0,0,0,0,0,0,-1,0,0,0,1,0]
[null,null,{"$f":"+C19","v":8},0,0,0,0,0,0,0,0,0,0,0,0,0,0,0,0,0,0,0,1,0,0,1,0,null,null,null,null,null,null,null,null,null,null,null,null,null,null,null,null,null,null,null,null,null,null,null,null,null,null,null,null,null,null,null,null,null,null,null,null,null,null,null,null,null,null,null,null,null,null,null,null,null,null,null,null,null,null,null,null,null,null,null,null,null,null,null,null,null,null,null,null,null,null,null,null,null,null,null,null,null,null,null,null,null,null,null,null,null,null,1,null,null,{"$f":"-(1+1/Input!B1)","v":-1.9267840593141798},null,null,{"$f":"2/Input!B1","v":1.8535681186283597},null,null,1,null,null,{"$f":"-1/Input!B1","v":-0.92678405931417984},null,null,null,{"$f":"-1/Input!$B$1","v":-0.92678405931417984},null,null,{"$f":"-1/6","v":-0.16666666666666666},{"$f":"-1/6","v":-0.16666666666666666},null,null,null,null,{"$f":"1/3","v":0.33333333333333331},{"$f":"1/3","v":0.33333333333333331},null,null,null,null,{"$f":"-1/3*Input!B1","v":-0.35966666666666663},{"$f":"-1/3*Input!B1","v":-0.35966666666666663},{"$f":"-1/6*Input!B1","v":-0.17983333333333332},null,null,null,{"$f":"1/6*Input!B1","v":0.17983333333333332},{"$f":"1/6*Input!B1","v":0.17983333333333332},{"$f":"1/3*Input!B1","v":0.35966666666666663}]
[null,null,{"$f":"+C20+1","v":9},0,-6.4756371094108478E-2,-0.12951274218821696,-0.19426911328232543,-0.25902548437643391,-0.32378185547054239,-0.38853822656465087,-0.45329459765875935,-0.51805096875286782,-0.51805096875286782,0.69980561837381428,0.56891220550049615,0.43801879262717802,0.30712537975386001,0.17623196688054205,4.5338554007223961E-2,-8.5554858866094055E-2,-0.21644827173941206,-5.1805096875286782E-2,0.90295205718382354,-9.7047942816176486E-2,-5.1805096875286782E-2,0.95475715405911032,0.12231360974851459,null,null,null,null,null,null,null,null,0,{"$f":"+$Y21","v":-5.1805096875286782E-2},null,null,null,null,null,null,null,null,null,null,null,null,null,null,{"$f":"+$Y21","v":-5.1805096875286782E-2},{"$f":"+$W21","v":0.90295205718382354},{"$f":"+$W21","v":0.90295205718382354},{"$f":"+$X21","v":-9.7047942816176486E-2},null,null,null,null,null,null,null,null,null,null,null,null,{"$f":"+$X21","v":-9.7047942816176486E-2},{"$f":"+CF21","v":2.5265666932338209E-2},null,null,null,null,null,null,null,null,null,null,null,null,null,null,{"$f":"-W36","v":2.5265666932338209E-2},{"$f":"+CV21","v":-5.6168274460516067E-3},null,null,null,null,null,null,null,null,null,null,null,null,null,null,{"$f":"-Y36","v":-5.6168274460516067E-3},0,null,null,null,null,null,null,null,null,null,null,null,null,1,null,null,{"$f":"-(1+1/Input!B1)","v":-1.9267840593141798},null,null,0,null,null,1,null,null,{"$f":"+DV20","v":-0.92678405931417984},null,null,null,{"$f":"+DZ20","v":-0.92678405931417984}]
[null,null,10,0,-9.9839722776758455E-2,-0.19967944555351691,-0.29951916833027531,-0.39935889110703382,-0.49919861388379222,-0.59903833666055062,-0.69887805943730907,-0.79871778221406764,-0.79871778221406764,0.25486501947790091,1.3084478211698694,1.0132806228618378,0.71811342455380622,0.42294622624577494,0.12777902793774326,-0.16738817037028825,-0.4625553686783197,-7.9871778221406758E-2,0.78115499662055121,-0.21884500337944876,-7.9871778221406758E-2,0.861026774841958,0.27283836534475614,null,null,null,null,null,null,null,null,0,-7.9871778221406758E-2,null,null,null,null,null,null,null,null,null,null,null,null,null,null,-7.9871778221406758E-2,{"$f":"+$W22","v":0.78115499662055121},null,null,{"$f":"+$W22","v":0.78115499662055121},{"$f":"+$X22","v":-0.21884500337944876},null,null,null,null,null,null,null,null,null,null,-0.21884500337944876,5.3993361965307372E-2,null,null,null,null,null,null,null,null,null,null,null,null,null,null,{"$f":"-W35","v":5.3993361965307372E-2},-1.2003300692734663E-2,null,null,null,null,null,null,null,null,null,null,null,null,null,null,{"$f":"-Y35","v":-1.2003300692734663E-2},0,null,null,null,null,null,null,null,null,null,null,null,null,0,null,null,{"$f":"1/Input!B1","v":0.92678405931417984},null,null,{"$f":"-DP20","v":-1.8535681186283597},null,null,0,null,null,{"$f":"-DV21","v":0.92678405931417984},null,null,null,{"$f":"-DZ21","v":0.92678405931417984}]
[null,null,11,0,-0.11083565459737794,-0.22167130919475589,-0.33250696379213385,-0.44334261838951178,-0.55417827298688971,-0.66501392758426769,-0.77584958218164568,-0.88668523677902356,-0.88668523677902356,-1.9452169249135221E-2,0.84778089828075309,1.7150139658106411,1.2334970333405297,0.75198010087041811,0.2704631684003066,-0.211053764069805,-0.69257069653991654,-8.8668523677902358E-2,0.64299022615747059,-0.35700977384252947,-8.8668523677902358E-2,0.73165874983537293,0.43785246390078769,null,null,null,null,null,null,null,null,0,-8.8668523677902358E-2,null,null,null,null,null,null,null,null,null,null,null,null,null,null,-8.8668523677902358E-2,0.64299022615747059,null,null,null,null,{"$f":"+$W23","v":0.64299022615747059},{"$f":"+$X23","v":-0.35700977384252947},null,null,null,null,null,null,null,null,-0.35700977384252947,8.0842690058258226E-2,null,null,null,null,null,null,null,null,null,null,null,null,null,null,{"$f":"-W34","v":8.0842690058258226E-2},-1.7972192918868923E-2,null,null,null,null,null,null,null,null,null,null,null,null,null,null,{"$f":"-Y34","v":-1.7972192918868923E-2},0]
[null,null,12,0,-0.10332976610539503,-0.20665953221079006,-0.3099892983161851,-0.41331906442158012,-0.51664883052697519,-0.6199785966323702,-0.72330836273776522,-0.82663812884316024,-0.82663812884316024,-0.15652632036868969,0.51358548810578086,1.1836972965802517,1.8538091050547223,1.175170913529193,0.4965327220036635,-0.18210546952186596,-0.8607436610473953,-8.2663812884316026E-2,0.49683915364186881,-0.50316084635813108,-8.2663812884316026E-2,0.57950296652618494,0.60363410252867211,null,null,null,null,null,null,null,null,0,-8.2663812884316026E-2,null,null,null,null,null,null,null,null,null,null,null,null,null,null,-8.2663812884316026E-2,0.49683915364186881,null,null,null,null,null,null,{"$f":"+$W24","v":0.49683915364186881},{"$f":"+$X24","v":-0.50316084635813108},null,null,null,null,null,null,-0.50316084635813108,0.10047325617054099,null,null,null,null,null,null,null,null,null,null,null,null,null,null,{"$f":"-W33","v":0.10047325617054099},-2.2336277303274168E-2,null,null,null,null,null,null,null,null,null,null,null,null,null,null,{"$f":"-Y33","v":-2.2336277303274168E-2},0,null,null,null,null,null,null,"Span","e/L","X(1)/L1","X(2)/L1","X(3)/L1","RA0","RA","RA-1","RB0","RB",null,"RC0","RC",null,"lQB0","lQB",null,"rQB0","rQB","rQB-1",null,"lQC0","lQC",null,"SA0","SA1","SA2","SA3","SA",null,"lSB0","lSB1","lSB2","lSB3","lSB",null,"rSB0","rSB1","rSB2","rSB3","rSB",null,"lSC0","lSC1","lSC2","lSC3","lSC"]
[null,null,13,0,-8.2907656850237738E-2,-0.16581531370047548,-0.24872297055071324,-0.33163062740095095,-0.41453828425118866,-0.49744594110142648,-0.5803535979516643,-0.6632612548019019,-0.6632612548019019,-0.18973780644215793,0.28378564191758598,0.75730909027732995,1.2308325386370742,1.7043559869968177,0.82912943535656169,-4.6097116283694145E-2,-0.92132366792395004,-6.6326125480190193E-2,0.35108318692103352,-0.64891681307896643,-6.6326125480190193E-2,0.41740931240122381,0.75646147834047262,null,null,null,null,null,null,null,null,0,-6.6326125480190193E-2,null,null,null,null,null,null,null,null,null,null,null,null,null,null,-6.6326125480190193E-2,0.35108318692103352,null,null,null,null,null,null,null,null,{"$f":"+$W25","v":0.35108318692103352},{"$f":"+$X25","v":-0.64891681307896643},null,null,null,null,-0.64891681307896643,0.10754466526150611,null,null,null,null,null,null,null,null,null,null,null,null,null,null,{"$f":"-W32","v":0.10754466526150611},-2.3908327024770134E-2,null,null,null,null,null,null,null,null,null,null,null,null,null,null,{"$f":"-Y32","v":-2.3908327024770134E-2},0,null,null,null,null,null,{"$f":"+DE25","v":0},1,0,{"$f":"-(DE25-DE25^3)/(4+3*Input!$B$1)","v":0},{"$f":"+(-DE25+DE25^3)/(4*(1+Input!$B$1))","v":0},{"$f":"1/2/(4+3*Input!$B$1)*(DE25-DE25^3)","v":0},{"$f":"1-1*DE25","v":1},{"$f":"+DI25+DJ$20*$DF25+DJ$21*$DG25+DJ$22*$DH25","v":1},{"$f":"+DJ25-1","v":0},{"$f":"+DE25","v":0},{"$f":"+DL25+DM$20*$DF25+DM$21*$DG25+DM$22*$DH25","v":0},null,null,{"$f":"+DO25+DP$20*$DF25+DP$21*$DG25+DP$22*$DH25","v":0},null,{"$f":"-$DE25","v":0},{"$f":"+DR25+DS$20*$DF25+DS$21*$DG25+DS$22*$DH25","v":0},null,null,{"$f":"+DU25+DV$20*$DF25+DV$21*$DG25+DV$22*$DH25","v":0},null,null,null,{"$f":"+DY25+DZ$20*$DF25+DZ$21*$DG25+DZ$22*$DH25","v":0},null,{"$f":"-(1-DE25)*(1-(1-DE25)^2)/6","v":0},{"$f":"+EC$20*$DF25","v":0},{"$f":"+ED$20*$DG25","v":0},{"$f":"+EE$20*$DH25","v":0},{"$f":"+SUM(EB25:EE25)","v":0},null,{"$f":"+DE25*(1-DE25^2)/6","v":0},{"$f":"+EI$20*$DF25","v":0},{"$f":"+EJ$20*$DG25","v":0},{"$f":"+EK$20*$DH25","v":0},{"$f":"+SUM(EH25:EK25)","v":0},null,null,{"$f":"+EO$20*$DF25","v":0},{"$f":"+EP$20*$DG25","v":0},{"$f":"+EQ$20*$DH25","v":0},{"$f":"+SUM(EN25:EQ25)","v":0},null,null,{"$f":"+EU$20*$DF25","v":0},{"$f":"+EV$20*$DG25","v":0},{"$f":"+EW$20*$DH25","v":0},{"$f":"+SUM(ET25:EW25)","v":0},null,null,null,0,{"$f":"+IF($DE25<=FC$3,FC$5/FC$3*$DE25,FC$5-FC$5/(1-FC$3)*($DE25-FC$3))","v":0},0,0,0,0,0,0,0,null,null,null,null,null,null,null,null,null,null,null,null,null,null,null,null,{"$f":"+FB25+FB$6*$DF25+FB$7*$DG25+FB$8*$DH25","v":0},{"$f":"+FC25+FC$6*$DF25+FC$7*$DG25+FC$8*$DH25","v":0},{"$f":"+FD25+FD$6*$DF25+FD$7*$DG25+FD$8*$DH25","v":0},{"$f":"+FE25+FE$6*$DF25+FE$7*$DG25+FE$8*$DH25","v":0},{"$f":"+FF25+FF$6*$DF25+FF$7*$DG25+FF$8*$DH25","v":0},{"$f":"+FG25+FG$6*$DF25+FG$7*$DG25+FG$8*$DH25","v":0},{"$f":"+FH25+FH$6*$DF25+FH$7*$DG25+FH$8*$DH25","v":0},{"$f":"+FI25+FI$6*$DF25+FI$7*$DG25+FI$8*$DH25","v":0},{"$f":"+FJ25+FJ$6*$DF25+FJ$7*$DG25+FJ$8*$DH25","v":0},{"$f":"+FK25+FK$6*$DF25+FK$7*$DG25+FK$8*$DH25","v":0},{"$f":"+FL25+FL$6*$DF25+FL$7*$DG25+FL$8*$DH25","v":0},{"$f":"+FM25+FM$6*$DF25+FM$7*$DG25+FM$8*$DH25","v":0},{"$f":"+FN25+FN$6*$DF25+FN$7*$DG25+FN$8*$DH25","v":0},{"$f":"+FO25+FO$6*$DF25+FO$7*$DG25+FO$8*$DH25","v":0},{"$f":"+FP25+FP$6*$DF25+FP$7*$DG25+FP$8*$DH25","v":0},{"$f":"+FQ25+FQ$6*$DF25+FQ$7*$DG25+FQ$8*$DH25","v":0},{"$f":"+FR25+FR$6*$DF25+FR$7*$DG25+FR$8*$DH25","v":0},{"$f":"+FS25+FS$6*$DF25+FS$7*$DG25+FS$8*$DH25","v":0},null,null,null,null,null,null,null,null,{"$f":"+GA25*10","v":0},{"$f":"+GB25*10","v":0},{"$f":"+GC25*10","v":0},{"$f":"+GD25*10","v":0},{"$f":"+GE25*10","v":0},{"$f":"+GF25*10","v":0},{"$f":"+GG25*10","v":0},{"$f":"+GH25*10","v":0},{"$f":"+GI25*10","v":0},{"$f":"+GJ25*10","v":0},{"$f":"+GK25*10","v":0},{"$f":"+GL25*10","v":0},{"$f":"+GM25*10","v":0},{"$f":"+GN25*10","v":0},{"$f":"+GO25*10","v":0},0,0,0,null,null,null,null,null,null,null,null,null,null,null,{"$f":"+IF($DE25<=FB$3,1/6*(1-FB$3)*$DE25*(1-(1-FB$3)^2-$DE25^2),1/6*FB$3*(1-$DE25)*(1-FB$3^2-(1-$DE25)^2))","v":0},{"$f":"+IF($DE25<=FC$3,1/6*(1-FC$3)*$DE25*(1-(1-FC$3)^2-$DE25^2),1/6*FC$3*(1-$DE25)*(1-FC$3^2-(1-$DE25)^2))","v":0},{"$f":"+IF($DE25<=FD$3,1/6*(1-FD$3)*$DE25*(1-(1-FD$3)^2-$DE25^2),1/6*FD$3*(1-$DE25)*(1-FD$3^2-(1-$DE25)^2))","v":0},{"$f":"+IF($DE25<=FE$3,1/6*(1-FE$3)*$DE25*(1-(1-FE$3)^2-$DE25^2),1/6*FE$3*(1-$DE25)*(1-FE$3^2-(1-$DE25)^2))","v":0},{"$f":"+IF($DE25<=FF$3,1/6*(1-FF$3)*$DE25*(1-(1-FF$3)^2-$DE25^2),1/6*FF$3*(1-$DE25)*(1-FF$3^2-(1-$DE25)^2))","v":0},{"$f":"+IF($DE25<=FG$3,1/6*(1-FG$3)*$DE25*(1-(1-FG$3)^2-$DE25^2),1/6*FG$3*(1-$DE25)*(1-FG$3^2-(1-$DE25)^2))","v":0},{"$f":"+IF($DE25<=FH$3,1/6*(1-FH$3)*$DE25*(1-(1-FH$3)^2-$DE25^2),1/6*FH$3*(1-$DE25)*(1-FH$3^2-(1-$DE25)^2))","v":0},{"$f":"+IF($DE25<=FI$3,1/6*(1-FI$3)*$DE25*(1-(1-FI$3)^2-$DE25^2),1/6*FI$3*(1-$DE25)*(1-FI$3^2-(1-$DE25)^2))","v":0},{"$f":"+IF($DE25<=FJ$3,1/6*(1-FJ$3)*$DE25*(1-(1-FJ$3)^2-$DE25^2),1/6*FJ$3*(1-$DE25)*(1-FJ$3^2-(1-$DE25)^2))","v":0},null,null,null,null,null,null,null,null,null,null,null,null,null,null,null,null,null,null,null,null,null,{"$f":"+ID25+FB$11*$DF25+FB$12*$DG25+FB$13*$DH25","v":0},{"$f":"+IE25+FC$11*$DF25+FC$12*$DG25+FC$13*$DH25","v":0},{"$f":"+IF25+FD$11*$DF25+FD$12*$DG25+FD$13*$DH25","v":0},{"$f":"+IG25+FE$11*$DF25+FE$12*$DG25+FE$13*$DH25","v":0},{"$f":"+IH25+FF$11*$DF25+FF$12*$DG25+FF$13*$DH25","v":0},{"$f":"+II25+FG$11*$DF25+FG$12*$DG25+FG$13*$DH25","v":0},{"$f":"+IJ25+FH$11*$DF25+FH$12*$DG25+FH$13*$DH25","v":0},{"$f":"+IK25+FI$11*$DF25+FI$12*$DG25+FI$13*$DH25","v":0},{"$f":"+IL25+FJ$11*$DF25+FJ$12*$DG25+FJ$13*$DH25","v":0},{"$f":"+IM25+FK$11*$DF25+FK$12*$DG25+FK$13*$DH25","v":0},{"$f":"+IN25+FL$11*$DF25+FL$12*$DG25+FL$13*$DH25","v":0},{"$f":"+IO25+FM$11*$DF25+FM$12*$DG25+FM$13*$DH25","v":0},{"$f":"+IP25+FN$11*$DF25+FN$12*$DG25+FN$13*$DH25","v":0},{"$f":"+IQ25+FO$11*$DF25+FO$12*$DG25+FO$13*$DH25","v":0},{"$f":"+IR25+FP$11*$DF25+FP$12*$DG25+FP$13*$DH25","v":0},{"$f":"+IS25+FQ$11*$DF25+FQ$12*$DG25+FQ$13*$DH25","v":0},{"$f":"+IT25+FR$11*$DF25+FR$12*$DG25+FR$13*$DH25","v":0},{"$f":"+IU25+FS$11*$DF25+FS$12*$DG25+FS$13*$DH25","v":0},null,null,null,null,null,null,{"$f":"+JH25*100","v":0},{"$f":"+JI25*100","v":0},{"$f":"+JJ25*100","v":0},{"$f":"+JK25*100","v":0},{"$f":"+JL25*100","v":0},{"$f":"+JM25*100","v":0},{"$f":"+JN25*100","v":0},{"$f":"+JO25*100","v":0},{"$f":"+JP25*100","v":0},{"$f":"+JQ25*100","v":0},{"$f":"+JR25*100","v":0},{"$f":"+JS25*100","v":0},{"$f":"+JT25*100","v":0},{"$f":"+JU25*100","v":0},{"$f":"+JV25*100","v":0},{"$f":"+JW25*100","v":0},{"$f":"+JX25*100","v":0},{"$f":"+JY25*100","v":0}]
[null,null,14,0,-5.5154926381334103E-2,-0.11030985276266821,-0.16546477914400229,-0.22061970552533641,-0.27577463190667051,-0.33092955828800458,-0.3860844846693387,-0.44123941105067283,-0.44123941105067283,-0.15246700003093538,0.13630541098880206,0.4250778220085395,0.71385023302827699,1.0026226440480144,1.291395055067752,0.23141746608748931,-0.82856012289277325,-4.4123941105067281E-2,0.21410373384225201,-0.78589626615774799,-4.4123941105067281E-2,0.25822767494731935,0.88261278844825208,null,null,null,null,null,null,null,null,0,-4.4123941105067281E-2,null,null,null,null,null,null,null,null,null,null,null,null,null,null,-4.4123941105067281E-2,0.21410373384225201,null,null,null,null,null,null,null,null,null,null,{"$f":"+$W26","v":0.21410373384225201},{"$f":"+$X26","v":-0.78589626615774799},null,null,-0.78589626615774799,9.6716522290504092E-2,null,null,null,null,null,null,null,null,null,null,null,null,null,null,{"$f":"-W31","v":9.6716522290504092E-2},-2.150111526217658E-2,null,null,null,null,null,null,null,null,null,null,null,null,null,null,{"$f":"-Y31","v":-2.150111526217658E-2},0,null,null,null,null,null,{"$f":"+DC25+1","v":1},null,{"$f":"+DE25+1/8","v":0.125},{"$f":"-(DE26-DE26^3)/(4+3*Input!$B$1)","v":-1.7002469946110266E-2},{"$f":"+(-DE26+DE26^3)/(4*(1+Input!$B$1))","v":-1.4796401515151518E-2},{"$f":"1/2/(4+3*Input!$B$1)*(DE26-DE26^3)","v":8.5012349730551329E-3},0.875,0.8432011285387383,-0.1567988714612617,0.125,0.1941483676932515,null,null,-4.7272854345070246E-2,null,-0.125,-0.15679887146126179,null,null,3.7349496231989729E-2,null,null,null,3.7349496231989729E-2,null,-3.41796875E-2,2.8337449910183776E-3,2.4660669191919195E-3,0,-2.8879875589789702E-2,null,2.05078125E-2,-5.6674899820367552E-3,-4.9321338383838389E-3,0,9.908188679579405E-3,null,null,6.1152216906176582E-3,5.3217724116161619E-3,-1.5288054226544146E-3,9.9081886795794067E-3,null,null,-3.0576108453088291E-3,-2.660886205808081E-3,3.0576108453088291E-3,{"$f":"+SUM(ET26:EW26)","v":-2.6608862058080814E-3},null,null,null,0,0.109375,9.375E-2,7.8125E-2,6.25E-2,4.6875E-2,3.125E-2,1.5625E-2,0,null,null,null,null,null,null,null,null,null,null,null,null,null,null,null,null,0,0.10540014106734229,8.5800282134684561E-2,6.620042320202682E-2,4.6600564269369107E-2,2.7000705336711388E-2,7.4008464040536629E-3,-1.219901252860406E-2,-3.1798871461261785E-2,-3.1798871461261785E-2,-2.6761358156972167E-2,-2.1723844852682556E-2,-1.6686331548392937E-2,-1.1648818244103326E-2,-6.6113049398137114E-3,-1.5737916355240966E-3,3.4637216687655181E-3,8.5012349730551329E-3,null,null,null,null,null,null,null,null,0,1.0540014106734228,0.85800282134684558,0.66200423202026815,0.46600564269369105,0.27000705336711389,7.4008464040536626E-2,-0.1219901252860406,-0.31798871461261785,-0.31798871461261785,-0.26761358156972165,-0.21723844852682556,-0.16686331548392938,-0.11648818244103326,{"$f":"+GO26*10","v":-6.6113049398137114E-2},{"$f":"+GP26*10","v":-1.5737916355240966E-2},{"$f":"+GQ26*10","v":3.4637216687655181E-2},{"$f":"+GR26*10","v":8.5012349730551329E-2},null,null,null,null,null,null,null,null,null,null,null,0,3.987630208333333E-3,6.591796875E-3,7.7311197916666661E-3,7.649739583333333E-3,6.591796875E-3,4.8014322916666661E-3,2.522786458333333E-3,0,null,null,null,null,null,null,null,null,null,null,null,null,null,null,null,null,null,null,null,null,null,0,3.335504914694175E-3,5.3496534585444622E-3,6.0231725940402998E-3,5.6623101170044715E-3,4.5733138232597502E-3,3.0624315086289124E-3,1.435910968934737E-3,0,0,-1.0624092132627172E-3,-1.6379954518061929E-3,-1.8183974582382321E-3,-1.6952539751666374E-3,-1.3602037451992128E-3,-9.0488551094376258E-4,-4.2093801500809041E-4,0,null,null,null,null,null,null,0,0.33355049146941751,0.53496534585444622,0.60231725940403003,0.5662310117004471,0.45733138232597503,0.30624315086289122,0.14359109689347371,0,0,-0.10624092132627172,-0.16379954518061929,-0.1818397458238232,-0.16952539751666373,-0.13602037451992127,-9.0488551094376257E-2,-4.209380150080904E-2,0]
[null,null,15,0,-2.5657174248112178E-2,-5.1314348496224356E-2,-7.6971522744336537E-2,-0.10262869699244871,-0.12828587124056087,-0.15394304548867307,-0.17960021973678522,-0.20525739398489742,-0.20525739398489742,-7.8094273696417624E-2,4.9068846592062211E-2,0.17623196688054205,0.30339508716902186,0.43055820745750162,0.55772132774598138,0.68488444803446125,-0.536702431677059,-2.0525739398489742E-2,9.4282202252811725E-2,-0.90571779774718819,-2.0525739398489742E-2,0.11480794165130145,0.96836622996407362,null,null,null,null,null,null,null,null,0,-2.0525739398489742E-2,null,null,null,null,null,null,null,null,null,null,null,null,null,null,-2.0525739398489742E-2,9.4282202252811725E-2,null,null,null,null,null,null,null,null,null,null,null,null,{"$f":"+$W27","v":9.4282202252811725E-2},{"$f":"+$X27","v":-0.90571779774718819},-0.90571779774718819,6.264843221688525E-2,null,null,null,null,null,null,null,null,null,null,null,null,null,null,{"$f":"-W30","v":6.264843221688525E-2},-1.3927415194313288E-2,null,null,null,null,null,null,null,null,null,null,null,null,null,null,{"$f":"-Y30","v":-1.3927415194313288E-2},0,null,null,null,null,null,2,null,0.25,{"$f":"-(DE27-DE27^3)/(4+3*Input!$B$1)","v":-3.2385657040210028E-2},{"$f":"+(-DE27+DE27^3)/(4*(1+Input!$B$1))","v":-2.8183621933621936E-2},{"$f":"1/2/(4+3*Input!$B$1)*(DE27-DE27^3)","v":1.6192828520105014E-2},0.75,0.68943072102616809,-0.31056927897383191,0.25,0.38171117655857434,null,null,-9.0043532085848088E-2,null,-0.25,-0.31056927897383196,null,null,7.1141897584742333E-2,null,null,null,7.1141897584742333E-2,null,-5.46875E-2,5.3976095067016713E-3,4.6972703222703223E-3,0,-4.4592620171028004E-2,null,3.90625E-2,-1.0795219013403343E-2,-9.3945406445406446E-3,0,1.8872740342056014E-2,null,null,1.1648041315462206E-2,1.0136709355459355E-2,-2.9120103288655516E-3,1.8872740342056007E-2,null,null,-5.8240206577311032E-3,-5.0683546777296777E-3,5.8240206577311032E-3,-5.0683546777296768E-3,null,null,null,0,9.375E-2,0.1875,0.15625,0.125,9.375E-2,6.25E-2,3.125E-2,0,null,null,null,null,null,null,null,null,null,null,null,null,null,null,null,null,0,8.6178840128271011E-2,0.17235768025654202,0.13353652038481301,9.4715360513084018E-2,5.5894200641355016E-2,1.7073040769626024E-2,-2.1748119102102968E-2,-6.0569278973831964E-2,-6.0569278973831964E-2,-5.0974015537089842E-2,-4.1378752100347721E-2,-3.17834886636056E-2,-2.2188225226863475E-2,-1.2592961790121353E-2,-2.9976983533792304E-3,6.5975650833628927E-3,1.6192828520105014E-2,null,null,null,null,null,null,null,null,0,0.86178840128271017,1.7235768025654203,1.3353652038481301,0.94715360513084024,0.55894200641355019,0.17073040769626024,-0.2174811910210297,-0.60569278973831964,-0.60569278973831964,-0.50974015537089845,-0.41378752100347721,-0.31783488663605597,-0.22188225226863476,-0.12592961790121354,-2.9976983533792304E-2,6.5975650833628927E-2,0.16192828520105013,null,null,null,null,null,null,null,null,null,null,null,0,6.591796875E-3,1.171875E-2,1.4241536458333332E-2,1.4322916666666666E-2,1.2451171875E-2,9.1145833333333322E-3,4.8014322916666661E-3,0,null,null,null,null,null,null,null,null,null,null,null,null,null,null,null,null,null,null,null,null,null,0,5.3496534585444622E-3,9.3527625400846894E-3,1.0988303700949779E-2,1.0537336730802167E-2,8.6064422526376198E-3,5.8022008894518962E-3,2.7311932642407688E-3,0,0,-2.0236365966908895E-3,-3.1199913367737004E-3,-3.4636142061680603E-3,-3.2290551907935942E-3,-2.5908642765699293E-3,-1.7235914494166907E-3,-8.0178669525350556E-4,0,null,null,null,null,null,null,0,0.53496534585444622,0.93527625400846892,1.098830370094978,1.0537336730802167,0.86064422526376194,0.58022008894518962,0.27311932642407688,0,0,-0.20236365966908895,-0.31199913367737003,-0.34636142061680603,-0.32290551907935944,-0.25908642765699291,-0.17235914494166907,-8.0178669525350563E-2,0]
[null,null,16,0,0,0,0,0,0,0,0,0,0,0,0,0,0,0,0,0,0,0,0,-1,0,0,1,null,null,null,null,null,null,null,null,null,null,null,null,null,null,null,null,null,null,null,null,null,null,null,null,null,null,null,null,null,null,null,null,null,null,null,null,null,null,null,null,null,null,null,null,null,null,null,null,null,null,null,null,null,null,null,null,null,null,null,null,null,null,null,null,null,null,null,null,null,null,null,null,null,null,null,null,null,null,null,3,null,0.375,{"$f":"-(DE28-DE28^3)/(4+3*Input!$B$1)","v":-4.453027843028879E-2},{"$f":"+(-DE28+DE28^3)/(4*(1+Input!$B$1))","v":-3.8752480158730167E-2},{"$f":"1/2/(4+3*Input!$B$1)*(DE28-DE28^3)","v":2.2265139215144395E-2},0.625,0.5417172414109811,-0.4582827585890189,0.375,0.55610286776803974,null,null,-0.12380985661804114,null,-0.375,-0.45828275858901896,null,null,9.7820109179020717E-2,null,null,null,9.7820109179020717E-2,null,-6.34765625E-2,7.4217130717147981E-3,6.4587466931216942E-3,0,-4.9596102735163509E-2,null,5.37109375E-2,-1.4843426143429596E-2,-1.2917493386243388E-2,0,2.5950017970327019E-2,null,null,1.6016056808760535E-2,1.3937975363756615E-2,-4.0040142021901337E-3,2.5950017970327019E-2,null,null,-8.0080284043802675E-3,-6.9689876818783076E-3,8.0080284043802675E-3,-6.9689876818783084E-3,null,null,null,0,7.8125E-2,0.15625,0.234375,0.1875,0.140625,9.375E-2,4.6875E-2,0,null,null,null,null,null,null,null,null,null,null,null,null,null,null,null,null,0,6.7714655176372637E-2,0.13542931035274527,0.2031439655291179,0.14585862070549052,8.8573275881863159E-2,3.1287931058235782E-2,-2.5997413765391587E-2,-8.3282758589018957E-2,-8.3282758589018957E-2,-7.0089271363498531E-2,-5.689578413797812E-2,-4.3702296912457701E-2,-3.0508809686937283E-2,-1.7315322461416864E-2,-4.121835235896442E-3,9.0716519896239765E-3,2.2265139215144395E-2,null,null,null,null,null,null,null,null,0,0.6771465517637264,1.3542931035274528,2.0314396552911789,1.4585862070549052,0.88573275881863156,0.31287931058235785,-0.25997413765391586,-0.83282758589018957,-0.83282758589018957,-0.70089271363498529,-0.56895784137978123,-0.437022969124577,-0.30508809686937283,-0.17315322461416865,-4.121835235896442E-2,9.0716519896239772E-2,0.22265139215144394,null,null,null,null,null,null,null,null,null,null,null,0,7.7311197916666661E-3,1.4241536458333332E-2,1.8310546875E-2,1.904296875E-2,1.6845703125E-2,1.2451171875E-2,6.591796875E-3,0,null,null,null,null,null,null,null,null,null,null,null,null,null,null,null,null,null,null,null,null,null,0,6.0231725940403016E-3,1.0988303700949779E-2,1.3837351833597616E-2,1.3837796338186315E-2,1.1559199894251726E-2,7.8966460146630262E-3,3.7452182122893912E-3,0,0,-2.7825003204499732E-3,-4.289988088063839E-3,-4.7624695334810832E-3,-4.4399508873411925E-3,-3.5624383802836533E-3,-2.3699382429479493E-3,-1.1024567059735703E-3,0,null,null,null,null,null,null,0,0.60231725940403014,1.098830370094978,1.3837351833597615,1.3837796338186314,1.1559199894251726,0.78966460146630257,0.37452182122893912,0,0,-0.27825003204499732,-0.42899880880638391,-0.47624695334810829,-0.44399508873411925,-0.35624383802836534,-0.23699382429479493,-0.11024567059735703,0]
[null,null,{"$f":"+C28","v":16},0,0,0,0,0,0,0,0,0,0,0,0,0,0,0,0,0,0,0,0,0,0,0,1,null,null,null,null,null,null,null,null,null,null,null,null,null,null,null,null,null,null,null,null,null,null,null,null,null,null,null,null,null,null,null,null,null,null,null,null,null,null,null,null,null,null,null,null,null,null,null,null,null,null,null,null,null,null,null,null,null,null,null,null,null,null,null,null,null,null,null,null,null,null,null,null,null,null,null,null,null,null,null,4,null,0.5,{"$f":"-(DE29-DE29^3)/(4+3*Input!$B$1)","v":-5.1817051264336049E-2},{"$f":"+(-DE29+DE29^3)/(4*(1+Input!$B$1))","v":-4.5093795093795103E-2},{"$f":"1/2/(4+3*Input!$B$1)*(DE29-DE29^3)","v":2.5908525632168024E-2},0.5,0.40308915364186881,-0.59691084635813119,0.5,0.71073788249371894,null,null,-0.14406965133735694,null,-0.5,-0.59691084635813108,null,null,0.11382703613558776,null,null,null,0.11382703613558776,null,-6.25E-2,8.6361752107226748E-3,7.5156325156325171E-3,0,-4.6348192273644812E-2,null,6.25E-2,-1.727235042144535E-2,-1.5031265031265034E-2,0,3.0196384547289616E-2,null,null,1.8636866104739531E-2,1.6218734968734969E-2,-4.6592165261848829E-3,3.0196384547289623E-2,null,null,-9.3184330523697657E-3,-8.1093674843674846E-3,9.3184330523697657E-3,-8.1093674843674864E-3,null,null,null,0,6.25E-2,0.125,0.1875,0.25,0.1875,0.125,6.25E-2,0,null,null,null,null,null,null,null,null,null,null,null,null,null,null,null,null,0,5.0386144205233602E-2,0.1007722884104672,0.15115843261570083,0.20154457682093441,0.12693072102616804,5.2316865231401645E-2,-2.229699056336476E-2,-9.6910846358131159E-2,-9.6910846358131159E-2,-8.1558424859343753E-2,-6.6206003360556362E-2,-5.0853581861768957E-2,-3.5501160362981565E-2,-2.0148738864194167E-2,-4.7963173654067721E-3,1.0556104133380626E-2,2.5908525632168024E-2,null,null,null,null,null,null,null,null,0,0.50386144205233596,1.0077228841046719,1.5115843261570083,2.0154457682093438,1.2693072102616805,0.52316865231401644,-0.2229699056336476,-0.96910846358131164,-0.96910846358131164,-0.81558424859343748,-0.66206003360556365,-0.50853581861768959,-0.35501160362981565,-0.20148738864194166,-4.7963173654067721E-2,0.10556104133380625,0.25908525632168022,null,null,null,null,null,null,null,null,null,null,null,0,7.649739583333333E-3,1.4322916666666666E-2,1.904296875E-2,2.0833333333333332E-2,1.904296875E-2,1.4322916666666666E-2,7.649739583333333E-3,0,null,null,null,null,null,null,null,null,null,null,null,null,null,null,null,null,null,null,null,null,null,0,5.6623101170044715E-3,1.0537336730802167E-2,1.3837796338186315E-2,1.4776405435950135E-2,1.289140135422019E-2,9.0231047564563686E-3,4.3373571394518971E-3,0,0,-3.2378185547054239E-3,-4.9919861388379224E-3,-5.5417827298688974E-3,-5.1664883052697516E-3,-4.1453828425118871E-3,-2.7577463190667055E-3,-1.2828587124056089E-3,0,null,null,null,null,null,null,0,0.5662310117004471,1.0537336730802167,1.3837796338186314,1.4776405435950135,1.2891401354220189,0.90231047564563682,0.43373571394518973,0,0,-0.32378185547054239,-0.49919861388379222,-0.55417827298688971,-0.51664883052697519,-0.41453828425118872,-0.27577463190667056,-0.1282858712405609,0]
[null,null,{"$f":"+C29+1","v":17},0,1.7409268992891611E-2,3.4818537985783223E-2,5.2227806978674823E-2,6.9637075971566445E-2,8.7046344964458039E-2,0.10445561395734965,0.12186488295024127,0.13927415194313289,0.13927415194313289,5.47770789906089E-2,-2.9719993961915096E-2,-0.11421706691443906,-0.19871413986696307,-0.28321121281948702,-0.36770828577201098,-0.45220535872453499,-0.536702431677059,1.3927415194313288E-2,-6.264843221688525E-2,-6.264843221688525E-2,1.3927415194313288E-2,-7.6575847411198536E-2,0.96836622996407362,null,null,null,null,null,null,null,null,0,{"$f":"+$Y30","v":1.3927415194313288E-2},null,null,null,null,null,null,null,null,null,null,null,null,null,null,{"$f":"+$Y30","v":1.3927415194313288E-2},{"$f":"+$W30","v":-6.264843221688525E-2},null,null,null,null,null,null,null,null,null,null,null,null,null,null,{"$f":"+$W30","v":-6.264843221688525E-2},{"$f":"+$X27","v":-0.90571779774718819},{"$f":"+$X27","v":-0.90571779774718819},{"$f":"-$W27","v":-9.4282202252811725E-2},null,null,null,null,null,null,null,null,null,null,null,null,{"$f":"-$W27","v":-9.4282202252811725E-2},{"$f":"+CV30","v":2.0525739398489742E-2},null,null,null,null,null,null,null,null,null,null,null,null,null,null,{"$f":"-Y27","v":2.0525739398489742E-2},0,null,null,null,null,null,5,null,0.625,{"$f":"-(DE30-DE30^3)/(4+3*Input!$B$1)","v":-5.2626692690341301E-2},{"$f":"+(-DE30+DE30^3)/(4*(1+Input!$B$1))","v":-4.5798385642135647E-2},{"$f":"1/2/(4+3*Input!$B$1)*(DE30-DE30^3)","v":2.631334634517065E-2},0.375,0.27657492166752307,-0.72342507833247693,0.625,0.83903066190768327,null,null,-0.14632073963950315,null,-0.625,-0.72342507833247693,null,null,0.11560558357520631,null,null,null,0.11560558357520631,null,-5.37109375E-2,8.7711154483902168E-3,7.6330642736892745E-3,0,-3.7306757777920509E-2,null,6.34765625E-2,-1.7542230896780434E-2,-1.5266128547378549E-2,0,3.0668203055841017E-2,null,null,1.8928067137626087E-2,1.6472152702621454E-2,-4.7320167844065219E-3,3.0668203055841021E-2,null,null,-9.4640335688130437E-3,-8.2360763513107272E-3,9.4640335688130437E-3,-8.2360763513107272E-3,null,null,null,0,4.6875E-2,9.375E-2,0.140625,0.1875,0.234375,0.15625,7.8125E-2,0,null,null,null,null,null,null,null,null,null,null,null,null,null,null,null,null,0,3.4571865208440383E-2,6.9143730416880766E-2,0.10371559562532115,0.13828746083376153,0.17285932604220189,8.2431191250642299E-2,-7.9969435409173242E-3,-9.8425078332476948E-2,-9.8425078332476948E-2,-8.2832775247770982E-2,-6.7240472163065043E-2,-5.1648169078359105E-2,-3.6055865993653152E-2,-2.0463562908947193E-2,-4.871259824241251E-3,1.07210432604647E-2,2.631334634517065E-2,null,null,null,null,null,null,null,null,0,0.34571865208440383,0.69143730416880766,1.0371559562532116,1.3828746083376153,1.7285932604220189,0.82431191250642299,-7.9969435409173242E-2,-0.98425078332476945,-0.98425078332476945,-0.82832775247770984,-0.67240472163065046,-0.51648169078359107,-0.36055865993653152,-0.20463562908947192,-4.871259824241251E-2,0.10721043260464699,0.26313346345170652,null,null,null,null,null,null,null,null,null,null,null,0,6.591796875E-3,1.2451171875E-2,1.6845703125E-2,1.904296875E-2,1.8310546875E-2,1.4241536458333332E-2,7.7311197916666661E-3,0,null,null,null,null,null,null,null,null,null,null,null,null,null,null,null,null,null,null,null,null,null,0,4.5733138232597502E-3,8.606442252637618E-3,1.1559199894251726E-2,1.289140135422019E-2,1.206286123866113E-2,8.8589149870259981E-3,4.3669813720995827E-3,0,0,-3.2884094696226957E-3,-5.0699859222572644E-3,-5.6283730850230987E-3,-5.2472146850395911E-3,-4.210154449426135E-3,-2.8008361053021222E-3,-1.3029033797869467E-3,0,null,null,null,null,null,null,0,0.45733138232597503,0.86064422526376183,1.1559199894251726,1.2891401354220189,1.2062861238661131,0.88589149870259987,0.43669813720995826,0,0,-0.32884094696226956,-0.50699859222572641,-0.56283730850230984,-0.52472146850395907,-0.4210154449426135,-0.28008361053021225,-0.13029033797869466,0]
[null,null,18,0,2.6876394077720724E-2,5.3752788155441447E-2,8.0629182233162178E-2,0.10750557631088289,0.13438197038860364,0.16125836446632436,0.1881347585440451,0.21501115262176579,0.21501115262176579,8.4564743182448415E-2,-4.5881666256868958E-2,-0.17632807569618636,-0.30677448513550376,-0.43722089457482116,-0.56766730401413856,-0.69811371345345596,-0.82856012289277325,2.150111526217658E-2,-9.6716522290504092E-2,-9.6716522290504092E-2,2.150111526217658E-2,-0.11821763755268067,0.88261278844825208,null,null,null,null,null,null,null,null,0,2.150111526217658E-2,null,null,null,null,null,null,null,null,null,null,null,null,null,null,2.150111526217658E-2,-9.6716522290504092E-2,null,null,null,null,null,null,null,null,null,null,null,null,null,null,-9.6716522290504092E-2,{"$f":"+$X26","v":-0.78589626615774799},null,null,{"$f":"+$X26","v":-0.78589626615774799},{"$f":"-$W26","v":-0.21410373384225201},null,null,null,null,null,null,null,null,null,null,{"$f":"-$W26","v":-0.21410373384225201},4.4123941105067281E-2,null,null,null,null,null,null,null,null,null,null,null,null,null,null,{"$f":"-Y26","v":4.4123941105067281E-2},0,null,null,null,null,null,6,null,0.75,{"$f":"-(DE31-DE31^3)/(4+3*Input!$B$1)","v":-4.5339919856294042E-2},{"$f":"+(-DE31+DE31^3)/(4*(1+Input!$B$1))","v":-3.9457070707070711E-2},{"$f":"1/2/(4+3*Input!$B$1)*(DE31-DE31^3)","v":2.2669959928147021E-2},0.25,0.16520300943663524,-0.83479699056336476,0.75,0.93439564718200396,null,null,-0.12606094492018732,null,-0.75,-0.83479699056336476,null,null,9.9598656618639272E-2,null,null,null,9.9598656618639272E-2,null,-3.90625E-2,7.55665330938234E-3,6.5761784511784516E-3,0,-2.4929668239439207E-2,null,5.46875E-2,-1.511330661876468E-2,-1.3152356902356903E-2,0,2.642183647887842E-2,null,null,1.6307257841647087E-2,1.4191393097643099E-2,-4.0768144604117719E-3,2.6421836478878413E-2,null,null,-8.1536289208235437E-3,-7.0956965488215493E-3,8.1536289208235437E-3,-7.0956965488215493E-3,null,null,null,0,3.125E-2,6.25E-2,9.375E-2,0.125,0.15625,0.1875,9.375E-2,0,null,null,null,null,null,null,null,null,null,null,null,null,null,null,null,null,0,2.0650376179579405E-2,4.130075235915881E-2,6.1951128538738215E-2,8.260150471831762E-2,0.10325188089789702,0.12390225707747643,1.9552633257055842E-2,-8.479699056336476E-2,-8.479699056336476E-2,-7.1363621751925788E-2,-5.7930252940486815E-2,-4.4496884129047842E-2,-3.106351531760887E-2,-1.7630146506169897E-2,-4.1967776947309243E-3,9.2365911167080483E-3,2.2669959928147021E-2,null,null,null,null,null,null,null,null,0,0.20650376179579405,0.4130075235915881,0.61951128538738209,0.8260150471831762,1.0325188089789703,1.2390225707747642,0.1955263325705584,-0.8479699056336476,-0.8479699056336476,-0.71363621751925788,-0.57930252940486815,-0.44496884129047842,-0.3106351531760887,-0.17630146506169897,-4.1967776947309243E-2,9.2365911167080483E-2,0.22669959928147021,null,null,null,null,null,null,null,null,null,null,null,0,4.8014322916666661E-3,9.1145833333333322E-3,1.2451171875E-2,1.4322916666666666E-2,1.4241536458333332E-2,1.171875E-2,6.591796875E-3,0,null,null,null,null,null,null,null,null,null,null,null,null,null,null,null,null,null,null,null,null,null,0,3.0624315086289124E-3,5.8022008894518962E-3,7.8966460146630262E-3,9.0231047564563686E-3,8.8589149870259981E-3,7.0814145785659897E-3,3.6934622366037442E-3,0,0,-2.833091235367245E-3,-4.367987871483181E-3,-4.8490598886352853E-3,-4.5206772671110328E-3,-3.6272099871979008E-3,-2.4130280291833673E-3,-1.1225013733549075E-3,0,null,null,null,null,null,null,0,0.30624315086289122,0.58022008894518962,0.78966460146630257,0.90231047564563682,0.88589149870259987,0.70814145785659899,0.3693462236603744,0,0,-0.28330912353672449,-0.4367987871483181,-0.48490598886352854,-0.45206772671110329,-0.36272099871979008,-0.24130280291833672,-0.11225013733549075,0]
[null,null,19,0,2.9885408780962668E-2,5.9770817561925337E-2,8.9656226342888015E-2,0.11954163512385067,0.14942704390481332,0.17931245268577603,0.20919786146673866,0.23908327024770135,0.23908327024770135,9.4032402976244961E-2,-5.1018464295211376E-2,-0.19606933156666781,-0.34112019883812411,-0.4861710661095805,-0.63122193338103694,-0.77627280065249327,-0.9213236679239496,2.3908327024770134E-2,-0.10754466526150611,-0.10754466526150611,2.3908327024770134E-2,-0.13145299228627624,0.75646147834047262,null,null,null,null,null,null,null,null,0,2.3908327024770134E-2,null,null,null,null,null,null,null,null,null,null,null,null,null,null,2.3908327024770134E-2,-0.10754466526150611,null,null,null,null,null,null,null,null,null,null,null,null,null,null,-0.10754466526150611,{"$f":"+$X25","v":-0.64891681307896643},null,null,null,null,{"$f":"+$X25","v":-0.64891681307896643},{"$f":"-$W25","v":-0.35108318692103352},null,null,null,null,null,null,null,null,{"$f":"-$W25","v":-0.35108318692103352},6.6326125480190193E-2,null,null,null,null,null,null,null,null,null,null,null,null,null,null,{"$f":"-Y25","v":6.6326125480190193E-2},0,null,null,null,null,null,7,null,0.875,{"$f":"-(DE32-DE32^3)/(4+3*Input!$B$1)","v":-2.8337449910183776E-2},{"$f":"+(-DE32+DE32^3)/(4*(1+Input!$B$1))","v":-2.4660669191919195E-2},{"$f":"1/2/(4+3*Input!$B$1)*(DE32-DE32^3)","v":1.4168724955091888E-2},0.125,7.2001880897897025E-2,-0.92799811910210295,0.875,0.99024727948875257,null,null,-7.8788090575117084E-2,null,-0.875,-0.92799811910210306,null,null,6.224916038664955E-2,null,null,null,6.224916038664955E-2,null,-2.05078125E-2,4.7229083183639624E-3,4.1101115319865326E-3,0,-1.1674792649649506E-2,null,3.41796875E-2,-9.4458166367279248E-3,-8.2202230639730652E-3,0,1.6513647799299012E-2,null,null,1.019203615102943E-2,8.8696206860269366E-3,-2.5480090377573575E-3,1.6513647799299008E-2,null,null,-5.096018075514715E-3,-4.4348103430134683E-3,5.096018075514715E-3,-4.4348103430134674E-3,null,null,null,0,1.5625E-2,3.125E-2,4.6875E-2,6.25E-2,7.8125E-2,9.375E-2,0.109375,0,null,null,null,null,null,null,null,null,null,null,null,null,null,null,null,null,0,9.0002351122371281E-3,1.8000470224474256E-2,2.7000705336711388E-2,3.6000940448948512E-2,4.5001175561185644E-2,5.4001410673422776E-2,6.3001645785659907E-2,-5.2998119102102975E-2,-5.2998119102102975E-2,-4.4602263594953617E-2,-3.6206408087804252E-2,-2.7810552580654898E-2,-1.9414697073505544E-2,-1.1018841566356182E-2,-2.6229860592068277E-3,5.7728694479425302E-3,1.4168724955091888E-2,null,null,null,null,null,null,null,null,0,9.0002351122371288E-2,0.18000470224474258,0.27000705336711389,0.36000940448948515,0.45001175561185647,0.54001410673422778,0.6300164578565991,-0.5299811910210297,-0.5299811910210297,-0.44602263594953617,-0.36206408087804254,-0.27810552580654896,-0.19414697073505544,-0.11018841566356183,-2.6229860592068277E-2,5.7728694479425302E-2,0.14168724955091888,null,null,null,null,null,null,null,null,null,null,null,0,2.522786458333333E-3,4.8014322916666661E-3,6.591796875E-3,7.649739583333333E-3,7.7311197916666661E-3,6.591796875E-3,3.987630208333333E-3,0,null,null,null,null,null,null,null,null,null,null,null,null,null,null,null,null,null,null,null,null,null,0,1.435910968934737E-3,2.7311932642407688E-3,3.7452182122893912E-3,4.3373571394518971E-3,4.3669813720995827E-3,3.6934622366037442E-3,2.1761710593356733E-3,0,0,-1.7706820221045285E-3,-2.7299924196769881E-3,-3.030662430397053E-3,-2.8254232919443954E-3,-2.2670062419986887E-3,-1.5081425182396045E-3,-7.0156335834681738E-4,0,null,null,null,null,null,null,0,0.14359109689347371,0.27311932642407688,0.37452182122893912,0.43373571394518973,0.43669813720995826,0.3693462236603744,0.21761710593356734,0,0,-0.17706820221045286,-0.27299924196769881,-0.30306624303970531,-0.28254232919443956,-0.22670062419986886,-0.15081425182396047,-7.0156335834681741E-2,0]
[null,null,20,0,2.7920346629092711E-2,5.5840693258185421E-2,8.3761039887278121E-2,0.11168138651637084,0.13960173314546356,0.16752207977455624,0.19544242640364901,0.22336277303274168,0.22336277303274168,8.7849468772724537E-2,-4.7663835487292659E-2,-0.18317713974730979,-0.31869044400732693,-0.45420374826734417,-0.58971705252736129,-0.72523035678737846,-0.86074366104739564,2.2336277303274168E-2,-0.10047325617054099,-0.10047325617054099,2.2336277303274168E-2,-0.12280953347381518,0.60363410252867222,null,null,null,null,null,null,null,null,0,2.2336277303274168E-2,null,null,null,null,null,null,null,null,null,null,null,null,null,null,2.2336277303274168E-2,-0.10047325617054099,null,null,null,null,null,null,null,null,null,null,null,null,null,null,-0.10047325617054099,{"$f":"+$X24","v":-0.50316084635813108},null,null,null,null,null,null,{"$f":"+$X24","v":-0.50316084635813108},{"$f":"-$W24","v":-0.49683915364186881},null,null,null,null,null,null,{"$f":"-$W24","v":-0.49683915364186881},8.2663812884316026E-2,null,null,null,null,null,null,null,null,null,null,null,null,null,null,{"$f":"-Y24","v":8.2663812884316026E-2},0,null,null,null,null,null,8,null,1,{"$f":"-(DE33-DE33^3)/(4+3*Input!$B$1)","v":0},{"$f":"+(-DE33+DE33^3)/(4*(1+Input!$B$1))","v":0},{"$f":"1/2/(4+3*Input!$B$1)*(DE33-DE33^3)","v":0},0,0,-1,1,1,null,null,0,null,-1,-1,null,null,0,null,null,null,0,null,0,0,0,0,0,null,0,0,0,0,0,null,null,0,0,0,0,null,null,0,0,0,0,null,null,null,0,0,0,0,0,0,0,0,0,null,null,null,null,null,null,null,null,null,null,null,null,null,null,null,null,0,0,0,0,0,0,0,0,0,0,0,0,0,0,0,0,0,0,null,null,null,null,null,null,null,null,0,0,0,0,0,0,0,0,0,0,0,0,0,0,0,0,0,0,null,null,null,null,null,null,null,null,null,null,null,0,0,0,0,0,0,0,0,0,null,null,null,null,null,null,null,null,null,null,null,null,null,null,null,null,null,null,null,null,null,0,0,0,0,0,0,0,0,0,0,0,0,0,0,0,0,0,0,null,null,null,null,null,null,0,0,0,0,0,0,0,0,0,0,0,0,0,0,0,0,0,0]
[null,null,21,0,2.2465241148586154E-2,4.4930482297172308E-2,6.7395723445758463E-2,8.9860964594344617E-2,0.11232620574293077,0.13479144689151693,0.15725668804010304,0.17972192918868923,0.17972192918868923,7.0685350972613414E-2,-3.8351227243462321E-2,-0.14738780545953811,-0.25642438367561388,-0.36546096189168964,-0.47449754010776546,-0.58353411832384117,-0.69257069653991699,1.7972192918868923E-2,-8.0842690058258226E-2,-8.0842690058258226E-2,1.7972192918868923E-2,-9.881488297712715E-2,0.43785246390078775,null,null,null,null,null,null,null,null,0,1.7972192918868923E-2,null,null,null,null,null,null,null,null,null,null,null,null,null,null,1.7972192918868923E-2,-8.0842690058258226E-2,null,null,null,null,null,null,null,null,null,null,null,null,null,null,-8.0842690058258226E-2,{"$f":"+$X23","v":-0.35700977384252947},null,null,null,null,null,null,null,null,{"$f":"+$X23","v":-0.35700977384252947},{"$f":"-$W23","v":-0.64299022615747059},null,null,null,null,{"$f":"-$W23","v":-0.64299022615747059},8.8668523677902358E-2,null,null,null,null,null,null,null,null,null,null,null,null,null,null,{"$f":"-Y23","v":8.8668523677902358E-2},0,null,null,null,null,null,{"$f":"+DC33","v":8},2,0,{"$f":"+(-3/2*DE34+3*DE34^2-3/2*DE34^3)/(4+3*Input!$B$1)*Input!$B$1^2","v":0},{"$f":"+(-2*DE34+3*DE34^2-DE34^3)/(4*(1+Input!$B$1))*Input!$B$1^2","v":0},{"$f":"(-2*DE34-3*Input!$B$1*DE34^2+(2+3*Input!$B$1)*DE34^3)*Input!$B$1/2/(4+3*Input!$B$1)","v":0},null,0,null,{"$f":"1-DE34","v":1},1,null,{"$f":"+DE34","v":0},0,null,null,0,null,{"$f":"1-DE34","v":1},1,{"$f":"+DV34-1","v":0},null,{"$f":"-$DE34","v":0},0,null,null,0,0,0,0,null,null,0,0,0,0,null,{"$f":"+EB25*Input!$B$1^2","v":0},0,0,0,0,null,{"$f":"+EH25*Input!$B$1^2","v":0},0,0,0,0,null,null,null,null,null,null,null,null,null,null,null,null,0,{"$f":"+IF($DE34<=FL$3,FL$5/FL$3*$DE34,FL$5-FL$5/(1-FL$3)*($DE34-FL$3))*Input!$B$1","v":0},{"$f":"+IF($DE34<=FM$3,FM$5/FM$3*$DE34,FM$5-FM$5/(1-FM$3)*($DE34-FM$3))*Input!$B$1","v":0},{"$f":"+IF($DE34<=FN$3,FN$5/FN$3*$DE34,FN$5-FN$5/(1-FN$3)*($DE34-FN$3))*Input!$B$1","v":0},{"$f":"+IF($DE34<=FO$3,FO$5/FO$3*$DE34,FO$5-FO$5/(1-FO$3)*($DE34-FO$3))*Input!$B$1","v":0},{"$f":"+IF($DE34<=FP$3,FP$5/FP$3*$DE34,FP$5-FP$5/(1-FP$3)*($DE34-FP$3))*Input!$B$1","v":0},{"$f":"+IF($DE34<=FQ$3,FQ$5/FQ$3*$DE34,FQ$5-FQ$5/(1-FQ$3)*($DE34-FQ$3))*Input!$B$1","v":0},{"$f":"+IF($DE34<=FR$3,FR$5/FR$3*$DE34,FR$5-FR$5/(1-FR$3)*($DE34-FR$3))*Input!$B$1","v":0},{"$f":"+IF($DE34<=FS$3,FS$5/FS$3*$DE34,FS$5-FS$5/(1-FS$3)*($DE34-FS$3))*Input!$B$1","v":0},null,null,null,null,null,null,null,0,0,0,0,0,0,0,0,0,0,0,0,0,0,0,0,0,0,null,null,null,null,null,null,null,null,0,0,0,0,0,0,0,0,0,0,0,0,0,0,0,0,0,0,null,null,null,null,null,null,null,null,null,null,null,null,null,null,null,null,null,null,null,null,{"$f":"+IF($DE34<=FK$3,1/6*(1-FK$3)*$DE34*(1-(1-FK$3)^2-$DE34^2),1/6*FK$3*(1-$DE34)*(1-FK$3^2-(1-$DE34)^2))*Input!$B$1^3","v":0},{"$f":"+IF($DE34<=FL$3,1/6*(1-FL$3)*$DE34*(1-(1-FL$3)^2-$DE34^2),1/6*FL$3*(1-$DE34)*(1-FL$3^2-(1-$DE34)^2))*Input!$B$1^3","v":0},{"$f":"+IF($DE34<=FM$3,1/6*(1-FM$3)*$DE34*(1-(1-FM$3)^2-$DE34^2),1/6*FM$3*(1-$DE34)*(1-FM$3^2-(1-$DE34)^2))*Input!$B$1^3","v":0},{"$f":"+IF($DE34<=FN$3,1/6*(1-FN$3)*$DE34*(1-(1-FN$3)^2-$DE34^2),1/6*FN$3*(1-$DE34)*(1-FN$3^2-(1-$DE34)^2))*Input!$B$1^3","v":0},{"$f":"+IF($DE34<=FO$3,1/6*(1-FO$3)*$DE34*(1-(1-FO$3)^2-$DE34^2),1/6*FO$3*(1-$DE34)*(1-FO$3^2-(1-$DE34)^2))*Input!$B$1^3","v":0},{"$f":"+IF($DE34<=FP$3,1/6*(1-FP$3)*$DE34*(1-(1-FP$3)^2-$DE34^2),1/6*FP$3*(1-$DE34)*(1-FP$3^2-(1-$DE34)^2))*Input!$B$1^3","v":0},{"$f":"+IF($DE34<=FQ$3,1/6*(1-FQ$3)*$DE34*(1-(1-FQ$3)^2-$DE34^2),1/6*FQ$3*(1-$DE34)*(1-FQ$3^2-(1-$DE34)^2))*Input!$B$1^3","v":0},{"$f":"+IF($DE34<=FR$3,1/6*(1-FR$3)*$DE34*(1-(1-FR$3)^2-$DE34^2),1/6*FR$3*(1-$DE34)*(1-FR$3^2-(1-$DE34)^2))*Input!$B$1^3","v":0},{"$f":"+IF($DE34<=FS$3,1/6*(1-FS$3)*$DE34*(1-(1-FS$3)^2-$DE34^2),1/6*FS$3*(1-$DE34)*(1-FS$3^2-(1-$DE34)^2))*Input!$B$1^3","v":0},null,null,null,null,null,null,null,null,null,null,null,null,0,0,0,0,0,0,0,0,0,0,0,0,0,0,0,0,0,0,null,null,null,null,null,null,0,0,0,0,0,0,0,0,0,0,0,0,0,0,0,0,0,0]
[null,null,22,0,1.5004125865918328E-2,3.0008251731836657E-2,4.5012377597754977E-2,6.0016503463673314E-2,7.5020629329591651E-2,9.0024755195509953E-2,0.10502888106142833,0.12003300692734663,0.12003300692734663,4.7209459976638342E-2,-2.5614086974070013E-2,-9.8437633924778306E-2,-0.17126118087548661,-0.24408472782619495,-0.3169082747769032,-0.38973182172761156,-0.46255536867831987,1.2003300692734663E-2,-5.3993361965307372E-2,-5.3993361965307372E-2,1.2003300692734663E-2,-6.5996662658042021E-2,0.27283836534475614,null,null,null,null,null,null,null,null,0,1.2003300692734663E-2,null,null,null,null,null,null,null,null,null,null,null,null,null,null,1.2003300692734663E-2,-5.3993361965307372E-2,null,null,null,null,null,null,null,null,null,null,null,null,null,null,-5.3993361965307372E-2,{"$f":"+$X22","v":-0.21884500337944876},null,null,null,null,null,null,null,null,null,null,{"$f":"+$X22","v":-0.21884500337944876},{"$f":"-$W22","v":-0.78115499662055121},null,null,{"$f":"-$W22","v":-0.78115499662055121},7.9871778221406758E-2,null,null,null,null,null,null,null,null,null,null,null,null,null,null,{"$f":"-Y22","v":7.9871778221406758E-2},0,null,null,null,null,null,{"$f":"+DC34+1","v":9},null,{"$f":"+DE34+1/8","v":0.125},{"$f":"+(-3/2*DE35+3*DE35^2-3/2*DE35^3)/(4+3*Input!$B$1)*Input!$B$1^2","v":-2.3094134714617586E-2},{"$f":"+(-2*DE35+3*DE35^2-DE35^3)/(4*(1+Input!$B$1))*Input!$B$1^2","v":-2.8710962160669193E-2},{"$f":"(-2*DE35-3*Input!$B$1*DE35^2+(2+3*Input!$B$1)*DE35^3)*Input!$B$1/2/(4+3*Input!$B$1)","v":-2.1644827173941207E-2},null,-5.1805096875286782E-2,null,0.875,0.95475715405911032,null,0.125,0.12231360974851459,null,null,-5.1805096875286782E-2,null,0.875,0.90295205718382354,-9.7047942816176458E-2,null,{"$f":"-$DE35","v":-0.125},-9.7047942816176486E-2,null,null,3.8490224524362644E-3,4.7851603601115318E-3,0,8.6341828125477971E-3,null,null,-7.6980449048725287E-3,-9.5703207202230637E-3,0,-1.7268365625095594E-2,null,{"$f":"+EB26*Input!$B$1^2","v":-3.9793393554687494E-2},8.3061904523574585E-3,1.0326376057120685E-2,3.89246142011376E-3,-1.7268365625095594E-2,null,{"$f":"+EH26*Input!$B$1^2","v":2.3876036132812497E-2},-4.1530952261787293E-3,-5.1631880285603424E-3,-7.78492284022752E-3,6.7748300378459069E-3,null,null,null,null,null,null,null,null,null,null,null,null,0,{"$f":"+IF($DE35<=FL$3,FL$5/FL$3*$DE35,FL$5-FL$5/(1-FL$3)*($DE35-FL$3))*Input!$B$1","v":0.118015625},{"$f":"+IF($DE35<=FM$3,FM$5/FM$3*$DE35,FM$5-FM$5/(1-FM$3)*($DE35-FM$3))*Input!$B$1","v":0.10115625},{"$f":"+IF($DE35<=FN$3,FN$5/FN$3*$DE35,FN$5-FN$5/(1-FN$3)*($DE35-FN$3))*Input!$B$1","v":8.4296874999999993E-2},{"$f":"+IF($DE35<=FO$3,FO$5/FO$3*$DE35,FO$5-FO$5/(1-FO$3)*($DE35-FO$3))*Input!$B$1","v":6.7437499999999997E-2},{"$f":"+IF($DE35<=FP$3,FP$5/FP$3*$DE35,FP$5-FP$5/(1-FP$3)*($DE35-FP$3))*Input!$B$1","v":5.0578125000000002E-2},{"$f":"+IF($DE35<=FQ$3,FQ$5/FQ$3*$DE35,FQ$5-FQ$5/(1-FQ$3)*($DE35-FQ$3))*Input!$B$1","v":3.3718749999999999E-2},{"$f":"+IF($DE35<=FR$3,FR$5/FR$3*$DE35,FR$5-FR$5/(1-FR$3)*($DE35-FR$3))*Input!$B$1","v":1.6859374999999999E-2},{"$f":"+IF($DE35<=FS$3,FS$5/FS$3*$DE35,FS$5-FS$5/(1-FS$3)*($DE35-FS$3))*Input!$B$1","v":0},null,null,null,null,null,null,null,0,-6.4756371094108478E-3,-1.2951274218821696E-2,-1.9426911328232543E-2,-2.5902548437643391E-2,-3.2378185547054239E-2,-3.8853822656465087E-2,-4.5329459765875935E-2,-5.1805096875286782E-2,-5.1805096875286782E-2,6.9980561837381425E-2,5.6891220550049616E-2,4.3801879262717801E-2,3.0712537975386003E-2,1.7623196688054205E-2,4.5338554007223961E-3,-8.5554858866094055E-3,-2.1644827173941207E-2,null,null,null,null,null,null,null,null,0,-6.4756371094108478E-2,-0.12951274218821696,-0.19426911328232543,-0.25902548437643391,-0.32378185547054239,-0.38853822656465087,-0.45329459765875935,-0.51805096875286782,-0.51805096875286782,0.69980561837381428,0.56891220550049615,0.43801879262717802,0.30712537975386001,0.17623196688054205,4.5338554007223961E-2,-8.5554858866094055E-2,-0.21644827173941206,null,null,null,null,null,null,null,null,null,null,null,null,null,null,null,null,null,null,null,null,{"$f":"+IF($DE35<=FK$3,1/6*(1-FK$3)*$DE35*(1-(1-FK$3)^2-$DE35^2),1/6*FK$3*(1-$DE35)*(1-FK$3^2-(1-$DE35)^2))*Input!$B$1^3","v":0},{"$f":"+IF($DE35<=FL$3,1/6*(1-FL$3)*$DE35*(1-(1-FL$3)^2-$DE35^2),1/6*FL$3*(1-$DE35)*(1-FL$3^2-(1-$DE35)^2))*Input!$B$1^3","v":5.0093250253092437E-3},{"$f":"+IF($DE35<=FM$3,1/6*(1-FM$3)*$DE35*(1-(1-FM$3)^2-$DE35^2),1/6*FM$3*(1-$DE35)*(1-FM$3^2-(1-$DE35)^2))*Input!$B$1^3","v":8.280720960205077E-3},{"$f":"+IF($DE35<=FN$3,1/6*(1-FN$3)*$DE35*(1-(1-FN$3)^2-$DE35^2),1/6*FN$3*(1-$DE35)*(1-FN$3^2-(1-$DE35)^2))*Input!$B$1^3","v":9.7119566817220043E-3},{"$f":"+IF($DE35<=FO$3,1/6*(1-FO$3)*$DE35*(1-(1-FO$3)^2-$DE35^2),1/6*FO$3*(1-$DE35)*(1-FO$3^2-(1-$DE35)^2))*Input!$B$1^3","v":9.6097255587565093E-3},{"$f":"+IF($DE35<=FP$3,1/6*(1-FP$3)*$DE35*(1-(1-FP$3)^2-$DE35^2),1/6*FP$3*(1-$DE35)*(1-FP$3^2-(1-$DE35)^2))*Input!$B$1^3","v":8.280720960205077E-3},{"$f":"+IF($DE35<=FQ$3,1/6*(1-FQ$3)*$DE35*(1-(1-FQ$3)^2-$DE35^2),1/6*FQ$3*(1-$DE35)*(1-FQ$3^2-(1-$DE35)^2))*Input!$B$1^3","v":6.0316362549641912E-3},{"$f":"+IF($DE35<=FR$3,1/6*(1-FR$3)*$DE35*(1-(1-FR$3)^2-$DE35^2),1/6*FR$3*(1-$DE35)*(1-FR$3^2-(1-$DE35)^2))*Input!$B$1^3","v":3.169164811930338E-3},{"$f":"+IF($DE35<=FS$3,1/6*(1-FS$3)*$DE35*(1-(1-FS$3)^2-$DE35^2),1/6*FS$3*(1-$DE35)*(1-FS$3^2-(1-$DE35)^2))*Input!$B$1^3","v":0},null,null,null,null,null,null,null,null,null,null,null,null,0,-1.0624092132627172E-3,-2.0236365966908899E-3,-2.7825003204499732E-3,-3.2378185547054239E-3,-3.2884094696226957E-3,-2.8330912353672459E-3,-1.7706820221045287E-3,0,0,2.4310317415187433E-3,3.9979529859289235E-3,4.5299509255826926E-3,4.2651372446941829E-3,3.4416236274775257E-3,2.2975217581468546E-3,1.0709433209163022E-3,0,null,null,null,null,null,null,0,-0.10624092132627172,-0.20236365966908898,-0.27825003204499732,-0.32378185547054239,-0.32884094696226956,-0.28330912353672461,-0.17706820221045286,0,0,0.24310317415187432,0.39979529859289237,0.45299509255826925,0.42651372446941826,0.34416236274775258,0.22975217581468546,0.10709433209163022,0]
[null,null,23,0,7.0210343075645084E-3,1.4042068615129017E-2,2.1063102922693529E-2,2.8084137230258033E-2,3.5105171537822555E-2,4.2126205845387059E-2,4.9147240152951528E-2,5.6168274460516067E-2,5.6168274460516067E-2,2.2091206185524882E-2,-1.1985862089466236E-2,-4.6062930364457397E-2,-8.0139998639448554E-2,-0.1142170669144397,-0.14829413518943091,-0.18237120346442204,-0.21644827173941317,5.6168274460516067E-3,-2.5265666932338209E-2,-2.5265666932338209E-2,5.6168274460516067E-3,-3.0882494378389809E-2,0.1223136097485148,null,null,null,null,null,null,null,null,0,5.6168274460516067E-3,null,null,null,null,null,null,null,null,null,null,null,null,null,null,5.6168274460516067E-3,-2.5265666932338209E-2,null,null,null,null,null,null,null,null,null,null,null,null,null,null,-2.5265666932338209E-2,{"$f":"+$X21","v":-9.7047942816176486E-2},null,null,null,null,null,null,null,null,null,null,null,null,{"$f":"+$X21","v":-9.7047942816176486E-2},{"$f":"-$W$21","v":-0.90295205718382354},{"$f":"-$W$21","v":-0.90295205718382354},5.1805096875286782E-2,null,null,null,null,null,null,null,null,null,null,null,null,null,null,{"$f":"-Y21","v":5.1805096875286782E-2},0,null,null,null,null,null,{"$f":"+DC35+1","v":10},null,{"$f":"+DE35+1/8","v":0.25},{"$f":"+(-3/2*DE36+3*DE36^2-3/2*DE36^3)/(4+3*Input!$B$1)*Input!$B$1^2","v":-3.3934238764336044E-2},{"$f":"+(-2*DE36+3*DE36^2-DE36^3)/(4*(1+Input!$B$1))*Input!$B$1^2","v":-4.5937539457070707E-2},{"$f":"(-2*DE36-3*Input!$B$1*DE36^2+(2+3*Input!$B$1)*DE36^3)*Input!$B$1/2/(4+3*Input!$B$1)","v":-4.6255536867831973E-2},null,-7.9871778221406758E-2,null,0.75,0.861026774841958,null,0.25,0.27283836534475614,null,null,-7.9871778221406758E-2,null,0.75,0.78115499662055121,-0.21884500337944879,null,-0.25,-0.21884500337944876,null,null,5.6557064607226735E-3,7.6562565761784506E-3,0,1.3311963036901124E-2,null,null,-1.1311412921445347E-2,-1.5312513152356901E-2,0,-2.6623926073802248E-2,null,{"$f":"+EB27*Input!$B$1^2","v":-6.3669429687499987E-2},1.2205014542239529E-2,1.6522201691393096E-2,8.3182873800651154E-3,-2.6623926073802245E-2,null,{"$f":"+EH27*Input!$B$1^2","v":4.5478164062499993E-2},-6.1025072711197647E-3,-8.2611008456965479E-3,-1.6636574760130231E-2,1.4477981185553448E-2,null,null,null,null,null,null,null,null,null,null,null,null,0,{"$f":"+IF($DE36<=FL$3,FL$5/FL$3*$DE36,FL$5-FL$5/(1-FL$3)*($DE36-FL$3))*Input!$B$1","v":0.10115625},{"$f":"+IF($DE36<=FM$3,FM$5/FM$3*$DE36,FM$5-FM$5/(1-FM$3)*($DE36-FM$3))*Input!$B$1","v":0.20231250000000001},{"$f":"+IF($DE36<=FN$3,FN$5/FN$3*$DE36,FN$5-FN$5/(1-FN$3)*($DE36-FN$3))*Input!$B$1","v":0.16859374999999999},{"$f":"+IF($DE36<=FO$3,FO$5/FO$3*$DE36,FO$5-FO$5/(1-FO$3)*($DE36-FO$3))*Input!$B$1","v":0.13487499999999999},{"$f":"+IF($DE36<=FP$3,FP$5/FP$3*$DE36,FP$5-FP$5/(1-FP$3)*($DE36-FP$3))*Input!$B$1","v":0.10115625},{"$f":"+IF($DE36<=FQ$3,FQ$5/FQ$3*$DE36,FQ$5-FQ$5/(1-FQ$3)*($DE36-FQ$3))*Input!$B$1","v":6.7437499999999997E-2},{"$f":"+IF($DE36<=FR$3,FR$5/FR$3*$DE36,FR$5-FR$5/(1-FR$3)*($DE36-FR$3))*Input!$B$1","v":3.3718749999999999E-2},{"$f":"+IF($DE36<=FS$3,FS$5/FS$3*$DE36,FS$5-FS$5/(1-FS$3)*($DE36-FS$3))*Input!$B$1","v":0},null,null,null,null,null,null,null,0,-9.9839722776758448E-3,-1.996794455535169E-2,-2.9951916833027531E-2,-3.9935889110703379E-2,-4.9919861388379221E-2,-5.9903833666055062E-2,-6.988780594373091E-2,-7.9871778221406758E-2,-7.9871778221406758E-2,2.5486501947790091E-2,0.13084478211698694,0.10132806228618378,7.1811342455380622E-2,4.2294622624577491E-2,1.2777902793774325E-2,-1.6738817037028824E-2,-4.6255536867831973E-2,null,null,null,null,null,null,null,null,0,-9.9839722776758455E-2,-0.19967944555351691,-0.29951916833027531,-0.39935889110703382,-0.49919861388379222,-0.59903833666055062,-0.69887805943730907,-0.79871778221406764,-0.79871778221406764,0.25486501947790091,1.3084478211698694,1.0132806228618378,0.71811342455380622,0.42294622624577494,0.12777902793774326,-0.16738817037028825,-0.4625553686783197,null,null,null,null,null,null,null,null,null,null,null,null,null,null,null,null,null,null,null,null,{"$f":"+IF($DE36<=FK$3,1/6*(1-FK$3)*$DE36*(1-(1-FK$3)^2-$DE36^2),1/6*FK$3*(1-$DE36)*(1-FK$3^2-(1-$DE36)^2))*Input!$B$1^3","v":0},{"$f":"+IF($DE36<=FL$3,1/6*(1-FL$3)*$DE36*(1-(1-FL$3)^2-$DE36^2),1/6*FL$3*(1-$DE36)*(1-FL$3^2-(1-$DE36)^2))*Input!$B$1^3","v":8.280720960205077E-3},{"$f":"+IF($DE36<=FM$3,1/6*(1-FM$3)*$DE36*(1-(1-FM$3)^2-$DE36^2),1/6*FM$3*(1-$DE36)*(1-FM$3^2-(1-$DE36)^2))*Input!$B$1^3","v":1.4721281707031249E-2},{"$f":"+IF($DE36<=FN$3,1/6*(1-FN$3)*$DE36*(1-(1-FN$3)^2-$DE36^2),1/6*FN$3*(1-$DE36)*(1-FN$3^2-(1-$DE36)^2))*Input!$B$1^3","v":1.7890446518961586E-2},{"$f":"+IF($DE36<=FO$3,1/6*(1-FO$3)*$DE36*(1-(1-FO$3)^2-$DE36^2),1/6*FO$3*(1-$DE36)*(1-FO$3^2-(1-$DE36)^2))*Input!$B$1^3","v":1.799267764192708E-2},{"$f":"+IF($DE36<=FP$3,1/6*(1-FP$3)*$DE36*(1-(1-FP$3)^2-$DE36^2),1/6*FP$3*(1-$DE36)*(1-FP$3^2-(1-$DE36)^2))*Input!$B$1^3","v":1.5641361813720701E-2},{"$f":"+IF($DE36<=FQ$3,1/6*(1-FQ$3)*$DE36*(1-(1-FQ$3)^2-$DE36^2),1/6*FQ$3*(1-$DE36)*(1-FQ$3^2-(1-$DE36)^2))*Input!$B$1^3","v":1.1449885772135415E-2},{"$f":"+IF($DE36<=FR$3,1/6*(1-FR$3)*$DE36*(1-(1-FR$3)^2-$DE36^2),1/6*FR$3*(1-$DE36)*(1-FR$3^2-(1-$DE36)^2))*Input!$B$1^3","v":6.0316362549641912E-3},{"$f":"+IF($DE36<=FS$3,1/6*(1-FS$3)*$DE36*(1-(1-FS$3)^2-$DE36^2),1/6*FS$3*(1-$DE36)*(1-FS$3^2-(1-$DE36)^2))*Input!$B$1^3","v":0},null,null,null,null,null,null,null,null,null,null,null,null,0,-1.6379954518061931E-3,-3.1199913367737013E-3,-4.289988088063839E-3,-4.9919861388379224E-3,-5.0699859222572644E-3,-4.3679878714831819E-3,-2.7299924196769886E-3,0,0,3.9979529859289244E-3,7.5322742450735199E-3,9.0952878089447312E-3,8.8150156765014302E-3,7.2284043385644646E-3,4.8724002859546738E-3,2.2839500094929033E-3,0,null,null,null,null,null,null,0,-0.16379954518061932,-0.31199913367737014,-0.42899880880638391,-0.49919861388379222,-0.50699859222572641,-0.43679878714831821,-0.27299924196769887,0,0,0.39979529859289242,0.75322742450735203,0.90952878089447309,0.88150156765014298,0.72284043385644647,0.48724002859546739,0.22839500094929033,0]
[null,null,24,0,0,0,0,0,0,0,0,0,0,-1.6552862285070384E-16,-3.3105724570140769E-16,-4.9658586855211158E-16,-6.6211449140281538E-16,-8.2764311425351927E-16,-9.9317173710422317E-16,-1.1587003599549271E-15,-1.3242289828056308E-15,0,-1.2272743121460898E-16,-1.2272743121460898E-16,0,-1.2272743121460898E-16,2.4545486242921796E-16,null,null,null,null,null,null,null,null,null,null,null,null,null,null,null,null,null,null,null,null,null,null,null,null,null,null,null,null,null,null,null,null,null,null,null,null,null,null,null,null,null,null,null,null,null,null,null,null,null,null,null,null,null,null,null,null,null,null,null,null,null,null,null,null,null,null,null,null,null,null,null,null,null,null,null,null,null,null,null,11,null,0.375,{"$f":"+(-3/2*DE37+3*DE37^2-3/2*DE37^3)/(4+3*Input!$B$1)*Input!$B$1^2","v":-3.5348165379516717E-2},{"$f":"+(-2*DE37+3*DE37^2-DE37^3)/(4*(1+Input!$B$1))*Input!$B$1^2","v":-5.3320358298385641E-2},{"$f":"(-2*DE37-3*Input!$B$1*DE37^2+(2+3*Input!$B$1)*DE37^3)*Input!$B$1/2/(4+3*Input!$B$1)","v":-6.9257069653991657E-2},null,-8.8668523677902358E-2,null,0.625,0.73165874983537293,null,0.375,0.43785246390078769,null,null,-8.8668523677902358E-2,null,0.625,0.64299022615747059,-0.35700977384252941,null,-0.375,-0.35700977384252947,null,null,5.8913608965861196E-3,8.8867263830642723E-3,0,1.4778087279650392E-2,null,null,-1.1782721793172239E-2,-1.7773452766128545E-2,0,-2.9556174559300784E-2,null,{"$f":"+EB28*Input!$B$1^2","v":-7.3902016601562495E-2},1.2713556814832844E-2,1.9177555534652699E-2,1.2454729692776166E-2,-2.9556174559300791E-2,null,{"$f":"+EH28*Input!$B$1^2","v":6.2532475585937497E-2},-6.3567784074164222E-3,-9.5887777673263497E-3,-2.4909459385552331E-2,2.1677460025642397E-2,null,null,null,null,null,null,null,null,null,null,null,null,0,{"$f":"+IF($DE37<=FL$3,FL$5/FL$3*$DE37,FL$5-FL$5/(1-FL$3)*($DE37-FL$3))*Input!$B$1","v":8.4296874999999993E-2},{"$f":"+IF($DE37<=FM$3,FM$5/FM$3*$DE37,FM$5-FM$5/(1-FM$3)*($DE37-FM$3))*Input!$B$1","v":0.16859374999999999},{"$f":"+IF($DE37<=FN$3,FN$5/FN$3*$DE37,FN$5-FN$5/(1-FN$3)*($DE37-FN$3))*Input!$B$1","v":0.25289062499999998},{"$f":"+IF($DE37<=FO$3,FO$5/FO$3*$DE37,FO$5-FO$5/(1-FO$3)*($DE37-FO$3))*Input!$B$1","v":0.20231250000000001},{"$f":"+IF($DE37<=FP$3,FP$5/FP$3*$DE37,FP$5-FP$5/(1-FP$3)*($DE37-FP$3))*Input!$B$1","v":0.151734375},{"$f":"+IF($DE37<=FQ$3,FQ$5/FQ$3*$DE37,FQ$5-FQ$5/(1-FQ$3)*($DE37-FQ$3))*Input!$B$1","v":0.10115625},{"$f":"+IF($DE37<=FR$3,FR$5/FR$3*$DE37,FR$5-FR$5/(1-FR$3)*($DE37-FR$3))*Input!$B$1","v":5.0578125000000002E-2},{"$f":"+IF($DE37<=FS$3,FS$5/FS$3*$DE37,FS$5-FS$5/(1-FS$3)*($DE37-FS$3))*Input!$B$1","v":0},null,null,null,null,null,null,null,0,-1.1083565459737795E-2,-2.216713091947559E-2,-3.3250696379213386E-2,-4.4334261838951179E-2,-5.5417827298688972E-2,-6.6501392758426772E-2,-7.7584958218164565E-2,-8.8668523677902358E-2,-8.8668523677902358E-2,-1.9452169249135221E-3,8.4778089828075304E-2,0.17150139658106411,0.12334970333405298,7.5198010087041814E-2,2.7046316840030657E-2,-2.11053764069805E-2,-6.9257069653991657E-2,null,null,null,null,null,null,null,null,0,-0.11083565459737794,-0.22167130919475589,-0.33250696379213385,-0.44334261838951178,-0.55417827298688971,-0.66501392758426769,-0.77584958218164568,-0.88668523677902356,-0.88668523677902356,-1.9452169249135221E-2,0.84778089828075309,1.7150139658106411,1.2334970333405297,0.75198010087041811,0.2704631684003066,-0.211053764069805,-0.69257069653991654,null,null,null,null,null,null,null,null,null,null,null,null,null,null,null,null,null,null,null,null,{"$f":"+IF($DE37<=FK$3,1/6*(1-FK$3)*$DE37*(1-(1-FK$3)^2-$DE37^2),1/6*FK$3*(1-$DE37)*(1-FK$3^2-(1-$DE37)^2))*Input!$B$1^3","v":0},{"$f":"+IF($DE37<=FL$3,1/6*(1-FL$3)*$DE37*(1-(1-FL$3)^2-$DE37^2),1/6*FL$3*(1-$DE37)*(1-FL$3^2-(1-$DE37)^2))*Input!$B$1^3","v":9.7119566817220043E-3},{"$f":"+IF($DE37<=FM$3,1/6*(1-FM$3)*$DE37*(1-(1-FM$3)^2-$DE37^2),1/6*FM$3*(1-$DE37)*(1-FM$3^2-(1-$DE37)^2))*Input!$B$1^3","v":1.7890446518961586E-2},{"$f":"+IF($DE37<=FN$3,1/6*(1-FN$3)*$DE37*(1-(1-FN$3)^2-$DE37^2),1/6*FN$3*(1-$DE37)*(1-FN$3^2-(1-$DE37)^2))*Input!$B$1^3","v":2.3002002667236326E-2},{"$f":"+IF($DE37<=FO$3,1/6*(1-FO$3)*$DE37*(1-(1-FO$3)^2-$DE37^2),1/6*FO$3*(1-$DE37)*(1-FO$3^2-(1-$DE37)^2))*Input!$B$1^3","v":2.3922082773925778E-2},{"$f":"+IF($DE37<=FP$3,1/6*(1-FP$3)*$DE37*(1-(1-FP$3)^2-$DE37^2),1/6*FP$3*(1-$DE37)*(1-FP$3^2-(1-$DE37)^2))*Input!$B$1^3","v":2.1161842453857421E-2},{"$f":"+IF($DE37<=FQ$3,1/6*(1-FQ$3)*$DE37*(1-(1-FQ$3)^2-$DE37^2),1/6*FQ$3*(1-$DE37)*(1-FQ$3^2-(1-$DE37)^2))*Input!$B$1^3","v":1.5641361813720701E-2},{"$f":"+IF($DE37<=FR$3,1/6*(1-FR$3)*$DE37*(1-(1-FR$3)^2-$DE37^2),1/6*FR$3*(1-$DE37)*(1-FR$3^2-(1-$DE37)^2))*Input!$B$1^3","v":8.280720960205077E-3},{"$f":"+IF($DE37<=FS$3,1/6*(1-FS$3)*$DE37*(1-(1-FS$3)^2-$DE37^2),1/6*FS$3*(1-$DE37)*(1-FS$3^2-(1-$DE37)^2))*Input!$B$1^3","v":0},null,null,null,null,null,null,null,null,null,null,null,null,0,-1.8183974582382319E-3,-3.4636142061680608E-3,-4.762469533481084E-3,-5.5417827298688974E-3,-5.6283730850230987E-3,-4.8490598886352853E-3,-3.030662430397053E-3,0,0,4.5299509255826934E-3,9.0952878089447294E-3,1.2118403941064141E-2,1.243061710478093E-2,1.049894305038301E-2,7.1993220200202808E-3,3.4076942558426454E-3,0,null,null,null,null,null,null,0,-0.1818397458238232,-0.34636142061680608,-0.4762469533481084,-0.55417827298688971,-0.56283730850230984,-0.48490598886352854,-0.30306624303970531,0,0,0.45299509255826936,0.90952878089447298,1.2118403941064142,1.243061710478093,1.0498943050383009,0.71993220200202812,0.34076942558426454,0]
[null,null,{"$f":"+C37","v":24},0,0,0,0,0,0,0,0,0,0,0,0,0,0,0,0,0,0,0,0,0,0,0,0,null,null,null,null,null,null,null,null,null,null,null,null,null,null,null,null,null,null,null,null,null,null,null,null,null,null,null,null,null,null,null,null,null,null,null,null,null,null,null,null,null,null,null,null,null,null,null,null,null,null,null,null,null,null,null,null,null,null,null,null,null,null,null,null,null,null,null,null,null,null,null,null,null,null,null,null,null,null,null,12,null,0.5,{"$f":"+(-3/2*DE38+3*DE38^2-3/2*DE38^3)/(4+3*Input!$B$1)*Input!$B$1^2","v":-3.0163767790520931E-2},{"$f":"+(-2*DE38+3*DE38^2-DE38^3)/(4*(1+Input!$B$1))*Input!$B$1^2","v":-5.2500045093795099E-2},{"$f":"(-2*DE38-3*Input!$B$1*DE38^2+(2+3*Input!$B$1)*DE38^3)*Input!$B$1/2/(4+3*Input!$B$1)","v":-8.6074366104739536E-2},null,-8.2663812884316026E-2,null,0.5,0.57950296652618494,null,0.5,0.60363410252867211,null,null,-8.2663812884316026E-2,null,0.5,0.49683915364186881,-0.50316084635813119,null,-0.5,-0.50316084635813108,null,null,5.0272946317534879E-3,8.7500075156325165E-3,0,1.3777302147386004E-2,null,null,-1.0054589263506976E-2,-1.7500015031265033E-2,0,-2.7554604294772009E-2,null,{"$f":"+EB29*Input!$B$1^2","v":-7.2765062499999991E-2},1.0848901815324026E-2,1.888251621873497E-2,1.5479040171168992E-2,-2.7554604294772005E-2,null,{"$f":"+EH29*Input!$B$1^2","v":7.2765062499999991E-2},-5.4244509076620132E-3,-9.4412581093674848E-3,-3.0958080342337983E-2,2.6941273140632514E-2,null,null,null,null,null,null,null,null,null,null,null,null,0,{"$f":"+IF($DE38<=FL$3,FL$5/FL$3*$DE38,FL$5-FL$5/(1-FL$3)*($DE38-FL$3))*Input!$B$1","v":6.7437499999999997E-2},{"$f":"+IF($DE38<=FM$3,FM$5/FM$3*$DE38,FM$5-FM$5/(1-FM$3)*($DE38-FM$3))*Input!$B$1","v":0.13487499999999999},{"$f":"+IF($DE38<=FN$3,FN$5/FN$3*$DE38,FN$5-FN$5/(1-FN$3)*($DE38-FN$3))*Input!$B$1","v":0.20231250000000001},{"$f":"+IF($DE38<=FO$3,FO$5/FO$3*$DE38,FO$5-FO$5/(1-FO$3)*($DE38-FO$3))*Input!$B$1","v":0.26974999999999999},{"$f":"+IF($DE38<=FP$3,FP$5/FP$3*$DE38,FP$5-FP$5/(1-FP$3)*($DE38-FP$3))*Input!$B$1","v":0.20231250000000001},{"$f":"+IF($DE38<=FQ$3,FQ$5/FQ$3*$DE38,FQ$5-FQ$5/(1-FQ$3)*($DE38-FQ$3))*Input!$B$1","v":0.13487499999999999},{"$f":"+IF($DE38<=FR$3,FR$5/FR$3*$DE38,FR$5-FR$5/(1-FR$3)*($DE38-FR$3))*Input!$B$1","v":6.7437499999999997E-2},{"$f":"+IF($DE38<=FS$3,FS$5/FS$3*$DE38,FS$5-FS$5/(1-FS$3)*($DE38-FS$3))*Input!$B$1","v":0},null,null,null,null,null,null,null,0,-1.0332976610539503E-2,-2.0665953221079007E-2,-3.0998929831618512E-2,-4.1331906442158013E-2,-5.1664883052697522E-2,-6.1997859663237023E-2,-7.2330836273776525E-2,-8.2663812884316026E-2,-8.2663812884316026E-2,-1.5652632036868969E-2,5.1358548810578088E-2,0.11836972965802517,0.18538091050547223,0.1175170913529193,4.9653272200366347E-2,-1.8210546952186595E-2,-8.6074366104739536E-2,null,null,null,null,null,null,null,null,0,-0.10332976610539503,-0.20665953221079006,-0.3099892983161851,-0.41331906442158012,-0.51664883052697519,-0.6199785966323702,-0.72330836273776522,-0.82663812884316024,-0.82663812884316024,-0.15652632036868969,0.51358548810578086,1.1836972965802517,1.8538091050547223,1.175170913529193,0.4965327220036635,-0.18210546952186596,-0.8607436610473953,null,null,null,null,null,null,null,null,null,null,null,null,null,null,null,null,null,null,null,null,{"$f":"+IF($DE38<=FK$3,1/6*(1-FK$3)*$DE38*(1-(1-FK$3)^2-$DE38^2),1/6*FK$3*(1-$DE38)*(1-FK$3^2-(1-$DE38)^2))*Input!$B$1^3","v":0},{"$f":"+IF($DE38<=FL$3,1/6*(1-FL$3)*$DE38*(1-(1-FL$3)^2-$DE38^2),1/6*FL$3*(1-$DE38)*(1-FL$3^2-(1-$DE38)^2))*Input!$B$1^3","v":9.6097255587565093E-3},{"$f":"+IF($DE38<=FM$3,1/6*(1-FM$3)*$DE38*(1-(1-FM$3)^2-$DE38^2),1/6*FM$3*(1-$DE38)*(1-FM$3^2-(1-$DE38)^2))*Input!$B$1^3","v":1.799267764192708E-2},{"$f":"+IF($DE38<=FN$3,1/6*(1-FN$3)*$DE38*(1-(1-FN$3)^2-$DE38^2),1/6*FN$3*(1-$DE38)*(1-FN$3^2-(1-$DE38)^2))*Input!$B$1^3","v":2.3922082773925778E-2},{"$f":"+IF($DE38<=FO$3,1/6*(1-FO$3)*$DE38*(1-(1-FO$3)^2-$DE38^2),1/6*FO$3*(1-$DE38)*(1-FO$3^2-(1-$DE38)^2))*Input!$B$1^3","v":2.6171167479166663E-2},{"$f":"+IF($DE38<=FP$3,1/6*(1-FP$3)*$DE38*(1-(1-FP$3)^2-$DE38^2),1/6*FP$3*(1-$DE38)*(1-FP$3^2-(1-$DE38)^2))*Input!$B$1^3","v":2.3922082773925778E-2},{"$f":"+IF($DE38<=FQ$3,1/6*(1-FQ$3)*$DE38*(1-(1-FQ$3)^2-$DE38^2),1/6*FQ$3*(1-$DE38)*(1-FQ$3^2-(1-$DE38)^2))*Input!$B$1^3","v":1.799267764192708E-2},{"$f":"+IF($DE38<=FR$3,1/6*(1-FR$3)*$DE38*(1-(1-FR$3)^2-$DE38^2),1/6*FR$3*(1-$DE38)*(1-FR$3^2-(1-$DE38)^2))*Input!$B$1^3","v":9.6097255587565093E-3},{"$f":"+IF($DE38<=FS$3,1/6*(1-FS$3)*$DE38*(1-(1-FS$3)^2-$DE38^2),1/6*FS$3*(1-$DE38)*(1-FS$3^2-(1-$DE38)^2))*Input!$B$1^3","v":0},null,null,null,null,null,null,null,null,null,null,null,null,0,-1.6952539751666374E-3,-3.2290551907935951E-3,-4.4399508873411934E-3,-5.1664883052697516E-3,-5.2472146850395919E-3,-4.5206772671110328E-3,-2.8254232919443954E-3,0,0,4.2651372446941829E-3,8.8150156765014302E-3,1.2430617104780928E-2,1.389292333889185E-2,1.2391840680055348E-2,8.7529733969405089E-3,4.210850250078375E-3,0,null,null,null,null,null,null,0,-0.16952539751666373,-0.32290551907935949,-0.44399508873411936,-0.51664883052697519,-0.52472146850395918,-0.45206772671110329,-0.28254232919443956,0,0,0.42651372446941826,0.88150156765014298,1.2430617104780928,1.3892923338891849,1.2391840680055348,0.87529733969405088,0.42108502500783751,0]
[null,null,{"$f":"+C38+1","v":25},0,-4.595975897830726E-3,-9.1919517956614519E-3,-1.3787927693492182E-2,-1.8383903591322904E-2,-2.2979879489153626E-2,-2.7575855386984365E-2,-3.2171831284815086E-2,-3.6767807182645808E-2,-3.6767807182645808E-2,-1.4460925090950226E-2,7.8459570007453558E-3,3.0152839092440955E-2,5.245972118413654E-2,7.4766603275832122E-2,9.7073485367527718E-2,0.1193803674592233,0.14168724955091888,-3.6767807182645808E-3,1.6538930188467534E-2,1.6538930188467534E-2,-3.6767807182645808E-3,2.0215710906732118E-2,-7.8788090575117084E-2,null,null,null,null,null,null,null,null,0,{"$f":"+$Y39","v":-3.6767807182645808E-3},null,null,null,null,null,null,null,null,null,null,null,null,null,null,{"$f":"+$Y39","v":-3.6767807182645808E-3},{"$f":"+$W39","v":1.6538930188467534E-2},null,null,null,null,null,null,null,null,null,null,null,null,null,null,{"$f":"+$W39","v":1.6538930188467534E-2},{"$f":"-$X18","v":-6.224916038664955E-2},null,null,null,null,null,null,null,null,null,null,null,null,null,null,{"$f":"-$X18","v":-6.224916038664955E-2},{"$f":"-$V18","v":0.92799811910210306},{"$f":"+$Y18","v":7.2001880897897025E-2},null,null,null,null,null,null,null,null,null,null,null,null,null,{"$f":"-$Y18","v":-7.2001880897897025E-2},0,null,null,null,null,null,13,null,0.625,{"$f":"+(-3/2*DE39+3*DE39^2-3/2*DE39^3)/(4+3*Input!$B$1)*Input!$B$1^2","v":-2.1208899227710031E-2},{"$f":"+(-2*DE39+3*DE39^2-DE39^3)/(4*(1+Input!$B$1))*Input!$B$1^2","v":-4.5117226252480165E-2},{"$f":"(-2*DE39-3*Input!$B$1*DE39^2+(2+3*Input!$B$1)*DE39^3)*Input!$B$1/2/(4+3*Input!$B$1)","v":-9.2132366792395004E-2},null,-6.6326125480190193E-2,null,0.375,0.41740931240122381,null,0.625,0.75646147834047262,null,null,-6.6326125480190193E-2,null,0.375,0.35108318692103352,-0.64891681307896643,null,-0.625,-0.64891681307896643,null,null,3.5348165379516716E-3,7.5195377087466939E-3,0,1.1054354246698365E-2,null,null,-7.0696330759033432E-3,-1.5039075417493388E-2,0,-2.2108708493396731E-2,null,{"$f":"+EB30*Input!$B$1^2","v":-6.2532475585937497E-2},7.628134088899707E-3,1.6227162375475366E-2,1.6568470628165698E-2,-2.2108708493396721E-2,null,{"$f":"+EH30*Input!$B$1^2","v":7.3902016601562495E-2},-3.8140670444498535E-3,-8.113581187737683E-3,-3.3136941256331397E-2,2.8837427113043566E-2,null,null,null,null,null,null,null,null,null,null,null,null,0,{"$f":"+IF($DE39<=FL$3,FL$5/FL$3*$DE39,FL$5-FL$5/(1-FL$3)*($DE39-FL$3))*Input!$B$1","v":5.0578125000000002E-2},{"$f":"+IF($DE39<=FM$3,FM$5/FM$3*$DE39,FM$5-FM$5/(1-FM$3)*($DE39-FM$3))*Input!$B$1","v":0.10115625},{"$f":"+IF($DE39<=FN$3,FN$5/FN$3*$DE39,FN$5-FN$5/(1-FN$3)*($DE39-FN$3))*Input!$B$1","v":0.151734375},{"$f":"+IF($DE39<=FO$3,FO$5/FO$3*$DE39,FO$5-FO$5/(1-FO$3)*($DE39-FO$3))*Input!$B$1","v":0.20231250000000001},{"$f":"+IF($DE39<=FP$3,FP$5/FP$3*$DE39,FP$5-FP$5/(1-FP$3)*($DE39-FP$3))*Input!$B$1","v":0.25289062499999998},{"$f":"+IF($DE39<=FQ$3,FQ$5/FQ$3*$DE39,FQ$5-FQ$5/(1-FQ$3)*($DE39-FQ$3))*Input!$B$1","v":0.16859374999999999},{"$f":"+IF($DE39<=FR$3,FR$5/FR$3*$DE39,FR$5-FR$5/(1-FR$3)*($DE39-FR$3))*Input!$B$1","v":8.4296874999999993E-2},{"$f":"+IF($DE39<=FS$3,FS$5/FS$3*$DE39,FS$5-FS$5/(1-FS$3)*($DE39-FS$3))*Input!$B$1","v":0},null,null,null,null,null,null,null,0,-8.2907656850237741E-3,-1.6581531370047548E-2,-2.4872297055071324E-2,-3.3163062740095096E-2,-4.1453828425118869E-2,-4.9744594110142648E-2,-5.8035359795166427E-2,-6.6326125480190193E-2,-6.6326125480190193E-2,-1.8973780644215794E-2,2.8378564191758597E-2,7.5730909027732995E-2,0.12308325386370741,0.17043559869968178,8.2912943535656175E-2,-4.6097116283694145E-3,-9.2132366792395004E-2,null,null,null,null,null,null,null,null,0,-8.2907656850237738E-2,-0.16581531370047548,-0.24872297055071324,-0.33163062740095095,-0.41453828425118866,-0.49744594110142648,-0.5803535979516643,-0.6632612548019019,-0.6632612548019019,-0.18973780644215793,0.28378564191758598,0.75730909027732995,1.2308325386370742,1.7043559869968177,0.82912943535656169,-4.6097116283694145E-2,-0.92132366792395004,null,null,null,null,null,null,null,null,null,null,null,null,null,null,null,null,null,null,null,null,{"$f":"+IF($DE39<=FK$3,1/6*(1-FK$3)*$DE39*(1-(1-FK$3)^2-$DE39^2),1/6*FK$3*(1-$DE39)*(1-FK$3^2-(1-$DE39)^2))*Input!$B$1^3","v":0},{"$f":"+IF($DE39<=FL$3,1/6*(1-FL$3)*$DE39*(1-(1-FL$3)^2-$DE39^2),1/6*FL$3*(1-$DE39)*(1-FL$3^2-(1-$DE39)^2))*Input!$B$1^3","v":8.280720960205077E-3},{"$f":"+IF($DE39<=FM$3,1/6*(1-FM$3)*$DE39*(1-(1-FM$3)^2-$DE39^2),1/6*FM$3*(1-$DE39)*(1-FM$3^2-(1-$DE39)^2))*Input!$B$1^3","v":1.5641361813720701E-2},{"$f":"+IF($DE39<=FN$3,1/6*(1-FN$3)*$DE39*(1-(1-FN$3)^2-$DE39^2),1/6*FN$3*(1-$DE39)*(1-FN$3^2-(1-$DE39)^2))*Input!$B$1^3","v":2.1161842453857421E-2},{"$f":"+IF($DE39<=FO$3,1/6*(1-FO$3)*$DE39*(1-(1-FO$3)^2-$DE39^2),1/6*FO$3*(1-$DE39)*(1-FO$3^2-(1-$DE39)^2))*Input!$B$1^3","v":2.3922082773925778E-2},{"$f":"+IF($DE39<=FP$3,1/6*(1-FP$3)*$DE39*(1-(1-FP$3)^2-$DE39^2),1/6*FP$3*(1-$DE39)*(1-FP$3^2-(1-$DE39)^2))*Input!$B$1^3","v":2.3002002667236326E-2},{"$f":"+IF($DE39<=FQ$3,1/6*(1-FQ$3)*$DE39*(1-(1-FQ$3)^2-$DE39^2),1/6*FQ$3*(1-$DE39)*(1-FQ$3^2-(1-$DE39)^2))*Input!$B$1^3","v":1.7890446518961586E-2},{"$f":"+IF($DE39<=FR$3,1/6*(1-FR$3)*$DE39*(1-(1-FR$3)^2-$DE39^2),1/6*FR$3*(1-$DE39)*(1-FR$3^2-(1-$DE39)^2))*Input!$B$1^3","v":9.7119566817220043E-3},{"$f":"+IF($DE39<=FS$3,1/6*(1-FS$3)*$DE39*(1-(1-FS$3)^2-$DE39^2),1/6*FS$3*(1-$DE39)*(1-FS$3^2-(1-$DE39)^2))*Input!$B$1^3","v":0},null,null,null,null,null,null,null,null,null,null,null,null,0,-1.360203745199213E-3,-2.5908642765699293E-3,-3.5624383802836529E-3,-4.1453828425118871E-3,-4.2101544494261359E-3,-3.6272099871979017E-3,-2.2670062419986882E-3,0,0,3.4416236274775261E-3,7.2284043385644637E-3,1.049894305038301E-2,1.2391840680055353E-2,1.2045698144703687E-2,9.0080408533121832E-3,4.4620921823129312E-3,0,null,null,null,null,null,null,0,-0.1360203745199213,-0.25908642765699291,-0.35624383802836529,-0.41453828425118872,-0.42101544494261356,-0.36272099871979019,-0.22670062419986883,0,0,0.34416236274775258,0.72284043385644636,1.0498943050383009,1.2391840680055353,1.2045698144703687,0.90080408533121836,0.44620921823129311,0]
[null,null,26,0,-7.3535614365291633E-3,-1.4707122873058327E-2,-2.2060684309587499E-2,-2.9414245746116653E-2,-3.6767807182645808E-2,-4.4121368619174997E-2,-5.1474930055704152E-2,-5.8828491492233306E-2,-5.8828491492233306E-2,-2.3137480145520375E-2,1.2553531201192555E-2,4.8244542547905521E-2,8.3935553894618459E-2,0.11962656524133139,0.15531757658804432,0.19100858793475728,0.22669959928147021,-5.8828491492233306E-3,2.6462288301548054E-2,2.6462288301548054E-2,-5.8828491492233306E-3,3.2345137450771402E-2,-0.12606094492018732,null,null,null,null,null,null,null,null,0,-5.8828491492233306E-3,null,null,null,null,null,null,null,null,null,null,null,null,null,null,-5.8828491492233306E-3,2.6462288301548054E-2,null,null,null,null,null,null,null,null,null,null,null,null,null,null,2.6462288301548054E-2,{"$f":"-$X17","v":-9.9598656618639272E-2},null,null,null,null,null,null,null,null,null,null,null,null,null,null,{"$f":"-$X17","v":-9.9598656618639272E-2},{"$f":"-$V17","v":0.83479699056336476},null,null,{"$f":"-$V17","v":0.83479699056336476},{"$f":"+$Y17","v":0.16520300943663524},null,null,null,null,null,null,null,null,null,null,{"$f":"-$Y17","v":-0.16520300943663524},0,null,null,null,null,null,14,null,0.75,{"$f":"+(-3/2*DE40+3*DE40^2-3/2*DE40^3)/(4+3*Input!$B$1)*Input!$B$1^2","v":-1.1311412921445349E-2},{"$f":"+(-2*DE40+3*DE40^2-DE40^3)/(4*(1+Input!$B$1))*Input!$B$1^2","v":-3.2812528183621931E-2},{"$f":"(-2*DE40-3*Input!$B$1*DE40^2+(2+3*Input!$B$1)*DE40^3)*Input!$B$1/2/(4+3*Input!$B$1)","v":-8.2856012289277331E-2},null,-4.4123941105067281E-2,null,0.25,0.25822767494731935,null,0.75,0.88261278844825208,null,null,-4.4123941105067281E-2,null,0.25,0.21410373384225201,-0.78589626615774799,null,-0.75,-0.78589626615774799,null,null,1.885235486907558E-3,5.4687546972703215E-3,0,7.353990184177879E-3,null,null,-3.7704709738151159E-3,-1.0937509394540643E-2,0,-1.4707980368355758E-2,null,{"$f":"+EB31*Input!$B$1^2","v":-4.5478164062499993E-2},4.0683381807465101E-3,1.1801572636709353E-2,1.4900272876688372E-2,-1.4707980368355753E-2,null,{"$f":"+EH31*Input!$B$1^2","v":6.3669429687499987E-2},-2.0341690903732551E-3,-5.9007863183546767E-3,-2.9800545753376744E-2,2.5933928525395316E-2,null,null,null,null,null,null,null,null,null,null,null,null,0,{"$f":"+IF($DE40<=FL$3,FL$5/FL$3*$DE40,FL$5-FL$5/(1-FL$3)*($DE40-FL$3))*Input!$B$1","v":3.3718749999999999E-2},{"$f":"+IF($DE40<=FM$3,FM$5/FM$3*$DE40,FM$5-FM$5/(1-FM$3)*($DE40-FM$3))*Input!$B$1","v":6.7437499999999997E-2},{"$f":"+IF($DE40<=FN$3,FN$5/FN$3*$DE40,FN$5-FN$5/(1-FN$3)*($DE40-FN$3))*Input!$B$1","v":0.10115625},{"$f":"+IF($DE40<=FO$3,FO$5/FO$3*$DE40,FO$5-FO$5/(1-FO$3)*($DE40-FO$3))*Input!$B$1","v":0.13487499999999999},{"$f":"+IF($DE40<=FP$3,FP$5/FP$3*$DE40,FP$5-FP$5/(1-FP$3)*($DE40-FP$3))*Input!$B$1","v":0.16859374999999999},{"$f":"+IF($DE40<=FQ$3,FQ$5/FQ$3*$DE40,FQ$5-FQ$5/(1-FQ$3)*($DE40-FQ$3))*Input!$B$1","v":0.20231250000000001},{"$f":"+IF($DE40<=FR$3,FR$5/FR$3*$DE40,FR$5-FR$5/(1-FR$3)*($DE40-FR$3))*Input!$B$1","v":0.10115625},{"$f":"+IF($DE40<=FS$3,FS$5/FS$3*$DE40,FS$5-FS$5/(1-FS$3)*($DE40-FS$3))*Input!$B$1","v":0},null,null,null,null,null,null,null,0,-5.5154926381334101E-3,-1.103098527626682E-2,-1.654647791440023E-2,-2.2061970552533641E-2,-2.7577463190667048E-2,-3.3092955828800459E-2,-3.860844846693387E-2,-4.4123941105067281E-2,-4.4123941105067281E-2,-1.5246700003093538E-2,1.3630541098880206E-2,4.2507782200853952E-2,7.1385023302827699E-2,0.10026226440480143,0.12913950550677519,2.3141746608748931E-2,-8.2856012289277331E-2,null,null,null,null,null,null,null,null,0,-5.5154926381334103E-2,-0.11030985276266821,-0.16546477914400229,-0.22061970552533641,-0.27577463190667051,-0.33092955828800458,-0.3860844846693387,-0.44123941105067283,-0.44123941105067283,-0.15246700003093538,0.13630541098880206,0.4250778220085395,0.71385023302827699,1.0026226440480144,1.291395055067752,0.23141746608748931,-0.82856012289277325,null,null,null,null,null,null,null,null,null,null,null,null,null,null,null,null,null,null,null,null,{"$f":"+IF($DE40<=FK$3,1/6*(1-FK$3)*$DE40*(1-(1-FK$3)^2-$DE40^2),1/6*FK$3*(1-$DE40)*(1-FK$3^2-(1-$DE40)^2))*Input!$B$1^3","v":0},{"$f":"+IF($DE40<=FL$3,1/6*(1-FL$3)*$DE40*(1-(1-FL$3)^2-$DE40^2),1/6*FL$3*(1-$DE40)*(1-FL$3^2-(1-$DE40)^2))*Input!$B$1^3","v":6.0316362549641912E-3},{"$f":"+IF($DE40<=FM$3,1/6*(1-FM$3)*$DE40*(1-(1-FM$3)^2-$DE40^2),1/6*FM$3*(1-$DE40)*(1-FM$3^2-(1-$DE40)^2))*Input!$B$1^3","v":1.1449885772135415E-2},{"$f":"+IF($DE40<=FN$3,1/6*(1-FN$3)*$DE40*(1-(1-FN$3)^2-$DE40^2),1/6*FN$3*(1-$DE40)*(1-FN$3^2-(1-$DE40)^2))*Input!$B$1^3","v":1.5641361813720701E-2},{"$f":"+IF($DE40<=FO$3,1/6*(1-FO$3)*$DE40*(1-(1-FO$3)^2-$DE40^2),1/6*FO$3*(1-$DE40)*(1-FO$3^2-(1-$DE40)^2))*Input!$B$1^3","v":1.799267764192708E-2},{"$f":"+IF($DE40<=FP$3,1/6*(1-FP$3)*$DE40*(1-(1-FP$3)^2-$DE40^2),1/6*FP$3*(1-$DE40)*(1-FP$3^2-(1-$DE40)^2))*Input!$B$1^3","v":1.7890446518961586E-2},{"$f":"+IF($DE40<=FQ$3,1/6*(1-FQ$3)*$DE40*(1-(1-FQ$3)^2-$DE40^2),1/6*FQ$3*(1-$DE40)*(1-FQ$3^2-(1-$DE40)^2))*Input!$B$1^3","v":1.4721281707031249E-2},{"$f":"+IF($DE40<=FR$3,1/6*(1-FR$3)*$DE40*(1-(1-FR$3)^2-$DE40^2),1/6*FR$3*(1-$DE40)*(1-FR$3^2-(1-$DE40)^2))*Input!$B$1^3","v":8.280720960205077E-3},{"$f":"+IF($DE40<=FS$3,1/6*(1-FS$3)*$DE40*(1-(1-FS$3)^2-$DE40^2),1/6*FS$3*(1-$DE40)*(1-FS$3^2-(1-$DE40)^2))*Input!$B$1^3","v":0},null,null,null,null,null,null,null,null,null,null,null,null,0,-9.0488551094376258E-4,-1.7235914494166905E-3,-2.3699382429479493E-3,-2.7577463190667051E-3,-2.8008361053021222E-3,-2.4130280291833669E-3,-1.5081425182396043E-3,0,0,2.2975217581468546E-3,4.872400285954673E-3,7.1993220200202808E-3,8.7529733969405072E-3,9.0080408533121832E-3,7.4392108257321354E-3,3.9300942426591639E-3,0,null,null,null,null,null,null,0,-9.0488551094376257E-2,-0.17235914494166904,-0.23699382429479493,-0.27577463190667051,-0.28008361053021225,-0.2413028029183367,-0.15081425182396044,0,0,0.22975217581468546,0.48724002859546728,0.71993220200202812,0.87529733969405077,0.90080408533121836,0.74392108257321354,0.3930094242659164,0]
[null,null,27,0,-8.5353838102570669E-3,-1.7070767620514134E-2,-2.5606151430771183E-2,-3.4141535241028267E-2,-4.2676919051285352E-2,-5.1212302861542366E-2,-5.9747686671799485E-2,-6.8283070482056535E-2,-6.8283070482056535E-2,-2.6856003740336171E-2,1.4571063001384259E-2,5.5998129743104579E-2,9.7425196484824977E-2,0.1388522632265454,0.18027932996826573,0.2217063967099861,0.26313346345170652,-6.8283070482056535E-3,3.0715156064296846E-2,3.0715156064296846E-2,-6.8283070482056535E-3,3.7543463112502506E-2,-0.14632073963950315,null,null,null,null,null,null,null,null,0,-6.8283070482056535E-3,null,null,null,null,null,null,null,null,null,null,null,null,null,null,-6.8283070482056535E-3,3.0715156064296846E-2,null,null,null,null,null,null,null,null,null,null,null,null,null,null,3.0715156064296846E-2,{"$f":"-$X16","v":-0.11560558357520631},null,null,null,null,null,null,null,null,null,null,null,null,null,null,{"$f":"-$X16","v":-0.11560558357520631},{"$f":"-$V16","v":0.72342507833247693},null,null,null,null,{"$f":"-$V16","v":0.72342507833247693},{"$f":"+$Y16","v":0.27657492166752307},null,null,null,null,null,null,null,null,{"$f":"-$Y16","v":-0.27657492166752307},0,null,null,null,null,null,15,null,0.875,{"$f":"+(-3/2*DE41+3*DE41^2-3/2*DE41^3)/(4+3*Input!$B$1)*Input!$B$1^2","v":-3.2991621020882268E-3},{"$f":"+(-2*DE41+3*DE41^2-DE41^3)/(4*(1+Input!$B$1))*Input!$B$1^2","v":-1.7226577296401514E-2},{"$f":"(-2*DE41-3*Input!$B$1*DE41^2+(2+3*Input!$B$1)*DE41^3)*Input!$B$1/2/(4+3*Input!$B$1)","v":-5.3670243167705897E-2},null,-2.0525739398489742E-2,null,0.125,0.11480794165130145,null,0.875,0.96836622996407362,null,null,-2.0525739398489742E-2,null,0.125,9.4282202252811725E-2,-0.9057177977471883,null,-0.875,-0.90571779774718819,null,null,5.498603503480378E-4,2.8710962160669188E-3,0,3.4209565664149568E-3,null,null,-1.0997207006960756E-3,-5.7421924321338375E-3,0,-6.8419131328299135E-3,null,{"$f":"+EB32*Input!$B$1^2","v":-2.3876036132812497E-2},1.1865986360510654E-3,6.1958256342724109E-3,9.6516987296591094E-3,-6.8419131328299101E-3,null,{"$f":"+EH32*Input!$B$1^2","v":3.9793393554687494E-2},-5.9329931802553271E-4,-3.0979128171362055E-3,-1.9303397459318219E-2,1.6798783960207533E-2,null,null,null,null,null,null,null,null,null,null,null,null,0,{"$f":"+IF($DE41<=FL$3,FL$5/FL$3*$DE41,FL$5-FL$5/(1-FL$3)*($DE41-FL$3))*Input!$B$1","v":1.6859374999999999E-2},{"$f":"+IF($DE41<=FM$3,FM$5/FM$3*$DE41,FM$5-FM$5/(1-FM$3)*($DE41-FM$3))*Input!$B$1","v":3.3718749999999999E-2},{"$f":"+IF($DE41<=FN$3,FN$5/FN$3*$DE41,FN$5-FN$5/(1-FN$3)*($DE41-FN$3))*Input!$B$1","v":5.0578125000000002E-2},{"$f":"+IF($DE41<=FO$3,FO$5/FO$3*$DE41,FO$5-FO$5/(1-FO$3)*($DE41-FO$3))*Input!$B$1","v":6.7437499999999997E-2},{"$f":"+IF($DE41<=FP$3,FP$5/FP$3*$DE41,FP$5-FP$5/(1-FP$3)*($DE41-FP$3))*Input!$B$1","v":8.4296874999999993E-2},{"$f":"+IF($DE41<=FQ$3,FQ$5/FQ$3*$DE41,FQ$5-FQ$5/(1-FQ$3)*($DE41-FQ$3))*Input!$B$1","v":0.10115625},{"$f":"+IF($DE41<=FR$3,FR$5/FR$3*$DE41,FR$5-FR$5/(1-FR$3)*($DE41-FR$3))*Input!$B$1","v":0.118015625},{"$f":"+IF($DE41<=FS$3,FS$5/FS$3*$DE41,FS$5-FS$5/(1-FS$3)*($DE41-FS$3))*Input!$B$1","v":0},null,null,null,null,null,null,null,0,-2.5657174248112178E-3,-5.1314348496224356E-3,-7.6971522744336534E-3,-1.0262869699244871E-2,-1.2828587124056087E-2,-1.5394304548867307E-2,-1.7960021973678523E-2,-2.0525739398489742E-2,-2.0525739398489742E-2,-7.8094273696417624E-3,4.9068846592062211E-3,1.7623196688054205E-2,3.0339508716902185E-2,4.3055820745750165E-2,5.5772132774598138E-2,6.8488444803446125E-2,-5.3670243167705897E-2,null,null,null,null,null,null,null,null,0,-2.5657174248112178E-2,-5.1314348496224356E-2,-7.6971522744336537E-2,-0.10262869699244871,-0.12828587124056087,-0.15394304548867307,-0.17960021973678522,-0.20525739398489742,-0.20525739398489742,-7.8094273696417624E-2,4.9068846592062211E-2,0.17623196688054205,0.30339508716902186,0.43055820745750162,0.55772132774598138,0.68488444803446125,-0.536702431677059,null,null,null,null,null,null,null,null,null,null,null,null,null,null,null,null,null,null,null,null,{"$f":"+IF($DE41<=FK$3,1/6*(1-FK$3)*$DE41*(1-(1-FK$3)^2-$DE41^2),1/6*FK$3*(1-$DE41)*(1-FK$3^2-(1-$DE41)^2))*Input!$B$1^3","v":0},{"$f":"+IF($DE41<=FL$3,1/6*(1-FL$3)*$DE41*(1-(1-FL$3)^2-$DE41^2),1/6*FL$3*(1-$DE41)*(1-FL$3^2-(1-$DE41)^2))*Input!$B$1^3","v":3.169164811930338E-3},{"$f":"+IF($DE41<=FM$3,1/6*(1-FM$3)*$DE41*(1-(1-FM$3)^2-$DE41^2),1/6*FM$3*(1-$DE41)*(1-FM$3^2-(1-$DE41)^2))*Input!$B$1^3","v":6.0316362549641912E-3},{"$f":"+IF($DE41<=FN$3,1/6*(1-FN$3)*$DE41*(1-(1-FN$3)^2-$DE41^2),1/6*FN$3*(1-$DE41)*(1-FN$3^2-(1-$DE41)^2))*Input!$B$1^3","v":8.280720960205077E-3},{"$f":"+IF($DE41<=FO$3,1/6*(1-FO$3)*$DE41*(1-(1-FO$3)^2-$DE41^2),1/6*FO$3*(1-$DE41)*(1-FO$3^2-(1-$DE41)^2))*Input!$B$1^3","v":9.6097255587565093E-3},{"$f":"+IF($DE41<=FP$3,1/6*(1-FP$3)*$DE41*(1-(1-FP$3)^2-$DE41^2),1/6*FP$3*(1-$DE41)*(1-FP$3^2-(1-$DE41)^2))*Input!$B$1^3","v":9.7119566817220043E-3},{"$f":"+IF($DE41<=FQ$3,1/6*(1-FQ$3)*$DE41*(1-(1-FQ$3)^2-$DE41^2),1/6*FQ$3*(1-$DE41)*(1-FQ$3^2-(1-$DE41)^2))*Input!$B$1^3","v":8.280720960205077E-3},{"$f":"+IF($DE41<=FR$3,1/6*(1-FR$3)*$DE41*(1-(1-FR$3)^2-$DE41^2),1/6*FR$3*(1-$DE41)*(1-FR$3^2-(1-$DE41)^2))*Input!$B$1^3","v":5.0093250253092437E-3},{"$f":"+IF($DE41<=FS$3,1/6*(1-FS$3)*$DE41*(1-(1-FS$3)^2-$DE41^2),1/6*FS$3*(1-$DE41)*(1-FS$3^2-(1-$DE41)^2))*Input!$B$1^3","v":0},null,null,null,null,null,null,null,null,null,null,null,null,0,-4.2093801500809041E-4,-8.0178669525350545E-4,-1.1024567059735701E-3,-1.2828587124056089E-3,-1.3029033797869465E-3,-1.1225013733549077E-3,-7.0156335834681727E-4,0,0,1.0709433209163022E-3,2.2839500094929024E-3,3.4076942558426441E-3,4.210850250078375E-3,4.4620921823129312E-3,3.9300942426591639E-3,2.3835306212299117E-3,0,null,null,null,null,null,null,0,-4.209380150080904E-2,-8.0178669525350549E-2,-0.11024567059735702,-0.1282858712405609,-0.13029033797869466,-0.11225013733549077,-7.0156335834681727E-2,0,0,0.10709433209163022,0.22839500094929024,0.34076942558426443,0.42108502500783751,0.44620921823129311,0.3930094242659164,0.23835306212299118,0]
[null,null,28,0,-8.4040702131761829E-3,-1.6808140426352366E-2,-2.521221063952854E-2,-3.3616280852704732E-2,-4.2020351065880888E-2,-5.042442127905708E-2,-5.8828491492233237E-2,-6.7232561705409463E-2,-6.7232561705409463E-2,-2.6442834452023205E-2,1.4346892801362981E-2,5.5136620054749202E-2,9.5926347308135387E-2,0.1367160745615216,0.17750580181490783,0.21829552906829403,0.25908525632168022,-6.7232561705409463E-3,3.0242615201769206E-2,3.0242615201769206E-2,-6.7232561705409463E-3,3.6965871372310159E-2,-0.14406965133735694,null,null,null,null,null,null,null,null,0,-6.7232561705409463E-3,null,null,null,null,null,null,null,null,null,null,null,null,null,null,-6.7232561705409463E-3,3.0242615201769206E-2,null,null,null,null,null,null,null,null,null,null,null,null,null,null,3.0242615201769206E-2,{"$f":"-$X15","v":-0.11382703613558776},null,null,null,null,null,null,null,null,null,null,null,null,null,null,{"$f":"-$X15","v":-0.11382703613558776},{"$f":"-$V15","v":0.59691084635813108},null,null,null,null,null,null,{"$f":"-$V15","v":0.59691084635813108},{"$f":"+$Y15","v":0.40308915364186881},null,null,null,null,null,null,{"$f":"-$Y15","v":-0.40308915364186881},0,null,null,null,null,null,16,null,1,{"$f":"+(-3/2*DE42+3*DE42^2-3/2*DE42^3)/(4+3*Input!$B$1)*Input!$B$1^2","v":0},{"$f":"+(-2*DE42+3*DE42^2-DE42^3)/(4*(1+Input!$B$1))*Input!$B$1^2","v":0},{"$f":"(-2*DE42-3*Input!$B$1*DE42^2+(2+3*Input!$B$1)*DE42^3)*Input!$B$1/2/(4+3*Input!$B$1)","v":0},null,0,null,0,0,null,1,1,null,null,0,null,0,0,-1,null,-1,-1,null,null,0,0,0,0,null,null,0,0,0,0,null,{"$f":"+EB33*Input!$B$1^2","v":0},0,0,0,0,null,{"$f":"+EH33*Input!$B$1^2","v":0},0,0,0,0,null,null,null,null,null,null,null,null,null,null,null,null,0,{"$f":"+IF($DE42<=FL$3,FL$5/FL$3*$DE42,FL$5-FL$5/(1-FL$3)*($DE42-FL$3))*Input!$B$1","v":0},{"$f":"+IF($DE42<=FM$3,FM$5/FM$3*$DE42,FM$5-FM$5/(1-FM$3)*($DE42-FM$3))*Input!$B$1","v":0},{"$f":"+IF($DE42<=FN$3,FN$5/FN$3*$DE42,FN$5-FN$5/(1-FN$3)*($DE42-FN$3))*Input!$B$1","v":0},{"$f":"+IF($DE42<=FO$3,FO$5/FO$3*$DE42,FO$5-FO$5/(1-FO$3)*($DE42-FO$3))*Input!$B$1","v":0},{"$f":"+IF($DE42<=FP$3,FP$5/FP$3*$DE42,FP$5-FP$5/(1-FP$3)*($DE42-FP$3))*Input!$B$1","v":0},{"$f":"+IF($DE42<=FQ$3,FQ$5/FQ$3*$DE42,FQ$5-FQ$5/(1-FQ$3)*($DE42-FQ$3))*Input!$B$1","v":0},{"$f":"+IF($DE42<=FR$3,FR$5/FR$3*$DE42,FR$5-FR$5/(1-FR$3)*($DE42-FR$3))*Input!$B$1","v":0},{"$f":"+IF($DE42<=FS$3,FS$5/FS$3*$DE42,FS$5-FS$5/(1-FS$3)*($DE42-FS$3))*Input!$B$1","v":0},null,null,null,null,null,null,null,0,0,0,0,0,0,0,0,0,0,0,0,0,0,0,0,0,0,null,null,null,null,null,null,null,null,0,0,0,0,0,0,0,0,0,0,0,0,0,0,0,0,0,0,null,null,null,null,null,null,null,null,null,null,null,null,null,null,null,null,null,null,null,null,{"$f":"+IF($DE42<=FK$3,1/6*(1-FK$3)*$DE42*(1-(1-FK$3)^2-$DE42^2),1/6*FK$3*(1-$DE42)*(1-FK$3^2-(1-$DE42)^2))*Input!$B$1^3","v":0},{"$f":"+IF($DE42<=FL$3,1/6*(1-FL$3)*$DE42*(1-(1-FL$3)^2-$DE42^2),1/6*FL$3*(1-$DE42)*(1-FL$3^2-(1-$DE42)^2))*Input!$B$1^3","v":0},{"$f":"+IF($DE42<=FM$3,1/6*(1-FM$3)*$DE42*(1-(1-FM$3)^2-$DE42^2),1/6*FM$3*(1-$DE42)*(1-FM$3^2-(1-$DE42)^2))*Input!$B$1^3","v":0},{"$f":"+IF($DE42<=FN$3,1/6*(1-FN$3)*$DE42*(1-(1-FN$3)^2-$DE42^2),1/6*FN$3*(1-$DE42)*(1-FN$3^2-(1-$DE42)^2))*Input!$B$1^3","v":0},{"$f":"+IF($DE42<=FO$3,1/6*(1-FO$3)*$DE42*(1-(1-FO$3)^2-$DE42^2),1/6*FO$3*(1-$DE42)*(1-FO$3^2-(1-$DE42)^2))*Input!$B$1^3","v":0},{"$f":"+IF($DE42<=FP$3,1/6*(1-FP$3)*$DE42*(1-(1-FP$3)^2-$DE42^2),1/6*FP$3*(1-$DE42)*(1-FP$3^2-(1-$DE42)^2))*Input!$B$1^3","v":0},{"$f":"+IF($DE42<=FQ$3,1/6*(1-FQ$3)*$DE42*(1-(1-FQ$3)^2-$DE42^2),1/6*FQ$3*(1-$DE42)*(1-FQ$3^2-(1-$DE42)^2))*Input!$B$1^3","v":0},{"$f":"+IF($DE42<=FR$3,1/6*(1-FR$3)*$DE42*(1-(1-FR$3)^2-$DE42^2),1/6*FR$3*(1-$DE42)*(1-FR$3^2-(1-$DE42)^2))*Input!$B$1^3","v":0},{"$f":"+IF($DE42<=FS$3,1/6*(1-FS$3)*$DE42*(1-(1-FS$3)^2-$DE42^2),1/6*FS$3*(1-$DE42)*(1-FS$3^2-(1-$DE42)^2))*Input!$B$1^3","v":0},null,null,null,null,null,null,null,null,null,null,null,null,0,0,0,0,0,0,0,0,0,0,0,0,0,0,0,0,0,0,null,null,null,null,null,null,0,0,0,0,0,0,0,0,0,0,0,0,0,0,0,0,0,0]
[null,null,29,0,-7.2222478394482793E-3,-1.4444495678896559E-2,-2.1666743518344855E-2,-2.8888991357793117E-2,-3.6111239197241379E-2,-4.3333487036689711E-2,-5.0555734876137973E-2,-5.7777982715586235E-2,-5.7777982715586235E-2,-2.272431085720748E-2,1.2329361001171277E-2,4.7383032859550103E-2,8.2436704717928855E-2,0.11749037657630761,0.15254404843468641,0.18759772029306515,0.22265139215144394,-5.7777982715586235E-3,2.5989747439020414E-2,2.5989747439020414E-2,-5.7777982715586235E-3,3.1767545710579034E-2,-0.12380985661804114,null,null,null,null,null,null,null,null,0,-5.7777982715586235E-3,null,null,null,null,null,null,null,null,null,null,null,null,null,null,-5.7777982715586235E-3,2.5989747439020414E-2,null,null,null,null,null,null,null,null,null,null,null,null,null,null,2.5989747439020414E-2,{"$f":"-$X14","v":-9.7820109179020717E-2},null,null,null,null,null,null,null,null,null,null,null,null,null,null,{"$f":"-$X14","v":-9.7820109179020717E-2},{"$f":"-$V14","v":0.45828275858901896},null,null,null,null,null,null,null,null,{"$f":"-$V14","v":0.45828275858901896},{"$f":"+$Y14","v":0.5417172414109811},null,null,null,null,{"$f":"-$Y14","v":-0.5417172414109811},0,null,null,null,null,null,{"$f":"+DC42","v":16},3,0,{"$f":"+(-3/2*DE43^2+3/2*DE43^3)/(4+3*Input!$B$1)*Input!$B$1^2","v":0},{"$f":"+(DE43-DE43^3)/(4*(1+Input!$B$1))*Input!$B$1^2","v":0},{"$f":"((-4-3*Input!$B$1)*DE43+6*(1+Input!$B$1)*DE43^2+(-2-3*Input!$B$1)*DE43^3)*Input!$B$1/2/(4+3*Input!$B$1)","v":0},null,0,null,null,0,null,{"$f":"1-DE43","v":1},1,null,null,0,null,null,0,null,null,null,0,null,null,0,0,0,0,null,null,0,0,0,0,null,null,0,0,0,0,null,null,0,0,0,0,null,null,null,null,null,null,null,null,null,null,null,null,null,null,null,null,null,null,null,null,null,null,null,null,null,null,null,null,0,0,0,0,0,0,0,0,0,0,0,0,0,0,0,0,0,0,null,null,null,null,null,null,null,null,0,0,0,0,0,0,0,0,0,0,0,0,0,0,0,0,0,0,null,null,null,null,null,null,null,null,null,null,null,null,null,null,null,null,null,null,null,null,null,null,null,null,null,null,null,null,null,null,null,null,null,null,null,null,null,null,null,null,null,0,0,0,0,0,0,0,0,0,0,0,0,0,0,0,0,0,0,null,null,null,null,null,null,0,0,0,0,0,0,0,0,0,0,0,0,0,0,0,0,0,0]
[null,null,30,0,-5.2525438832351154E-3,-1.0505087766470231E-2,-1.5757631649705346E-2,-2.1010175532940462E-2,-2.6262719416175542E-2,-3.1515263299410692E-2,-3.6767807182645842E-2,-4.2020351065880923E-2,-4.2020351065880923E-2,-1.6526771532514577E-2,8.9668080008518426E-3,3.4460387534218262E-2,5.9953967067584608E-2,8.5447546600950983E-2,0.11094112613431738,0.13643470566768376,0.16192828520105013,-4.2020351065880923E-3,1.8901634501105755E-2,1.8901634501105755E-2,-4.2020351065880923E-3,2.3103669607693847E-2,-9.0043532085848088E-2,null,null,null,null,null,null,null,null,0,-4.2020351065880923E-3,null,null,null,null,null,null,null,null,null,null,null,null,null,null,-4.2020351065880923E-3,1.8901634501105755E-2,null,null,null,null,null,null,null,null,null,null,null,null,null,null,1.8901634501105755E-2,{"$f":"-$X13","v":-7.1141897584742333E-2},null,null,null,null,null,null,null,null,null,null,null,null,null,null,{"$f":"-$X13","v":-7.1141897584742333E-2},{"$f":"-$V13","v":0.31056927897383196},null,null,null,null,null,null,null,null,null,null,{"$f":"-$V13","v":0.31056927897383196},{"$f":"+$Y13","v":0.68943072102616809},null,null,{"$f":"-$Y13","v":-0.68943072102616809},0,null,null,null,null,null,{"$f":"+DC43+1","v":17},null,{"$f":"+DE43+1/8","v":0.125},{"$f":"+(-3/2*DE44^2+3/2*DE44^3)/(4+3*Input!$B$1)*Input!$B$1^2","v":-3.2991621020882268E-3},{"$f":"+(DE44-DE44^3)/(4*(1+Input!$B$1))*Input!$B$1^2","v":1.7226577296401514E-2},{"$f":"((-4-3*Input!$B$1)*DE44+6*(1+Input!$B$1)*DE44^2+(-2-3*Input!$B$1)*DE44^3)*Input!$B$1/2/(4+3*Input!$B$1)","v":-5.3670243167705897E-2},null,1.3927415194313288E-2,null,null,-7.6575847411198536E-2,null,0.875,0.96836622996407362,null,null,1.3927415194313288E-2,null,null,-6.264843221688525E-2,null,null,null,-6.264843221688525E-2,null,null,5.498603503480378E-4,-2.8710962160669188E-3,0,-2.3212358657188807E-3,null,null,-1.0997207006960756E-3,5.7421924321338375E-3,0,4.6424717314377615E-3,null,null,1.1865986360510654E-3,-6.1958256342724109E-3,9.6516987296591094E-3,4.6424717314377641E-3,null,null,-5.9329931802553271E-4,3.0979128171362055E-3,-1.9303397459318219E-2,-1.6798783960207547E-2,null,null,null,null,null,null,null,null,null,null,null,null,null,null,null,null,null,null,null,null,null,null,null,null,null,null,null,null,0,1.740926899289161E-3,3.481853798578322E-3,5.2227806978674823E-3,6.963707597156644E-3,8.7046344964458039E-3,1.0445561395734965E-2,1.2186488295024127E-2,1.3927415194313288E-2,1.3927415194313288E-2,5.47770789906089E-3,-2.9719993961915096E-3,-1.1421706691443906E-2,-1.9871413986696305E-2,-2.8321121281948705E-2,-3.6770828577201098E-2,-4.5220535872453498E-2,-5.3670243167705897E-2,null,null,null,null,null,null,null,null,0,1.7409268992891611E-2,3.4818537985783223E-2,5.2227806978674823E-2,6.9637075971566445E-2,8.7046344964458039E-2,0.10445561395734965,0.12186488295024127,0.13927415194313289,0.13927415194313289,5.47770789906089E-2,-2.9719993961915096E-2,-0.11421706691443906,-0.19871413986696307,-0.28321121281948702,-0.36770828577201098,-0.45220535872453499,-0.536702431677059,null,null,null,null,null,null,null,null,null,null,null,null,null,null,null,null,null,null,null,null,null,null,null,null,null,null,null,null,null,null,null,null,null,null,null,null,null,null,null,null,null,0,2.8562081941462794E-4,5.4403965602786274E-4,7.4805452703831138E-4,8.704634496445805E-4,8.8406444104527707E-4,7.6165551843900795E-4,4.760346990243799E-4,0,0,-7.2721355110213603E-4,-1.5540735416122494E-3,-2.3268691016689038E-3,-2.8918893614106609E-3,-3.0954234509760867E-3,-2.7837605005037423E-3,-1.8031896401321927E-3,0,null,null,null,null,null,null,0,2.8562081941462793E-2,5.4403965602786278E-2,7.4805452703831141E-2,8.7046344964458053E-2,8.8406444104527707E-2,7.6165551843900794E-2,4.7603469902437988E-2,0,0,-7.2721355110213604E-2,-0.15540735416122495,-0.23268691016689039,-0.28918893614106611,-0.3095423450976087,-0.27837605005037425,-0.18031896401321926,0]
[null,null,31,0,-2.7575855386984351E-3,-5.5151710773968703E-3,-8.2727566160953076E-3,-1.1030342154793741E-2,-1.3787927693492182E-2,-1.6545513232190615E-2,-1.9303098770889048E-2,-2.2060684309587481E-2,-2.2060684309587481E-2,-8.6765550545701321E-3,4.7075742004472169E-3,1.8091703455464566E-2,3.1475832710481925E-2,4.4859961965499275E-2,5.8244091220516631E-2,7.162822047553398E-2,8.5012349730551329E-2,-2.2060684309587481E-3,9.9233581130805191E-3,9.9233581130805191E-3,-2.2060684309587481E-3,1.2129426544039267E-2,-4.7272854345070246E-2,null,null,null,null,null,null,null,null,0,-2.2060684309587481E-3,null,null,null,null,null,null,null,null,null,null,null,null,null,null,-2.2060684309587481E-3,9.9233581130805191E-3,null,null,null,null,null,null,null,null,null,null,null,null,null,null,9.9233581130805191E-3,{"$f":"-$X12","v":-3.7349496231989729E-2},null,null,null,null,null,null,null,null,null,null,null,null,null,null,{"$f":"-$X12","v":-3.7349496231989729E-2},{"$f":"-$V12","v":0.15679887146126179},null,null,null,null,null,null,null,null,null,null,null,null,{"$f":"-$V12","v":0.15679887146126179},{"$f":"+$Y12","v":0.8432011285387383},{"$f":"-$Y12","v":-0.8432011285387383},0,null,null,null,null,null,{"$f":"+DC44+1","v":18},null,{"$f":"+DE44+1/8","v":0.25},{"$f":"+(-3/2*DE45^2+3/2*DE45^3)/(4+3*Input!$B$1)*Input!$B$1^2","v":-1.1311412921445349E-2},{"$f":"+(DE45-DE45^3)/(4*(1+Input!$B$1))*Input!$B$1^2","v":3.2812528183621931E-2},{"$f":"((-4-3*Input!$B$1)*DE45+6*(1+Input!$B$1)*DE45^2+(-2-3*Input!$B$1)*DE45^3)*Input!$B$1/2/(4+3*Input!$B$1)","v":-8.2856012289277331E-2},null,2.150111526217658E-2,null,null,-0.11821763755268067,null,0.75,0.88261278844825208,null,null,2.150111526217658E-2,null,null,-9.6716522290504092E-2,null,null,null,-9.6716522290504092E-2,null,null,1.885235486907558E-3,-5.4687546972703215E-3,0,-3.5835192103627635E-3,null,null,-3.7704709738151159E-3,1.0937509394540643E-2,0,7.167038420725527E-3,null,null,4.0683381807465101E-3,-1.1801572636709353E-2,1.4900272876688372E-2,7.1670384207255288E-3,null,null,-2.0341690903732551E-3,5.9007863183546767E-3,-2.9800545753376744E-2,-2.5933928525395323E-2,null,null,null,null,null,null,null,null,null,null,null,null,null,null,null,null,null,null,null,null,null,null,null,null,null,null,null,null,0,2.6876394077720725E-3,5.3752788155441451E-3,8.0629182233162185E-3,1.075055763108829E-2,1.3438197038860364E-2,1.6125836446632437E-2,1.8813475854404509E-2,2.150111526217658E-2,2.150111526217658E-2,8.4564743182448422E-3,-4.5881666256868958E-3,-1.7632807569618637E-2,-3.0677448513550375E-2,-4.3722089457482113E-2,-5.6766730401413855E-2,-6.9811371345345596E-2,-8.2856012289277331E-2,null,null,null,null,null,null,null,null,0,2.6876394077720724E-2,5.3752788155441447E-2,8.0629182233162178E-2,0.10750557631088289,0.13438197038860364,0.16125836446632436,0.1881347585440451,0.21501115262176579,0.21501115262176579,8.4564743182448415E-2,-4.5881666256868958E-2,-0.17632807569618636,-0.30677448513550376,-0.43722089457482116,-0.56766730401413856,-0.69811371345345596,-0.82856012289277325,null,null,null,null,null,null,null,null,null,null,null,null,null,null,null,null,null,null,null,null,null,null,null,null,null,null,null,null,null,null,null,null,null,null,null,null,null,null,null,null,null,0,4.4094084033760567E-4,8.3988731492877272E-4,1.1548450580270626E-3,1.3438197038860363E-3,1.3648168867592559E-3,1.1758422409002818E-3,7.3490140056267617E-4,0,0,-1.1226708017470512E-3,-2.3991755740682854E-3,-3.5922157885698897E-3,-4.46449291685805E-3,-4.7787084305389539E-3,-4.2975638012187883E-3,-2.7837605005037419E-3,0,null,null,null,null,null,null,0,4.4094084033760569E-2,8.3988731492877278E-2,0.11548450580270626,0.13438197038860364,0.13648168867592558,0.11758422409002818,7.3490140056267611E-2,0,0,-0.11226708017470512,-0.23991755740682855,-0.35922157885698897,-0.44644929168580499,-0.47787084305389538,-0.42975638012187883,-0.27837605005037419,0]
[null,null,32,0,0,0,0,0,0,0,0,0,0,0,0,0,0,0,0,0,0,0,0,0,0,0,0,null,null,null,null,null,null,null,null,null,null,null,null,null,null,null,null,null,null,null,null,null,null,null,null,null,null,null,null,null,null,null,null,null,null,null,null,null,null,null,null,null,null,null,null,null,null,null,null,null,null,null,null,null,null,null,null,null,null,null,null,null,null,null,null,null,null,null,null,null,null,null,null,null,null,null,null,null,null,null,19,null,0.375,{"$f":"+(-3/2*DE46^2+3/2*DE46^3)/(4+3*Input!$B$1)*Input!$B$1^2","v":-2.1208899227710031E-2},{"$f":"+(DE46-DE46^3)/(4*(1+Input!$B$1))*Input!$B$1^2","v":4.5117226252480165E-2},{"$f":"((-4-3*Input!$B$1)*DE46+6*(1+Input!$B$1)*DE46^2+(-2-3*Input!$B$1)*DE46^3)*Input!$B$1/2/(4+3*Input!$B$1)","v":-9.2132366792394962E-2},null,2.3908327024770134E-2,null,null,-0.13145299228627624,null,0.625,0.75646147834047262,null,null,2.3908327024770134E-2,null,null,-0.10754466526150611,null,null,null,-0.10754466526150611,null,null,3.5348165379516716E-3,-7.5195377087466939E-3,0,-3.9847211707950223E-3,null,null,-7.0696330759033432E-3,1.5039075417493388E-2,0,7.9694423415900446E-3,null,null,7.628134088899707E-3,-1.6227162375475366E-2,1.6568470628165691E-2,7.9694423415900325E-3,null,null,-3.8140670444498535E-3,8.113581187737683E-3,-3.3136941256331383E-2,-2.8837427113043552E-2,null,null,null,null,null,null,null,null,null,null,null,null,null,null,null,null,null,null,null,null,null,null,null,null,null,null,null,null,0,2.9885408780962667E-3,5.9770817561925335E-3,8.9656226342888015E-3,1.1954163512385067E-2,1.4942704390481332E-2,1.7931245268577603E-2,2.0919786146673867E-2,2.3908327024770134E-2,2.3908327024770134E-2,9.4032402976244964E-3,-5.1018464295211376E-3,-1.960693315666678E-2,-3.4112019883812413E-2,-4.8617106610958048E-2,-6.3122193338103691E-2,-7.7627280065249327E-2,-9.2132366792394962E-2,null,null,null,null,null,null,null,null,0,2.9885408780962668E-2,5.9770817561925337E-2,8.9656226342888015E-2,0.11954163512385067,0.14942704390481332,0.17931245268577603,0.20919786146673866,0.23908327024770135,0.23908327024770135,9.4032402976244961E-2,-5.1018464295211376E-2,-0.19606933156666781,-0.34112019883812411,-0.4861710661095805,-0.63122193338103694,-0.77627280065249327,-0.9213236679239496,null,null,null,null,null,null,null,null,null,null,null,null,null,null,null,null,null,null,null,null,null,null,null,null,null,null,null,null,null,null,null,null,null,null,null,null,null,null,null,null,null,0,4.9030748781266867E-4,9.3391902440508327E-4,1.2841386585569897E-3,1.4942704390481334E-3,1.5176184146582605E-3,1.3074866341671167E-3,8.1717914635444789E-4,0,0,-1.2483622520059077E-3,-2.667781346001606E-3,-3.994391396419928E-3,-4.9643265176937054E-3,-5.3137208242557696E-3,-4.7787084305389513E-3,-3.0954234509760845E-3,0,null,null,null,null,null,null,0,4.903074878126687E-2,9.3391902440508323E-2,0.12841386585569897,0.14942704390481334,0.15176184146582605,0.13074866341671168,8.1717914635444783E-2,0,0,-0.12483622520059078,-0.26677813460016059,-0.39943913964199279,-0.49643265176937057,-0.53137208242557699,-0.47787084305389516,-0.30954234509760847,0]
[null,null,null,"×L1/10",null,null,null,null,null,null,null,null,null,null,null,null,null,null,null,null,null,"×1",null,null,null,null,null,null,null,null,null,null,null,null,null,null,null,null,null,null,null,null,null,null,null,null,null,null,null,null,null,null,null,null,null,null,null,null,null,null,null,null,null,null,null,null,null,null,null,null,null,null,null,null,null,null,null,null,null,null,null,null,null,null,null,null,null,null,null,null,null,null,null,null,null,null,null,null,null,null,null,null,null,null,null,null,20,null,0.5,{"$f":"+(-3/2*DE47^2+3/2*DE47^3)/(4+3*Input!$B$1)*Input!$B$1^2","v":-3.0163767790520931E-2},{"$f":"+(DE47-DE47^3)/(4*(1+Input!$B$1))*Input!$B$1^2","v":5.2500045093795099E-2},{"$f":"((-4-3*Input!$B$1)*DE47+6*(1+Input!$B$1)*DE47^2+(-2-3*Input!$B$1)*DE47^3)*Input!$B$1/2/(4+3*Input!$B$1)","v":-8.6074366104739564E-2},null,2.2336277303274168E-2,null,null,-0.12280953347381518,null,0.5,0.60363410252867222,null,null,2.2336277303274168E-2,null,null,-0.10047325617054099,null,null,null,-0.10047325617054099,null,null,5.0272946317534879E-3,-8.7500075156325165E-3,0,-3.7227128838790285E-3,null,null,-1.0054589263506976E-2,1.7500015031265033E-2,0,7.4454257677580571E-3,null,null,1.0848901815324026E-2,-1.888251621873497E-2,1.5479040171168997E-2,7.4454257677580536E-3,null,null,-5.4244509076620132E-3,9.4412581093674848E-3,-3.0958080342337994E-2,-2.6941273140632521E-2,null,null,null,null,null,null,null,null,null,null,null,null,null,null,null,null,null,null,null,null,null,null,null,null,null,null,null,null,0,2.792034662909271E-3,5.5840693258185419E-3,8.3761039887278125E-3,1.1168138651637084E-2,1.3960173314546357E-2,1.6752207977455625E-2,1.95442426403649E-2,2.2336277303274168E-2,2.2336277303274168E-2,8.7849468772724544E-3,-4.7663835487292659E-3,-1.8317713974730979E-2,-3.1869044400732696E-2,-4.5420374826734417E-2,-5.897170525273613E-2,-7.2523035678737843E-2,-8.6074366104739564E-2,null,null,null,null,null,null,null,null,0,2.7920346629092711E-2,5.5840693258185421E-2,8.3761039887278121E-2,0.11168138651637084,0.13960173314546356,0.16752207977455624,0.19544242640364901,0.22336277303274168,0.22336277303274168,8.7849468772724537E-2,-4.7663835487292659E-2,-0.18317713974730979,-0.31869044400732693,-0.45420374826734417,-0.58971705252736129,-0.72523035678737846,-0.86074366104739564,null,null,null,null,null,null,null,null,null,null,null,null,null,null,null,null,null,null,null,null,null,null,null,null,null,null,null,null,null,null,null,null,null,null,null,null,null,null,null,null,null,0,4.5806818688355231E-4,8.7251083215914732E-4,1.1997023942188275E-3,1.3960173314546355E-3,1.4178301022586143E-3,1.2215151650228062E-3,7.6344697813925393E-4,0,0,-1.1662784019498701E-3,-2.4923661060457175E-3,-3.7317472609360016E-3,-4.6379060152691789E-3,-4.9643265176937098E-3,-4.46449291685805E-3,-2.8918893614106613E-3,0,null,null,null,null,null,null,0,4.5806818688355233E-2,8.7251083215914738E-2,0.11997023942188274,0.13960173314546354,0.14178301022586143,0.12215151650228062,7.6344697813925388E-2,0,0,-0.11662784019498701,-0.24923661060457175,-0.37317472609360014,-0.46379060152691787,-0.49643265176937096,-0.44644929168580499,-0.28918893614106611,0]
[null,null,"Span 1",{"$f":"+HA70","v":0},0.46611596136822409,0.77598192273644817,0.92959788410467215,0.92696384547289623,0.76807980684112032,0.45294576820934418,-1.84382704224317E-2,-0.64607230905420765,-0.64607230905420765,{"$f":"+HK70","v":-0.54372283239562502},-0.44137335573704239,-0.33902387907845966,-0.23667440241987708,-0.13432492576129443,-3.19754491027118E-2,7.0374027555870855E-2,0.17272350421445348,{"$f":"+DS70","v":-0.56460723090542075},{"$f":"+DV70","v":7.5884690757058504E-2},{"$f":"+DZ70","v":7.5884690757058504E-2},{"$f":"+DJ70","v":0.43539276909457925},{"$f":"+DM70","v":0.64049192166247926},{"$f":"+DP70","v":-9.6046434224904637E-2},null,null,null,null,null,null,null,null,{"$f":"+Y48","v":0.43539276909457925},null,null,null,null,null,null,null,null,null,null,null,null,null,null,null,{"$f":"+V48","v":-0.56460723090542075},{"$f":"+W48","v":7.5884690757058504E-2},null,null,null,null,null,null,null,null,null,null,null,null,null,null,{"$f":"+BA48","v":7.5884690757058504E-2},{"$f":"-W51","v":-2.016174346784614E-2},null,null,null,null,null,null,null,null,null,null,null,null,null,null,{"$f":"-W51","v":-2.016174346784614E-2},{"$f":"-Y51","v":4.4821707803606343E-3},null,null,null,null,null,null,null,null,null,null,null,null,null,null,null,{"$f":"-Y51","v":4.4821707803606343E-3},null,null,null,null,null,21,null,0.625,{"$f":"+(-3/2*DE48^2+3/2*DE48^3)/(4+3*Input!$B$1)*Input!$B$1^2","v":-3.5348165379516717E-2},{"$f":"+(DE48-DE48^3)/(4*(1+Input!$B$1))*Input!$B$1^2","v":5.3320358298385641E-2},{"$f":"((-4-3*Input!$B$1)*DE48+6*(1+Input!$B$1)*DE48^2+(-2-3*Input!$B$1)*DE48^3)*Input!$B$1/2/(4+3*Input!$B$1)","v":-6.9257069653991699E-2},null,1.7972192918868923E-2,null,null,-9.881488297712715E-2,null,0.375,0.43785246390078775,null,null,1.7972192918868923E-2,null,null,-8.0842690058258226E-2,null,null,null,-8.0842690058258226E-2,null,null,5.8913608965861196E-3,-8.8867263830642723E-3,0,-2.9953654864781527E-3,null,null,-1.1782721793172239E-2,1.7773452766128545E-2,0,5.9907309729563055E-3,null,null,1.2713556814832844E-2,-1.9177555534652699E-2,1.2454729692776173E-2,5.9907309729563176E-3,null,null,-6.3567784074164222E-3,9.5887777673263497E-3,-2.4909459385552345E-2,-2.1677460025642418E-2,null,null,null,null,null,null,null,null,null,null,null,null,null,null,null,null,null,null,null,null,null,null,null,null,null,null,null,null,0,2.2465241148586154E-3,4.4930482297172308E-3,6.7395723445758463E-3,8.9860964594344617E-3,1.1232620574293077E-2,1.3479144689151693E-2,1.5725668804010304E-2,1.7972192918868923E-2,1.7972192918868923E-2,7.0685350972613421E-3,-3.8351227243462321E-3,-1.473878054595381E-2,-2.5642438367561388E-2,-3.6546096189168965E-2,-4.7449754010776543E-2,-5.8353411832384121E-2,-6.9257069653991699E-2,null,null,null,null,null,null,null,null,0,2.2465241148586154E-2,4.4930482297172308E-2,6.7395723445758463E-2,8.9860964594344617E-2,0.11232620574293077,0.13479144689151693,0.15725668804010304,0.17972192918868923,0.17972192918868923,7.0685350972613414E-2,-3.8351227243462321E-2,-0.14738780545953811,-0.25642438367561388,-0.36546096189168964,-0.47449754010776546,-0.58353411832384117,-0.69257069653991699,null,null,null,null,null,null,null,null,null,null,null,null,null,null,null,null,null,null,null,null,null,null,null,null,null,null,null,null,null,null,null,null,null,null,null,null,null,null,null,null,null,0,3.6857036259399154E-4,7.0203878589331732E-4,9.6530333060331126E-4,1.1232620574293077E-3,1.1408130270766405E-3,9.8285430025064403E-4,6.1428393765665282E-4,0,0,-9.3840975165009879E-4,-2.0054051028341137E-3,-3.0026347178350736E-3,-3.7317472609360042E-3,-3.994391396419935E-3,-3.5922157885698918E-3,-2.3268691016689047E-3,0,null,null,null,null,null,null,0,3.6857036259399151E-2,7.0203878589331734E-2,9.6530333060331125E-2,0.11232620574293077,0.11408130270766405,9.8285430025064402E-2,6.1428393765665279E-2,0,0,-9.3840975165009874E-2,-0.20054051028341136,-0.30026347178350737,-0.37317472609360042,-0.39943913964199351,-0.35922157885698919,-0.23268691016689047,0]
[null,null,"Span 2",0,-7.4328545085147496E-2,-0.14865709017029499,-0.22298563525544246,-0.29731418034058998,-0.37164272542573751,-0.44597127051088492,-0.52029981559603244,-0.59462836068117997,-0.59462836068117997,3.8999280423122437E-2,0.49071426527742495,0.76051659388172732,0.84840626623603022,0.75438328234033269,0.47844764219463531,2.0599345798937782E-2,-0.61916160684675958,{"$f":"+DS71","v":-5.9462836068117995E-2},{"$f":"+DV71","v":0.53722629785305098},{"$f":"+DZ71","v":-0.54177370214694898},{"$f":"+DJ71","v":-5.9462836068117995E-2},{"$f":"+DM71","v":0.59668913392116896},{"$f":"+DP71","v":0.61404746441895808},null,null,null,null,null,null,null,null,{"$f":"+Y49","v":-5.9462836068117995E-2},null,null,null,null,null,null,null,null,null,null,null,null,null,null,null,{"$f":"+Y49","v":-5.9462836068117995E-2},{"$f":"+W49","v":0.53722629785305098},null,null,null,null,null,null,null,null,null,null,null,null,null,null,{"$f":"+X49","v":-0.54177370214694898},{"$f":"-W50","v":7.2273762272009129E-2},null,null,null,null,null,null,null,null,null,null,null,null,null,null,{"$f":"-W50","v":7.2273762272009129E-2},{"$f":"-Y50","v":-1.6067228806821883E-2},null,null,null,null,null,null,null,null,null,null,null,null,null,null,null,{"$f":"-Y50","v":-1.6067228806821883E-2},null,null,null,null,null,22,null,0.75,{"$f":"+(-3/2*DE49^2+3/2*DE49^3)/(4+3*Input!$B$1)*Input!$B$1^2","v":-3.3934238764336044E-2},{"$f":"+(DE49-DE49^3)/(4*(1+Input!$B$1))*Input!$B$1^2","v":4.5937539457070707E-2},{"$f":"((-4-3*Input!$B$1)*DE49+6*(1+Input!$B$1)*DE49^2+(-2-3*Input!$B$1)*DE49^3)*Input!$B$1/2/(4+3*Input!$B$1)","v":-4.6255536867831987E-2},null,1.2003300692734663E-2,null,null,-6.5996662658042021E-2,null,0.25,0.27283836534475614,null,null,1.2003300692734663E-2,null,null,-5.3993361965307372E-2,null,null,null,-5.3993361965307372E-2,null,null,5.6557064607226735E-3,-7.6562565761784506E-3,0,-2.0005501154557771E-3,null,null,-1.1311412921445347E-2,1.5312513152356901E-2,0,4.0011002309115543E-3,null,null,1.2205014542239529E-2,-1.6522201691393096E-2,8.3182873800651189E-3,4.0011002309115525E-3,null,null,-6.1025072711197647E-3,8.2611008456965479E-3,-1.6636574760130238E-2,-1.4477981185553455E-2,null,null,null,null,null,null,null,null,null,null,null,null,null,null,null,null,null,null,null,null,null,null,null,null,null,null,null,null,0,1.5004125865918328E-3,3.0008251731836657E-3,4.5012377597754977E-3,6.0016503463673314E-3,7.5020629329591651E-3,9.0024755195509953E-3,1.0502888106142833E-2,1.2003300692734663E-2,1.2003300692734663E-2,4.7209459976638342E-3,-2.5614086974070013E-3,-9.8437633924778299E-3,-1.7126118087548662E-2,-2.4408472782619494E-2,-3.1690827477690323E-2,-3.8973182172761155E-2,-4.6255536867831987E-2,null,null,null,null,null,null,null,null,0,1.5004125865918328E-2,3.0008251731836657E-2,4.5012377597754977E-2,6.0016503463673314E-2,7.5020629329591651E-2,9.0024755195509953E-2,0.10502888106142833,0.12003300692734663,0.12003300692734663,4.7209459976638342E-2,-2.5614086974070013E-2,-9.8437633924778306E-2,-0.17126118087548661,-0.24408472782619495,-0.3169082747769032,-0.38973182172761156,-0.46255536867831987,null,null,null,null,null,null,null,null,null,null,null,null,null,null,null,null,null,null,null,null,null,null,null,null,null,null,null,null,null,null,null,null,null,null,null,null,null,null,null,null,null,0,2.4616143998772264E-4,4.6887893330994782E-4,6.4470853330117809E-4,7.5020629329591642E-4,7.6192826662866515E-4,6.5643050663392703E-4,4.1026906664620418E-4,0,0,-6.2674680117775355E-4,-1.3393735850002904E-3,-2.0054051028341119E-3,-2.4923661060457171E-3,-2.6677813460016086E-3,-2.399175574068285E-3,-1.5540735416122492E-3,0,null,null,null,null,null,null,0,2.4616143998772263E-2,4.688789333099478E-2,6.4470853330117803E-2,7.5020629329591637E-2,7.6192826662866517E-2,6.564305066339271E-2,4.1026906664620416E-2,0,0,-6.2674680117775355E-2,-0.13393735850002905,-0.20054051028341119,-0.24923661060457172,-0.26677813460016087,-0.23991755740682849,-0.15540735416122492,0]
[null,null,"Span 3",0,2.0084036008527352E-2,4.0168072017054704E-2,6.0252108025582049E-2,8.0336144034109408E-2,0.10042018004263675,0.1205042160511641,0.1405882520596915,0.16067228806821882,0.16067228806821882,6.3193051203846537E-2,-3.4286185660525798E-2,-0.13176542252489809,-0.22924465938927038,-0.32672389625364273,-0.42420313311801505,-0.52168236998238726,-0.61916160684675958,{"$f":"+DS72","v":1.6067228806821883E-2},{"$f":"+DV72","v":-7.2273762272009129E-2},{"$f":"+DZ72","v":-7.2273762272009129E-2},{"$f":"+DJ72","v":1.6067228806821883E-2},{"$f":"+DM72","v":-8.8340991078831005E-2},{"$f":"+DP72","v":0.61404746441895808},null,null,null,null,null,null,null,null,null,null,null,null,null,null,null,null,null,null,null,null,null,null,null,null,null,null,null,null,null,null,null,null,null,null,null,null,null,null,null,null,null,null,null,null,null,null,null,null,null,null,null,null,null,null,null,null,null,null,null,null,null,null,null,null,null,null,null,null,null,null,null,null,null,null,null,null,null,null,null,23,null,0.875,{"$f":"+(-3/2*DE50^2+3/2*DE50^3)/(4+3*Input!$B$1)*Input!$B$1^2","v":-2.3094134714617586E-2},{"$f":"+(DE50-DE50^3)/(4*(1+Input!$B$1))*Input!$B$1^2","v":2.8710962160669193E-2},{"$f":"((-4-3*Input!$B$1)*DE50+6*(1+Input!$B$1)*DE50^2+(-2-3*Input!$B$1)*DE50^3)*Input!$B$1/2/(4+3*Input!$B$1)","v":-2.1644827173941318E-2},null,5.6168274460516067E-3,null,null,-3.0882494378389809E-2,null,0.125,0.1223136097485148,null,null,5.6168274460516067E-3,null,null,-2.5265666932338209E-2,null,null,null,-2.5265666932338209E-2,null,null,3.8490224524362644E-3,-4.7851603601115318E-3,0,-9.3613790767526749E-4,null,null,-7.6980449048725287E-3,9.5703207202230637E-3,0,1.872275815350535E-3,null,null,8.3061904523574585E-3,-1.0326376057120685E-2,3.89246142011378E-3,1.8722758153505536E-3,null,null,-4.1530952261787293E-3,5.1631880285603424E-3,-7.7849228402275599E-3,-6.7748300378459468E-3,null,null,null,null,null,null,null,null,null,null,null,null,null,null,null,null,null,null,null,null,null,null,null,null,null,null,null,null,0,7.0210343075645084E-4,1.4042068615129017E-3,2.1063102922693529E-3,2.8084137230258033E-3,3.5105171537822555E-3,4.2126205845387059E-3,4.9147240152951528E-3,5.6168274460516067E-3,5.6168274460516067E-3,2.2091206185524881E-3,-1.1985862089466236E-3,-4.6062930364457397E-3,-8.0139998639448557E-3,-1.142170669144397E-2,-1.482941351894309E-2,-1.8237120346442204E-2,-2.1644827173941318E-2,null,null,null,null,null,null,null,null,0,7.0210343075645084E-3,1.4042068615129017E-2,2.1063102922693529E-2,2.8084137230258033E-2,3.5105171537822555E-2,4.2126205845387059E-2,4.9147240152951528E-2,5.6168274460516067E-2,5.6168274460516067E-2,2.2091206185524882E-2,-1.1985862089466236E-2,-4.6062930364457397E-2,-8.0139998639448554E-2,-0.1142170669144397,-0.14829413518943091,-0.18237120346442204,-0.21644827173941317,null,null,null,null,null,null,null,null,null,null,null,null,null,null,null,null,null,null,null,null,null,null,null,null,null,null,null,null,null,null,null,null,null,null,null,null,null,null,null,null,null,0,1.1518884410848023E-4,2.1940732211139097E-4,3.0168506790316236E-4,3.5105171537822542E-4,3.5653689843101011E-4,3.0717025095594705E-4,1.919814068474671E-4,0,0,-2.9328005060400291E-4,-6.2674680117775832E-4,-9.3840975165010443E-4,-1.1662784019498777E-3,-1.2483622520059164E-3,-1.1226708017470579E-3,-7.2721355110214004E-4,0,null,null,null,null,null,null,0,1.1518884410848022E-2,2.1940732211139097E-2,3.0168506790316237E-2,3.5105171537822541E-2,3.5653689843101008E-2,3.0717025095594704E-2,1.919814068474671E-2,0,0,-2.932800506040029E-2,-6.2674680117775827E-2,-9.3840975165010443E-2,-0.11662784019498776,-0.12483622520059164,-0.1122670801747058,-7.2721355110214006E-2,0]
[null,null,"Span 4",0,-5.6027134754507929E-3,-1.1205426950901586E-2,-1.6808140426352383E-2,-2.2410853901803172E-2,-2.801356737725396E-2,-3.3616280852704766E-2,-3.9218994328155572E-2,-4.4821707803606343E-2,-4.4821707803606343E-2,-1.7628556301348887E-2,9.5645952009086078E-3,3.6757746703166103E-2,6.3950898205423573E-2,9.1144049707681044E-2,0.11833720120993853,0.14553035271219603,0.17272350421445348,{"$f":"+DS73","v":-4.4821707803606343E-3},{"$f":"+DV73","v":2.016174346784614E-2},{"$f":"+DZ73","v":2.016174346784614E-2},{"$f":"+DJ73","v":-4.4821707803606343E-3},{"$f":"+DM73","v":2.4643914248206777E-2},{"$f":"+DP73","v":-9.6046434224904637E-2},null,null,null,null,null,null,null,null,null,null,null,null,null,null,null,null,null,null,null,null,null,null,null,null,null,null,null,null,null,null,null,null,null,null,null,null,null,null,null,null,null,null,null,null,null,null,null,null,null,null,null,null,null,null,null,null,null,null,null,null,null,null,null,null,null,null,null,null,null,null,null,null,null,null,null,null,null,null,null,24,null,1,{"$f":"+(-3/2*DE51^2+3/2*DE51^3)/(4+3*Input!$B$1)*Input!$B$1^2","v":0},{"$f":"+(DE51-DE51^3)/(4*(1+Input!$B$1))*Input!$B$1^2","v":0},{"$f":"((-4-3*Input!$B$1)*DE51+6*(1+Input!$B$1)*DE51^2+(-2-3*Input!$B$1)*DE51^3)*Input!$B$1/2/(4+3*Input!$B$1)","v":-1.3242289828056309E-16},null,0,null,null,-1.2272743121460898E-16,null,0,2.4545486242921796E-16,null,null,0,null,null,-1.2272743121460898E-16,null,null,null,-1.2272743121460898E-16,null,null,0,0,0,0,null,null,0,0,0,0,null,null,0,0,2.3814051207454593E-17,2.3814051207454593E-17,null,null,0,0,-4.7628102414909185E-17,-4.7628102414909185E-17,null,null,null,null,null,null,null,null,null,null,null,null,null,null,null,null,null,null,null,null,null,null,null,null,null,null,null,null,0,0,0,0,0,0,0,0,0,0,-1.6552862285070386E-17,-3.3105724570140771E-17,-4.9658586855211157E-17,-6.6211449140281543E-17,-8.2764311425351922E-17,-9.9317173710422314E-17,-1.1587003599549271E-16,-1.3242289828056309E-16,null,null,null,null,null,null,null,null,0,0,0,0,0,0,0,0,0,0,-1.6552862285070384E-16,-3.3105724570140769E-16,-4.9658586855211158E-16,-6.6211449140281538E-16,-8.2764311425351927E-16,-9.9317173710422317E-16,-1.1587003599549271E-15,-1.3242289828056308E-15,null,null,null,null,null,null,null,null,null,null,null,null,null,null,null,null,null,null,null,null,null,null,null,null,null,null,null,null,null,null,null,null,null,null,null,null,null,null,null,null,null,0,0,0,0,0,0,0,0,0,0,-3.1617339041584782E-18,-6.0223502936351958E-18,-8.2807316537483959E-18,-9.6357604698163136E-18,-9.7863192271571954E-18,-8.4312904110892746E-18,-5.2695565069307968E-18,0,null,null,null,null,null,null,0,0,0,0,0,0,0,0,0,0,-3.1617339041584783E-16,-6.0223502936351962E-16,-8.2807316537483957E-16,-9.6357604698163131E-16,-9.7863192271571948E-16,-8.4312904110892744E-16,-5.2695565069307966E-16,0]
[null,null,"Sum",{"$f":"+HA75","v":0},0.40626873881615316,0.65628747763230633,0.75005621644845921,0.68757495526461243,0.46884369408076554,9.3862432896918591E-2,-0.43736882828692825,-1.1248500894707751,-1.1248500894707751,-0.45915905707000498,2.4619319080765416E-2,0.32648503898153575,0.44643810263230632,0.38447851003307659,0.14060626118384698,-0.28517864391538261,-0.8928762052646122,{"$f":"+DS75","v":-0.61248500894707747},{"$f":"+DV75","v":0.56099896980594655},{"$f":"+DZ75","v":-0.51800103019405341},{"$f":"+DJ75","v":0.38751499105292253},{"$f":"+DM75","v":1.173483978753024},{"$f":"+DP75","v":1.036002060388107},null,null,null,null,null,null,null,null,{"$f":"+Y52","v":0.38751499105292253},null,null,null,null,null,null,null,null,null,null,null,null,null,null,null,{"$f":"+V52","v":-0.61248500894707747},{"$f":"+W52","v":0.56099896980594655},null,null,null,null,null,null,null,null,null,null,null,null,null,null,{"$f":"+X52","v":-0.51800103019405341},{"$f":"-X52","v":0.51800103019405341},null,null,null,null,null,null,null,null,null,null,null,null,null,null,{"$f":"-W52","v":-0.56099896980594655},{"$f":"-V52","v":0.61248500894707747},null,null,null,null,null,null,null,null,null,null,null,null,null,null,null,{"$f":"-Y52","v":-0.38751499105292253},null,null,null,null,null,{"$f":"+DC51","v":24},4,0,{"$f":"+(-2*DE52+3*DE52^2-DE52^3)/(4+3*Input!$B$1)","v":0},{"$f":"+(2*DE52-3*DE52^2+DE52^3)/(4*(1+Input!$B$1))","v":0},{"$f":"((-2-3/2*Input!$B$1)*DE52+3*(1+Input!$B$1)*DE52^2+(-1-3/2*Input!$B$1)*DE52^3)/(4+3*Input!$B$1)/Input!$B$1","v":0},null,0,null,null,0,null,null,0,null,null,0,null,null,0,null,null,null,0,null,null,0,0,0,0,null,null,0,0,0,0,null,null,0,0,0,0,null,null,0,0,0,0,null,null,null,null,null,null,null,null,null,null,null,null,null,null,null,null,null,null,null,null,null,null,null,null,null,null,null,null,0,0,0,0,0,0,0,0,0,0,0,0,0,0,0,0,0,0,null,null,null,null,null,null,null,null,0,0,0,0,0,0,0,0,0,0,0,0,0,0,0,0,0,0,null,null,null,null,null,null,null,null,null,null,null,null,null,null,null,null,null,null,null,null,null,null,null,null,null,null,null,null,null,null,null,null,null,null,null,null,null,null,null,null,null,0,0,0,0,0,0,0,0,0,0,0,0,0,0,0,0,0,0,null,null,null,null,null,null,0,0,0,0,0,0,0,0,0,0,0,0,0,0,0,0,0,0]
[null,null,null,"×L12/10",null,null,null,null,null,null,null,null,null,null,null,null,null,null,null,null,null,"×L1",null,null,null,null,null,null,null,null,null,null,null,null,null,null,null,null,null,null,null,null,null,null,null,null,null,null,null,null,null,null,null,null,null,null,null,null,null,null,null,null,null,null,null,null,null,null,null,null,null,null,null,null,null,null,null,null,null,null,null,null,null,null,null,null,null,null,null,null,null,null,null,null,null,null,null,null,null,null,null,null,null,null,null,null,{"$f":"+DC52+1","v":25},null,{"$f":"+DE52+1/8","v":0.125},{"$f":"+(-2*DE53+3*DE53^2-DE53^3)/(4+3*Input!$B$1)","v":-2.8337449910183776E-2},{"$f":"+(2*DE53-3*DE53^2+DE53^3)/(4*(1+Input!$B$1))","v":2.4660669191919195E-2},{"$f":"(DE53-3/2*DE53^2+1/2*DE53^3)/(4+3*Input!$B$1)","v":1.4168724955091888E-2},null,-3.6767807182645808E-3,null,null,2.0215710906732118E-2,null,null,-7.8788090575117084E-2,null,null,-3.6767807182645808E-3,null,null,1.6538930188467534E-2,null,null,null,1.6538930188467534E-2,null,null,4.7229083183639624E-3,-4.1101115319865326E-3,0,6.1279678637742984E-4,null,null,-9.4458166367279248E-3,8.2202230639730652E-3,0,-1.2255935727548597E-3,null,null,1.019203615102943E-2,-8.8696206860269366E-3,-2.5480090377573575E-3,-1.225593572754864E-3,null,null,-5.096018075514715E-3,4.4348103430134683E-3,5.096018075514715E-3,4.4348103430134683E-3,null,null,null,null,null,null,null,null,null,null,null,null,null,null,null,null,null,null,null,null,null,null,null,null,null,null,null,null,0,-4.595975897830726E-4,-9.1919517956614519E-4,-1.3787927693492182E-3,-1.8383903591322904E-3,-2.2979879489153626E-3,-2.7575855386984365E-3,-3.2171831284815086E-3,-3.6767807182645808E-3,-3.6767807182645808E-3,-1.4460925090950226E-3,7.8459570007453558E-4,3.0152839092440955E-3,5.2459721184136537E-3,7.4766603275832118E-3,9.7073485367527718E-3,1.193803674592233E-2,1.4168724955091888E-2,null,null,null,null,null,null,null,null,{"$f":"+GA53*10","v":0},{"$f":"+GB53*10","v":-4.595975897830726E-3},{"$f":"+GC53*10","v":-9.1919517956614519E-3},{"$f":"+GD53*10","v":-1.3787927693492182E-2},{"$f":"+GE53*10","v":-1.8383903591322904E-2},{"$f":"+GF53*10","v":-2.2979879489153626E-2},{"$f":"+GG53*10","v":-2.7575855386984365E-2},{"$f":"+GH53*10","v":-3.2171831284815086E-2},{"$f":"+GI53*10","v":-3.6767807182645808E-2},{"$f":"+GJ53*10","v":-3.6767807182645808E-2},{"$f":"+GK53*10","v":-1.4460925090950226E-2},{"$f":"+GL53*10","v":7.8459570007453558E-3},{"$f":"+GM53*10","v":3.0152839092440955E-2},{"$f":"+GN53*10","v":5.245972118413654E-2},{"$f":"+GO53*10","v":7.4766603275832122E-2},{"$f":"+GP53*10","v":9.7073485367527718E-2},{"$f":"+GQ53*10","v":0.1193803674592233},{"$f":"+GR53*10","v":0.14168724955091888},null,null,null,null,null,null,null,null,null,null,null,null,null,null,null,null,null,null,null,null,null,null,null,null,null,null,null,null,null,null,null,null,null,null,null,null,null,null,null,null,null,0,-7.5402729573785412E-5,-1.4362424680721016E-4,-1.974833393599139E-4,-2.297987948915363E-4,-2.3338940106171669E-4,-2.0107394553009429E-4,-1.2567121595630888E-4,0,0,1.9198140684746688E-4,4.102690666462044E-4,6.1428393765665303E-4,7.6344697813925371E-4,8.17179146354448E-4,7.3490140056267606E-4,4.7603469902438001E-4,0,null,null,null,null,null,null,{"$f":"+JH53*100","v":0},{"$f":"+JI53*100","v":-7.5402729573785417E-3},{"$f":"+JJ53*100","v":-1.4362424680721016E-2},{"$f":"+JK53*100","v":-1.9748333935991388E-2},{"$f":"+JL53*100","v":-2.2979879489153629E-2},{"$f":"+JM53*100","v":-2.3338940106171668E-2},{"$f":"+JN53*100","v":-2.0107394553009431E-2},{"$f":"+JO53*100","v":-1.2567121595630887E-2},{"$f":"+JP53*100","v":0},{"$f":"+JQ53*100","v":0},{"$f":"+JR53*100","v":1.9198140684746689E-2},{"$f":"+JS53*100","v":4.1026906664620437E-2},{"$f":"+JT53*100","v":6.1428393765665307E-2},{"$f":"+JU53*100","v":7.6344697813925375E-2},{"$f":"+JV53*100","v":8.1717914635444797E-2},{"$f":"+JW53*100","v":7.3490140056267611E-2},{"$f":"+JX53*100","v":4.7603469902438002E-2},{"$f":"+JY53*100","v":0}]
[null,null,null,null,null,null,null,null,null,null,null,null,null,null,null,null,null,null,null,null,null,null,null,null,null,null,null,null,null,null,null,null,null,null,null,null,null,null,null,null,null,null,null,null,null,null,null,null,null,null,null,null,null,null,null,null,null,null,null,null,null,null,null,null,null,null,null,null,null,null,null,null,null,null,null,null,null,null,null,null,null,null,null,null,null,null,null,null,null,null,null,null,null,null,null,null,null,null,null,null,null,null,null,null,null,null,{"$f":"+DC53+1","v":26},null,{"$f":"+DE53+1/8","v":0.25},{"$f":"+(-2*DE54+3*DE54^2-DE54^3)/(4+3*Input!$B$1)","v":-4.5339919856294042E-2},{"$f":"+(2*DE54-3*DE54^2+DE54^3)/(4*(1+Input!$B$1))","v":3.9457070707070711E-2},{"$f":"(DE54-3/2*DE54^2+1/2*DE54^3)/(4+3*Input!$B$1)","v":2.2669959928147021E-2},null,-5.8828491492233306E-3,null,null,3.2345137450771402E-2,null,null,-0.12606094492018732,null,null,-5.8828491492233306E-3,null,null,2.6462288301548054E-2,null,null,null,2.6462288301548054E-2,null,null,7.55665330938234E-3,-6.5761784511784516E-3,0,9.8047485820388844E-4,null,null,-1.511330661876468E-2,1.3152356902356903E-2,0,-1.9609497164077769E-3,null,null,1.6307257841647087E-2,-1.4191393097643099E-2,-4.0768144604117719E-3,-1.9609497164077829E-3,null,null,-8.1536289208235437E-3,7.0956965488215493E-3,8.1536289208235437E-3,7.0956965488215493E-3,null,null,null,null,null,null,null,null,null,null,null,null,null,null,null,null,null,null,null,null,null,null,null,null,null,null,null,null,0,-7.3535614365291633E-4,-1.4707122873058327E-3,-2.2060684309587499E-3,-2.9414245746116653E-3,-3.6767807182645808E-3,-4.4121368619174997E-3,-5.1474930055704152E-3,-5.8828491492233306E-3,-5.8828491492233306E-3,-2.3137480145520375E-3,1.2553531201192555E-3,4.8244542547905521E-3,8.3935553894618452E-3,1.1962656524133138E-2,1.5531757658804433E-2,1.9100858793475728E-2,2.2669959928147021E-2,null,null,null,null,null,null,null,null,0,-7.3535614365291633E-3,-1.4707122873058327E-2,-2.2060684309587499E-2,-2.9414245746116653E-2,-3.6767807182645808E-2,-4.4121368619174997E-2,-5.1474930055704152E-2,-5.8828491492233306E-2,-5.8828491492233306E-2,-2.3137480145520375E-2,1.2553531201192555E-2,4.8244542547905521E-2,8.3935553894618459E-2,0.11962656524133139,0.15531757658804432,0.19100858793475728,0.22669959928147021,null,null,null,null,null,null,null,null,null,null,null,null,null,null,null,null,null,null,null,null,null,null,null,null,null,null,null,null,null,null,null,null,null,null,null,null,null,null,null,null,null,0,-1.2064436731805655E-4,-2.297987948915363E-4,-3.1597334297586233E-4,-3.6767807182645816E-4,-3.7342304169874678E-4,-3.2171831284815095E-4,-2.0107394553009429E-4,0,0,3.0717025095594727E-4,6.5643050663392703E-4,9.8285430025064468E-4,1.2215151650228058E-3,1.3074866341671165E-3,1.1758422409002816E-3,7.6165551843900795E-4,0,null,null,null,null,null,null,0,-1.2064436731805656E-2,-2.2979879489153629E-2,-3.1597334297586231E-2,-3.6767807182645815E-2,-3.7342304169874677E-2,-3.2171831284815093E-2,-2.0107394553009431E-2,0,0,3.0717025095594729E-2,6.564305066339271E-2,9.8285430025064471E-2,0.12215151650228058,0.13074866341671165,0.11758422409002815,7.6165551843900794E-2,0]
[null,null,null,"Deflection",null,null,null,null,null,null,null,null,null,null,null,null,null,null,null,null,null,"Slope",null,null,null,null,null,null,null,null,null,null,null,null,null,null,null,null,null,null,null,null,null,null,null,null,null,null,null,null,null,null,null,null,null,null,null,null,null,null,null,null,null,null,null,null,null,null,null,null,null,null,null,null,null,null,null,null,null,null,null,null,null,null,null,null,null,null,null,null,null,null,null,null,null,null,null,null,null,null,null,null,null,null,null,null,27,null,0.375,{"$f":"+(-2*DE55+3*DE55^2-DE55^3)/(4+3*Input!$B$1)","v":-5.2626692690341301E-2},{"$f":"+(2*DE55-3*DE55^2+DE55^3)/(4*(1+Input!$B$1))","v":4.5798385642135647E-2},{"$f":"(DE55-3/2*DE55^2+1/2*DE55^3)/(4+3*Input!$B$1)","v":2.631334634517065E-2},null,-6.8283070482056535E-3,null,null,3.7543463112502506E-2,null,null,-0.14632073963950315,null,null,-6.8283070482056535E-3,null,null,3.0715156064296846E-2,null,null,null,3.0715156064296846E-2,null,null,8.7711154483902168E-3,-7.6330642736892745E-3,0,1.1380511747009422E-3,null,null,-1.7542230896780434E-2,1.5266128547378549E-2,0,-2.2761023494018845E-3,null,null,1.8928067137626087E-2,-1.6472152702621454E-2,-4.7320167844065219E-3,-2.2761023494018888E-3,null,null,-9.4640335688130437E-3,8.2360763513107272E-3,9.4640335688130437E-3,8.2360763513107272E-3,null,null,null,null,null,null,null,null,null,null,null,null,null,null,null,null,null,null,null,null,null,null,null,null,null,null,null,null,0,-8.5353838102570669E-4,-1.7070767620514134E-3,-2.5606151430771183E-3,-3.4141535241028267E-3,-4.2676919051285352E-3,-5.1212302861542366E-3,-5.9747686671799485E-3,-6.8283070482056535E-3,-6.8283070482056535E-3,-2.6856003740336172E-3,1.4571063001384259E-3,5.5998129743104579E-3,9.7425196484824984E-3,1.3885226322654539E-2,1.8027932996826573E-2,2.217063967099861E-2,2.631334634517065E-2,null,null,null,null,null,null,null,null,0,-8.5353838102570669E-3,-1.7070767620514134E-2,-2.5606151430771183E-2,-3.4141535241028267E-2,-4.2676919051285352E-2,-5.1212302861542366E-2,-5.9747686671799485E-2,-6.8283070482056535E-2,-6.8283070482056535E-2,-2.6856003740336171E-2,1.4571063001384259E-2,5.5998129743104579E-2,9.7425196484824977E-2,0.1388522632265454,0.18027932996826573,0.2217063967099861,0.26313346345170652,null,null,null,null,null,null,null,null,null,null,null,null,null,null,null,null,null,null,null,null,null,null,null,null,null,null,null,null,null,null,null,null,null,null,null,null,null,null,null,null,null,0,-1.4003364063702988E-4,-2.6673074407053345E-4,-3.6675477309698352E-4,-4.2676919051285334E-4,-4.3343745911461661E-4,-3.7342304169874678E-4,-2.3338940106171669E-4,0,0,3.5653689843101011E-4,7.6192826662866515E-4,1.1408130270766411E-3,1.4178301022586138E-3,1.5176184146582599E-3,1.3648168867592557E-3,8.8406444104527707E-4,0,null,null,null,null,null,null,0,-1.4003364063702988E-2,-2.6673074407053344E-2,-3.6675477309698348E-2,-4.2676919051285331E-2,-4.3343745911461659E-2,-3.7342304169874677E-2,-2.3338940106171668E-2,0,0,3.5653689843101008E-2,7.6192826662866517E-2,0.11408130270766412,0.14178301022586137,0.151761841465826,0.13648168867592556,8.8406444104527707E-2,0]
[null,null,null,0,{"$f":"+D56+1","v":1},2,3,4,5,6,7,8,8,{"$f":"+M56+1","v":9},10,11,12,13,14,15,16,"SA","lSB","lSC",null,null,null,null,null,null,null,null,null,null,null,null,null,null,null,null,null,null,null,null,null,null,null,null,null,null,null,null,null,null,null,null,null,null,null,null,null,null,null,null,null,null,null,null,null,null,null,null,null,null,null,null,null,null,null,null,null,null,null,null,null,null,null,null,null,null,null,null,null,null,null,null,null,null,null,null,null,null,null,null,null,null,28,null,0.5,{"$f":"+(-2*DE56+3*DE56^2-DE56^3)/(4+3*Input!$B$1)","v":-5.1817051264336049E-2},{"$f":"+(2*DE56-3*DE56^2+DE56^3)/(4*(1+Input!$B$1))","v":4.5093795093795103E-2},{"$f":"(DE56-3/2*DE56^2+1/2*DE56^3)/(4+3*Input!$B$1)","v":2.5908525632168024E-2},null,-6.7232561705409463E-3,null,null,3.6965871372310159E-2,null,null,-0.14406965133735694,null,null,-6.7232561705409463E-3,null,null,3.0242615201769206E-2,null,null,null,3.0242615201769206E-2,null,null,8.6361752107226748E-3,-7.5156325156325171E-3,0,1.1205426950901577E-3,null,null,-1.727235042144535E-2,1.5031265031265034E-2,0,-2.2410853901803154E-3,null,null,1.8636866104739531E-2,-1.6218734968734969E-2,-4.6592165261848829E-3,-2.2410853901803206E-3,null,null,-9.3184330523697657E-3,8.1093674843674846E-3,9.3184330523697657E-3,8.1093674843674846E-3,null,null,null,null,null,null,null,null,null,null,null,null,null,null,null,null,null,null,null,null,null,null,null,null,null,null,null,null,0,-8.4040702131761829E-4,-1.6808140426352366E-3,-2.521221063952854E-3,-3.3616280852704732E-3,-4.2020351065880888E-3,-5.042442127905708E-3,-5.8828491492233237E-3,-6.7232561705409463E-3,-6.7232561705409463E-3,-2.6442834452023206E-3,1.4346892801362981E-3,5.5136620054749199E-3,9.5926347308135391E-3,1.367160745615216E-2,1.7750580181490783E-2,2.1829552906829402E-2,2.5908525632168024E-2,null,null,null,null,null,null,null,null,0,-8.4040702131761829E-3,-1.6808140426352366E-2,-2.521221063952854E-2,-3.3616280852704732E-2,-4.2020351065880888E-2,-5.042442127905708E-2,-5.8828491492233237E-2,-6.7232561705409463E-2,-6.7232561705409463E-2,-2.6442834452023205E-2,1.4346892801362981E-2,5.5136620054749202E-2,9.5926347308135387E-2,0.1367160745615216,0.17750580181490783,0.21829552906829403,0.25908525632168022,null,null,null,null,null,null,null,null,null,null,null,null,null,null,null,null,null,null,null,null,null,null,null,null,null,null,null,null,null,null,null,null,null,null,null,null,null,null,null,null,null,0,-1.3787927693492176E-4,-2.6262719416175555E-4,-3.6111239197241397E-4,-4.2020351065880914E-4,-4.2676919051285291E-4,-3.6767807182645773E-4,-2.297987948915363E-4,0,0,3.5105171537822531E-4,7.5020629329591664E-4,1.1232620574293084E-3,1.3960173314546355E-3,1.4942704390481334E-3,1.3438197038860367E-3,8.7046344964458082E-4,0,null,null,null,null,null,null,0,-1.3787927693492175E-2,-2.6262719416175556E-2,-3.6111239197241393E-2,-4.2020351065880916E-2,-4.2676919051285289E-2,-3.6767807182645773E-2,-2.2979879489153629E-2,0,0,3.5105171537822534E-2,7.5020629329591665E-2,0.11232620574293084,0.13960173314546354,0.14942704390481334,0.13438197038860367,8.7046344964458081E-2,0]
[null,null,null,{"$f":"+E57+1","v":32},31,30,29,28,27,26,25,{"$f":"+M57","v":24},{"$f":"+N57+1","v":24},23,22,21,20,19,18,17,16,null,null,null,null,null,null,null,null,null,null,null,null,null,null,null,null,null,null,null,null,null,null,null,null,null,null,null,null,null,null,null,null,null,null,null,null,null,null,null,null,null,null,null,null,null,null,null,null,null,null,null,null,null,null,null,null,null,null,null,null,null,null,null,null,null,null,null,null,null,null,null,null,null,null,null,null,null,null,null,null,null,null,null,null,null,29,null,0.625,{"$f":"+(-2*DE57+3*DE57^2-DE57^3)/(4+3*Input!$B$1)","v":-4.453027843028879E-2},{"$f":"+(2*DE57-3*DE57^2+DE57^3)/(4*(1+Input!$B$1))","v":3.8752480158730167E-2},{"$f":"(DE57-3/2*DE57^2+1/2*DE57^3)/(4+3*Input!$B$1)","v":2.2265139215144395E-2},null,-5.7777982715586235E-3,null,null,3.1767545710579034E-2,null,null,-0.12380985661804114,null,null,-5.7777982715586235E-3,null,null,2.5989747439020414E-2,null,null,null,2.5989747439020414E-2,null,null,7.4217130717147981E-3,-6.4587466931216942E-3,0,9.6296637859310391E-4,null,null,-1.4843426143429596E-2,1.2917493386243388E-2,0,-1.9259327571862078E-3,null,null,1.6016056808760535E-2,-1.3937975363756615E-2,-4.0040142021901337E-3,-1.9259327571862139E-3,null,null,-8.0080284043802675E-3,6.9689876818783076E-3,8.0080284043802675E-3,6.9689876818783076E-3,null,null,null,null,null,null,null,null,null,null,null,null,null,null,null,null,null,null,null,null,null,null,null,null,null,null,null,null,0,-7.2222478394482793E-4,-1.4444495678896559E-3,-2.1666743518344855E-3,-2.8888991357793117E-3,-3.6111239197241379E-3,-4.3333487036689711E-3,-5.0555734876137973E-3,-5.7777982715586235E-3,-5.7777982715586235E-3,-2.2724310857207479E-3,1.2329361001171277E-3,4.7383032859550107E-3,8.2436704717928858E-3,1.1749037657630761E-2,1.5254404843468641E-2,1.8759772029306516E-2,2.2265139215144395E-2,null,null,null,null,null,null,null,null,0,-7.2222478394482793E-3,-1.4444495678896559E-2,-2.1666743518344855E-2,-2.8888991357793117E-2,-3.6111239197241379E-2,-4.3333487036689711E-2,-5.0555734876137973E-2,-5.7777982715586235E-2,-5.7777982715586235E-2,-2.272431085720748E-2,1.2329361001171277E-2,4.7383032859550103E-2,8.2436704717928855E-2,0.11749037657630761,0.15254404843468641,0.18759772029306515,0.22265139215144394,null,null,null,null,null,null,null,null,null,null,null,null,null,null,null,null,null,null,null,null,null,null,null,null,null,null,null,null,null,null,null,null,null,null,null,null,null,null,null,null,null,0,-1.1849000361594832E-4,-2.2569524498275862E-4,-3.1033096185129321E-4,-3.6111239197241397E-4,-3.6675477309698308E-4,-3.1597334297586233E-4,-1.974833393599139E-4,0,0,3.0168506790316258E-4,6.447085333011783E-4,9.6530333060331213E-4,1.1997023942188277E-3,1.2841386585569895E-3,1.1548450580270628E-3,7.4805452703831138E-4,0,null,null,null,null,null,null,0,-1.1849000361594832E-2,-2.2569524498275862E-2,-3.1033096185129321E-2,-3.6111239197241393E-2,-3.6675477309698307E-2,-3.1597334297586231E-2,-1.9748333935991388E-2,0,0,3.0168506790316258E-2,6.447085333011783E-2,9.6530333060331208E-2,0.11997023942188277,0.12841386585569894,0.11548450580270628,7.4805452703831141E-2,0]
[null,null,{"$f":"+E58","v":0},{"$f":"+KF25","v":0},{"$f":"+KG25","v":0},{"$f":"+KH25","v":0},{"$f":"+KI25","v":0},{"$f":"+KJ25","v":0},{"$f":"+KK25","v":0},{"$f":"+KL25","v":0},{"$f":"+KM25","v":0},{"$f":"+KN25","v":0},{"$f":"+KO25","v":0},{"$f":"+KP25","v":0},{"$f":"+KQ25","v":0},{"$f":"+KR25","v":0},{"$f":"+KS25","v":0},{"$f":"+KT25","v":0},{"$f":"+KU25","v":0},{"$f":"+KV25","v":0},{"$f":"+KW25","v":0},{"$f":"+EF25*10","v":0},{"$f":"+EL25*10","v":0},{"$f":"+EX25*10","v":0},null,null,null,null,null,null,null,null,null,null,null,null,null,null,null,null,null,null,null,null,null,null,null,null,null,null,null,null,null,null,null,null,null,null,null,null,null,null,null,null,null,null,null,null,null,null,null,null,null,null,null,null,null,null,null,null,null,null,null,null,null,null,null,null,null,null,null,null,null,null,null,null,null,null,null,null,null,null,null,null,null,null,30,null,0.75,{"$f":"+(-2*DE58+3*DE58^2-DE58^3)/(4+3*Input!$B$1)","v":-3.2385657040210028E-2},{"$f":"+(2*DE58-3*DE58^2+DE58^3)/(4*(1+Input!$B$1))","v":2.8183621933621936E-2},{"$f":"(DE58-3/2*DE58^2+1/2*DE58^3)/(4+3*Input!$B$1)","v":1.6192828520105014E-2},null,-4.2020351065880923E-3,null,null,2.3103669607693847E-2,null,null,-9.0043532085848088E-2,null,null,-4.2020351065880923E-3,null,null,1.8901634501105755E-2,null,null,null,1.8901634501105755E-2,null,null,5.3976095067016713E-3,-4.6972703222703223E-3,0,7.0033918443134901E-4,null,null,-1.0795219013403343E-2,9.3945406445406446E-3,0,-1.400678368862698E-3,null,null,1.1648041315462206E-2,-1.0136709355459355E-2,-2.9120103288655516E-3,-1.4006783688627006E-3,null,null,-5.8240206577311032E-3,5.0683546777296777E-3,5.8240206577311032E-3,5.0683546777296777E-3,null,null,null,null,null,null,null,null,null,null,null,null,null,null,null,null,null,null,null,null,null,null,null,null,null,null,null,null,0,-5.2525438832351154E-4,-1.0505087766470231E-3,-1.5757631649705346E-3,-2.1010175532940462E-3,-2.6262719416175542E-3,-3.1515263299410692E-3,-3.6767807182645842E-3,-4.2020351065880923E-3,-4.2020351065880923E-3,-1.6526771532514575E-3,8.9668080008518426E-4,3.446038753421826E-3,5.9953967067584608E-3,8.5447546600950983E-3,1.1094112613431737E-2,1.3643470566768377E-2,1.6192828520105014E-2,null,null,null,null,null,null,null,null,0,-5.2525438832351154E-3,-1.0505087766470231E-2,-1.5757631649705346E-2,-2.1010175532940462E-2,-2.6262719416175542E-2,-3.1515263299410692E-2,-3.6767807182645842E-2,-4.2020351065880923E-2,-4.2020351065880923E-2,-1.6526771532514577E-2,8.9668080008518426E-3,3.4460387534218262E-2,5.9953967067584608E-2,8.5447546600950983E-2,0.11094112613431738,0.13643470566768376,0.16192828520105013,null,null,null,null,null,null,null,null,null,null,null,null,null,null,null,null,null,null,null,null,null,null,null,null,null,null,null,null,null,null,null,null,null,null,null,null,null,null,null,null,null,0,-8.6174548084326139E-5,-1.6414199635109714E-4,-2.2569524498275884E-4,-2.6262719416175577E-4,-2.6673074407053301E-4,-2.2979879489153652E-4,-1.4362424680721027E-4,0,0,2.1940732211139091E-4,4.6887893330994793E-4,7.0203878589331753E-4,8.7251083215914688E-4,9.3391902440508306E-4,8.3988731492877261E-4,5.4403965602786274E-4,0,null,null,null,null,null,null,0,-8.6174548084326143E-3,-1.6414199635109712E-2,-2.2569524498275883E-2,-2.6262719416175577E-2,-2.6673074407053302E-2,-2.297987948915365E-2,-1.4362424680721027E-2,0,0,2.194073221113909E-2,4.6887893330994794E-2,7.0203878589331747E-2,8.7251083215914682E-2,9.3391902440508309E-2,8.3988731492877264E-2,5.4403965602786278E-2,0]
[null,null,{"$f":"+C58+1","v":1},0,0.33355049146941751,0.53496534585444622,0.60231725940403003,0.5662310117004471,0.45733138232597503,0.30624315086289122,0.14359109689347371,0,0,-0.10624092132627172,-0.16379954518061929,-0.1818397458238232,-0.16952539751666373,-0.13602037451992127,-9.0488551094376257E-2,-4.209380150080904E-2,0,-0.28879875589789705,9.908188679579405E-2,-2.6608862058080815E-2,null,null,null,null,null,null,null,null,null,null,null,null,null,null,null,null,null,null,null,null,null,null,null,null,null,null,null,null,null,null,null,null,null,null,null,null,null,null,null,null,null,null,null,null,null,null,null,null,null,null,null,null,null,null,null,null,null,null,null,null,null,null,null,null,null,null,null,null,null,null,null,null,null,null,null,null,null,null,null,null,null,null,31,null,0.875,{"$f":"+(-2*DE59+3*DE59^2-DE59^3)/(4+3*Input!$B$1)","v":-1.7002469946110266E-2},{"$f":"+(2*DE59-3*DE59^2+DE59^3)/(4*(1+Input!$B$1))","v":1.4796401515151518E-2},{"$f":"(DE59-3/2*DE59^2+1/2*DE59^3)/(4+3*Input!$B$1)","v":8.5012349730551329E-3},null,-2.2060684309587481E-3,null,null,1.2129426544039267E-2,null,null,-4.7272854345070246E-2,null,null,-2.2060684309587481E-3,null,null,9.9233581130805191E-3,null,null,null,9.9233581130805191E-3,null,null,2.8337449910183776E-3,-2.4660669191919195E-3,0,3.6767807182645816E-4,null,null,-5.6674899820367552E-3,4.9321338383838389E-3,0,-7.3535614365291633E-4,null,null,6.1152216906176582E-3,-5.3217724116161619E-3,-1.5288054226544146E-3,-7.3535614365291828E-4,null,null,-3.0576108453088291E-3,2.660886205808081E-3,3.0576108453088291E-3,2.660886205808081E-3,null,null,null,null,null,null,null,null,null,null,null,null,null,null,null,null,null,null,null,null,null,null,null,null,null,null,null,null,0,-2.7575855386984351E-4,-5.5151710773968703E-4,-8.2727566160953076E-4,-1.1030342154793741E-3,-1.3787927693492182E-3,-1.6545513232190615E-3,-1.9303098770889048E-3,-2.2060684309587481E-3,-2.2060684309587481E-3,-8.6765550545701321E-4,4.7075742004472169E-4,1.8091703455464566E-3,3.1475832710481924E-3,4.4859961965499273E-3,5.8244091220516631E-3,7.162822047553398E-3,8.5012349730551329E-3,null,null,null,null,null,null,null,null,0,-2.7575855386984351E-3,-5.5151710773968703E-3,-8.2727566160953076E-3,-1.1030342154793741E-2,-1.3787927693492182E-2,-1.6545513232190615E-2,-1.9303098770889048E-2,-2.2060684309587481E-2,-2.2060684309587481E-2,-8.6765550545701321E-3,4.7075742004472169E-3,1.8091703455464566E-2,3.1475832710481925E-2,4.4859961965499275E-2,5.8244091220516631E-2,7.162822047553398E-2,8.5012349730551329E-2,null,null,null,null,null,null,null,null,null,null,null,null,null,null,null,null,null,null,null,null,null,null,null,null,null,null,null,null,null,null,null,null,null,null,null,null,null,null,null,null,null,0,-4.5241637744271193E-5,-8.6174548084326139E-5,-1.1849000361594843E-4,-1.3787927693492176E-4,-1.4003364063702988E-4,-1.2064436731805655E-4,-7.5402729573785412E-5,0,0,1.151888441084802E-4,2.4616143998772264E-4,3.6857036259399186E-4,4.580681868835522E-4,4.9030748781266878E-4,4.4094084033760572E-4,2.8562081941462805E-4,0,null,null,null,null,null,null,0,-4.5241637744271191E-3,-8.6174548084326143E-3,-1.1849000361594843E-2,-1.3787927693492175E-2,-1.4003364063702988E-2,-1.2064436731805656E-2,-7.5402729573785417E-3,0,0,1.1518884410848021E-2,2.4616143998772263E-2,3.6857036259399185E-2,4.5806818688355219E-2,4.9030748781266877E-2,4.4094084033760569E-2,2.8562081941462807E-2,0]
[null,null,2,0,0.53496534585444622,0.93527625400846892,1.098830370094978,1.0537336730802167,0.86064422526376194,0.58022008894518962,0.27311932642407688,0,0,-0.20236365966908895,-0.31199913367737003,-0.34636142061680603,-0.32290551907935944,-0.25908642765699291,-0.17235914494166907,-8.0178669525350563E-2,0,-0.44592620171028002,0.18872740342056016,-5.0683546777296765E-2,null,null,null,null,null,null,null,null,null,null,null,null,null,null,null,null,null,null,null,null,null,null,null,null,null,null,null,null,null,null,null,null,null,null,null,null,null,null,null,null,null,null,null,null,null,null,null,null,null,null,null,null,null,null,null,null,null,null,null,null,null,null,null,null,null,null,null,null,null,null,null,null,null,null,null,null,null,null,null,null,null,null,32,null,1,{"$f":"+(-2*DE60+3*DE60^2-DE60^3)/(4+3*Input!$B$1)","v":0},{"$f":"+(2*DE60-3*DE60^2+DE60^3)/(4*(1+Input!$B$1))","v":0},{"$f":"(DE60-3/2*DE60^2+1/2*DE60^3)/(4+3*Input!$B$1)","v":0},null,0,null,null,0,null,null,0,null,null,0,null,null,0,null,null,null,0,null,null,0,0,0,0,null,null,0,0,0,0,null,null,0,0,0,0,null,null,0,0,0,0,null,null,null,null,null,null,null,null,null,null,null,null,null,null,null,null,null,null,null,null,null,null,null,null,null,null,null,null,0,0,0,0,0,0,0,0,0,0,0,0,0,0,0,0,0,0,null,null,null,null,null,null,null,null,0,0,0,0,0,0,0,0,0,0,0,0,0,0,0,0,0,0,null,null,null,null,null,null,null,null,null,null,null,null,null,null,null,null,null,null,null,null,null,null,null,null,null,null,null,null,null,null,null,null,null,null,null,null,null,null,null,null,null,0,0,0,0,0,0,0,0,0,0,0,0,0,0,0,0,0,0,null,null,null,null,null,null,0,0,0,0,0,0,0,0,0,0,0,0,0,0,0,0,0,0]
[null,null,3,0,0.60231725940403014,1.098830370094978,1.3837351833597615,1.3837796338186314,1.1559199894251726,0.78966460146630257,0.37452182122893912,0,0,-0.27825003204499732,-0.42899880880638391,-0.47624695334810829,-0.44399508873411925,-0.35624383802836534,-0.23699382429479493,-0.11024567059735703,0,-0.49596102735163511,0.25950017970327022,-6.9689876818783081E-2]
[null,null,4,0,0.5662310117004471,1.0537336730802167,1.3837796338186314,1.4776405435950135,1.2891401354220189,0.90231047564563682,0.43373571394518973,0,0,-0.32378185547054239,-0.49919861388379222,-0.55417827298688971,-0.51664883052697519,-0.41453828425118872,-0.27577463190667056,-0.1282858712405609,0,-0.46348192273644812,0.30196384547289618,-8.1093674843674857E-2]
[null,null,5,0,0.45733138232597503,0.86064422526376183,1.1559199894251726,1.2891401354220189,1.2062861238661131,0.88589149870259987,0.43669813720995826,0,0,-0.32884094696226956,-0.50699859222572641,-0.56283730850230984,-0.52472146850395907,-0.4210154449426135,-0.28008361053021225,-0.13029033797869466,0,-0.37306757777920507,0.30668203055841015,-8.2360763513107269E-2]
[null,null,6,0,0.30624315086289122,0.58022008894518962,0.78966460146630257,0.90231047564563682,0.88589149870259987,0.70814145785659899,0.3693462236603744,0,0,-0.28330912353672449,-0.4367987871483181,-0.48490598886352854,-0.45206772671110329,-0.36272099871979008,-0.24130280291833672,-0.11225013733549075,0,-0.24929668239439207,0.26421836478878419,-7.0956965488215493E-2]
[null,null,7,0,0.14359109689347371,0.27311932642407688,0.37452182122893912,0.43373571394518973,0.43669813720995826,0.3693462236603744,0.21761710593356734,0,0,-0.17706820221045286,-0.27299924196769881,-0.30306624303970531,-0.28254232919443956,-0.22670062419986886,-0.15081425182396047,-7.0156335834681741E-2,0,-0.11674792649649506,0.16513647799299011,-4.4348103430134678E-2]
[null,null,8,0,0,0,0,0,0,0,0,0,0,0,0,0,0,0,0,0,0,0,0,0]
[null,null,{"$f":"+C66","v":8},0,0,0,0,0,0,0,0,0,0,0,0,0,0,0,0,0,0,0,0,0]
[null,null,{"$f":"+C67+1","v":9},0,-0.10624092132627172,-0.20236365966908898,-0.27825003204499732,-0.32378185547054239,-0.32884094696226956,-0.28330912353672461,-0.17706820221045286,0,0,0.24310317415187432,0.39979529859289237,0.45299509255826925,0.42651372446941826,0.34416236274775258,0.22975217581468546,0.10709433209163022,0,8.6341828125477971E-2,-0.17268365625095594,6.7748300378459067E-2,null,null,null,null,null,null,null,null,null,null,null,null,null,null,null,null,null,null,null,null,null,null,null,null,null,null,null,null,null,null,null,null,null,null,null,null,null,null,null,null,null,null,null,null,null,null,null,null,null,null,null,null,null,null,null,null,null,null,null,null,null,null,null,null,null,null,null,null,null,null,null,null,null,null,null,null,null,null,null,null,null,null,null,null,null,null,null,null,null,null,null,null,null,null,null,null,null,null,null,null,null,null,null,null,null,null,null,null,null,null,null,null,null,null,null,null,null,null,null,null,null,null,null,null,null,null,null,null,null,null,null,null,null,null,null,null,null,null,null,null,null,null,null,null,null,null,null,null,null,null,null,null,null,null,null,null,null,null,null,null,null,null,null,null,null,null,null,null,null,null,null,null,null,null,null,null,null,null,null,null,null,null,null,null,null,null,null,null,null,null,null,null,null,null,null,null,null,null,null,null,null,null,null,null,null,null,null,null,null,null,null,null,null,null,null,null,null,null,null,null,null,null,null,null,null,null,null,null,null,null,null,null,null,null,null,null,null,null,null,null,null,null,null,{"$f":"+(FB$4*(0.5*FB$3^2-0.5*FB$3^2*FB$4^2-0.25*FB$3^4)+FB$3*(0.5*FB$4^2-0.5*FB$3^2*FB$4^2-0.25*FB$4^4))/6","v":0},5.055745442708333E-3,9.27734375E-3,1.2054443359375E-2,1.3020833333333334E-2,1.2054443359375E-2,9.27734375E-3,5.055745442708333E-3,0,{"$f":"+(FK$4*(0.5*FK$3^2-0.5*FK$3^2*FK$4^2-0.25*FK$3^4)+FK$3*(0.5*FK$4^2-0.5*FK$3^2*FK$4^2-0.25*FK$4^4))/6*Input!$B$1^4","v":0},{"$f":"+(FL$4*(0.5*FL$3^2-0.5*FL$3^2*FL$4^2-0.25*FL$3^4)+FL$3*(0.5*FL$4^2-0.5*FL$3^2*FL$4^2-0.25*FL$4^4))/6*Input!$B$1^4","v":6.85284608685564E-3},{"$f":"+(FM$4*(0.5*FM$3^2-0.5*FM$3^2*FM$4^2-0.25*FM$3^4)+FM$3*(0.5*FM$4^2-0.5*FM$3^2*FM$4^2-0.25*FM$4^4))/6*Input!$B$1^4","v":1.257504151149365E-2},{"$f":"+(FN$4*(0.5*FN$3^2-0.5*FN$3^2*FN$4^2-0.25*FN$3^4)+FN$3*(0.5*FN$4^2-0.5*FN$3^2*FN$4^2-0.25*FN$4^4))/6*Input!$B$1^4","v":1.633928091131576E-2},{"$f":"+(FO$4*(0.5*FO$3^2-0.5*FO$3^2*FO$4^2-0.25*FO$3^4)+FO$3*(0.5*FO$4^2-0.5*FO$3^2*FO$4^2-0.25*FO$4^4))/6*Input!$B$1^4","v":1.7649181068763016E-2},{"$f":"+(FP$4*(0.5*FP$3^2-0.5*FP$3^2*FP$4^2-0.25*FP$3^4)+FP$3*(0.5*FP$4^2-0.5*FP$3^2*FP$4^2-0.25*FP$4^4))/6*Input!$B$1^4","v":1.633928091131576E-2},{"$f":"+(FQ$4*(0.5*FQ$3^2-0.5*FQ$3^2*FQ$4^2-0.25*FQ$3^4)+FQ$3*(0.5*FQ$4^2-0.5*FQ$3^2*FQ$4^2-0.25*FQ$4^4))/6*Input!$B$1^4","v":1.257504151149365E-2},{"$f":"+(FR$4*(0.5*FR$3^2-0.5*FR$3^2*FR$4^2-0.25*FR$3^4)+FR$3*(0.5*FR$4^2-0.5*FR$3^2*FR$4^2-0.25*FR$4^4))/6*Input!$B$1^4","v":6.85284608685564E-3},{"$f":"+(FS$4*(0.5*FS$3^2-0.5*FS$3^2*FS$4^2-0.25*FS$3^4)+FS$3*(0.5*FS$4^2-0.5*FS$3^2*FS$4^2-0.25*FS$4^4))/6*Input!$B$1^4","v":0}]
[null,null,10,0,-0.16379954518061932,-0.31199913367737014,-0.42899880880638391,-0.49919861388379222,-0.50699859222572641,-0.43679878714831821,-0.27299924196769887,0,0,0.39979529859289242,0.75322742450735203,0.90952878089447309,0.88150156765014298,0.72284043385644647,0.48724002859546739,0.22839500094929033,0,0.13311963036901125,-0.26623926073802251,0.14477981185553448]
[null,null,11,0,-0.1818397458238232,-0.34636142061680608,-0.4762469533481084,-0.55417827298688971,-0.56283730850230984,-0.48490598886352854,-0.30306624303970531,0,0,0.45299509255826936,0.90952878089447298,1.2118403941064142,1.243061710478093,1.0498943050383009,0.71993220200202812,0.34076942558426454,0,0.14778087279650393,-0.29556174559300785,0.21677460025642398,null,null,null,null,null,null,null,null,null,null,null,null,null,null,null,null,null,null,null,null,null,null,null,null,null,null,null,null,null,null,null,null,null,null,null,null,null,null,null,null,null,null,null,null,null,null,null,null,null,null,null,null,null,null,null,null,null,null,null,null,null,null,null,null,null,null,null,null,null,null,null,null,null,null,null,null,null,null,null,null,null,null,null,null,"Fx(1)1/(L1^2) =",{"$f":"-(1/2)/(2*(4+3*Input!B1))","v":-3.4544700842890699E-2},{"$f":"-(1/4)/(4*(1+Input!B1))","v":-3.0062530062530065E-2},{"$f":"(1/4)/(2*(4+3*Input!B1))","v":1.727235042144535E-2},0.5,{"$f":"DI70+DJ$20*DF70+DJ$21*DG70+DJ$22*DH70","v":0.43539276909457925},null,0.5,{"$f":"+DL70+DM$20*DF70+DM$21*DG70+DM$22*DH70","v":0.64049192166247926},null,0,{"$f":"+DO70+DP$20*DF70+DP$21*DG70+DP$22*DH70","v":-9.6046434224904637E-2},null,-0.5,{"$f":"+DR70+DS$20*$DF70+DS$21*$DG70++DS$22*$DH70","v":-0.56460723090542075},null,0,{"$f":"+DU70+DV$20*$DF70+DV$21*$DG70++DV$22*$DH70","v":7.5884690757058504E-2},null,null,0,{"$f":"+DY70+DZ$20*$DF70+DZ$21*$DG70++DZ$22*$DH70","v":7.5884690757058504E-2},null,{"$f":"-1/24","v":-4.1666666666666664E-2},{"$f":"+EC$20*$DF70","v":5.7574501404817832E-3},{"$f":"+ED$20*$DG70","v":5.0104216770883439E-3},{"$f":"+EE$20*$DH70","v":0},{"$f":"+SUM(EB70:EE70)","v":-3.0898794849096536E-2},null,{"$f":"1/24","v":4.1666666666666664E-2},{"$f":"+EI$20*$DF70","v":-1.1514900280963566E-2},{"$f":"+EJ$20*$DG70","v":-1.0020843354176688E-2},{"$f":"+EK$20*$DH70","v":0},{"$f":"+SUM(EH70:EK70)","v":2.0130923031526408E-2},null,null,{"$f":"+EO$20*$DF70","v":1.2424577403159687E-2},{"$f":"+EP$20*$DG70","v":1.0812489979156646E-2},{"$f":"+EQ$20*$DH70","v":-3.1061443507899218E-3},{"$f":"+SUM(EN70:EQ70)","v":2.0130923031526408E-2},null,null,{"$f":"+EU$20*$DF70","v":-6.2122887015798435E-3},{"$f":"+EV$20*$DG70","v":-5.4062449895783231E-3},{"$f":"+EW$20*$DH70","v":6.2122887015798435E-3},{"$f":"+SUM(ET70:EW70)","v":-5.4062449895783222E-3},null,null,null,null,null,null,null,null,null,null,null,null,null,null,null,null,null,null,null,null,null,null,null,null,null,null,null,null,{"$f":"+FB$5/2+FB$6*$DF70+FB$7*$DG70+FB$8*$DH70","v":0},4.6611596136822406E-2,7.7598192273644812E-2,9.2959788410467217E-2,9.2696384547289623E-2,7.6807980684112029E-2,4.5294576820934421E-2,-1.84382704224317E-3,-6.4607230905420768E-2,{"$f":"+FK$6*$DF70+FK$7*$DG70+FK$8*$DH70","v":-6.4607230905420768E-2},-5.4372283239562502E-2,-4.4137335573704237E-2,-3.3902387907845964E-2,-2.3667440241987709E-2,-1.3432492576129444E-2,-3.1975449102711797E-3,7.0374027555870858E-3,1.727235042144535E-2,null,null,null,null,null,null,null,null,{"$f":"+GA70*10","v":0},0.46611596136822409,0.77598192273644817,0.92959788410467215,0.92696384547289623,0.76807980684112032,0.45294576820934418,-1.84382704224317E-2,-0.64607230905420765,-0.64607230905420765,-0.54372283239562502,-0.44137335573704239,-0.33902387907845966,-0.23667440241987708,{"$f":"+GO70*10","v":-0.13432492576129443},-3.19754491027118E-2,7.0374027555870855E-2,0.17272350421445348,null,null,null,null,null,null,null,null,null,null,null,null,null,null,null,null,null,null,null,null,null,null,null,null,null,null,null,null,null,null,null,null,null,null,null,null,null,null,null,null,null,{"$f":"+JH68+FB$11*$DF70+FB$12*$DG70+FB$13*$DH70","v":0},3.7307924651557587E-3,6.7536237927570018E-3,8.5843284181658774E-3,8.9828814017445351E-3,7.9533984288551272E-3,5.7441358098598017E-3,2.8474904801207095E-3,0,{"$f":"+FK$11*$DF70+FK$12*$DG70+FK$13*$DH70","v":0},-2.1585457031369488E-3,-3.327990759225281E-3,-3.694521819912598E-3,-3.4443255368465002E-3,-2.7635885616745914E-3,-1.83849754604447E-3,-8.552391416037393E-4,0,null,null,null,null,null,null,{"$f":"+JH70*100","v":0},{"$f":"+JI70*100","v":0.37307924651557589},0.6753623792757002,0.85843284181658774,0.89828814017445346,0.79533984288551274,0.57441358098598017,0.28474904801207096,0,0,-0.21585457031369487,-0.33279907592252811,-0.36945218199125979,-0.34443255368465003,-0.27635885616745914,-0.183849754604447,-8.5523914160373929E-2,0]
[null,null,12,0,-0.16952539751666373,-0.32290551907935949,-0.44399508873411936,-0.51664883052697519,-0.52472146850395918,-0.45206772671110329,-0.28254232919443956,0,0,0.42651372446941826,0.88150156765014298,1.2430617104780928,1.3892923338891849,1.2391840680055348,0.87529733969405088,0.42108502500783751,0,0.13777302147386006,-0.27554604294772012,0.26941273140632516,null,null,null,null,null,null,null,null,null,null,null,null,null,null,null,null,null,null,null,null,null,null,null,null,null,null,null,null,null,null,null,null,null,null,null,null,null,null,null,null,null,null,null,null,null,null,null,null,null,null,null,null,null,null,null,null,null,null,null,null,null,null,null,null,null,null,null,null,null,null,null,null,null,null,null,null,null,null,null,null,null,null,null,null,"Fx(1)2/(L1^2) =",{"$f":"-(1/4)/(2*(4+3*Input!$B$1))*Input!$B$1^3","v":-2.1697803630648056E-2},{"$f":"-(1/4)/(4*(1+Input!B1))*Input!B1^3","v":-3.7765032437469939E-2},{"$f":"1/4*(-2-Input!$B$1)/(2*(4+3*Input!B1))*(Input!B1^2)","v":-6.191616068467596E-2},0,{"$f":"DI71+DJ$20*DF71+DJ$21*DG71+DJ$22*DH71","v":-5.9462836068117995E-2},null,{"$f":"0.5*Input!B1","v":0.53949999999999998},{"$f":"+DL71+DM$20*DF71+DM$21*DG71+DM$22*DH71","v":0.59668913392116896},null,{"$f":"0.5*Input!B1","v":0.53949999999999998},{"$f":"+DO71+DP$20*DF71+DP$21*DG71+DP$22*DH71","v":0.61404746441895808},null,0,{"$f":"+DR71+DS$20*$DF71+DS$21*$DG71++DS$22*$DH71","v":-5.9462836068117995E-2},null,{"$f":"0.5*Input!B1","v":0.53949999999999998},{"$f":"+DU71+DV$20*$DF71+DV$21*$DG71++DV$22*$DH71","v":0.53722629785305098},null,null,{"$f":"-0.5*Input!B1","v":-0.53949999999999998},{"$f":"+DY71+DZ$20*$DF71+DZ$21*$DG71++DZ$22*$DH71","v":-0.54177370214694898},null,null,{"$f":"+EC$20*$DF71","v":3.6163006051080091E-3},{"$f":"+ED$20*$DG71","v":6.2941720729116565E-3},{"$f":"+EE$20*$DH71","v":0},9.9104726780196647E-3,null,null,{"$f":"+EI$20*$DF71","v":-7.2326012102160182E-3},{"$f":"+EJ$20*$DG71","v":-1.2588344145823313E-2},{"$f":"+EK$20*$DH71","v":0},-1.9820945356039329E-2,null,{"$f":"-1/24*Input!$B$1^3","v":-5.2342334958333327E-2},{"$f":"+EO$20*$DF71","v":7.8039767058230838E-3},{"$f":"+EP$20*$DG71","v":1.3582823333343354E-2},{"$f":"+EQ$20*$DH71","v":1.1134589563127559E-2},-1.9820945356039329E-2,null,{"$f":"1/24*Input!$B$1^3","v":5.2342334958333327E-2},{"$f":"+EU$20*$DF71","v":-3.9019883529115419E-3},{"$f":"+EV$20*$DG71","v":-6.7914116666716769E-3},{"$f":"+EW$20*$DH71","v":-2.2269179126255118E-2},1.9379755812494986E-2,null,null,null,null,null,null,null,null,null,null,null,null,null,null,null,null,null,null,null,null,null,null,null,null,null,null,null,null,{"$f":"+FB$6*$DF71+FB$7*$DG71+FB$8*$DH71","v":0},-7.4328545085147494E-3,-1.4865709017029499E-2,-2.2298563525544247E-2,-2.9731418034058998E-2,-3.7164272542573748E-2,-4.4597127051088495E-2,-5.2029981559603249E-2,-5.9462836068117995E-2,{"$f":"+FK$5/2*Input!$B$1^2+FK$6*$DF71+FK$7*$DG71+FK$8*$DH71","v":-5.9462836068117995E-2},{"$f":"+FL$5/2*Input!$B$1^2+FL$6*$DF71+FL$7*$DG71+FL$8*$DH71","v":3.8999280423122435E-3},{"$f":"+FM$5/2*Input!$B$1^2+FM$6*$DF71+FM$7*$DG71+FM$8*$DH71","v":4.9071426527742497E-2},{"$f":"+FN$5/2*Input!$B$1^2+FN$6*$DF71+FN$7*$DG71+FN$8*$DH71","v":7.6051659388172738E-2},{"$f":"+FO$5/2*Input!$B$1^2+FO$6*$DF71+FO$7*$DG71+FO$8*$DH71","v":8.4840626623603019E-2},{"$f":"+FP$5/2*Input!$B$1^2+FP$6*$DF71+FP$7*$DG71+FP$8*$DH71","v":7.5438328234033264E-2},{"$f":"+FQ$5/2*Input!$B$1^2+FQ$6*$DF71+FQ$7*$DG71+FQ$8*$DH71","v":4.7844764219463529E-2},{"$f":"+FR$5/2*Input!$B$1^2+FR$6*$DF71+FR$7*$DG71+FR$8*$DH71","v":2.0599345798937782E-3},{"$f":"+FS$5/2*Input!$B$1^2+FS$6*$DF71+FS$7*$DG71+FS$8*$DH71","v":-6.191616068467596E-2},null,null,null,null,null,null,null,null,0,-7.4328545085147496E-2,-0.14865709017029499,-0.22298563525544246,-0.29731418034058998,-0.37164272542573751,-0.44597127051088492,-0.52029981559603244,-0.59462836068117997,-0.59462836068117997,3.8999280423122437E-2,0.49071426527742495,0.76051659388172732,0.84840626623603022,0.75438328234033269,0.47844764219463531,2.0599345798937782E-2,-0.61916160684675958,null,null,null,null,null,null,null,null,null,null,null,null,null,null,null,null,null,null,null,null,null,null,null,null,null,null,null,null,null,null,null,null,null,null,null,null,null,null,null,null,null,{"$f":"+FB$11*$DF71+FB$12*$DG71+FB$13*$DH71","v":0},-1.2194526928032011E-3,-2.3227670339108593E-3,-3.1938046716274314E-3,-3.7164272542573747E-3,-3.7744964301051464E-3,-3.251873847475203E-3,-2.0324211546720017E-3,0,{"$f":"+JQ68+FK$11*$DF71+FK$12*$DG71+FK$13*$DH71","v":0},3.0083055596068073E-3,5.9732433376974668E-3,8.0730866066442315E-3,8.817030783858669E-3,8.0451934317916345E-3,5.9286142579333106E-3,2.969255114813169E-3,0,null,null,null,null,null,null,{"$f":"+JH71*100","v":0},-0.12194526928032011,-0.23227670339108591,-0.31938046716274315,-0.37164272542573745,-0.37744964301051465,-0.32518738474752029,-0.20324211546720017,0,0,0.3008305559606807,0.5973243337697467,0.80730866066442319,0.88170307838586692,0.8045193431791634,0.59286142579333101,0.29692551148131691,0]
[null,null,13,0,-0.1360203745199213,-0.25908642765699291,-0.35624383802836529,-0.41453828425118872,-0.42101544494261356,-0.36272099871979019,-0.22670062419986883,0,0,0.34416236274775258,0.72284043385644636,1.0498943050383009,1.2391840680055353,1.2045698144703687,0.90080408533121836,0.44620921823129311,0,0.11054354246698365,-0.22108708493396731,0.28837427113043568,null,null,null,null,null,null,null,null,null,null,null,null,null,null,null,null,null,null,null,null,null,null,null,null,null,null,null,null,null,null,null,null,null,null,null,null,null,null,null,null,null,null,null,null,null,null,null,null,null,null,null,null,null,null,null,null,null,null,null,null,null,null,null,null,null,null,null,null,null,null,null,null,null,null,null,null,null,null,null,null,null,null,null,null,"Fx(1)3/(L1^2) =",{"$f":"+DF71","v":-2.1697803630648056E-2},{"$f":"-DG71","v":3.7765032437469939E-2},{"$f":"+DH71","v":-6.191616068467596E-2},0,{"$f":"DI72+DJ$20*DF72+DJ$21*DG72+DJ$22*DH72","v":1.6067228806821883E-2},null,0,{"$f":"+DL72+DM$20*DF72+DM$21*DG72+DM$22*DH72","v":-8.8340991078831005E-2},null,{"$f":"+DO71","v":0.53949999999999998},{"$f":"+DO72+DP$20*DF72+DP$21*DG72+DP$22*DH72","v":0.61404746441895808},null,0,{"$f":"+DR72+DS$20*$DF72+DS$21*$DG72++DS$22*$DH72","v":1.6067228806821883E-2},null,0,{"$f":"+DU72+DV$20*$DF72+DV$21*$DG72++DV$22*$DH72","v":-7.2273762272009129E-2},null,null,0,{"$f":"+DY72+DZ$20*$DF72+DZ$21*$DG72++DZ$22*$DH72","v":-7.2273762272009129E-2},null,null,{"$f":"+EC$20*$DF72","v":3.6163006051080091E-3},{"$f":"+ED$20*$DG72","v":-6.2941720729116565E-3},{"$f":"+EE$20*$DH72","v":0},-2.6778714678036475E-3,null,null,{"$f":"+EI$20*$DF72","v":-7.2326012102160182E-3},{"$f":"+EJ$20*$DG72","v":1.2588344145823313E-2},{"$f":"+EK$20*$DH72","v":0},5.3557429356072949E-3,null,null,{"$f":"+EO$20*$DF72","v":7.8039767058230838E-3},{"$f":"+EP$20*$DG72","v":-1.3582823333343354E-2},{"$f":"+EQ$20*$DH72","v":1.1134589563127559E-2},5.3557429356072888E-3,null,null,{"$f":"+EU$20*$DF72","v":-3.9019883529115419E-3},{"$f":"+EV$20*$DG72","v":6.7914116666716769E-3},{"$f":"+EW$20*$DH72","v":-2.2269179126255118E-2},-1.9379755812494983E-2,null,null,null,null,null,null,null,null,null,null,null,null,null,null,null,null,null,null,null,null,null,null,null,null,null,null,null,null,0,2.0084036008527354E-3,4.0168072017054707E-3,6.0252108025582053E-3,8.0336144034109415E-3,1.0042018004263676E-2,1.2050421605116411E-2,1.4058825205969148E-2,1.6067228806821883E-2,{"$f":"+FK$6*$DF72+FK$7*$DG72+FK$8*$DH72","v":1.6067228806821883E-2},6.3193051203846535E-3,-3.4286185660525794E-3,-1.317654225248981E-2,-2.2924465938927038E-2,-3.267238962536427E-2,-4.2420313311801502E-2,-5.2168236998238728E-2,-6.191616068467596E-2,null,null,null,null,null,null,null,null,0,2.0084036008527352E-2,4.0168072017054704E-2,6.0252108025582049E-2,8.0336144034109408E-2,0.10042018004263675,0.1205042160511641,0.1405882520596915,0.16067228806821882,0.16067228806821882,6.3193051203846537E-2,-3.4286185660525798E-2,-0.13176542252489809,-0.22924465938927038,-0.32672389625364273,-0.42420313311801505,-0.52168236998238726,-0.61916160684675958,null,null,null,null,null,null,null,null,null,null,null,null,null,null,null,null,null,null,null,null,null,null,null,null,null,null,null,null,null,null,null,null,null,null,null,null,null,null,null,null,null,0,3.2950371576490186E-4,6.2762612526647975E-4,8.629859222414099E-4,1.0042018004263677E-3,1.0198924535580296E-3,8.7867657537307178E-4,5.4917285960816981E-4,0,{"$f":"+FK$11*$DF72+FK$12*$DG72+FK$13*$DH72","v":0},-8.3894293046927267E-4,-1.792842018948885E-3,-2.6843701963666288E-3,-3.3362003936502939E-3,-3.5710055417276726E-3,-3.2114585715265556E-3,-2.0802324139747347E-3,0,null,null,null,null,null,null,{"$f":"+JH72*100","v":0},3.2950371576490188E-2,6.2762612526647971E-2,8.6298592224140991E-2,0.10042018004263677,0.10198924535580296,8.7867657537307173E-2,5.4917285960816978E-2,0,0,-8.3894293046927262E-2,-0.1792842018948885,-0.26843701963666289,-0.33362003936502937,-0.35710055417276726,-0.32114585715265553,-0.20802324139747347,0]
[null,null,14,0,-9.0488551094376257E-2,-0.17235914494166904,-0.23699382429479493,-0.27577463190667051,-0.28008361053021225,-0.2413028029183367,-0.15081425182396044,0,0,0.22975217581468546,0.48724002859546728,0.71993220200202812,0.87529733969405077,0.90080408533121836,0.74392108257321354,0.3930094242659164,0,7.353990184177879E-2,-0.14707980368355758,0.25933928525395317,null,null,null,null,null,null,null,null,null,null,null,null,null,null,null,null,null,null,null,null,null,null,null,null,null,null,null,null,null,null,null,null,null,null,null,null,null,null,null,null,null,null,null,null,null,null,null,null,null,null,null,null,null,null,null,null,null,null,null,null,null,null,null,null,null,null,null,null,null,null,null,null,null,null,null,null,null,null,null,null,null,null,null,null,"Fx(1)4/(L1^2) =",{"$f":"+DF70","v":-3.4544700842890699E-2},{"$f":"-DG70","v":3.0062530062530065E-2},{"$f":"+DH70","v":1.727235042144535E-2},0,{"$f":"DI73+DJ$20*DF73+DJ$21*DG73+DJ$22*DH73","v":-4.4821707803606343E-3},null,0,{"$f":"+DL73+DM$20*DF73+DM$21*DG73+DM$22*DH73","v":2.4643914248206777E-2},null,0,{"$f":"+DO73+DP$20*DF73+DP$21*DG73+DP$22*DH73","v":-9.6046434224904637E-2},null,0,{"$f":"+DR73+DS$20*$DF73+DS$21*$DG73++DS$22*$DH73","v":-4.4821707803606343E-3},null,0,{"$f":"+DU73+DV$20*$DF73+DV$21*$DG73++DV$22*$DH73","v":2.016174346784614E-2},null,null,0,{"$f":"+DY73+DZ$20*$DF73+DZ$21*$DG73++DZ$22*$DH73","v":2.016174346784614E-2},null,null,{"$f":"+EC$20*$DF73","v":5.7574501404817832E-3},{"$f":"+ED$20*$DG73","v":-5.0104216770883439E-3},{"$f":"+EE$20*$DH73","v":0},7.4702846339343935E-4,null,null,{"$f":"+EI$20*$DF73","v":-1.1514900280963566E-2},{"$f":"+EJ$20*$DG73","v":1.0020843354176688E-2},{"$f":"+EK$20*$DH73","v":0},-1.4940569267868787E-3,null,null,{"$f":"+EO$20*$DF73","v":1.2424577403159687E-2},{"$f":"+EP$20*$DG73","v":-1.0812489979156646E-2},{"$f":"+EQ$20*$DH73","v":-3.1061443507899218E-3},-1.4940569267868809E-3,null,null,{"$f":"+EU$20*$DF73","v":-6.2122887015798435E-3},{"$f":"+EV$20*$DG73","v":5.4062449895783231E-3},{"$f":"+EW$20*$DH73","v":6.2122887015798435E-3},5.4062449895783231E-3,null,null,null,null,null,null,null,null,null,null,null,null,null,null,null,null,null,null,null,null,null,null,null,null,null,null,null,null,0,-5.6027134754507929E-4,-1.1205426950901586E-3,-1.6808140426352383E-3,-2.2410853901803172E-3,-2.801356737725396E-3,-3.3616280852704766E-3,-3.9218994328155572E-3,-4.4821707803606343E-3,-4.4821707803606343E-3,-1.7628556301348885E-3,9.5645952009086078E-4,3.6757746703166101E-3,6.3950898205423577E-3,9.1144049707681044E-3,1.1833720120993853E-2,1.4553035271219603E-2,1.727235042144535E-2,null,null,null,null,null,null,null,null,0,-5.6027134754507929E-3,-1.1205426950901586E-2,-1.6808140426352383E-2,-2.2410853901803172E-2,-2.801356737725396E-2,-3.3616280852704766E-2,-3.9218994328155572E-2,-4.4821707803606343E-2,-4.4821707803606343E-2,-1.7628556301348887E-2,9.5645952009086078E-3,3.6757746703166103E-2,6.3950898205423573E-2,{"$f":"+GO73*10","v":9.1144049707681044E-2},{"$f":"+GP73*10","v":0.11833720120993853},{"$f":"+GQ73*10","v":0.14553035271219603},{"$f":"+GR73*10","v":0.17272350421445348},null,null,null,null,null,null,null,null,null,null,null,null,null,null,null,null,null,null,null,null,null,null,null,null,null,null,null,null,null,null,null,null,null,null,null,null,null,null,null,null,null,0,-9.1919517956614541E-5,-1.7508479610783725E-4,-2.4074159464827641E-4,-2.8013567377253965E-4,-2.8451279367523556E-4,-2.4511871455097233E-4,-1.5319919659435746E-4,0,0,2.3403447691881693E-4,5.0013752886394439E-4,7.4884137161953883E-4,9.306782209697567E-4,9.9618029269875536E-4,8.9587980259069077E-4,5.803089664297203E-4,0,null,null,null,null,null,null,{"$f":"+JH73*100","v":0},-9.1919517956614537E-3,-1.7508479610783726E-2,-2.4074159464827639E-2,-2.8013567377253964E-2,-2.8451279367523556E-2,-2.4511871455097232E-2,-1.5319919659435747E-2,0,0,2.3403447691881692E-2,5.0013752886394439E-2,7.4884137161953884E-2,9.3067822096975672E-2,9.9618029269875535E-2,8.9587980259069083E-2,5.8030896642972028E-2,0]
[null,null,15,0,-4.209380150080904E-2,-8.0178669525350549E-2,-0.11024567059735702,-0.1282858712405609,-0.13029033797869466,-0.11225013733549077,-7.0156335834681727E-2,0,0,0.10709433209163022,0.22839500094929024,0.34076942558426443,0.42108502500783751,0.44620921823129311,0.3930094242659164,0.23835306212299118,0,3.4209565664149566E-2,-6.8419131328299132E-2,0.16798783960207533]
[null,null,16,0,0,0,0,0,0,0,0,0,0,0,0,0,0,0,0,0,0,0,0,0,null,null,null,null,null,null,null,null,null,null,null,null,null,null,null,null,null,null,null,null,null,null,null,null,null,null,null,null,null,null,null,null,null,null,null,null,null,null,null,null,null,null,null,null,null,null,null,null,null,null,null,null,null,null,null,null,null,null,null,null,null,null,null,null,null,null,null,null,null,null,null,null,null,null,null,null,null,null,null,null,null,null,null,null,null,null,null,null,null,{"$f":"+SUM(DJ70:DJ74)","v":0.38751499105292253},null,null,{"$f":"+SUM(DM70:DM74)","v":1.173483978753024},null,null,{"$f":"+SUM(DP70:DP74)","v":1.036002060388107},null,null,{"$f":"+SUM(DS70:DS74)","v":-0.61248500894707747},null,null,{"$f":"+SUM(DV70:DV74)","v":0.56099896980594655},null,null,null,{"$f":"+SUM(DZ70:DZ74)","v":-0.51800103019405341},null,null,null,null,null,{"$f":"+SUM(EF70:EF74)","v":-2.2919165175487081E-2},null,null,null,null,null,{"$f":"+SUM(EL70:EL74)","v":4.1716636843074952E-3},null,null,null,null,null,{"$f":"+SUM(ER70:ER74)","v":4.1716636843074865E-3},null,null,null,null,null,{"$f":"+SUM(EX70:EX74)","v":0},null,null,null,null,null,null,null,null,null,null,null,null,null,null,null,null,null,null,null,null,null,null,null,null,null,null,null,null,{"$f":"+SUM(GA70:GA74)","v":0},{"$f":"+SUM(GB70:GB74)","v":4.0626873881615316E-2},6.5628747763230633E-2,7.5005621644845921E-2,6.8757495526461238E-2,4.6884369408076554E-2,9.3862432896918598E-3,-4.3736882828692827E-2,-0.11248500894707751,-0.11248500894707751,-4.59159057070005E-2,2.4619319080765416E-3,3.2648503898153575E-2,4.4643810263230631E-2,3.8447851003307658E-2,1.4060626118384698E-2,-2.8517864391538264E-2,-8.928762052646122E-2,null,null,null,null,null,null,null,null,{"$f":"+GA75*10","v":0},0.40626873881615316,0.65628747763230633,0.75005621644845921,0.68757495526461243,0.46884369408076554,9.3862432896918591E-2,-0.43736882828692825,-1.1248500894707751,-1.1248500894707751,-0.45915905707000498,2.4619319080765416E-2,0.32648503898153575,0.44643810263230632,{"$f":"+GO75*10","v":0.38447851003307659},0.14060626118384698,-0.28517864391538261,-0.8928762052646122,null,null,null,null,null,null,null,null,null,null,null,null,null,null,null,null,null,null,null,null,null,null,null,null,null,null,null,null,null,null,null,null,null,null,null,null,null,null,null,null,null,{"$f":"+SUM(JH70:JH74)","v":0},{"$f":"+SUM(JI70:JI74)","v":2.7489239701608448E-3},4.8833980880047846E-3,6.0127680741315793E-3,5.9905202741409877E-3,4.9142816586327746E-3,3.1258198232066983E-3,1.2110429884625202E-3,0,0,2.4485140291940268E-4,1.3525480883872453E-3,2.4430359619845438E-3,2.9671830743316315E-3,2.7067796210881257E-3,1.774537942952976E-3,6.1409252566441521E-4,0,null,null,null,null,null,null,{"$f":"+JH75*100","v":0},{"$f":"+JI75*100","v":0.27489239701608448},0.48833980880047845,0.60127680741315792,0.5990520274140988,0.49142816586327748,0.3125819823206698,0.12110429884625203,0,0,2.448514029194027E-2,0.13525480883872454,0.24430359619845438,0.29671830743316313,0.27067796210881256,0.17745379429529759,6.1409252566441523E-2,0]
[null,null,{"$f":"+C75","v":16},0,0,0,0,0,0,0,0,0,0,0,0,0,0,0,0,0,0,0,0,0]
[null,null,{"$f":"+C76+1","v":17},0,2.8562081941462793E-2,5.4403965602786278E-2,7.4805452703831141E-2,8.7046344964458053E-2,8.8406444104527707E-2,7.6165551843900794E-2,4.7603469902437988E-2,0,0,-7.2721355110213604E-2,-0.15540735416122495,-0.23268691016689039,-0.28918893614106611,-0.3095423450976087,-0.27837605005037425,-0.18031896401321926,0,-2.3212358657188806E-2,4.6424717314377612E-2,-0.16798783960207547]
[null,null,18,0,4.4094084033760569E-2,8.3988731492877278E-2,0.11548450580270626,0.13438197038860364,0.13648168867592558,0.11758422409002818,7.3490140056267611E-2,0,0,-0.11226708017470512,-0.23991755740682855,-0.35922157885698897,-0.44644929168580499,-0.47787084305389538,-0.42975638012187883,-0.27837605005037419,0,-3.5835192103627636E-2,7.1670384207255272E-2,-0.25933928525395322]
[null,null,19,0,4.903074878126687E-2,9.3391902440508323E-2,0.12841386585569897,0.14942704390481334,0.15176184146582605,0.13074866341671168,8.1717914635444783E-2,0,0,-0.12483622520059078,-0.26677813460016059,-0.39943913964199279,-0.49643265176937057,-0.53137208242557699,-0.47787084305389516,-0.30954234509760847,0,-3.984721170795022E-2,7.9694423415900439E-2,-0.28837427113043551]
[null,null,20,0,4.5806818688355233E-2,8.7251083215914738E-2,0.11997023942188274,0.13960173314546354,0.14178301022586143,0.12215151650228062,7.6344697813925388E-2,0,0,-0.11662784019498701,-0.24923661060457175,-0.37317472609360014,-0.46379060152691787,-0.49643265176937096,-0.44644929168580499,-0.28918893614106611,0,-3.7227128838790285E-2,7.4454257677580571E-2,-0.26941273140632521]
[null,null,21,0,3.6857036259399151E-2,7.0203878589331734E-2,9.6530333060331125E-2,0.11232620574293077,0.11408130270766405,9.8285430025064402E-2,6.1428393765665279E-2,0,0,-9.3840975165009874E-2,-0.20054051028341136,-0.30026347178350737,-0.37317472609360042,-0.39943913964199351,-0.35922157885698919,-0.23268691016689047,0,-2.9953654864781527E-2,5.9907309729563055E-2,-0.21677460025642417]
[null,null,22,0,2.4616143998772263E-2,4.688789333099478E-2,6.4470853330117803E-2,7.5020629329591637E-2,7.6192826662866517E-2,6.564305066339271E-2,4.1026906664620416E-2,0,0,-6.2674680117775355E-2,-0.13393735850002905,-0.20054051028341119,-0.24923661060457172,-0.26677813460016087,-0.23991755740682849,-0.15540735416122492,0,-2.0005501154557771E-2,4.0011002309115543E-2,-0.14477981185553457]
[null,null,23,0,1.1518884410848022E-2,2.1940732211139097E-2,3.0168506790316237E-2,3.5105171537822541E-2,3.5653689843101008E-2,3.0717025095594704E-2,1.919814068474671E-2,0,0,-2.932800506040029E-2,-6.2674680117775827E-2,-9.3840975165010443E-2,-0.11662784019498776,-0.12483622520059164,-0.1122670801747058,-7.2721355110214006E-2,0,-9.3613790767526749E-3,1.872275815350535E-2,-6.774830037845947E-2]
[null,null,24,0,0,0,0,0,0,0,0,0,0,-3.1617339041584783E-16,-6.0223502936351962E-16,-8.2807316537483957E-16,-9.6357604698163131E-16,-9.7863192271571948E-16,-8.4312904110892744E-16,-5.2695565069307966E-16,0,0,0,-4.7628102414909186E-16]
[null,null,24,0,0,0,0,0,0,0,0,0,0,0,0,0,0,0,0,0,0,0,0,0]
[null,null,{"$f":"+C85+1","v":25},0,-7.5402729573785417E-3,-1.4362424680721016E-2,-1.9748333935991388E-2,-2.2979879489153629E-2,-2.3338940106171668E-2,-2.0107394553009431E-2,-1.2567121595630887E-2,0,0,1.9198140684746689E-2,4.1026906664620437E-2,6.1428393765665307E-2,7.6344697813925375E-2,8.1717914635444797E-2,7.3490140056267611E-2,4.7603469902438002E-2,0,6.1279678637742984E-3,-1.2255935727548597E-2,4.4348103430134685E-2]
[null,null,26,0,-1.2064436731805656E-2,-2.2979879489153629E-2,-3.1597334297586231E-2,-3.6767807182645815E-2,-3.7342304169874677E-2,-3.2171831284815093E-2,-2.0107394553009431E-2,0,0,3.0717025095594729E-2,6.564305066339271E-2,9.8285430025064471E-2,0.12215151650228058,0.13074866341671165,0.11758422409002815,7.6165551843900794E-2,0,9.8047485820388844E-3,-1.9609497164077769E-2,7.0956965488215493E-2]
[null,null,27,0,-1.4003364063702988E-2,-2.6673074407053344E-2,-3.6675477309698348E-2,-4.2676919051285331E-2,-4.3343745911461659E-2,-3.7342304169874677E-2,-2.3338940106171668E-2,0,0,3.5653689843101008E-2,7.6192826662866517E-2,0.11408130270766412,0.14178301022586137,0.151761841465826,0.13648168867592556,8.8406444104527707E-2,0,1.1380511747009422E-2,-2.2761023494018845E-2,8.2360763513107269E-2]
[null,null,28,0,-1.3787927693492175E-2,-2.6262719416175556E-2,-3.6111239197241393E-2,-4.2020351065880916E-2,-4.2676919051285289E-2,-3.6767807182645773E-2,-2.2979879489153629E-2,0,0,3.5105171537822534E-2,7.5020629329591665E-2,0.11232620574293084,0.13960173314546354,0.14942704390481334,0.13438197038860367,8.7046344964458081E-2,0,1.1205426950901577E-2,-2.2410853901803154E-2,8.1093674843674843E-2]
[null,null,29,0,-1.1849000361594832E-2,-2.2569524498275862E-2,-3.1033096185129321E-2,-3.6111239197241393E-2,-3.6675477309698307E-2,-3.1597334297586231E-2,-1.9748333935991388E-2,0,0,3.0168506790316258E-2,6.447085333011783E-2,9.6530333060331208E-2,0.11997023942188277,0.12841386585569894,0.11548450580270628,7.4805452703831141E-2,0,9.6296637859310391E-3,-1.9259327571862078E-2,6.9689876818783081E-2]
[null,null,30,0,-8.6174548084326143E-3,-1.6414199635109712E-2,-2.2569524498275883E-2,-2.6262719416175577E-2,-2.6673074407053302E-2,-2.297987948915365E-2,-1.4362424680721027E-2,0,0,2.194073221113909E-2,4.6887893330994794E-2,7.0203878589331747E-2,8.7251083215914682E-2,9.3391902440508309E-2,8.3988731492877264E-2,5.4403965602786278E-2,0,7.0033918443134901E-3,-1.400678368862698E-2,5.0683546777296778E-2]
[null,null,31,0,-4.5241637744271191E-3,-8.6174548084326143E-3,-1.1849000361594843E-2,-1.3787927693492175E-2,-1.4003364063702988E-2,-1.2064436731805656E-2,-7.5402729573785417E-3,0,0,1.1518884410848021E-2,2.4616143998772263E-2,3.6857036259399185E-2,4.5806818688355219E-2,4.9030748781266877E-2,4.4094084033760569E-2,2.8562081941462807E-2,0,3.6767807182645816E-3,-7.3535614365291633E-3,2.6608862058080808E-2]
[null,null,32,0,0,0,0,0,0,0,0,0,0,0,0,0,0,0,0,0,0,0,0,0]
[null,null,null,"×L13/(100×EI)",null,null,null,null,null,null,null,null,null,null,null,null,null,null,null,null,null,"×(L12/EI)/10"]
[null,null,"Span 1",{"$f":"+KF70","v":0},0.37307924651557589,0.6753623792757002,0.85843284181658774,0.89828814017445346,0.79533984288551274,0.57441358098598017,0.28474904801207096,0,0,{"$f":"+KP70","v":-0.21585457031369487},-0.33279907592252811,-0.36945218199125979,-0.34443255368465003,-0.27635885616745914,-0.183849754604447,-8.5523914160373929E-2,0,{"$f":"+EF70*10","v":-0.30898794849096534},{"$f":"+EL70*10","v":0.2013092303152641},{"$f":"+EX70*10","v":-5.4062449895783224E-2}]
[null,null,"Span 2",0,-0.12194526928032011,-0.23227670339108591,-0.31938046716274315,-0.37164272542573745,-0.37744964301051465,-0.32518738474752029,-0.20324211546720017,0,0,0.3008305559606807,0.5973243337697467,0.80730866066442319,0.88170307838586692,0.8045193431791634,0.59286142579333101,0.29692551148131691,0,{"$f":"+EF71*10","v":9.9104726780196647E-2},{"$f":"+EL71*10","v":-0.19820945356039329},{"$f":"+EX71*10","v":0.19379755812494986}]
[null,null,"Span 3",0,3.2950371576490188E-2,6.2762612526647971E-2,8.6298592224140991E-2,0.10042018004263677,0.10198924535580296,8.7867657537307173E-2,5.4917285960816978E-2,0,0,-8.3894293046927262E-2,-0.1792842018948885,-0.26843701963666289,-0.33362003936502937,-0.35710055417276726,-0.32114585715265553,-0.20802324139747347,0,{"$f":"+EF72*10","v":-2.6778714678036476E-2},{"$f":"+EL72*10","v":5.3557429356072953E-2},{"$f":"+EX72*10","v":-0.19379755812494984}]
[null,null,"Span 4",0,-9.1919517956614537E-3,-1.7508479610783726E-2,-2.4074159464827639E-2,-2.8013567377253964E-2,-2.8451279367523556E-2,-2.4511871455097232E-2,-1.5319919659435747E-2,0,0,2.3403447691881692E-2,5.0013752886394439E-2,7.4884137161953884E-2,9.3067822096975672E-2,9.9618029269875535E-2,8.9587980259069083E-2,5.8030896642972028E-2,0,{"$f":"+EF73*10","v":7.4702846339343935E-3},{"$f":"+EL73*10","v":-1.4940569267868787E-2},{"$f":"+EX73*10","v":5.4062449895783231E-2}]
[null,null,"Sum",{"$f":"+KF75","v":0},0.27489239701608448,0.48833980880047845,0.60127680741315792,0.5990520274140988,0.49142816586327748,0.3125819823206698,0.12110429884625203,0,0,2.448514029194027E-2,0.13525480883872454,0.24430359619845438,0.29671830743316313,0.27067796210881256,0.17745379429529759,6.1409252566441523E-2,0,{"$f":"+EF75*10","v":-0.22919165175487083},{"$f":"+EL75*10","v":4.1716636843074952E-2},{"$f":"+EX75*10","v":0}]
[null,null,null,"×L14/(100×EI)",null,null,null,null,null,null,null,null,null,null,null,null,null,null,null,null,null,"×(L13/EI)/10"]