{"text_format":"1","workbook":"xlsx","n_sheets":87,"sheets":["Input","3 span Calculation","M1","M2","M3","M4","M5","M6","M7","MB","M9","M10","M11","M12","RA","RB","Q1","Q2","Q3","Q4","Q5","Q6","Q7","lQB","rQB","Q9","Q10","Q11","Q12","D1","D2","D3","D4","D5","D6","D7","D9","D10","D11","D12","SA","SB","M-1","M-2","M-3","M-4","M-5","M-6","M-7","M-9","M-10","M-11","M-12","MS1","MS2","MSA","Q-1","Q-2","Q-3","Q-4","Q-5","Q-6","Q-7","Q-9","Q-10","Q-11","Q-12","QS1","QS2","QSA","D-1","D-2","D-3","D-4","D-5","D-6","D-7","D-9","D-10","D-11","D-12","DS1","DS2","DSA","SS1","SS2","SSA"],"not_rendered":{"charts":170,"images":0,"macros":1,"external_links":0,"defined_names":1,"comments":0,"pivot_tables":0},"unopened":[{"sheet":"M1","index":2,"reason":"not_a_worksheet"},{"sheet":"M2","index":3,"reason":"not_a_worksheet"},{"sheet":"M3","index":4,"reason":"not_a_worksheet"},{"sheet":"M4","index":5,"reason":"not_a_worksheet"},{"sheet":"M5","index":6,"reason":"not_a_worksheet"},{"sheet":"M6","index":7,"reason":"not_a_worksheet"},{"sheet":"M7","index":8,"reason":"not_a_worksheet"},{"sheet":"MB","index":9,"reason":"not_a_worksheet"},{"sheet":"M9","index":10,"reason":"not_a_worksheet"},{"sheet":"M10","index":11,"reason":"not_a_worksheet"},{"sheet":"M11","index":12,"reason":"not_a_worksheet"},{"sheet":"M12","index":13,"reason":"not_a_worksheet"},{"sheet":"RA","index":14,"reason":"not_a_worksheet"},{"sheet":"RB","index":15,"reason":"not_a_worksheet"},{"sheet":"Q1","index":16,"reason":"not_a_worksheet"},{"sheet":"Q2","index":17,"reason":"not_a_worksheet"},{"sheet":"Q3","index":18,"reason":"not_a_worksheet"},{"sheet":"Q4","index":19,"reason":"not_a_worksheet"},{"sheet":"Q5","index":20,"reason":"not_a_worksheet"},{"sheet":"Q6","index":21,"reason":"not_a_worksheet"},{"sheet":"Q7","index":22,"reason":"not_a_worksheet"},{"sheet":"lQB","index":23,"reason":"not_a_worksheet"},{"sheet":"rQB","index":24,"reason":"not_a_worksheet"},{"sheet":"Q9","index":25,"reason":"not_a_worksheet"},{"sheet":"Q10","index":26,"reason":"not_a_worksheet"},{"sheet":"Q11","index":27,"reason":"not_a_worksheet"},{"sheet":"Q12","index":28,"reason":"not_a_worksheet"},{"sheet":"D1","index":29,"reason":"not_a_worksheet"},{"sheet":"D2","index":30,"reason":"not_a_worksheet"},{"sheet":"D3","index":31,"reason":"not_a_worksheet"},{"sheet":"D4","index":32,"reason":"not_a_worksheet"},{"sheet":"D5","index":33,"reason":"not_a_worksheet"},{"sheet":"D6","index":34,"reason":"not_a_worksheet"},{"sheet":"D7","index":35,"reason":"not_a_worksheet"},{"sheet":"D9","index":36,"reason":"not_a_worksheet"},{"sheet":"D10","index":37,"reason":"not_a_worksheet"},{"sheet":"D11","index":38,"reason":"not_a_worksheet"},{"sheet":"D12","index":39,"reason":"not_a_worksheet"},{"sheet":"SA","index":40,"reason":"not_a_worksheet"},{"sheet":"SB","index":41,"reason":"not_a_worksheet"},{"sheet":"M-1","index":42,"reason":"not_a_worksheet"},{"sheet":"M-2","index":43,"reason":"not_a_worksheet"},{"sheet":"M-3","index":44,"reason":"not_a_worksheet"},{"sheet":"M-4","index":45,"reason":"not_a_worksheet"},{"sheet":"M-5","index":46,"reason":"not_a_worksheet"},{"sheet":"M-6","index":47,"reason":"not_a_worksheet"},{"sheet":"M-7","index":48,"reason":"not_a_worksheet"},{"sheet":"M-9","index":49,"reason":"not_a_worksheet"},{"sheet":"M-10","index":50,"reason":"not_a_worksheet"},{"sheet":"M-11","index":51,"reason":"not_a_worksheet"},{"sheet":"M-12","index":52,"reason":"not_a_worksheet"},{"sheet":"MS1","index":53,"reason":"not_a_worksheet"},{"sheet":"MS2","index":54,"reason":"not_a_worksheet"},{"sheet":"MSA","index":55,"reason":"not_a_worksheet"},{"sheet":"Q-1","index":56,"reason":"not_a_worksheet"},{"sheet":"Q-2","index":57,"reason":"not_a_worksheet"},{"sheet":"Q-3","index":58,"reason":"not_a_worksheet"},{"sheet":"Q-4","index":59,"reason":"not_a_worksheet"},{"sheet":"Q-5","index":60,"reason":"not_a_worksheet"},{"sheet":"Q-6","index":61,"reason":"not_a_worksheet"},{"sheet":"Q-7","index":62,"reason":"not_a_worksheet"},{"sheet":"Q-9","index":63,"reason":"not_a_worksheet"},{"sheet":"Q-10","index":64,"reason":"not_a_worksheet"},{"sheet":"Q-11","index":65,"reason":"not_a_worksheet"},{"sheet":"Q-12","index":66,"reason":"not_a_worksheet"},{"sheet":"QS1","index":67,"reason":"not_a_worksheet"},{"sheet":"QS2","index":68,"reason":"not_a_worksheet"},{"sheet":"QSA","index":69,"reason":"not_a_worksheet"},{"sheet":"D-1","index":70,"reason":"not_a_worksheet"},{"sheet":"D-2","index":71,"reason":"not_a_worksheet"},{"sheet":"D-3","index":72,"reason":"not_a_worksheet"},{"sheet":"D-4","index":73,"reason":"not_a_worksheet"},{"sheet":"D-5","index":74,"reason":"not_a_worksheet"},{"sheet":"D-6","index":75,"reason":"not_a_worksheet"},{"sheet":"D-7","index":76,"reason":"not_a_worksheet"},{"sheet":"D-9","index":77,"reason":"not_a_worksheet"},{"sheet":"D-10","index":78,"reason":"not_a_worksheet"},{"sheet":"D-11","index":79,"reason":"not_a_worksheet"},{"sheet":"D-12","index":80,"reason":"not_a_worksheet"},{"sheet":"DS1","index":81,"reason":"not_a_worksheet"},{"sheet":"DS2","index":82,"reason":"not_a_worksheet"},{"sheet":"DSA","index":83,"reason":"not_a_worksheet"},{"sheet":"SS1","index":84,"reason":"not_a_worksheet"},{"sheet":"SS2","index":85,"reason":"not_a_worksheet"},{"sheet":"SSA","index":86,"reason":"not_a_worksheet"}],"bounds":{"document_bytes":16777216,"sheet_cells":100000,"rows_first":2000,"rows_last":500,"rows_between":2000,"halvings":0,"cell_chars":16384,"cell_head_chars":4096},"cells_cut":0,"cells_raw":0,"read":"whole","date_system":"1900"}

{"sheet":"Input","index":0,"n_rows":14,"n_cols":3,"rows_kept":14,"cut":false,"hidden":false,"merged":[]}
["L2/L1 =",{"$f":"67.5/45","v":1.5}]
[]
["Mi","(L1/10)","Moment influence line for point i"]
["Ri","(1)","Reaction influence line for support i"]
["Qi","(1)","Shear influence line for point i"]
["Di","(L1^3/EI)/100","Deflection influence line for point i"]
["Si","(L1^2/EI)/10","Rotation angle influence line for support i"]
["M-i","(L1/10)","Moment diagram when a unit point load is applied at point i"]
["MSi","(L1^2/10)","Moment diagram when uniformly distributed loads are applied at span i"]
["Q-i","(1)","Shear diagram when a unit point load is applied at point i"]
["QSi","(L1)","Shear diagram when uniformly distributed loads are applied at span i"]
["D-i","(L1^3/EI)/100","Deflection diagram when a unit point load is applied at point i"]
["DSi","(L1^4/EI)/100","Deflection diagram when uniformly distributed loads are applied at span i"]
["SSi","(L1^3/EI)/10","Rotation angle diagram when uniformly distributed loads are applied at support i"]

{"sheet":"3 span Calculation","index":1,"n_rows":80,"n_cols":179,"rows_kept":80,"cut":false,"hidden":true,"merged":[[74,17,74,18],[79,17,79,18],[74,3,74,16],[79,3,79,16],[7,2,8,2],[44,2,45,2],[44,3,44,16],[7,3,7,16],[7,17,7,19],[44,17,44,18],[7,20,7,21],[37,3,37,16],[42,3,42,16],[42,17,42,21],[37,17,37,21],[16,55,24,55],[25,55,33,55],[34,55,42,55],[1,91,1,99],[1,100,1,104]]}
[]
[null,null,null,null,null,null,null,null,null,null,null,null,null,null,null,null,null,null,null,null,null,null,null,null,null,null,null,null,null,null,null,null,null,null,null,null,null,null,null,null,null,null,null,null,null,null,null,null,null,null,null,null,null,null,null,null,null,null,null,null,null,null,null,null,null,null,null,null,null,null,null,null,null,null,null,null,null,null,null,null,null,null,null,null,null,null,null,null,null,null,"Span",1,null,null,null,null,null,null,null,null,2]
[null,null,null,null,null,null,null,null,null,null,null,null,null,null,null,null,null,null,null,null,null,null,null,null,null,null,null,null,null,null,null,null,null,null,null,null,null,null,null,null,null,null,null,null,null,null,null,null,null,null,null,null,null,null,null,null,null,null,null,null,null,null,null,null,null,null,null,null,null,null,null,null,null,null,null,null,null,null,null,null,null,null,null,null,null,null,null,null,null,null,"x/L",0,{"$f":"+CN3+1/8","v":0.125},0.25,0.375,0.5,0.625,0.75,0.875,1,0,{"$f":"+CW3+1/8","v":0.125},{"$f":"+CX3+1/8","v":0.25},{"$f":"+CY3+1/8","v":0.375},{"$f":"+CZ3+1/8","v":0.5}]
[null,null,null,null,null,null,null,null,null,null,null,null,null,null,null,null,null,null,null,null,null,null,null,null,null,null,null,null,null,null,null,null,null,null,null,null,null,null,null,null,null,null,null,null,null,null,null,null,null,null,null,null,null,null,null,null,null,null,null,null,null,null,null,null,null,null,null,null,null,null,null,null,null,null,null,null,null,null,null,null,null,null,null,null,null,null,null,null,null,null,"1-x/L",{"$f":"1-CN3","v":1},{"$f":"1-CO3","v":0.875},0.75,0.625,0.5,0.375,0.25,0.125,0,1,0.875,0.75,0.625,0.5]
[null,null,null,null,null,null,null,null,null,null,null,null,null,null,null,null,null,null,null,null,null,null,null,null,null,null,null,null,null,null,null,null,null,null,null,null,null,null,null,null,null,null,null,null,null,null,null,null,null,null,null,null,null,null,null,null,null,null,null,null,null,null,null,null,null,null,null,null,null,null,null,null,null,null,null,null,null,null,null,null,null,null,null,null,null,null,null,null,null,null,"Mx0",{"$f":"+CN3*(1-CN3)","v":0},0.109375,0.1875,0.234375,0.25,0.234375,0.1875,0.109375,0,0,0.109375,{"$f":"+CY3*(1-CY3)","v":0.1875},0.234375,0.25]
[null,null,null,null,null,null,null,null,null,null,null,null,null,null,null,null,null,null,null,null,null,null,null,null,null,null,null,null,null,null,null,null,null,null,null,null,null,null,null,null,null,null,null,null,null,null,null,null,null,null,null,null,null,null,null,null,null,null,null,null,null,null,null,null,null,null,null,null,null,null,null,null,null,null,null,null,null,null,null,null,null,null,null,null,null,null,null,null,null,null,"Mx1",{"$f":"+CN3","v":0},0.125,0.25,0.375,0.5,0.625,0.75,0.875,1,1,1,1,1,1]
[null,null,null,null,null,null,null,null,null,null,null,null,null,null,null,null,null,null,null,null,null,null,null,null,null,null,null,null,null,null,null,null,null,null,null,null,null,null,null,null,null,null,null,null,null,null,null,null,null,null,null,null,null,null,null,null,null,null,null,null,null,null,null,null,null,null,null,null,null,null,null,null,null,null,null,null,null,null,null,null,null,null,null,null,null,null,null,null,null,null,"Mx2",{"$f":"+CN3","v":0},0.125,0.25,0.375,0.5,0.625,0.75,0.875,1,{"$f":"1-2*CW3","v":1},{"$f":"1-2*CX3","v":0.75},{"$f":"1-2*CY3","v":0.5},{"$f":"1-2*CZ3","v":0.25},{"$f":"1-2*DA3","v":0}]
[null,null,null,"Bending Moment",null,null,null,null,null,null,null,null,null,null,null,null,null,"Shear Force",null,null,"Reaction",null,null,null,null,null,null,null,null,null,null,null,null,null,null,null,null,null,null,null,null,null,null,null,null,null,null,null,null,null,null,null,null,null,null,null,null,null,null,null,null,null,null,null,null,null,null,null,null,null,null,null,null,null,null,null,null,null,null,null,null,null,null,null,null,null,null,null,null,null,"fx1",{"$f":"+(CN3-CN3^3)/6","v":0},{"$f":"+(CO3-CO3^3)/6","v":2.05078125E-2},3.90625E-2,5.37109375E-2,6.25E-2,6.34765625E-2,5.46875E-2,3.41796875E-2,0,{"$f":"+(3*CW3-3*CW3^2)/6*Input!$B$1^2","v":0},{"$f":"+(3*CX3-3*CX3^2)/6*Input!$B$1^2","v":0.123046875},{"$f":"+(3*CY3-3*CY3^2)/6*Input!$B$1^2","v":0.2109375},{"$f":"+(3*CZ3-3*CZ3^2)/6*Input!$B$1^2","v":0.263671875},{"$f":"+(3*DA3-3*DA3^2)/6*Input!$B$1^2","v":0.28125}]
[null,null,null,0,{"$f":"+D9+1","v":1},2,3,4,5,6,7,8,8,{"$f":"+M9+1","v":9},{"$f":"+N9+1","v":10},{"$f":"+O9+1","v":11},{"$f":"+P9+1","v":12},"lQB","rQB","lQC","RA","RB",null,null,null,null,null,null,null,null,null,null,null,null,null,null,null,null,null,1,{"$f":"+AN9+1","v":2},3,4,5,6,7,8,9,10,null,null,null,null,null,null,null,null,null,null,null,null,null,null,null,null,null,null,null,null,null,null,null,null,null,null,null,null,null,null,null,null,null,null,null,null,null,null,null,null,null,"fx2",{"$f":"+CN8","v":0},{"$f":"+CO8","v":2.05078125E-2},3.90625E-2,5.37109375E-2,6.25E-2,6.34765625E-2,5.46875E-2,3.41796875E-2,0,{"$f":"+(CW3-3*CW3^2+2*CW3^3)/6*Input!$B$1^2","v":0},{"$f":"+(CX3-3*CX3^2+2*CX3^3)/6*Input!$B$1^2","v":3.076171875E-2},{"$f":"+(CY3-3*CY3^2+2*CY3^3)/6*Input!$B$1^2","v":3.515625E-2},{"$f":"+(CZ3-3*CZ3^2+2*CZ3^3)/6*Input!$B$1^2","v":2.197265625E-2},{"$f":"+(DA3-3*DA3^2+2*DA3^3)/6*Input!$B$1^2","v":0}]
[null,null,null,{"$f":"+E10+1","v":24},23,22,21,20,19,18,17,16,{"$f":"+N10+1","v":16},{"$f":"+O10+1","v":15},{"$f":"+P10+1","v":14},{"$f":"+Q10+1","v":13},12]
[null,null,{"$f":"+E11","v":0},{"$f":"+DQ17","v":0},{"$f":"+DR17","v":0},{"$f":"+DS17","v":0},{"$f":"+DT17","v":0},{"$f":"+DU17","v":0},{"$f":"+DV17","v":0},{"$f":"+DW17","v":0},{"$f":"+DX17","v":0},{"$f":"+DY17","v":0},{"$f":"+DZ17","v":0},{"$f":"+EA17","v":0},{"$f":"+EB17","v":0},{"$f":"+EC17","v":0},{"$f":"+ED17","v":0},{"$f":"+BN17","v":0},{"$f":"+BP17","v":0},{"$f":"+S11","v":0},{"$f":"+BI17","v":1},{"$f":"+BL17","v":0}]
[null,null,{"$f":"+C11+1","v":1},0,1.0599459134615383,0.86989182692307698,0.67983774038461542,0.48978365384615385,0.29972956730769229,0.10967548076923073,-8.037860576923081E-2,-0.27043269230769235,-0.27043269230769235,-0.22648737980769235,-0.18254206730769232,-0.13859675480769232,-9.4651442307692318E-2,-0.15204326923076922,2.3437500000000003E-2,2.3437500000000003E-2,0.84795673076923073,0.17548076923076922,null,null,null,null,null,null,null,null,null,null,null,null,null,null,null,null,null,0,{"$f":"+U12","v":0.84795673076923073},{"$f":"+U12","v":0.84795673076923073},{"$f":"+R12","v":-0.15204326923076922},{"$f":"+R12","v":-0.15204326923076922},2.3437500000000003E-2,{"$f":"-S12","v":-2.3437500000000003E-2},{"$f":"-R12","v":0.15204326923076922},{"$f":"-R12","v":0.15204326923076922},0]
[null,null,2,0,0.87311126373626369,1.7462225274725274,1.3693337912087911,0.99244505494505497,0.61555631868131855,0.23866758241758237,-0.13822115384615394,-0.51510989010989028,-0.51510989010989028,-0.43140453296703302,-0.34769917582417587,-0.26399381868131871,-0.18028846153846156,-0.30151098901098899,4.4642857142857151E-2,4.4642857142857151E-2,0.69848901098901095,0.34615384615384615,null,null,null,null,null,null,null,null,null,null,null,null,null,null,null,null,null,0,0.69848901098901095,0.69848901098901095,-0.30151098901098899,-0.30151098901098899,4.4642857142857151E-2,-4.4642857142857151E-2,0.30151098901098899,0.30151098901098899,0]
[null,null,3,0,0.69271548763736268,1.3854309752747254,2.0781464629120876,1.5208619505494505,0.96357743818681318,0.4062929258241757,-0.15099158653846156,-0.70827609890109888,-0.70827609890109888,-0.59318123282967039,-0.47808636675824179,-0.36299150068681318,-0.24789663461538464,-0.44582760989010989,6.1383928571428575E-2,6.1383928571428575E-2,0.55417239010989017,0.50721153846153844,null,null,null,null,null,null,null,null,null,null,null,null,null,null,null,null,null,0,0.55417239010989017,0.55417239010989017,-0.44582760989010989,-0.44582760989010989,6.1383928571428575E-2,-6.1383928571428575E-2,0.44582760989010989,0.44582760989010989,0]
[null,null,4,0,0.5219780219780219,1.0439560439560438,1.5659340659340659,2.0879120879120876,1.3598901098901099,0.63186813186813184,-9.6153846153846159E-2,-0.82417582417582436,-0.82417582417582436,-0.69024725274725274,-0.55631868131868134,-0.42239010989010994,-0.28846153846153849,-0.58241758241758246,7.1428571428571438E-2,7.1428571428571438E-2,0.41758241758241754,0.65384615384615385,null,null,null,null,null,null,null,null,null,null,null,null,null,null,null,null,null,0,0.41758241758241754,0.41758241758241754,-0.58241758241758246,-0.58241758241758246,7.1428571428571438E-2,-7.1428571428571438E-2,0.58241758241758246,0.58241758241758246,0]
[null,null,5,0,0.36411830357142855,0.7282366071428571,1.0923549107142858,1.4564732142857142,1.8205915178571428,0.9347098214285714,4.8828124999999931E-2,-0.83705357142857151,-0.83705357142857151,-0.7010323660714286,-0.56501116071428581,-0.4289899553571429,-0.29296875,-0.70870535714285721,7.2544642857142863E-2,7.2544642857142863E-2,0.29129464285714285,0.78125,null,null,null,null,null,null,null,null,null,null,null,null,null,null,null,null,null,0,0.29129464285714285,0.29129464285714285,-0.70870535714285721,-0.70870535714285721,7.2544642857142863E-2,-7.2544642857142863E-2,0.70870535714285721,0.70870535714285721,0,null,null,null,null,null,null,"Span","e/L","X(1)/L1","X(2)/L1","RA0","RA","RA-1","RB0","RB","lQB0","lQB","rQB0","rQB","rQB-1",null,"SA0","SA1","SA2","SA",null,"lSB0","lSB1","lSB2","lSB",null,"rSB0","rSB1","rSB2","rSB"]
[null,null,6,0,0.22235576923076925,0.44471153846153849,0.66706730769230771,0.88942307692307698,1.111778846153846,1.3341346153846154,0.30649038461538458,-0.72115384615384626,-0.72115384615384626,-0.60396634615384626,-0.48677884615384626,-0.36959134615384615,-0.25240384615384615,-0.82211538461538458,6.2500000000000014E-2,6.2500000000000014E-2,0.17788461538461539,0.88461538461538458,null,null,null,null,null,null,null,null,null,null,null,null,null,null,null,null,null,0,0.17788461538461539,0.17788461538461539,-0.82211538461538458,-0.82211538461538458,6.2500000000000014E-2,-6.2500000000000014E-2,0.82211538461538458,0.82211538461538458,0,null,null,null,null,null,{"$f":"+BE17","v":0},1,0,{"$f":"-1/(12*(1/3+Input!$B$1/2))*(BE17-BE17^3)","v":0},{"$f":"-1/(12*(1/3+Input!$B$1/6))*(BE17-BE17^3)","v":0},{"$f":"1-1*BE17","v":1},{"$f":"+BH17+BF17+BG17","v":1},{"$f":"+BI17-1","v":0},{"$f":"+BE17","v":0},{"$f":"+BK17-BF17-(1+2/Input!$B$1)*BG17","v":0},{"$f":"-BE17","v":0},{"$f":"+BM17+BF17+BG17","v":0},null,{"$f":"+BO17-2*BG17/Input!$B$1","v":0},null,null,{"$f":"-(1-BE17)*(1-(1-BE17)^2)/6","v":0},{"$f":"-BF17/6","v":0},{"$f":"-BG17/6","v":0},{"$f":"+BS17+BT17+BU17","v":0},null,{"$f":"+BE17*(1-BE17^2)/6","v":0},{"$f":"+BF17/3","v":0},{"$f":"+BG17/3","v":0},{"$f":"+BX17+BY17+BZ17","v":0},null,null,{"$f":"-BF17/2*Input!$B$1","v":0},{"$f":"-BG17/6*Input!$B$1","v":0},{"$f":"+CC17+CD17+CE17","v":0},null,null,null,null,null,null,null,0,{"$f":"+IF($BE17<=CO$3,CO$5/CO$3*$BE17,CO$5-CO$5/(1-CO$3)*($BE17-CO$3))","v":0},0,0,0,0,0,0,0,null,null,null,null,null,{"$f":"+CN17+CN$6*$BF17+CN$7*$BG17","v":0},{"$f":"+CO17+CO$6*$BF17+CO$7*$BG17","v":0},{"$f":"+CP17+CP$6*$BF17+CP$7*$BG17","v":0},{"$f":"+CQ17+CQ$6*$BF17+CQ$7*$BG17","v":0},{"$f":"+CR17+CR$6*$BF17+CR$7*$BG17","v":0},{"$f":"+CS17+CS$6*$BF17+CS$7*$BG17","v":0},{"$f":"+CT17+CT$6*$BF17+CT$7*$BG17","v":0},{"$f":"+CU17+CU$6*$BF17+CU$7*$BG17","v":0},{"$f":"+CV17+CV$6*$BF17+CV$7*$BG17","v":0},{"$f":"+CW17+CW$6*$BF17+CW$7*$BG17","v":0},{"$f":"+CX17+CX$6*$BF17+CX$7*$BG17","v":0},{"$f":"+CY17+CY$6*$BF17+CY$7*$BG17","v":0},{"$f":"+CZ17+CZ$6*$BF17+CZ$7*$BG17","v":0},{"$f":"+DA17+DA$6*$BF17+DA$7*$BG17","v":0},null,{"$f":"+DB17*10","v":0},{"$f":"+DC17*10","v":0},0,0,0,0,0,0,0,0,0,0,0,0,null,{"$f":"+IF($BE17<=CN$3,1/6*(1-CN$3)*$BE17*(1-(1-CN$3)^2-$BE17^2),1/6*CN$3*(1-$BE17)*(1-CN$3^2-(1-$BE17)^2))","v":0},{"$f":"+IF($BE17<=CO$3,1/6*(1-CO$3)*$BE17*(1-(1-CO$3)^2-$BE17^2),1/6*CO$3*(1-$BE17)*(1-CO$3^2-(1-$BE17)^2))","v":0},{"$f":"+IF($BE17<=CP$3,1/6*(1-CP$3)*$BE17*(1-(1-CP$3)^2-$BE17^2),1/6*CP$3*(1-$BE17)*(1-CP$3^2-(1-$BE17)^2))","v":0},{"$f":"+IF($BE17<=CQ$3,1/6*(1-CQ$3)*$BE17*(1-(1-CQ$3)^2-$BE17^2),1/6*CQ$3*(1-$BE17)*(1-CQ$3^2-(1-$BE17)^2))","v":0},{"$f":"+IF($BE17<=CR$3,1/6*(1-CR$3)*$BE17*(1-(1-CR$3)^2-$BE17^2),1/6*CR$3*(1-$BE17)*(1-CR$3^2-(1-$BE17)^2))","v":0},{"$f":"+IF($BE17<=CS$3,1/6*(1-CS$3)*$BE17*(1-(1-CS$3)^2-$BE17^2),1/6*CS$3*(1-$BE17)*(1-CS$3^2-(1-$BE17)^2))","v":0},{"$f":"+IF($BE17<=CT$3,1/6*(1-CT$3)*$BE17*(1-(1-CT$3)^2-$BE17^2),1/6*CT$3*(1-$BE17)*(1-CT$3^2-(1-$BE17)^2))","v":0},{"$f":"+IF($BE17<=CU$3,1/6*(1-CU$3)*$BE17*(1-(1-CU$3)^2-$BE17^2),1/6*CU$3*(1-$BE17)*(1-CU$3^2-(1-$BE17)^2))","v":0},{"$f":"+IF($BE17<=CV$3,1/6*(1-CV$3)*$BE17*(1-(1-CV$3)^2-$BE17^2),1/6*CV$3*(1-$BE17)*(1-CV$3^2-(1-$BE17)^2))","v":0},null,null,null,null,null,null,{"$f":"+EF17+CN$8*$BF17+CN$9*$BG17","v":0},{"$f":"+EG17+CO$8*$BF17+CO$9*$BG17","v":0},0,0,0,0,0,0,0,0,0,0,0,0,null,{"$f":"+EU17*100","v":0},{"$f":"+EV17*100","v":0},0,0,0,0,0,0,0,0,0,0,0,0]
[null,null,7,0,9.9909855769230754E-2,0.19981971153846151,0.29972956730769229,0.39963942307692302,0.49954927884615391,0.59945913461538458,0.69936899038461542,-0.45072115384615391,-0.45072115384615391,-0.37747896634615391,-0.30423677884615385,-0.23099459134615385,-0.15775240384615385,-0.92007211538461542,3.9062500000000007E-2,3.9062500000000007E-2,7.9927884615384609E-2,0.95913461538461542,null,null,null,null,null,null,null,null,null,null,null,null,null,null,null,null,null,0,7.9927884615384609E-2,7.9927884615384609E-2,-0.92007211538461542,-0.92007211538461542,3.9062500000000007E-2,-3.9062500000000007E-2,0.92007211538461542,0.92007211538461542,0,null,null,null,null,null,{"$f":"+BC17+1","v":1},null,{"$f":"+BE17+1/8","v":0.125},{"$f":"-1/(12*(1/3+Input!$B$1/2))*(BE18-BE18^3)","v":-9.4651442307692318E-3},{"$f":"-1/(12*(1/3+Input!$B$1/6))*(BE18-BE18^3)","v":-1.7578125000000003E-2},{"$f":"1-1*BE18","v":0.875},{"$f":"+BH18+BF18+BG18","v":0.84795673076923073},{"$f":"+BI18-1","v":-0.15204326923076927},{"$f":"+BE18","v":0.125},{"$f":"+BK18-BF18-(1+2/Input!$B$1)*BG18","v":0.17548076923076922},{"$f":"-BE18","v":-0.125},{"$f":"+BM18+BF18+BG18","v":-0.15204326923076922},null,{"$f":"+BO18-2*BG18/Input!$B$1","v":2.3437500000000003E-2},null,null,{"$f":"-(1-BE18)*(1-(1-BE18)^2)/6","v":-3.41796875E-2},{"$f":"-BF18/6","v":1.5775240384615387E-3},{"$f":"-BG18/6","v":2.9296875000000004E-3},{"$f":"+BS18+BT18+BU18","v":-2.9672475961538464E-2},null,{"$f":"+BE18*(1-BE18^2)/6","v":2.05078125E-2},{"$f":"+BF18/3","v":-3.1550480769230774E-3},{"$f":"+BG18/3","v":-5.8593750000000009E-3},{"$f":"+BX18+BY18+BZ18","v":1.1493389423076924E-2},null,null,{"$f":"-BF18/2*Input!$B$1","v":7.0988581730769239E-3},{"$f":"-BG18/6*Input!$B$1","v":4.3945312500000009E-3},{"$f":"+CC18+CD18+CE18","v":1.1493389423076924E-2},null,null,null,null,null,null,null,0,0.109375,9.375E-2,7.8125E-2,6.25E-2,4.6875E-2,3.125E-2,1.5625E-2,0,null,null,null,null,null,0,0.10599459134615384,8.6989182692307696E-2,6.7983774038461536E-2,4.8978365384615384E-2,2.9972956730769232E-2,1.0967548076923073E-2,-8.0378605769230813E-3,-2.7043269230769235E-2,-2.7043269230769235E-2,-2.2648737980769235E-2,-1.8254206730769232E-2,-1.3859675480769232E-2,-9.4651442307692318E-3,null,{"$f":"+DB18*10","v":0},1.0599459134615383,0.86989182692307698,0.67983774038461542,0.48978365384615385,0.29972956730769229,0.10967548076923073,-8.037860576923081E-2,-0.27043269230769235,-0.27043269230769235,-0.22648737980769235,-0.18254206730769232,-0.13859675480769232,-9.4651442307692318E-2,null,0,3.987630208333333E-3,6.591796875E-3,7.7311197916666661E-3,7.649739583333333E-3,6.591796875E-3,4.8014322916666661E-3,2.522786458333333E-3,0,null,null,null,null,null,null,{"$f":"+EF18+CN$8*$BF18+CN$9*$BG18","v":0},3.4330319135616985E-3,5.535419170673077E-3,6.2786004482171471E-3,5.9595352564102561E-3,4.87518310546875E-3,3.322503505608974E-3,1.5984559670472751E-3,0,0,-1.7053897564227767E-3,-2.6145348182091349E-3,-2.8819304246168872E-3,-2.6620718149038465E-3,null,{"$f":"+EU18*100","v":0},0.34330319135616988,0.55354191706730771,0.62786004482171476,0.59595352564102555,0.487518310546875,0.33225035056089741,0.15984559670472751,0,0,-0.17053897564227766,-0.26145348182091349,-0.2881930424616887,-0.26620718149038464]
[null,null,8,0,0,0,0,0,0,0,0,0,0,0,0,0,0,-1,0,0,0,1,null,null,null,null,null,null,null,null,null,null,null,null,null,null,null,null,null,null,null,null,null,null,null,null,null,null,null,null,null,null,null,null,{"$f":"+BC18+1","v":2},null,{"$f":"+BE18+1/8","v":0.25},{"$f":"-1/(12*(1/3+Input!$B$1/2))*(BE19-BE19^3)","v":-1.8028846153846156E-2},{"$f":"-1/(12*(1/3+Input!$B$1/6))*(BE19-BE19^3)","v":-3.3482142857142863E-2},0.75,0.69848901098901095,-0.30151098901098905,0.25,{"$f":"+BK19-BF19-(1+2/Input!$B$1)*BG19","v":0.34615384615384615},-0.25,-0.30151098901098899,null,{"$f":"+BO19-2*BG19/Input!$B$1","v":4.4642857142857151E-2},null,null,-5.46875E-2,3.0048076923076925E-3,5.5803571428571438E-3,-4.6102335164835161E-2,null,3.90625E-2,-6.0096153846153849E-3,-1.1160714285714288E-2,2.1892170329670328E-2,null,null,{"$f":"-BF19/2*Input!$B$1","v":1.3521634615384616E-2},{"$f":"-BG19/6*Input!$B$1","v":8.3705357142857158E-3},2.1892170329670332E-2,null,null,null,null,null,null,null,0,9.375E-2,0.1875,0.15625,0.125,9.375E-2,6.25E-2,3.125E-2,0,null,null,null,null,null,0,8.7311126373626369E-2,0.17462225274725274,0.13693337912087911,9.9244505494505503E-2,6.1555631868131858E-2,2.3866758241758237E-2,-1.3822115384615394E-2,-5.1510989010989022E-2,-5.1510989010989022E-2,-4.3140453296703303E-2,-3.4769917582417584E-2,-2.6399381868131871E-2,-1.8028846153846156E-2,null,0,0.87311126373626369,1.7462225274725274,1.3693337912087911,0.99244505494505497,0.61555631868131855,0.23866758241758237,-0.13822115384615394,-0.51510989010989028,-0.51510989010989028,-0.43140453296703302,-0.34769917582417587,-0.26399381868131871,-0.18028846153846156,null,0,6.591796875E-3,1.171875E-2,1.4241536458333332E-2,1.4322916666666666E-2,1.2451171875E-2,9.1145833333333322E-3,4.8014322916666661E-3,0,null,null,null,null,null,null,0,5.535419170673077E-3,9.7066019917582402E-3,1.1474832947000914E-2,1.1103479853479852E-2,9.1814313616071421E-3,6.2975761217948702E-3,3.040802784455128E-3,0,0,-3.2483614408052889E-3,-4.980066320398352E-3,-5.489391284984547E-3,-5.070612980769231E-3,null,0,0.55354191706730771,0.97066019917582402,1.1474832947000915,1.1103479853479852,0.91814313616071419,0.629757612179487,0.30408027844551277,0,0,-0.32483614408052891,-0.4980066320398352,-0.54893912849845472,-0.50706129807692313]
[null,null,{"$f":"+C19","v":8},0,0,0,0,0,0,0,0,0,0,0,0,0,0,0,1,{"$f":"+S20-1","v":0},0,1,null,null,null,null,null,null,null,null,null,null,null,null,null,null,null,null,null,null,null,null,null,null,null,null,null,null,null,null,null,null,null,null,3,null,0.375,{"$f":"-1/(12*(1/3+Input!$B$1/2))*(BE20-BE20^3)","v":-2.4789663461538464E-2},{"$f":"-1/(12*(1/3+Input!$B$1/6))*(BE20-BE20^3)","v":-4.6037946428571432E-2},0.625,0.55417239010989017,-0.44582760989010983,0.375,{"$f":"+BK20-BF20-(1+2/Input!$B$1)*BG20","v":0.50721153846153844},-0.375,-0.44582760989010989,null,{"$f":"+BO20-2*BG20/Input!$B$1","v":6.1383928571428575E-2},null,null,-6.34765625E-2,4.131610576923077E-3,7.6729910714285719E-3,-5.1671960851648352E-2,null,5.37109375E-2,-8.263221153846154E-3,-1.5345982142857144E-2,3.0101734203296704E-2,null,null,{"$f":"-BF20/2*Input!$B$1","v":1.8592247596153848E-2},{"$f":"-BG20/6*Input!$B$1","v":1.1509486607142858E-2},3.0101734203296704E-2,null,null,null,null,null,null,null,0,7.8125E-2,0.15625,0.234375,0.1875,0.140625,9.375E-2,4.6875E-2,0,null,null,null,null,null,0,6.9271548763736271E-2,0.13854309752747254,0.20781464629120877,0.15208619505494506,9.6357743818681313E-2,4.062929258241757E-2,-1.5099158653846156E-2,-7.0827609890109888E-2,-7.0827609890109888E-2,-5.9318123282967039E-2,-4.7808636675824176E-2,-3.629915006868132E-2,-2.4789663461538464E-2,null,0,0.69271548763736268,1.3854309752747254,2.0781464629120876,1.5208619505494505,0.96357743818681318,0.4062929258241757,-0.15099158653846156,-0.70827609890109888,-0.70827609890109888,-0.59318123282967039,-0.47808636675824179,-0.36299150068681318,-0.24789663461538464,null,0,7.7311197916666661E-3,1.4241536458333332E-2,1.8310546875E-2,1.904296875E-2,1.6845703125E-2,1.2451171875E-2,6.591796875E-3,0,null,null,null,null,null,null,0,6.2786004482171471E-3,1.1474832947000914E-2,1.4506329546917924E-2,1.4616243131868134E-2,1.2349809919084822E-2,8.5777869591346159E-3,4.1709313025841341E-3,0,0,-4.4664969811072722E-3,-6.8475911905477339E-3,-7.5479130168537526E-3,-6.9720928485576929E-3,null,0,0.62786004482171476,1.1474832947000915,1.4506329546917924,1.4616243131868134,1.2349809919084822,0.85777869591346156,0.41709313025841344,0,0,-0.44664969811072719,-0.68475911905477338,-0.75479130168537523,-0.69720928485576927]
[null,null,{"$f":"+C20+1","v":9},0,-0.10394756610576925,-0.20789513221153849,-0.31184269831730771,-0.41579026442307698,-0.51973783052884626,-0.62368539663461542,-0.72763296274038458,-0.83158052884615397,-0.83158052884615397,0.87496243990384603,0.70650540865384603,0.53804837740384615,0.36959134615384615,-8.3158052884615391E-2,0.91015625,-8.984375E-2,-8.3158052884615391E-2,0.99331430288461542,null,null,null,null,null,null,null,null,null,null,null,null,null,null,null,null,null,0,{"$f":"+R21","v":-8.3158052884615391E-2},{"$f":"+R21","v":-8.3158052884615391E-2},0.91015625,{"$f":"+S21","v":0.91015625},{"$f":"-S21","v":-0.91015625},{"$f":"-S21","v":-0.91015625},{"$f":"-R21","v":8.3158052884615391E-2},{"$f":"-R21","v":8.3158052884615391E-2},0,null,null,null,null,null,4,null,0.5,{"$f":"-1/(12*(1/3+Input!$B$1/2))*(BE21-BE21^3)","v":-2.8846153846153848E-2},{"$f":"-1/(12*(1/3+Input!$B$1/6))*(BE21-BE21^3)","v":-5.3571428571428575E-2},0.5,0.41758241758241754,-0.58241758241758246,0.5,{"$f":"+BK21-BF21-(1+2/Input!$B$1)*BG21","v":0.65384615384615385},-0.5,-0.58241758241758246,null,{"$f":"+BO21-2*BG21/Input!$B$1","v":7.1428571428571438E-2},null,null,-6.25E-2,4.807692307692308E-3,8.9285714285714298E-3,-4.8763736263736264E-2,null,6.25E-2,-9.6153846153846159E-3,-1.785714285714286E-2,3.5027472527472528E-2,null,null,{"$f":"-BF21/2*Input!$B$1","v":2.1634615384615384E-2},{"$f":"-BG21/6*Input!$B$1","v":1.3392857142857144E-2},3.5027472527472528E-2,null,null,null,null,null,null,null,0,6.25E-2,0.125,0.1875,0.25,0.1875,0.125,6.25E-2,0,null,null,null,null,null,0,5.2197802197802193E-2,0.10439560439560439,0.15659340659340659,0.20879120879120877,0.13598901098901101,6.3186813186813184E-2,-9.6153846153846159E-3,-8.241758241758243E-2,-8.241758241758243E-2,-6.9024725274725279E-2,-5.5631868131868135E-2,-4.2239010989010992E-2,-2.8846153846153848E-2,null,0,0.5219780219780219,1.0439560439560438,1.5659340659340659,2.0879120879120876,1.3598901098901099,0.63186813186813184,-9.6153846153846159E-2,-0.82417582417582436,-0.82417582417582436,-0.69024725274725274,-0.55631868131868134,-0.42239010989010994,-0.28846153846153849,null,0,7.649739583333333E-3,1.4322916666666666E-2,1.904296875E-2,2.0833333333333332E-2,1.904296875E-2,1.4322916666666666E-2,7.649739583333333E-3,0,null,null,null,null,null,null,0,5.9595352564102561E-3,1.1103479853479852E-2,1.4616243131868134E-2,1.5682234432234432E-2,1.3811383928571428E-2,9.815705128205128E-3,4.832732371794872E-3,0,0,-5.1973783052884619E-3,-7.9681061126373638E-3,-8.7830260559752758E-3,-8.1129807692307699E-3,null,0,0.59595352564102555,1.1103479853479852,1.4616243131868134,1.5682234432234432,1.3811383928571428,0.98157051282051277,0.48327323717948723,0,0,-0.51973783052884615,-0.79681061126373642,-0.8783026055975276,-0.81129807692307698]
[null,null,10,0,-0.15936212225274726,-0.31872424450549453,-0.47808636675824179,-0.63744848901098905,-0.79681061126373631,-0.95617273351648358,-1.1155348557692308,-1.2748969780219781,-1.2748969780219781,0.20668784340659335,1.6882726648351647,1.2948574862637363,0.90144230769230771,-0.12748969780219782,0.7901785714285714,-0.2098214285714286,-0.12748969780219782,0.91766826923076927,null,null,null,null,null,null,null,null,null,null,null,null,null,null,null,null,null,0,-0.12748969780219782,-0.12748969780219782,0.7901785714285714,0.7901785714285714,-0.7901785714285714,-0.7901785714285714,0.12748969780219782,0.12748969780219782,0,null,null,null,null,null,5,null,0.625,{"$f":"-1/(12*(1/3+Input!$B$1/2))*(BE22-BE22^3)","v":-2.9296875E-2},{"$f":"-1/(12*(1/3+Input!$B$1/6))*(BE22-BE22^3)","v":-5.4408482142857151E-2},0.375,0.29129464285714285,-0.70870535714285721,0.625,{"$f":"+BK22-BF22-(1+2/Input!$B$1)*BG22","v":0.78125},-0.625,-0.70870535714285721,null,{"$f":"+BO22-2*BG22/Input!$B$1","v":7.2544642857142863E-2},null,null,-5.37109375E-2,4.8828125E-3,9.0680803571428579E-3,-3.9760044642857144E-2,null,6.34765625E-2,-9.765625E-3,-1.8136160714285716E-2,3.5574776785714288E-2,null,null,{"$f":"-BF22/2*Input!$B$1","v":2.197265625E-2},{"$f":"-BG22/6*Input!$B$1","v":1.3602120535714288E-2},3.5574776785714288E-2,null,null,null,null,null,null,null,0,4.6875E-2,9.375E-2,0.140625,0.1875,0.234375,0.15625,7.8125E-2,0,null,null,null,null,null,0,3.6411830357142856E-2,7.2823660714285712E-2,0.10923549107142858,0.14564732142857142,0.18205915178571427,9.3470982142857137E-2,4.8828124999999931E-3,-8.3705357142857151E-2,-8.3705357142857151E-2,-7.0103236607142863E-2,-5.6501116071428575E-2,-4.2898995535714288E-2,-2.9296875E-2,null,0,0.36411830357142855,0.7282366071428571,1.0923549107142858,1.4564732142857142,1.8205915178571428,0.9347098214285714,4.8828124999999931E-2,-0.83705357142857151,-0.83705357142857151,-0.7010323660714286,-0.56501116071428581,-0.4289899553571429,-0.29296875,null,0,6.591796875E-3,1.2451171875E-2,1.6845703125E-2,1.904296875E-2,1.8310546875E-2,1.4241536458333332E-2,7.7311197916666661E-3,0,null,null,null,null,null,null,0,4.87518310546875E-3,9.1814313616071421E-3,1.2349809919084822E-2,1.3811383928571428E-2,1.2997218540736606E-2,9.6638997395833322E-3,4.8700968424479161E-3,0,0,-5.2785873413085938E-3,-8.0926077706473219E-3,-8.9202608380998891E-3,-8.23974609375E-3,null,0,0.487518310546875,0.91814313616071419,1.2349809919084822,1.3811383928571428,1.2997218540736606,0.96638997395833326,0.48700968424479163,0,0,-0.52785873413085938,-0.80926077706473221,-0.89202608380998893,-0.823974609375]
[null,null,11,0,-0.17566052111950547,-0.35132104223901095,-0.52698156335851642,-0.7026420844780219,-0.87830260559752749,-1.0539631267170328,-1.2296236478365383,-1.4052841689560438,-1.4052841689560438,-0.18632490556318682,1.0326343578296704,2.2515936212225274,1.5955528846153846,-0.14052841689560439,0.6501116071428571,-0.3498883928571429,-0.14052841689560439,0.79064002403846156,null,null,null,null,null,null,null,null,null,null,null,null,null,null,null,null,null,0,-0.14052841689560439,-0.14052841689560439,0.6501116071428571,0.6501116071428571,-0.6501116071428571,-0.6501116071428571,0.14052841689560439,0.14052841689560439,0,null,null,null,null,null,6,null,0.75,{"$f":"-1/(12*(1/3+Input!$B$1/2))*(BE23-BE23^3)","v":-2.5240384615384616E-2},{"$f":"-1/(12*(1/3+Input!$B$1/6))*(BE23-BE23^3)","v":-4.6875000000000007E-2},0.25,0.17788461538461539,-0.82211538461538458,0.75,{"$f":"+BK23-BF23-(1+2/Input!$B$1)*BG23","v":0.88461538461538458},-0.75,-0.82211538461538458,null,{"$f":"+BO23-2*BG23/Input!$B$1","v":6.2500000000000014E-2},null,null,-3.90625E-2,4.206730769230769E-3,7.8125000000000017E-3,-2.7043269230769232E-2,null,5.46875E-2,-8.4134615384615381E-3,-1.5625000000000003E-2,3.064903846153846E-2,null,null,{"$f":"-BF23/2*Input!$B$1","v":1.8930288461538464E-2},{"$f":"-BG23/6*Input!$B$1","v":1.1718750000000003E-2},3.0649038461538467E-2,null,null,null,null,null,null,null,0,3.125E-2,6.25E-2,9.375E-2,0.125,0.15625,0.1875,9.375E-2,0,null,null,null,null,null,0,2.2235576923076924E-2,4.4471153846153848E-2,6.6706730769230768E-2,8.8942307692307696E-2,0.11117788461538461,0.13341346153846154,3.0649038461538457E-2,-7.2115384615384623E-2,-7.2115384615384623E-2,-6.0396634615384623E-2,-4.8677884615384623E-2,-3.6959134615384616E-2,-2.5240384615384616E-2,null,0,0.22235576923076925,0.44471153846153849,0.66706730769230771,0.88942307692307698,1.111778846153846,1.3341346153846154,0.30649038461538458,-0.72115384615384626,-0.72115384615384626,-0.60396634615384626,-0.48677884615384626,-0.36959134615384615,-0.25240384615384615,null,0,4.8014322916666661E-3,9.1145833333333322E-3,1.2451171875E-2,1.4322916666666666E-2,1.4241536458333332E-2,1.171875E-2,6.591796875E-3,0,null,null,null,null,null,null,0,3.322503505608974E-3,6.2975761217948702E-3,8.5777869591346159E-3,9.815705128205128E-3,9.6638997395833322E-3,7.774939903846154E-3,4.126915564903846E-3,0,0,-4.547706017127404E-3,-6.972092848557692E-3,-7.6851477989783659E-3,-7.098858173076923E-3,null,0,0.33225035056089741,0.629757612179487,0.85777869591346156,0.98157051282051277,0.96638997395833326,0.77749399038461542,0.41269155649038458,0,0,-0.45477060171274042,-0.69720928485576916,-0.76851477989783656,-0.70988581730769229]
[null,null,12,0,-0.16225961538461536,-0.32451923076923073,-0.48677884615384609,-0.64903846153846145,-0.81129807692307687,-0.97355769230769218,-1.1358173076923075,-1.2980769230769229,-1.2980769230769229,-0.36057692307692291,0.57692307692307709,1.5144230769230771,2.4519230769230771,-0.12980769230769229,0.5,-0.5,-0.12980769230769229,0.62980769230769229,null,null,null,null,null,null,null,null,null,null,null,null,null,null,null,null,null,0,-0.12980769230769229,-0.12980769230769229,0.5,0.5,-0.5,-0.5,0.12980769230769229,0.12980769230769229,0,null,null,null,null,null,7,null,0.875,{"$f":"-1/(12*(1/3+Input!$B$1/2))*(BE24-BE24^3)","v":-1.5775240384615384E-2},{"$f":"-1/(12*(1/3+Input!$B$1/6))*(BE24-BE24^3)","v":-2.9296875000000003E-2},0.125,7.9927884615384609E-2,-0.92007211538461542,0.875,{"$f":"+BK24-BF24-(1+2/Input!$B$1)*BG24","v":0.95913461538461542},-0.875,-0.92007211538461542,null,{"$f":"+BO24-2*BG24/Input!$B$1","v":3.9062500000000007E-2},null,null,-2.05078125E-2,2.6292067307692305E-3,4.8828125000000009E-3,-1.2995793269230768E-2,null,3.41796875E-2,-5.2584134615384611E-3,-9.7656250000000017E-3,1.9155649038461536E-2,null,null,{"$f":"-BF24/2*Input!$B$1","v":1.1831430288461538E-2},{"$f":"-BG24/6*Input!$B$1","v":7.3242187500000017E-3},1.915564903846154E-2,null,null,null,null,null,null,null,0,1.5625E-2,3.125E-2,4.6875E-2,6.25E-2,7.8125E-2,9.375E-2,0.109375,0,null,null,null,null,null,0,9.9909855769230761E-3,1.9981971153846152E-2,2.9972956730769232E-2,3.9963942307692304E-2,4.9954927884615391E-2,5.9945913461538464E-2,6.9936899038461536E-2,-4.5072115384615391E-2,-4.5072115384615391E-2,-3.7747896634615391E-2,-3.0423677884615384E-2,-2.3099459134615384E-2,-1.5775240384615384E-2,null,0,9.9909855769230754E-2,0.19981971153846151,0.29972956730769229,0.39963942307692302,0.49954927884615391,0.59945913461538458,0.69936899038461542,-0.45072115384615391,-0.45072115384615391,-0.37747896634615391,-0.30423677884615385,-0.23099459134615385,-0.15775240384615385,null,0,2.522786458333333E-3,4.8014322916666661E-3,6.591796875E-3,7.649739583333333E-3,7.7311197916666661E-3,6.591796875E-3,3.987630208333333E-3,0,null,null,null,null,null,null,0,1.5984559670472755E-3,3.040802784455128E-3,4.1709313025841349E-3,4.832732371794872E-3,4.8700968424479161E-3,4.126915564903846E-3,2.447079389523237E-3,0,0,-2.8423162607046273E-3,-4.357558030348558E-3,-4.8032173743614778E-3,-4.436786358173077E-3,null,0,0.15984559670472756,0.30408027844551277,0.41709313025841349,0.48327323717948723,0.48700968424479163,0.41269155649038458,0.24470793895232371,0,0,-0.28423162607046271,-0.43575580303485578,-0.48032173743614781,-0.44367863581730771]
[null,null,13,0,-0.12857625772664835,-0.2571525154532967,-0.38572877317994497,-0.51430503090659341,-0.64288128863324179,-0.77145754635988995,-0.90003380408653844,-1.0286100618131868,-1.0286100618131868,-0.37256932520604391,0.28347141140109894,0.93951214800824179,1.5955528846153846,-0.10286100618131867,0.34988839285714285,-0.65011160714285721,-0.10286100618131867,0.45274939903846156,null,null,null,null,null,null,null,null,null,null,null,null,null,null,null,null,null,0,-0.10286100618131867,-0.10286100618131867,0.34988839285714285,0.34988839285714285,-0.34988839285714285,-0.34988839285714285,0.10286100618131867,0.10286100618131867,0,null,null,null,null,null,8,null,1,{"$f":"-1/(12*(1/3+Input!$B$1/2))*(BE25-BE25^3)","v":0},{"$f":"-1/(12*(1/3+Input!$B$1/6))*(BE25-BE25^3)","v":0},0,0,-1,1,{"$f":"+BK25-BF25-(1+2/Input!$B$1)*BG25","v":1},-1,-1,null,{"$f":"+BO25-2*BG25/Input!$B$1","v":0},null,null,0,0,0,0,null,0,0,0,0,null,null,{"$f":"-BF25/2*Input!$B$1","v":0},{"$f":"-BG25/6*Input!$B$1","v":0},0,null,null,null,null,null,null,null,0,0,0,0,0,0,0,0,0,null,null,null,null,null,0,0,0,0,0,0,0,0,0,0,0,0,0,0,null,0,0,0,0,0,0,0,0,0,0,0,0,0,0,null,0,0,0,0,0,0,0,0,0,null,null,null,null,null,null,0,0,0,0,0,0,0,0,0,0,0,0,0,0,null,0,0,0,0,0,0,0,0,0,0,0,0,0,0]
[null,null,14,0,-8.4027300824175824E-2,-0.16805460164835165,-0.25208190247252749,-0.3361092032967033,-0.42013650412087905,-0.50416380494505497,-0.58819110576923073,-0.67221840659340659,-0.67221840659340659,-0.27880322802197799,0.11461195054945056,0.50802712912087911,0.90144230769230771,-6.7221840659340656E-2,0.20982142857142858,-0.7901785714285714,-6.7221840659340656E-2,0.27704326923076922,null,null,null,null,null,null,null,null,null,null,null,null,null,null,null,null,null,0,-6.7221840659340656E-2,-6.7221840659340656E-2,0.20982142857142858,0.20982142857142858,-0.20982142857142858,-0.20982142857142858,6.7221840659340656E-2,6.7221840659340656E-2,0,null,null,null,null,null,{"$f":"+BC25","v":8},2,0,{"$f":"-(Input!$B$1^2)/(12*(1/3+Input!$B$1/2))*(3*BE26-3*BE26^2)","v":0},{"$f":"-(Input!$B$1^2)/(12*(1/3+Input!$B$1/6))*(BE26-3*BE26^2+2*BE26^3)","v":0},null,0,null,{"$f":"1-BE26","v":1},{"$f":"+BK26-BF26-(1+2/Input!$B$1)*BG26","v":1},null,0,{"$f":"1-BE26","v":1},{"$f":"+BO26-2*BG26/Input!$B$1","v":1},{"$f":"+BP26-1","v":0},null,null,0,0,0,null,null,0,0,0,null,{"$f":"-(1-BE26)*(1-(1-BE26)^2)/6*Input!$B$1^2","v":0},{"$f":"-BF26/2*Input!$B$1","v":0},{"$f":"-BG26/6*Input!$B$1","v":0},0,null,null,null,null,null,null,null,null,null,null,null,null,null,null,null,null,0,{"$f":"+IF($BE26<=CX$3,CX$5/CX$3*$BE26,CX$5-CX$5/(1-CX$3)*($BE26-CX$3))*Input!$B$1","v":0},{"$f":"+IF($BE26<=CY$3,CY$5/CY$3*$BE26,CY$5-CY$5/(1-CY$3)*($BE26-CY$3))*Input!$B$1","v":0},{"$f":"+IF($BE26<=CZ$3,CZ$5/CZ$3*$BE26,CZ$5-CZ$5/(1-CZ$3)*($BE26-CZ$3))*Input!$B$1","v":0},{"$f":"+IF($BE26<=DA$3,DA$5/DA$3*$BE26,DA$5-DA$5/(1-DA$3)*($BE26-DA$3))*Input!$B$1","v":0},0,0,0,0,0,0,0,0,0,0,0,0,0,0,null,0,0,0,0,0,0,0,0,0,0,0,0,0,0,null,null,null,null,null,null,null,null,null,null,{"$f":"+IF($BE26<=CW$3,1/6*(1-CW$3)*$BE26*(1-(1-CW$3)^2-$BE26^2),1/6*CW$3*(1-$BE26)*(1-CW$3^2-(1-$BE26)^2))*Input!$B$1^3","v":0},{"$f":"+IF($BE26<=CX$3,1/6*(1-CX$3)*$BE26*(1-(1-CX$3)^2-$BE26^2),1/6*CX$3*(1-$BE26)*(1-CX$3^2-(1-$BE26)^2))*Input!$B$1^3","v":0},{"$f":"+IF($BE26<=CY$3,1/6*(1-CY$3)*$BE26*(1-(1-CY$3)^2-$BE26^2),1/6*CY$3*(1-$BE26)*(1-CY$3^2-(1-$BE26)^2))*Input!$B$1^3","v":0},{"$f":"+IF($BE26<=CZ$3,1/6*(1-CZ$3)*$BE26*(1-(1-CZ$3)^2-$BE26^2),1/6*CZ$3*(1-$BE26)*(1-CZ$3^2-(1-$BE26)^2))*Input!$B$1^3","v":0},{"$f":"+IF($BE26<=DA$3,1/6*(1-DA$3)*$BE26*(1-(1-DA$3)^2-$BE26^2),1/6*DA$3*(1-$BE26)*(1-DA$3^2-(1-$BE26)^2))*Input!$B$1^3","v":0},null,0,0,0,0,0,0,0,0,0,0,0,0,0,0,null,0,0,0,0,0,0,0,0,0,0,0,0,0,0]
[null,null,15,0,-3.8029597355769225E-2,-7.605919471153845E-2,-0.11408879206730767,-0.1521183894230769,-0.19014798677884612,-0.22817758413461534,-0.26620718149038458,-0.3042367788461538,-0.3042367788461538,-0.1357797475961538,3.2677283653846173E-2,0.20113431490384615,0.36959134615384615,-3.0423677884615381E-2,8.984375E-2,-0.91015625,-3.0423677884615381E-2,0.12026742788461539,null,null,null,null,null,null,null,null,null,null,null,null,null,null,null,null,null,0,-3.0423677884615381E-2,-3.0423677884615381E-2,8.984375E-2,8.984375E-2,-8.984375E-2,-8.984375E-2,3.0423677884615381E-2,3.0423677884615381E-2,0,null,null,null,null,null,{"$f":"+BC26+1","v":9},null,{"$f":"+BE26+1/8","v":0.125},{"$f":"-(Input!$B$1^2)/(12*(1/3+Input!$B$1/2))*(3*BE27-3*BE27^2)","v":-5.6790865384615384E-2},{"$f":"-(Input!$B$1^2)/(12*(1/3+Input!$B$1/6))*(BE27-3*BE27^2+2*BE27^3)","v":-2.6367187500000003E-2},null,-8.3158052884615391E-2,null,{"$f":"1-BE27","v":0.875},{"$f":"+BK27-BF27-(1+2/Input!$B$1)*BG27","v":0.99331430288461542},null,-8.3158052884615391E-2,{"$f":"1-BE27","v":0.875},{"$f":"+BO27-2*BG27/Input!$B$1","v":0.91015625},{"$f":"+BP27-1","v":-8.984375E-2},null,null,9.4651442307692301E-3,4.3945312500000009E-3,1.3859675480769232E-2,null,null,-1.893028846153846E-2,-8.7890625000000017E-3,-2.7719350961538464E-2,null,{"$f":"-(1-BE27)*(1-(1-BE27)^2)/6*Input!$B$1^2","v":-7.6904296875E-2},{"$f":"-BF27/2*Input!$B$1","v":4.2593149038461536E-2},{"$f":"-BG27/6*Input!$B$1","v":6.5917968750000017E-3},-2.7719350961538464E-2,null,null,null,null,null,null,null,null,null,null,null,null,null,null,null,null,0,{"$f":"+IF($BE27<=CX$3,CX$5/CX$3*$BE27,CX$5-CX$5/(1-CX$3)*($BE27-CX$3))*Input!$B$1","v":0.1640625},{"$f":"+IF($BE27<=CY$3,CY$5/CY$3*$BE27,CY$5-CY$5/(1-CY$3)*($BE27-CY$3))*Input!$B$1","v":0.140625},{"$f":"+IF($BE27<=CZ$3,CZ$5/CZ$3*$BE27,CZ$5-CZ$5/(1-CZ$3)*($BE27-CZ$3))*Input!$B$1","v":0.1171875},{"$f":"+IF($BE27<=DA$3,DA$5/DA$3*$BE27,DA$5-DA$5/(1-DA$3)*($BE27-DA$3))*Input!$B$1","v":9.375E-2},0,-1.0394756610576924E-2,-2.0789513221153848E-2,-3.1184269831730768E-2,-4.1579026442307696E-2,-5.1973783052884623E-2,-6.2368539663461536E-2,-7.2763296274038464E-2,-8.3158052884615391E-2,-8.3158052884615391E-2,8.7496243990384609E-2,7.0650540865384609E-2,5.3804837740384616E-2,3.6959134615384616E-2,null,0,-0.10394756610576925,-0.20789513221153849,-0.31184269831730771,-0.41579026442307698,-0.51973783052884626,-0.62368539663461542,-0.72763296274038458,-0.83158052884615397,-0.83158052884615397,0.87496243990384603,0.70650540865384603,0.53804837740384615,0.36959134615384615,null,null,null,null,null,null,null,null,null,null,{"$f":"+IF($BE27<=CW$3,1/6*(1-CW$3)*$BE27*(1-(1-CW$3)^2-$BE27^2),1/6*CW$3*(1-$BE27)*(1-CW$3^2-(1-$BE27)^2))*Input!$B$1^3","v":0},{"$f":"+IF($BE27<=CX$3,1/6*(1-CX$3)*$BE27*(1-(1-CX$3)^2-$BE27^2),1/6*CX$3*(1-$BE27)*(1-CX$3^2-(1-$BE27)^2))*Input!$B$1^3","v":1.3458251953124998E-2},{"$f":"+IF($BE27<=CY$3,1/6*(1-CY$3)*$BE27*(1-(1-CY$3)^2-$BE27^2),1/6*CY$3*(1-$BE27)*(1-CY$3^2-(1-$BE27)^2))*Input!$B$1^3","v":2.2247314453125E-2},{"$f":"+IF($BE27<=CZ$3,1/6*(1-CZ$3)*$BE27*(1-(1-CZ$3)^2-$BE27^2),1/6*CZ$3*(1-$BE27)*(1-CZ$3^2-(1-$BE27)^2))*Input!$B$1^3","v":2.6092529296874997E-2},{"$f":"+IF($BE27<=DA$3,1/6*(1-DA$3)*$BE27*(1-(1-DA$3)^2-$BE27^2),1/6*DA$3*(1-$BE27)*(1-DA$3^2-(1-$BE27)^2))*Input!$B$1^3","v":2.581787109375E-2},null,0,-1.7053897564227767E-3,-3.2483614408052889E-3,-4.4664969811072722E-3,-5.1973783052884619E-3,-5.2785873413085938E-3,-4.547706017127404E-3,-2.8423162607046277E-3,0,0,5.6592134328988866E-3,9.341019850510817E-3,1.0539018190824066E-2,9.8454402043269239E-3,null,0,-0.17053897564227766,-0.32483614408052891,-0.44664969811072719,-0.51973783052884615,-0.52785873413085938,-0.45477060171274042,-0.28423162607046276,0,0,0.56592134328988863,0.93410198505108166,1.0539018190824065,0.9845440204326924]
[null,null,16,0,0,0,0,0,0,0,0,0,0,0,0,0,0,0,0,-1,0,0,null,null,null,null,null,null,null,null,null,null,null,null,null,null,null,null,null,null,null,null,null,null,null,null,null,null,null,null,null,null,null,null,{"$f":"+BC27+1","v":10},null,{"$f":"+BE27+1/8","v":0.25},{"$f":"-(Input!$B$1^2)/(12*(1/3+Input!$B$1/2))*(3*BE28-3*BE28^2)","v":-9.7355769230769232E-2},{"$f":"-(Input!$B$1^2)/(12*(1/3+Input!$B$1/6))*(BE28-3*BE28^2+2*BE28^3)","v":-3.0133928571428575E-2},null,-0.12748969780219782,null,0.75,{"$f":"+BK28-BF28-(1+2/Input!$B$1)*BG28","v":0.91766826923076927},null,-0.12748969780219782,0.75,{"$f":"+BO28-2*BG28/Input!$B$1","v":0.7901785714285714},-0.2098214285714286,null,null,1.622596153846154E-2,5.0223214285714289E-3,2.1248282967032968E-2,null,null,-3.245192307692308E-2,-1.0044642857142858E-2,-4.2496565934065936E-2,null,{"$f":"-(1-BE28)*(1-(1-BE28)^2)/6*Input!$B$1^2","v":-0.123046875},{"$f":"-BF28/2*Input!$B$1","v":7.3016826923076927E-2},{"$f":"-BG28/6*Input!$B$1","v":7.5334821428571438E-3},-4.2496565934065929E-2,null,null,null,null,null,null,null,null,null,null,null,null,null,null,null,null,0,{"$f":"+IF($BE28<=CX$3,CX$5/CX$3*$BE28,CX$5-CX$5/(1-CX$3)*($BE28-CX$3))*Input!$B$1","v":0.140625},{"$f":"+IF($BE28<=CY$3,CY$5/CY$3*$BE28,CY$5-CY$5/(1-CY$3)*($BE28-CY$3))*Input!$B$1","v":0.28125},{"$f":"+IF($BE28<=CZ$3,CZ$5/CZ$3*$BE28,CZ$5-CZ$5/(1-CZ$3)*($BE28-CZ$3))*Input!$B$1","v":0.234375},{"$f":"+IF($BE28<=DA$3,DA$5/DA$3*$BE28,DA$5-DA$5/(1-DA$3)*($BE28-DA$3))*Input!$B$1","v":0.1875},0,-1.5936212225274728E-2,-3.1872424450549455E-2,-4.7808636675824176E-2,-6.3744848901098911E-2,-7.9681061126373631E-2,-9.5617273351648352E-2,-0.11155348557692307,-0.12748969780219782,-0.12748969780219782,2.0668784340659337E-2,0.16882726648351648,0.12948574862637363,9.0144230769230768E-2,null,0,-0.15936212225274726,-0.31872424450549453,-0.47808636675824179,-0.63744848901098905,-0.79681061126373631,-0.95617273351648358,-1.1155348557692308,-1.2748969780219781,-1.2748969780219781,0.20668784340659335,1.6882726648351647,1.2948574862637363,0.90144230769230771,null,null,null,null,null,null,null,null,null,null,{"$f":"+IF($BE28<=CW$3,1/6*(1-CW$3)*$BE28*(1-(1-CW$3)^2-$BE28^2),1/6*CW$3*(1-$BE28)*(1-CW$3^2-(1-$BE28)^2))*Input!$B$1^3","v":0},{"$f":"+IF($BE28<=CX$3,1/6*(1-CX$3)*$BE28*(1-(1-CX$3)^2-$BE28^2),1/6*CX$3*(1-$BE28)*(1-CX$3^2-(1-$BE28)^2))*Input!$B$1^3","v":2.2247314453125E-2},{"$f":"+IF($BE28<=CY$3,1/6*(1-CY$3)*$BE28*(1-(1-CY$3)^2-$BE28^2),1/6*CY$3*(1-$BE28)*(1-CY$3^2-(1-$BE28)^2))*Input!$B$1^3","v":3.955078125E-2},{"$f":"+IF($BE28<=CZ$3,1/6*(1-CZ$3)*$BE28*(1-(1-CZ$3)^2-$BE28^2),1/6*CZ$3*(1-$BE28)*(1-CZ$3^2-(1-$BE28)^2))*Input!$B$1^3","v":4.8065185546874993E-2},{"$f":"+IF($BE28<=DA$3,1/6*(1-DA$3)*$BE28*(1-(1-DA$3)^2-$BE28^2),1/6*DA$3*(1-$BE28)*(1-DA$3^2-(1-$BE28)^2))*Input!$B$1^3","v":4.833984375E-2},null,0,-2.6145348182091345E-3,-4.980066320398352E-3,-6.8475911905477339E-3,-7.9681061126373638E-3,-8.0926077706473219E-3,-6.972092848557692E-3,-4.357558030348558E-3,0,0,9.341019850510817E-3,1.7955402751545328E-2,2.1733084877768708E-2,2.0958533653846152E-2,null,0,-0.26145348182091344,-0.4980066320398352,-0.68475911905477338,-0.79681061126373642,-0.80926077706473221,-0.69720928485576916,-0.43575580303485578,0,0,0.93410198505108166,1.7955402751545328,2.1733084877768709,2.0958533653846154]
[null,null,{"$f":"+C28","v":16},0,0,0,0,0,0,0,0,0,0,0,0,0,0,0,0,{"$f":"+S29","v":0},0,0,null,null,null,null,null,null,null,null,null,null,null,null,null,null,null,null,null,null,null,null,null,null,null,null,null,null,null,null,null,null,null,null,11,null,0.375,{"$f":"-(Input!$B$1^2)/(12*(1/3+Input!$B$1/2))*(3*BE29-3*BE29^2)","v":-0.12169471153846154},{"$f":"-(Input!$B$1^2)/(12*(1/3+Input!$B$1/6))*(BE29-3*BE29^2+2*BE29^3)","v":-1.883370535714286E-2},null,-0.14052841689560439,null,0.625,{"$f":"+BK29-BF29-(1+2/Input!$B$1)*BG29","v":0.79064002403846156},null,-0.14052841689560439,0.625,{"$f":"+BO29-2*BG29/Input!$B$1","v":0.6501116071428571},-0.3498883928571429,null,null,2.0282451923076924E-2,3.1389508928571434E-3,2.3421402815934068E-2,null,null,-4.0564903846153848E-2,-6.2779017857142868E-3,-4.6842805631868135E-2,null,{"$f":"-(1-BE29)*(1-(1-BE29)^2)/6*Input!$B$1^2","v":-0.142822265625},{"$f":"-BF29/2*Input!$B$1","v":9.1271033653846145E-2},{"$f":"-BG29/6*Input!$B$1","v":4.7084263392857149E-3},-4.6842805631868142E-2,null,null,null,null,null,null,null,null,null,null,null,null,null,null,null,null,0,{"$f":"+IF($BE29<=CX$3,CX$5/CX$3*$BE29,CX$5-CX$5/(1-CX$3)*($BE29-CX$3))*Input!$B$1","v":0.1171875},{"$f":"+IF($BE29<=CY$3,CY$5/CY$3*$BE29,CY$5-CY$5/(1-CY$3)*($BE29-CY$3))*Input!$B$1","v":0.234375},{"$f":"+IF($BE29<=CZ$3,CZ$5/CZ$3*$BE29,CZ$5-CZ$5/(1-CZ$3)*($BE29-CZ$3))*Input!$B$1","v":0.3515625},{"$f":"+IF($BE29<=DA$3,DA$5/DA$3*$BE29,DA$5-DA$5/(1-DA$3)*($BE29-DA$3))*Input!$B$1","v":0.28125},0,-1.7566052111950548E-2,-3.5132104223901096E-2,-5.2698156335851648E-2,-7.0264208447802193E-2,-8.7830260559752751E-2,-0.1053963126717033,-0.12296236478365384,-0.14052841689560439,-0.14052841689560439,-1.863249055631868E-2,0.10326343578296704,0.22515936212225274,0.15955528846153846,null,0,{"$f":"+DC29*10","v":-0.17566052111950547},{"$f":"+DD29*10","v":-0.35132104223901095},{"$f":"+DE29*10","v":-0.52698156335851642},{"$f":"+DF29*10","v":-0.7026420844780219},{"$f":"+DG29*10","v":-0.87830260559752749},{"$f":"+DH29*10","v":-1.0539631267170328},{"$f":"+DI29*10","v":-1.2296236478365383},{"$f":"+DJ29*10","v":-1.4052841689560438},{"$f":"+DK29*10","v":-1.4052841689560438},{"$f":"+DL29*10","v":-0.18632490556318682},{"$f":"+DM29*10","v":1.0326343578296704},{"$f":"+DN29*10","v":2.2515936212225274},{"$f":"+DO29*10","v":1.5955528846153846},null,null,null,null,null,null,null,null,null,null,{"$f":"+IF($BE29<=CW$3,1/6*(1-CW$3)*$BE29*(1-(1-CW$3)^2-$BE29^2),1/6*CW$3*(1-$BE29)*(1-CW$3^2-(1-$BE29)^2))*Input!$B$1^3","v":0},{"$f":"+IF($BE29<=CX$3,1/6*(1-CX$3)*$BE29*(1-(1-CX$3)^2-$BE29^2),1/6*CX$3*(1-$BE29)*(1-CX$3^2-(1-$BE29)^2))*Input!$B$1^3","v":2.6092529296874997E-2},{"$f":"+IF($BE29<=CY$3,1/6*(1-CY$3)*$BE29*(1-(1-CY$3)^2-$BE29^2),1/6*CY$3*(1-$BE29)*(1-CY$3^2-(1-$BE29)^2))*Input!$B$1^3","v":4.8065185546874993E-2},{"$f":"+IF($BE29<=CZ$3,1/6*(1-CZ$3)*$BE29*(1-(1-CZ$3)^2-$BE29^2),1/6*CZ$3*(1-$BE29)*(1-CZ$3^2-(1-$BE29)^2))*Input!$B$1^3","v":6.1798095703125E-2},{"$f":"+IF($BE29<=DA$3,1/6*(1-DA$3)*$BE29*(1-(1-DA$3)^2-$BE29^2),1/6*DA$3*(1-$BE29)*(1-DA$3^2-(1-$BE29)^2))*Input!$B$1^3","v":6.427001953125E-2},null,0,-2.8819304246168868E-3,-5.489391284984547E-3,-7.5479130168537509E-3,-8.7830260559752741E-3,-8.9202608380998891E-3,-7.6851477989783651E-3,-4.8032173743614787E-3,0,0,1.0539018190824066E-2,2.1733084877768708E-2,2.9296796400468429E-2,3.0043381911057696E-2,null,0,{"$f":"+EV29*100","v":-0.2881930424616887},{"$f":"+EW29*100","v":-0.54893912849845472},{"$f":"+EX29*100","v":-0.75479130168537512},{"$f":"+EY29*100","v":-0.87830260559752737},{"$f":"+EZ29*100","v":-0.89202608380998893},{"$f":"+FA29*100","v":-0.76851477989783645},{"$f":"+FB29*100","v":-0.48032173743614787},{"$f":"+FC29*100","v":0},{"$f":"+FD29*100","v":0},{"$f":"+FE29*100","v":1.0539018190824065},{"$f":"+FF29*100","v":2.1733084877768709},{"$f":"+FG29*100","v":2.9296796400468428},{"$f":"+FH29*100","v":3.0043381911057696}]
[null,null,{"$f":"+C29+1","v":17},0,1.6902043269230775E-2,3.380408653846155E-2,5.0706129807692325E-2,6.76081730769231E-2,8.4510216346153882E-2,0.10141225961538465,0.11831430288461543,0.1352163461538462,0.1352163461538462,6.1974158653846194E-2,-1.1268028846153823E-2,-8.4510216346153841E-2,-0.15775240384615385,1.3521634615384619E-2,-3.9062500000000007E-2,-3.9062500000000007E-2,1.3521634615384619E-2,-5.2584134615384616E-2,null,null,null,null,null,null,null,null,null,null,null,null,null,null,null,null,null,0,{"$f":"+U30","v":1.3521634615384619E-2},{"$f":"+U30","v":1.3521634615384619E-2},{"$f":"+R30","v":1.3521634615384619E-2},{"$f":"+R30","v":1.3521634615384619E-2},-3.9062500000000007E-2,{"$f":"-S30","v":3.9062500000000007E-2},{"$f":"-R30","v":-1.3521634615384619E-2},{"$f":"-R30","v":-1.3521634615384619E-2},0,null,null,null,null,null,12,null,0.5,{"$f":"-(Input!$B$1^2)/(12*(1/3+Input!$B$1/2))*(3*BE30-3*BE30^2)","v":-0.12980769230769229},{"$f":"-(Input!$B$1^2)/(12*(1/3+Input!$B$1/6))*(BE30-3*BE30^2+2*BE30^3)","v":0},null,-0.12980769230769229,null,0.5,{"$f":"+BK30-BF30-(1+2/Input!$B$1)*BG30","v":0.62980769230769229},null,-0.12980769230769229,0.5,{"$f":"+BO30-2*BG30/Input!$B$1","v":0.5},-0.5,null,null,2.1634615384615381E-2,0,2.1634615384615381E-2,null,null,-4.3269230769230761E-2,0,-4.3269230769230761E-2,null,{"$f":"-(1-BE30)*(1-(1-BE30)^2)/6*Input!$B$1^2","v":-0.140625},{"$f":"-BF30/2*Input!$B$1","v":9.7355769230769218E-2},{"$f":"-BG30/6*Input!$B$1","v":0},-4.3269230769230782E-2,null,null,null,null,null,null,null,null,null,null,null,null,null,null,null,null,0,{"$f":"+IF($BE30<=CX$3,CX$5/CX$3*$BE30,CX$5-CX$5/(1-CX$3)*($BE30-CX$3))*Input!$B$1","v":9.375E-2},{"$f":"+IF($BE30<=CY$3,CY$5/CY$3*$BE30,CY$5-CY$5/(1-CY$3)*($BE30-CY$3))*Input!$B$1","v":0.1875},{"$f":"+IF($BE30<=CZ$3,CZ$5/CZ$3*$BE30,CZ$5-CZ$5/(1-CZ$3)*($BE30-CZ$3))*Input!$B$1","v":0.28125},{"$f":"+IF($BE30<=DA$3,DA$5/DA$3*$BE30,DA$5-DA$5/(1-DA$3)*($BE30-DA$3))*Input!$B$1","v":0.375},0,-1.6225961538461536E-2,-3.2451923076923073E-2,-4.8677884615384609E-2,-6.4903846153846145E-2,-8.1129807692307682E-2,-9.7355769230769218E-2,-0.11358173076923075,-0.12980769230769229,-0.12980769230769229,-3.6057692307692291E-2,5.7692307692307709E-2,0.15144230769230771,0.24519230769230771,null,0,-0.16225961538461536,-0.32451923076923073,-0.48677884615384609,-0.64903846153846145,-0.81129807692307687,-0.97355769230769218,-1.1358173076923075,-1.2980769230769229,-1.2980769230769229,-0.36057692307692291,0.57692307692307709,1.5144230769230771,2.4519230769230771,null,null,null,null,null,null,null,null,null,null,{"$f":"+IF($BE30<=CW$3,1/6*(1-CW$3)*$BE30*(1-(1-CW$3)^2-$BE30^2),1/6*CW$3*(1-$BE30)*(1-CW$3^2-(1-$BE30)^2))*Input!$B$1^3","v":0},{"$f":"+IF($BE30<=CX$3,1/6*(1-CX$3)*$BE30*(1-(1-CX$3)^2-$BE30^2),1/6*CX$3*(1-$BE30)*(1-CX$3^2-(1-$BE30)^2))*Input!$B$1^3","v":2.581787109375E-2},{"$f":"+IF($BE30<=CY$3,1/6*(1-CY$3)*$BE30*(1-(1-CY$3)^2-$BE30^2),1/6*CY$3*(1-$BE30)*(1-CY$3^2-(1-$BE30)^2))*Input!$B$1^3","v":4.833984375E-2},{"$f":"+IF($BE30<=CZ$3,1/6*(1-CZ$3)*$BE30*(1-(1-CZ$3)^2-$BE30^2),1/6*CZ$3*(1-$BE30)*(1-CZ$3^2-(1-$BE30)^2))*Input!$B$1^3","v":6.427001953125E-2},{"$f":"+IF($BE30<=DA$3,1/6*(1-DA$3)*$BE30*(1-(1-DA$3)^2-$BE30^2),1/6*DA$3*(1-$BE30)*(1-DA$3^2-(1-$BE30)^2))*Input!$B$1^3","v":7.03125E-2},null,0,-2.662071814903846E-3,-5.0706129807692301E-3,-6.9720928485576912E-3,-8.1129807692307682E-3,-8.2397460937499983E-3,-7.0988581730769221E-3,-4.4367863581730761E-3,0,0,9.8454402043269239E-3,2.0958533653846159E-2,3.0043381911057696E-2,3.3804086538461543E-2,null,0,-0.26620718149038458,-0.50706129807692302,-0.69720928485576916,-0.81129807692307687,-0.82397460937499978,-0.70988581730769218,-0.4436786358173076,0,0,0.9845440204326924,2.0958533653846159,3.0043381911057696,3.3804086538461542]
[null,null,18,0,2.7043269230769239E-2,5.4086538461538478E-2,8.1129807692307709E-2,0.10817307692307696,0.1352163461538462,0.16225961538461542,0.18930288461538466,0.21634615384615391,0.21634615384615391,9.915865384615391E-2,-1.8028846153846124E-2,-0.13521634615384615,-0.25240384615384615,2.1634615384615391E-2,-6.2500000000000014E-2,-6.2500000000000014E-2,2.1634615384615391E-2,-8.4134615384615391E-2,null,null,null,null,null,null,null,null,null,null,null,null,null,null,null,null,null,0,2.1634615384615391E-2,2.1634615384615391E-2,2.1634615384615391E-2,2.1634615384615391E-2,-6.2500000000000014E-2,6.2500000000000014E-2,-2.1634615384615391E-2,-2.1634615384615391E-2,0,null,null,null,null,null,13,null,0.625,{"$f":"-(Input!$B$1^2)/(12*(1/3+Input!$B$1/2))*(3*BE31-3*BE31^2)","v":-0.12169471153846154},{"$f":"-(Input!$B$1^2)/(12*(1/3+Input!$B$1/6))*(BE31-3*BE31^2+2*BE31^3)","v":1.883370535714286E-2},null,-0.10286100618131867,null,0.375,{"$f":"+BK31-BF31-(1+2/Input!$B$1)*BG31","v":0.45274939903846156},null,-0.10286100618131867,0.375,{"$f":"+BO31-2*BG31/Input!$B$1","v":0.34988839285714285},-0.65011160714285721,null,null,2.0282451923076924E-2,-3.1389508928571434E-3,1.714350103021978E-2,null,null,-4.0564903846153848E-2,6.2779017857142868E-3,-3.428700206043956E-2,null,{"$f":"-(1-BE31)*(1-(1-BE31)^2)/6*Input!$B$1^2","v":-0.120849609375},{"$f":"-BF31/2*Input!$B$1","v":9.1271033653846145E-2},{"$f":"-BG31/6*Input!$B$1","v":-4.7084263392857149E-3},-3.4287002060439567E-2,null,null,null,null,null,null,null,null,null,null,null,null,null,null,null,null,0,{"$f":"+IF($BE31<=CX$3,CX$5/CX$3*$BE31,CX$5-CX$5/(1-CX$3)*($BE31-CX$3))*Input!$B$1","v":7.03125E-2},{"$f":"+IF($BE31<=CY$3,CY$5/CY$3*$BE31,CY$5-CY$5/(1-CY$3)*($BE31-CY$3))*Input!$B$1","v":0.140625},{"$f":"+IF($BE31<=CZ$3,CZ$5/CZ$3*$BE31,CZ$5-CZ$5/(1-CZ$3)*($BE31-CZ$3))*Input!$B$1","v":0.2109375},{"$f":"+IF($BE31<=DA$3,DA$5/DA$3*$BE31,DA$5-DA$5/(1-DA$3)*($BE31-DA$3))*Input!$B$1","v":0.28125},0,-1.2857625772664834E-2,-2.5715251545329668E-2,-3.8572877317994497E-2,-5.1430503090659337E-2,-6.4288128863324176E-2,-7.7145754635988995E-2,-9.0003380408653841E-2,-0.10286100618131867,-0.10286100618131867,-3.7256932520604392E-2,2.8347141140109895E-2,9.3951214800824176E-2,0.15955528846153846,null,0,-0.12857625772664835,-0.2571525154532967,-0.38572877317994497,-0.51430503090659341,-0.64288128863324179,-0.77145754635988995,-0.90003380408653844,-1.0286100618131868,-1.0286100618131868,-0.37256932520604391,0.28347141140109894,0.93951214800824179,1.5955528846153846,null,null,null,null,null,null,null,null,null,null,{"$f":"+IF($BE31<=CW$3,1/6*(1-CW$3)*$BE31*(1-(1-CW$3)^2-$BE31^2),1/6*CW$3*(1-$BE31)*(1-CW$3^2-(1-$BE31)^2))*Input!$B$1^3","v":0},{"$f":"+IF($BE31<=CX$3,1/6*(1-CX$3)*$BE31*(1-(1-CX$3)^2-$BE31^2),1/6*CX$3*(1-$BE31)*(1-CX$3^2-(1-$BE31)^2))*Input!$B$1^3","v":2.2247314453125E-2},{"$f":"+IF($BE31<=CY$3,1/6*(1-CY$3)*$BE31*(1-(1-CY$3)^2-$BE31^2),1/6*CY$3*(1-$BE31)*(1-CY$3^2-(1-$BE31)^2))*Input!$B$1^3","v":4.2022705078125E-2},{"$f":"+IF($BE31<=CZ$3,1/6*(1-CZ$3)*$BE31*(1-(1-CZ$3)^2-$BE31^2),1/6*CZ$3*(1-$BE31)*(1-CZ$3^2-(1-$BE31)^2))*Input!$B$1^3","v":5.6854248046875E-2},{"$f":"+IF($BE31<=DA$3,1/6*(1-DA$3)*$BE31*(1-(1-DA$3)^2-$BE31^2),1/6*DA$3*(1-$BE31)*(1-DA$3^2-(1-$BE31)^2))*Input!$B$1^3","v":6.427001953125E-2},null,0,-2.1094542283278243E-3,-4.018008053957761E-3,-5.5247610741919213E-3,-6.4288128863324171E-3,-6.5292630876813617E-3,-5.6252112755408651E-3,-3.5157570472130412E-3,0,0,7.8525176415076628E-3,1.7014849316942821E-2,2.5180601811670998E-2,3.0043381911057696E-2,null,0,-0.21094542283278242,-0.40180080539577612,-0.55247610741919218,-0.64288128863324168,-0.65292630876813618,-0.56252112755408645,-0.35157570472130412,0,0,0.78525176415076625,1.7014849316942822,2.5180601811670997,3.0043381911057696]
[null,null,19,0,3.1389508928571438E-2,6.2779017857142877E-2,9.4168526785714315E-2,0.12555803571428575,0.15694754464285721,0.18833705357142863,0.21972656250000006,0.25111607142857151,0.25111607142857151,0.11509486607142863,-2.0926339285714246E-2,-0.15694754464285712,-0.29296875,2.5111607142857151E-2,-7.2544642857142863E-2,-7.2544642857142863E-2,2.5111607142857151E-2,-9.765625E-2,null,null,null,null,null,null,null,null,null,null,null,null,null,null,null,null,null,0,2.5111607142857151E-2,2.5111607142857151E-2,2.5111607142857151E-2,2.5111607142857151E-2,-7.2544642857142863E-2,7.2544642857142863E-2,-2.5111607142857151E-2,-2.5111607142857151E-2,0,null,null,null,null,null,14,null,0.75,{"$f":"-(Input!$B$1^2)/(12*(1/3+Input!$B$1/2))*(3*BE32-3*BE32^2)","v":-9.7355769230769232E-2},{"$f":"-(Input!$B$1^2)/(12*(1/3+Input!$B$1/6))*(BE32-3*BE32^2+2*BE32^3)","v":3.0133928571428575E-2},null,-6.7221840659340656E-2,null,0.25,{"$f":"+BK32-BF32-(1+2/Input!$B$1)*BG32","v":0.27704326923076922},null,-6.7221840659340656E-2,0.25,{"$f":"+BO32-2*BG32/Input!$B$1","v":0.20982142857142858},-0.7901785714285714,null,null,1.622596153846154E-2,-5.0223214285714289E-3,1.1203640109890112E-2,null,null,-3.245192307692308E-2,1.0044642857142858E-2,-2.2407280219780223E-2,null,{"$f":"-(1-BE32)*(1-(1-BE32)^2)/6*Input!$B$1^2","v":-8.7890625E-2},{"$f":"-BF32/2*Input!$B$1","v":7.3016826923076927E-2},{"$f":"-BG32/6*Input!$B$1","v":-7.5334821428571438E-3},-2.2407280219780217E-2,null,null,null,null,null,null,null,null,null,null,null,null,null,null,null,null,0,{"$f":"+IF($BE32<=CX$3,CX$5/CX$3*$BE32,CX$5-CX$5/(1-CX$3)*($BE32-CX$3))*Input!$B$1","v":4.6875E-2},{"$f":"+IF($BE32<=CY$3,CY$5/CY$3*$BE32,CY$5-CY$5/(1-CY$3)*($BE32-CY$3))*Input!$B$1","v":9.375E-2},{"$f":"+IF($BE32<=CZ$3,CZ$5/CZ$3*$BE32,CZ$5-CZ$5/(1-CZ$3)*($BE32-CZ$3))*Input!$B$1","v":0.140625},{"$f":"+IF($BE32<=DA$3,DA$5/DA$3*$BE32,DA$5-DA$5/(1-DA$3)*($BE32-DA$3))*Input!$B$1","v":0.1875},0,-8.4027300824175821E-3,-1.6805460164835164E-2,-2.5208190247252748E-2,-3.3610920329670328E-2,-4.2013650412087905E-2,-5.0416380494505496E-2,-5.8819110576923073E-2,-6.7221840659340656E-2,-6.7221840659340656E-2,-2.78803228021978E-2,1.1461195054945056E-2,5.0802712912087912E-2,9.0144230769230768E-2,null,0,-8.4027300824175824E-2,-0.16805460164835165,-0.25208190247252749,-0.3361092032967033,-0.42013650412087905,-0.50416380494505497,-0.58819110576923073,-0.67221840659340659,-0.67221840659340659,-0.27880322802197799,0.11461195054945056,0.50802712912087911,0.90144230769230771,null,null,null,null,null,null,null,null,null,null,{"$f":"+IF($BE32<=CW$3,1/6*(1-CW$3)*$BE32*(1-(1-CW$3)^2-$BE32^2),1/6*CW$3*(1-$BE32)*(1-CW$3^2-(1-$BE32)^2))*Input!$B$1^3","v":0},{"$f":"+IF($BE32<=CX$3,1/6*(1-CX$3)*$BE32*(1-(1-CX$3)^2-$BE32^2),1/6*CX$3*(1-$BE32)*(1-CX$3^2-(1-$BE32)^2))*Input!$B$1^3","v":1.6204833984374997E-2},{"$f":"+IF($BE32<=CY$3,1/6*(1-CY$3)*$BE32*(1-(1-CY$3)^2-$BE32^2),1/6*CY$3*(1-$BE32)*(1-CY$3^2-(1-$BE32)^2))*Input!$B$1^3","v":3.0761718749999997E-2},{"$f":"+IF($BE32<=CZ$3,1/6*(1-CZ$3)*$BE32*(1-(1-CZ$3)^2-$BE32^2),1/6*CZ$3*(1-$BE32)*(1-CZ$3^2-(1-$BE32)^2))*Input!$B$1^3","v":4.2022705078125E-2},{"$f":"+IF($BE32<=DA$3,1/6*(1-DA$3)*$BE32*(1-(1-DA$3)^2-$BE32^2),1/6*DA$3*(1-$BE32)*(1-DA$3^2-(1-$BE32)^2))*Input!$B$1^3","v":4.833984375E-2},null,0,-1.3785729041466345E-3,-2.6258531507554941E-3,-3.6105480822888046E-3,-4.201365041208791E-3,-4.2670113699776781E-3,-3.676194411057692E-3,-2.2976215069110571E-3,0,0,5.1524822528545636E-3,1.1285132104223898E-2,1.7014849316942821E-2,2.0958533653846152E-2,null,0,-0.13785729041466346,-0.26258531507554939,-0.36105480822888047,-0.42013650412087911,-0.42670113699776779,-0.36761944110576922,-0.2297621506911057,0,0,0.51524822528545633,1.1285132104223898,1.7014849316942822,2.0958533653846154]
[null,null,20,0,3.0906593406593408E-2,6.1813186813186816E-2,9.2719780219780237E-2,0.12362637362637363,0.15453296703296707,0.18543956043956047,0.21634615384615385,0.24725274725274726,0.24725274725274726,0.11332417582417584,-2.0604395604395601E-2,-0.15453296703296704,-0.28846153846153849,2.4725274725274728E-2,-7.1428571428571438E-2,-7.1428571428571438E-2,2.4725274725274728E-2,-9.6153846153846145E-2,null,null,null,null,null,null,null,null,null,null,null,null,null,null,null,null,null,0,2.4725274725274728E-2,2.4725274725274728E-2,2.4725274725274728E-2,2.4725274725274728E-2,-7.1428571428571438E-2,7.1428571428571438E-2,-2.4725274725274728E-2,-2.4725274725274728E-2,0,null,null,null,null,null,15,null,0.875,{"$f":"-(Input!$B$1^2)/(12*(1/3+Input!$B$1/2))*(3*BE33-3*BE33^2)","v":-5.6790865384615384E-2},{"$f":"-(Input!$B$1^2)/(12*(1/3+Input!$B$1/6))*(BE33-3*BE33^2+2*BE33^3)","v":2.6367187500000003E-2},null,-3.0423677884615381E-2,null,0.125,{"$f":"+BK33-BF33-(1+2/Input!$B$1)*BG33","v":0.12026742788461539},null,-3.0423677884615381E-2,0.125,{"$f":"+BO33-2*BG33/Input!$B$1","v":8.984375E-2},-0.91015625,null,null,9.4651442307692301E-3,-4.3945312500000009E-3,5.0706129807692292E-3,null,null,-1.893028846153846E-2,8.7890625000000017E-3,-1.0141225961538458E-2,null,{"$f":"-(1-BE33)*(1-(1-BE33)^2)/6*Input!$B$1^2","v":-4.6142578125E-2},{"$f":"-BF33/2*Input!$B$1","v":4.2593149038461536E-2},{"$f":"-BG33/6*Input!$B$1","v":-6.5917968750000017E-3},-1.0141225961538465E-2,null,null,null,null,null,null,null,null,null,null,null,null,null,null,null,null,0,{"$f":"+IF($BE33<=CX$3,CX$5/CX$3*$BE33,CX$5-CX$5/(1-CX$3)*($BE33-CX$3))*Input!$B$1","v":2.34375E-2},{"$f":"+IF($BE33<=CY$3,CY$5/CY$3*$BE33,CY$5-CY$5/(1-CY$3)*($BE33-CY$3))*Input!$B$1","v":4.6875E-2},{"$f":"+IF($BE33<=CZ$3,CZ$5/CZ$3*$BE33,CZ$5-CZ$5/(1-CZ$3)*($BE33-CZ$3))*Input!$B$1","v":7.03125E-2},{"$f":"+IF($BE33<=DA$3,DA$5/DA$3*$BE33,DA$5-DA$5/(1-DA$3)*($BE33-DA$3))*Input!$B$1","v":9.375E-2},0,-3.8029597355769226E-3,-7.6059194711538452E-3,-1.1408879206730766E-2,-1.521183894230769E-2,-1.9014798677884612E-2,-2.2817758413461533E-2,-2.662071814903846E-2,-3.0423677884615381E-2,-3.0423677884615381E-2,-1.3577974759615381E-2,3.2677283653846177E-3,2.0113431490384616E-2,3.6959134615384616E-2,null,0,-3.8029597355769225E-2,-7.605919471153845E-2,-0.11408879206730767,-0.1521183894230769,-0.19014798677884612,-0.22817758413461534,-0.26620718149038458,-0.3042367788461538,-0.3042367788461538,-0.1357797475961538,3.2677283653846173E-2,0.20113431490384615,0.36959134615384615,null,null,null,null,null,null,null,null,null,null,{"$f":"+IF($BE33<=CW$3,1/6*(1-CW$3)*$BE33*(1-(1-CW$3)^2-$BE33^2),1/6*CW$3*(1-$BE33)*(1-CW$3^2-(1-$BE33)^2))*Input!$B$1^3","v":0},{"$f":"+IF($BE33<=CX$3,1/6*(1-CX$3)*$BE33*(1-(1-CX$3)^2-$BE33^2),1/6*CX$3*(1-$BE33)*(1-CX$3^2-(1-$BE33)^2))*Input!$B$1^3","v":8.5144042968749983E-3},{"$f":"+IF($BE33<=CY$3,1/6*(1-CY$3)*$BE33*(1-(1-CY$3)^2-$BE33^2),1/6*CY$3*(1-$BE33)*(1-CY$3^2-(1-$BE33)^2))*Input!$B$1^3","v":1.6204833984374997E-2},{"$f":"+IF($BE33<=CZ$3,1/6*(1-CZ$3)*$BE33*(1-(1-CZ$3)^2-$BE33^2),1/6*CZ$3*(1-$BE33)*(1-CZ$3^2-(1-$BE33)^2))*Input!$B$1^3","v":2.2247314453125E-2},{"$f":"+IF($BE33<=DA$3,1/6*(1-DA$3)*$BE33*(1-(1-DA$3)^2-$BE33^2),1/6*DA$3*(1-$BE33)*(1-DA$3^2-(1-$BE33)^2))*Input!$B$1^3","v":2.581787109375E-2},null,0,{"$f":"+EG33+CO$8*$BF33+CO$9*$BG33","v":-6.2392308161808888E-4},{"$f":"+EH33+CP$8*$BF33+CP$9*$BG33","v":-1.1884249173677883E-3},{"$f":"+EI33+CQ$8*$BF33+CQ$9*$BG33","v":-1.634084261380709E-3},{"$f":"+EJ33+CR$8*$BF33+CR$9*$BG33","v":-1.9014798677884613E-3},{"$f":"+EK33+CS$8*$BF33+CS$9*$BG33","v":-1.931190490722656E-3},{"$f":"+EL33+CT$8*$BF33+CT$9*$BG33","v":-1.6637948843149038E-3},{"$f":"+EM33+CU$8*$BF33+CU$9*$BG33","v":-1.0398718026968148E-3},{"$f":"+EN33+CV$8*$BF33+CV$9*$BG33","v":0},{"$f":"+EO33+CW$8*$BF33+CW$9*$BG33","v":0},{"$f":"+EP33+CX$8*$BF33+CX$9*$BG33","v":2.3375657888559179E-3},{"$f":"+EQ33+CY$8*$BF33+CY$9*$BG33","v":5.1524822528545636E-3},{"$f":"+ER33+CZ$8*$BF33+CZ$9*$BG33","v":7.8525176415076628E-3},{"$f":"+ES33+DA$8*$BF33+DA$9*$BG33","v":9.8454402043269239E-3},null,0,-6.2392308161808886E-2,-0.11884249173677883,-0.16340842613807091,-0.19014798677884612,-0.1931190490722656,-0.16637948843149036,-0.10398718026968148,0,0,0.23375657888559179,0.51524822528545633,0.78525176415076625,0.9845440204326924]
[null,null,21,0,2.6560353708791208E-2,5.3120707417582416E-2,7.9681061126373631E-2,0.10624141483516483,0.13280176854395603,0.15936212225274726,0.18592247596153844,0.21248282967032966,0.21248282967032966,9.7387963598901117E-2,-1.7706902472527479E-2,-0.13280176854395606,-0.24789663461538464,2.1248282967032968E-2,-6.1383928571428575E-2,-6.1383928571428575E-2,2.1248282967032968E-2,-8.2632211538461536E-2,null,null,null,null,null,null,null,null,null,null,null,null,null,null,null,null,null,0,2.1248282967032968E-2,2.1248282967032968E-2,2.1248282967032968E-2,2.1248282967032968E-2,-6.1383928571428575E-2,6.1383928571428575E-2,-2.1248282967032968E-2,-2.1248282967032968E-2,0,null,null,null,null,null,16,null,1,{"$f":"-(Input!$B$1^2)/(12*(1/3+Input!$B$1/2))*(3*BE34-3*BE34^2)","v":0},{"$f":"-(Input!$B$1^2)/(12*(1/3+Input!$B$1/6))*(BE34-3*BE34^2+2*BE34^3)","v":0},null,0,null,0,{"$f":"+BK34-BF34-(1+2/Input!$B$1)*BG34","v":0},null,0,0,{"$f":"+BO34-2*BG34/Input!$B$1","v":0},-1,null,null,0,0,0,null,null,0,0,0,null,{"$f":"-(1-BE34)*(1-(1-BE34)^2)/6*Input!$B$1^2","v":0},{"$f":"-BF34/2*Input!$B$1","v":0},{"$f":"-BG34/6*Input!$B$1","v":0},0,null,null,null,null,null,null,null,null,null,null,null,null,null,null,null,null,0,{"$f":"+IF($BE34<=CX$3,CX$5/CX$3*$BE34,CX$5-CX$5/(1-CX$3)*($BE34-CX$3))*Input!$B$1","v":0},{"$f":"+IF($BE34<=CY$3,CY$5/CY$3*$BE34,CY$5-CY$5/(1-CY$3)*($BE34-CY$3))*Input!$B$1","v":0},{"$f":"+IF($BE34<=CZ$3,CZ$5/CZ$3*$BE34,CZ$5-CZ$5/(1-CZ$3)*($BE34-CZ$3))*Input!$B$1","v":0},{"$f":"+IF($BE34<=DA$3,DA$5/DA$3*$BE34,DA$5-DA$5/(1-DA$3)*($BE34-DA$3))*Input!$B$1","v":0},0,0,0,0,0,0,0,0,0,0,0,0,0,0,null,0,0,0,0,0,0,0,0,0,0,0,0,0,0,null,null,null,null,null,null,null,null,null,null,{"$f":"+IF($BE34<=CW$3,1/6*(1-CW$3)*$BE34*(1-(1-CW$3)^2-$BE34^2),1/6*CW$3*(1-$BE34)*(1-CW$3^2-(1-$BE34)^2))*Input!$B$1^3","v":0},{"$f":"+IF($BE34<=CX$3,1/6*(1-CX$3)*$BE34*(1-(1-CX$3)^2-$BE34^2),1/6*CX$3*(1-$BE34)*(1-CX$3^2-(1-$BE34)^2))*Input!$B$1^3","v":0},{"$f":"+IF($BE34<=CY$3,1/6*(1-CY$3)*$BE34*(1-(1-CY$3)^2-$BE34^2),1/6*CY$3*(1-$BE34)*(1-CY$3^2-(1-$BE34)^2))*Input!$B$1^3","v":0},{"$f":"+IF($BE34<=CZ$3,1/6*(1-CZ$3)*$BE34*(1-(1-CZ$3)^2-$BE34^2),1/6*CZ$3*(1-$BE34)*(1-CZ$3^2-(1-$BE34)^2))*Input!$B$1^3","v":0},{"$f":"+IF($BE34<=DA$3,1/6*(1-DA$3)*$BE34*(1-(1-DA$3)^2-$BE34^2),1/6*DA$3*(1-$BE34)*(1-DA$3^2-(1-$BE34)^2))*Input!$B$1^3","v":0},null,0,0,0,0,0,0,0,0,0,0,0,0,0,0,null,0,0,0,0,0,0,0,0,0,0,0,0,0,0]
[null,null,22,0,1.9316620879120883E-2,3.8633241758241767E-2,5.7949862637362654E-2,7.7266483516483533E-2,9.6583104395604399E-2,0.11589972527472531,0.1352163461538462,0.15453296703296707,0.15453296703296707,7.0827609890109916E-2,-1.2877747252747242E-2,-9.6583104395604399E-2,-0.18028846153846156,1.5453296703296707E-2,-4.4642857142857151E-2,-4.4642857142857151E-2,1.5453296703296707E-2,-6.0096153846153841E-2,null,null,null,null,null,null,null,null,null,null,null,null,null,null,null,null,null,0,1.5453296703296707E-2,1.5453296703296707E-2,1.5453296703296707E-2,1.5453296703296707E-2,-4.4642857142857151E-2,4.4642857142857151E-2,-1.5453296703296707E-2,-1.5453296703296707E-2,0,null,null,null,null,null,{"$f":"+BC34","v":16},3,0,{"$f":"-1/(12*(1/3+Input!$B$1/2))*(2*BE35-3*BE35^2+BE35^3)","v":0},{"$f":"-1/(12*(1/3+Input!$B$1/6))*(2*BE35-3*BE35^2+BE35^3)","v":0},null,0,null,null,{"$f":"+BK35-BF35-(1+2/Input!$B$1)*BG35","v":0},null,0,null,{"$f":"+BO35-2*BG35/Input!$B$1","v":0},null,null,null,0,0,0,null,null,0,0,0,null,null,{"$f":"-BF35/2*Input!$B$1","v":0},{"$f":"-BG35/6*Input!$B$1","v":0},0,null,null,null,null,null,null,null,null,null,null,null,null,null,null,null,null,null,null,null,null,null,0,0,0,0,0,0,0,0,0,0,0,0,0,0,null,0,0,0,0,0,0,0,0,0,0,0,0,0,0,null,null,null,null,null,null,null,null,null,null,null,null,null,null,null,null,0,0,0,0,0,0,0,0,0,0,0,0,0,0,null,0,0,0,0,0,0,0,0,0,0,0,0,0,0]
[null,null,23,0,1.0141225961538464E-2,2.0282451923076927E-2,3.0423677884615398E-2,4.0564903846153855E-2,5.0706129807692318E-2,6.0847355769230796E-2,7.098858173076926E-2,8.1129807692307709E-2,8.1129807692307709E-2,3.7184495192307716E-2,-6.760817307692301E-3,-5.0706129807692311E-2,-9.4651442307692318E-2,8.1129807692307716E-3,-2.3437500000000003E-2,-2.3437500000000003E-2,8.1129807692307716E-3,-3.1550480769230768E-2,null,null,null,null,null,null,null,null,null,null,null,null,null,null,null,null,null,0,8.1129807692307716E-3,8.1129807692307716E-3,8.1129807692307716E-3,8.1129807692307716E-3,-2.3437500000000003E-2,2.3437500000000003E-2,-8.1129807692307716E-3,-8.1129807692307716E-3,0,null,null,null,null,null,{"$f":"+BC35+1","v":17},null,{"$f":"+BE35+1/8","v":0.125},{"$f":"-1/(12*(1/3+Input!$B$1/2))*(2*BE36-3*BE36^2+BE36^3)","v":-1.5775240384615384E-2},{"$f":"1/(12*(1/3+Input!$B$1/6))*(2*BE36-3*BE36^2+BE36^3)","v":2.9296875000000003E-2},null,1.3521634615384619E-2,null,null,{"$f":"+BK36-BF36-(1+2/Input!$B$1)*BG36","v":-5.2584134615384616E-2},null,1.3521634615384619E-2,null,{"$f":"+BO36-2*BG36/Input!$B$1","v":-3.9062500000000007E-2},null,null,null,2.6292067307692305E-3,-4.8828125000000009E-3,-2.2536057692307703E-3,null,null,-5.2584134615384611E-3,9.7656250000000017E-3,4.5072115384615407E-3,null,null,{"$f":"-BF36/2*Input!$B$1","v":1.1831430288461538E-2},{"$f":"-BG36/6*Input!$B$1","v":-7.3242187500000017E-3},4.5072115384615363E-3,null,null,null,null,null,null,null,null,null,null,null,null,null,null,null,null,null,null,null,null,null,0,1.6902043269230774E-3,3.3804086538461548E-3,5.0706129807692327E-3,6.7608173076923097E-3,8.4510216346153876E-3,1.0141225961538465E-2,1.1831430288461543E-2,1.3521634615384619E-2,1.3521634615384619E-2,6.1974158653846194E-3,-1.1268028846153823E-3,-8.4510216346153841E-3,-1.5775240384615384E-2,null,0,1.6902043269230775E-2,3.380408653846155E-2,5.0706129807692325E-2,6.76081730769231E-2,8.4510216346153882E-2,0.10141225961538465,0.11831430288461543,0.1352163461538462,0.1352163461538462,6.1974158653846194E-2,-1.1268028846153823E-2,-8.4510216346153841E-2,-0.15775240384615385,null,null,null,null,null,null,null,null,null,null,null,null,null,null,null,null,0,2.7729914738581742E-4,5.2818885216346172E-4,7.2625967172475984E-4,8.4510216346153871E-4,8.5830688476562522E-4,7.3946439302884645E-4,4.6216524564302909E-4,0,0,-1.0398718026968148E-3,-2.2976215069110571E-3,-3.5157570472130403E-3,-4.436786358173077E-3,null,0,2.7729914738581742E-2,5.2818885216346173E-2,7.2625967172475978E-2,8.4510216346153869E-2,8.5830688476562528E-2,7.3946439302884651E-2,4.6216524564302912E-2,0,0,-0.10398718026968148,-0.2297621506911057,-0.35157570472130406,-0.44367863581730771]
[null,null,24,0,0,0,0,0,0,0,0,0,0,0,0,0,0,0,0,0,0,0,null,null,null,null,null,null,null,null,null,null,null,null,null,null,null,null,null,null,null,null,null,null,null,null,null,null,null,null,null,null,null,null,{"$f":"+BC36+1","v":18},null,{"$f":"+BE36+1/8","v":0.25},{"$f":"-1/(12*(1/3+Input!$B$1/2))*(2*BE37-3*BE37^2+BE37^3)","v":-2.5240384615384616E-2},{"$f":"1/(12*(1/3+Input!$B$1/6))*(2*BE37-3*BE37^2+BE37^3)","v":4.6875000000000007E-2},null,2.1634615384615391E-2,null,null,{"$f":"+BK37-BF37-(1+2/Input!$B$1)*BG37","v":-8.4134615384615391E-2},null,2.1634615384615391E-2,null,{"$f":"+BO37-2*BG37/Input!$B$1","v":-6.2500000000000014E-2},null,null,null,4.206730769230769E-3,-7.8125000000000017E-3,-3.6057692307692327E-3,null,null,-8.4134615384615381E-3,1.5625000000000003E-2,7.2115384615384654E-3,null,null,{"$f":"-BF37/2*Input!$B$1","v":1.8930288461538464E-2},{"$f":"-BG37/6*Input!$B$1","v":-1.1718750000000003E-2},7.2115384615384602E-3,null,null,null,null,null,null,null,null,null,null,null,null,null,null,null,null,null,null,null,null,null,0,2.7043269230769239E-3,5.4086538461538478E-3,8.1129807692307716E-3,1.0817307692307696E-2,1.3521634615384619E-2,1.6225961538461543E-2,1.8930288461538467E-2,2.1634615384615391E-2,2.1634615384615391E-2,9.915865384615391E-3,-1.8028846153846124E-3,-1.3521634615384614E-2,-2.5240384615384616E-2,null,0,2.7043269230769239E-2,5.4086538461538478E-2,8.1129807692307709E-2,0.10817307692307696,0.1352163461538462,0.16225961538461542,0.18930288461538466,0.21634615384615391,0.21634615384615391,9.915865384615391E-2,-1.8028846153846124E-2,-0.13521634615384615,-0.25240384615384615,null,null,null,null,null,null,null,null,null,null,null,null,null,null,null,null,0,4.4367863581730774E-4,8.4510216346153871E-4,1.1620154747596157E-3,1.3521634615384619E-3,1.3732910156250004E-3,1.1831430288461542E-3,7.3946439302884635E-4,0,0,-1.6637948843149038E-3,-3.676194411057692E-3,-5.6252112755408659E-3,-7.098858173076923E-3,null,0,4.4367863581730775E-2,8.4510216346153869E-2,0.11620154747596156,0.1352163461538462,0.13732910156250006,0.11831430288461542,7.3946439302884637E-2,0,0,-0.16637948843149036,-0.36761944110576922,-0.56252112755408656,-0.70988581730769229]
[null,null,null,"×L1/10",null,null,null,null,null,null,null,null,null,null,null,null,null,"×1",null,null,null,null,null,null,null,null,null,null,null,null,null,null,null,null,null,null,null,null,null,null,null,null,null,null,null,null,null,null,null,null,null,null,null,null,19,null,0.375,{"$f":"-1/(12*(1/3+Input!$B$1/2))*(2*BE38-3*BE38^2+BE38^3)","v":-2.9296875E-2},{"$f":"1/(12*(1/3+Input!$B$1/6))*(2*BE38-3*BE38^2+BE38^3)","v":5.4408482142857151E-2},null,2.5111607142857151E-2,null,null,{"$f":"+BK38-BF38-(1+2/Input!$B$1)*BG38","v":-9.765625E-2},null,2.5111607142857151E-2,null,{"$f":"+BO38-2*BG38/Input!$B$1","v":-7.2544642857142863E-2},null,null,null,4.8828125E-3,-9.0680803571428579E-3,-4.1852678571428579E-3,null,null,-9.765625E-3,1.8136160714285716E-2,8.3705357142857158E-3,null,null,{"$f":"-BF38/2*Input!$B$1","v":2.197265625E-2},{"$f":"-BG38/6*Input!$B$1","v":-1.3602120535714288E-2},8.3705357142857123E-3,null,null,null,null,null,null,null,null,null,null,null,null,null,null,null,null,null,null,null,null,null,0,3.1389508928571438E-3,6.2779017857142877E-3,9.4168526785714315E-3,1.2555803571428575E-2,1.5694754464285719E-2,1.8833705357142863E-2,2.1972656250000007E-2,2.5111607142857151E-2,2.5111607142857151E-2,1.1509486607142863E-2,-2.0926339285714246E-3,-1.5694754464285712E-2,-2.9296875E-2,null,0,3.1389508928571438E-2,6.2779017857142877E-2,9.4168526785714315E-2,0.12555803571428575,0.15694754464285721,0.18833705357142863,0.21972656250000006,0.25111607142857151,0.25111607142857151,0.11509486607142863,-2.0926339285714246E-2,-0.15694754464285712,-0.29296875,null,null,null,null,null,null,null,null,null,null,null,null,null,null,null,null,0,5.1498413085937522E-4,9.8092215401785745E-4,1.3487679617745539E-3,1.5694754464285719E-3,1.5939985002790184E-3,1.3732910156250004E-3,8.5830688476562522E-4,0,0,-1.931190490722656E-3,-4.2670113699776781E-3,-6.5292630876813617E-3,-8.23974609375E-3,null,0,5.1498413085937521E-2,9.809221540178574E-2,0.1348767961774554,0.15694754464285721,0.15939985002790183,0.13732910156250006,8.5830688476562528E-2,0,0,-0.1931190490722656,-0.42670113699776779,-0.65292630876813618,-0.823974609375]
[null,null,"Span 1",{"$f":"+DQ47","v":0},0.47819368131868134,0.80013736263736268,0.96583104395604402,0.97527472527472536,0.8284684065934067,0.52541208791208782,6.6105769230769204E-2,-0.5494505494505495,-0.5494505494505495,-0.4601648351648352,-0.37087912087912089,-0.28159340659340659,-0.19230769230769232,{"$f":"+BN47","v":-0.55494505494505497},{"$f":"+BP47","v":4.7619047619047616E-2},{"$f":"+S39","v":4.7619047619047616E-2},{"$f":"+BI47","v":0.44505494505494508},{"$f":"+BL47","v":0.60256410256410264},null,null,null,null,null,null,null,null,null,null,null,null,null,null,null,null,null,0,{"$f":"+U39","v":0.44505494505494508},{"$f":"+R39","v":-0.55494505494505497},4.7619047619047616E-2,{"$f":"+S39","v":4.7619047619047616E-2},{"$f":"-R39","v":0.55494505494505497},{"$f":"-R39","v":0.55494505494505497},0,null,null,null,null,null,null,null,20,null,0.5,{"$f":"-1/(12*(1/3+Input!$B$1/2))*(2*BE39-3*BE39^2+BE39^3)","v":-2.8846153846153848E-2},{"$f":"1/(12*(1/3+Input!$B$1/6))*(2*BE39-3*BE39^2+BE39^3)","v":5.3571428571428575E-2},null,2.4725274725274728E-2,null,null,{"$f":"+BK39-BF39-(1+2/Input!$B$1)*BG39","v":-9.6153846153846145E-2},null,2.4725274725274728E-2,null,{"$f":"+BO39-2*BG39/Input!$B$1","v":-7.1428571428571438E-2},null,null,null,4.807692307692308E-3,-8.9285714285714298E-3,-4.1208791208791219E-3,null,null,-9.6153846153846159E-3,1.785714285714286E-2,8.2417582417582437E-3,null,null,{"$f":"-BF39/2*Input!$B$1","v":2.1634615384615384E-2},{"$f":"-BG39/6*Input!$B$1","v":-1.3392857142857144E-2},8.2417582417582402E-3,null,null,null,null,null,null,null,null,null,null,null,null,null,null,null,null,null,null,null,null,null,0,3.090659340659341E-3,6.1813186813186819E-3,9.2719780219780237E-3,1.2362637362637364E-2,1.5453296703296707E-2,1.8543956043956047E-2,2.1634615384615384E-2,2.4725274725274728E-2,2.4725274725274728E-2,1.1332417582417584E-2,-2.0604395604395601E-3,-1.5453296703296704E-2,-2.8846153846153848E-2,null,0,3.0906593406593408E-2,6.1813186813186816E-2,9.2719780219780237E-2,0.12362637362637363,0.15453296703296707,0.18543956043956047,0.21634615384615385,0.24725274725274726,0.24725274725274726,0.11332417582417584,-2.0604395604395601E-2,-0.15453296703296704,-0.28846153846153849,null,null,null,null,null,null,null,null,null,null,null,null,null,null,null,null,0,5.0706129807692301E-4,9.6583104395604421E-4,1.3280176854395605E-3,1.5453296703296705E-3,1.5694754464285715E-3,1.3521634615384615E-3,8.4510216346153871E-4,0,0,-1.9014798677884617E-3,-4.201365041208791E-3,-6.4288128863324179E-3,-8.1129807692307699E-3,null,0,5.0706129807692304E-2,9.6583104395604427E-2,0.13280176854395606,0.15453296703296704,0.15694754464285715,0.13521634615384615,8.4510216346153869E-2,0,0,-0.19014798677884617,-0.42013650412087911,-0.64288128863324179,-0.81129807692307698]
[null,null,"Span 2",0,-0.16225961538461539,-0.32451923076923078,-0.48677884615384626,-0.64903846153846156,-0.81129807692307698,-0.97355769230769251,-1.1358173076923079,-1.2980769230769231,-1.2980769230769231,-6.7608173076923184E-2,0.81129807692307687,1.3386418269230769,1.5144230769230769,{"$f":"+BN48","v":-0.12980769230769232},{"$f":"+BP48","v":0.75},{"$f":"-S40","v":-0.75},{"$f":"+BI48","v":-0.12980769230769232},{"$f":"+BL48","v":0.87980769230769229},null,null,null,null,null,null,null,null,null,null,null,null,null,null,null,null,null,0,{"$f":"+U40","v":-0.12980769230769232},-0.12980769230769232,0.75,{"$f":"-S40","v":-0.75},{"$f":"-R40","v":0.12980769230769232},{"$f":"-R40","v":0.12980769230769232},0,null,null,null,null,null,null,null,21,null,0.625,{"$f":"-1/(12*(1/3+Input!$B$1/2))*(2*BE40-3*BE40^2+BE40^3)","v":-2.4789663461538464E-2},{"$f":"1/(12*(1/3+Input!$B$1/6))*(2*BE40-3*BE40^2+BE40^3)","v":4.6037946428571432E-2},null,2.1248282967032968E-2,null,null,{"$f":"+BK40-BF40-(1+2/Input!$B$1)*BG40","v":-8.2632211538461536E-2},null,2.1248282967032968E-2,null,{"$f":"+BO40-2*BG40/Input!$B$1","v":-6.1383928571428575E-2},null,null,null,4.131610576923077E-3,-7.6729910714285719E-3,-3.5413804945054949E-3,null,null,-8.263221153846154E-3,1.5345982142857144E-2,7.0827609890109899E-3,null,null,{"$f":"-BF40/2*Input!$B$1","v":1.8592247596153848E-2},{"$f":"-BG40/6*Input!$B$1","v":-1.1509486607142858E-2},7.0827609890109899E-3,null,null,null,null,null,null,null,null,null,null,null,null,null,null,null,null,null,null,null,null,null,0,2.656035370879121E-3,5.312070741758242E-3,7.9681061126373638E-3,1.0624141483516484E-2,1.3280176854395604E-2,1.5936212225274728E-2,1.8592247596153844E-2,2.1248282967032968E-2,2.1248282967032968E-2,9.7387963598901117E-3,-1.7706902472527479E-3,-1.3280176854395606E-2,-2.4789663461538464E-2,null,0,2.6560353708791208E-2,5.3120707417582416E-2,7.9681061126373631E-2,0.10624141483516483,0.13280176854395603,0.15936212225274726,0.18592247596153844,0.21248282967032966,0.21248282967032966,9.7387963598901117E-2,-1.7706902472527479E-2,-0.13280176854395606,-0.24789663461538464,null,null,null,null,null,null,null,null,null,null,null,null,null,null,null,null,0,4.3575580303485586E-4,8.3001105339972525E-4,1.1412651984246225E-3,1.3280176854395605E-3,1.3487679617745537E-3,1.1620154747596153E-3,7.2625967172475952E-4,0,0,-1.6340842613807092E-3,-3.6105480822888054E-3,-5.5247610741919213E-3,-6.9720928485576929E-3,null,0,4.3575580303485587E-2,8.3001105339972528E-2,0.11412651984246225,0.13280176854395606,0.13487679617745538,0.11620154747596152,7.262596717247595E-2,0,0,-0.16340842613807091,-0.36105480822888053,-0.55247610741919218,-0.69720928485576927]
[null,null,"Span 3",0,2.0604395604395601E-2,4.1208791208791201E-2,6.1813186813186802E-2,8.2417582417582402E-2,0.10302197802197799,0.1236263736263736,0.14423076923076922,0.1648351648351648,0.1648351648351648,7.5549450549450531E-2,-1.3736263736263757E-2,-0.10302197802197804,-0.19230769230769232,{"$f":"+BN49","v":1.648351648351648E-2},{"$f":"+BP49","v":-4.7619047619047616E-2},{"$f":"+S41","v":-4.7619047619047616E-2},{"$f":"+BI49","v":1.648351648351648E-2},{"$f":"+BL49","v":-6.4102564102564083E-2},null,null,null,null,null,null,null,null,null,null,null,null,null,null,null,null,null,0,{"$f":"+U41","v":1.648351648351648E-2},1.648351648351648E-2,-4.7619047619047616E-2,{"$f":"+S41","v":-4.7619047619047616E-2},{"$f":"-R41","v":-1.648351648351648E-2},{"$f":"-R41","v":-1.648351648351648E-2},0,null,null,null,null,null,null,null,22,null,0.75,{"$f":"-1/(12*(1/3+Input!$B$1/2))*(2*BE41-3*BE41^2+BE41^3)","v":-1.8028846153846156E-2},{"$f":"1/(12*(1/3+Input!$B$1/6))*(2*BE41-3*BE41^2+BE41^3)","v":3.3482142857142863E-2},null,1.5453296703296707E-2,null,null,{"$f":"+BK41-BF41-(1+2/Input!$B$1)*BG41","v":-6.0096153846153841E-2},null,1.5453296703296707E-2,null,{"$f":"+BO41-2*BG41/Input!$B$1","v":-4.4642857142857151E-2},null,null,null,3.0048076923076925E-3,-5.5803571428571438E-3,-2.5755494505494514E-3,null,null,-6.0096153846153849E-3,1.1160714285714288E-2,5.1510989010989027E-3,null,null,{"$f":"-BF41/2*Input!$B$1","v":1.3521634615384616E-2},{"$f":"-BG41/6*Input!$B$1","v":-8.3705357142857158E-3},5.1510989010989001E-3,null,null,null,null,null,null,null,null,null,null,null,null,null,null,null,null,null,null,null,null,null,0,1.9316620879120884E-3,3.8633241758241768E-3,5.7949862637362657E-3,7.7266483516483537E-3,9.6583104395604399E-3,1.1589972527472531E-2,1.3521634615384619E-2,1.5453296703296707E-2,1.5453296703296707E-2,7.0827609890109916E-3,-1.2877747252747242E-3,-9.6583104395604399E-3,-1.8028846153846156E-2,null,0,1.9316620879120883E-2,3.8633241758241767E-2,5.7949862637362654E-2,7.7266483516483533E-2,9.6583104395604399E-2,0.11589972527472531,0.1352163461538462,0.15453296703296707,0.15453296703296707,7.0827609890109916E-2,-1.2877747252747242E-2,-9.6583104395604399E-2,-0.18028846153846156,null,null,null,null,null,null,null,null,null,null,null,null,null,null,null,null,0,3.1691331129807699E-4,6.036444024725275E-4,8.3001105339972547E-4,9.6583104395604421E-4,9.8092215401785724E-4,8.4510216346153871E-4,5.2818885216346172E-4,0,0,-1.1884249173677883E-3,-2.6258531507554949E-3,-4.018008053957761E-3,-5.070612980769231E-3,null,0,3.1691331129807696E-2,6.0364440247252751E-2,8.3001105339972542E-2,9.6583104395604427E-2,9.8092215401785726E-2,8.4510216346153869E-2,5.2818885216346173E-2,0,0,-0.11884249173677883,-0.2625853150755495,-0.40180080539577612,-0.50706129807692313]
[null,null,"Sum",0,0.33653846153846151,0.51682692307692313,0.54086538461538458,0.40865384615384626,0.12019230769230774,-0.324519230769231,-0.92548076923076927,-1.6826923076923079,-1.6826923076923079,-0.45222355769230782,0.42668269230769218,0.95402644230769218,1.1298076923076921,{"$f":"+BN50","v":-0.66826923076923084},{"$f":"+BP50","v":0.75},{"$f":"+T39+T40+T41","v":-0.75},{"$f":"+BI50","v":0.33173076923076922},{"$f":"+BL50","v":1.4182692307692308},null,null,null,null,null,null,null,null,null,null,null,null,null,null,null,null,null,0,{"$f":"+U42","v":0.33173076923076922},-0.66826923076923084,0.75,{"$f":"-S42","v":-0.75},{"$f":"-R42","v":0.66826923076923084},{"$f":"-U42","v":-0.33173076923076922},0,null,null,null,null,null,null,null,23,null,0.875,{"$f":"-1/(12*(1/3+Input!$B$1/2))*(2*BE42-3*BE42^2+BE42^3)","v":-9.4651442307692318E-3},{"$f":"1/(12*(1/3+Input!$B$1/6))*(2*BE42-3*BE42^2+BE42^3)","v":1.7578125000000003E-2},null,8.1129807692307716E-3,null,null,{"$f":"+BK42-BF42-(1+2/Input!$B$1)*BG42","v":-3.1550480769230768E-2},null,8.1129807692307716E-3,null,{"$f":"+BO42-2*BG42/Input!$B$1","v":-2.3437500000000003E-2},null,null,null,1.5775240384615387E-3,-2.9296875000000004E-3,-1.3521634615384617E-3,null,null,-3.1550480769230774E-3,5.8593750000000009E-3,2.7043269230769234E-3,null,null,{"$f":"-BF42/2*Input!$B$1","v":7.0988581730769239E-3},{"$f":"-BG42/6*Input!$B$1","v":-4.3945312500000009E-3},2.704326923076923E-3,null,null,null,null,null,null,null,null,null,null,null,null,null,null,null,null,null,null,null,null,null,0,1.0141225961538465E-3,2.0282451923076929E-3,3.0423677884615398E-3,4.0564903846153858E-3,5.0706129807692318E-3,6.0847355769230796E-3,7.0988581730769256E-3,8.1129807692307716E-3,8.1129807692307716E-3,3.7184495192307716E-3,-6.760817307692301E-4,-5.070612980769231E-3,-9.4651442307692318E-3,null,0,1.0141225961538464E-2,2.0282451923076927E-2,3.0423677884615398E-2,4.0564903846153855E-2,5.0706129807692318E-2,6.0847355769230796E-2,7.098858173076926E-2,8.1129807692307709E-2,8.1129807692307709E-2,3.7184495192307716E-2,-6.760817307692301E-3,-5.0706129807692311E-2,-9.4651442307692318E-2,null,null,null,null,null,null,null,null,null,null,null,null,null,null,null,null,0,1.6637948843149043E-4,3.1691331129807699E-4,4.3575580303485597E-4,5.0706129807692323E-4,5.1498413085937511E-4,4.4367863581730785E-4,2.7729914738581737E-4,0,0,-6.2392308161808888E-4,-1.3785729041466349E-3,-2.1094542283278247E-3,-2.6620718149038465E-3,null,0,1.6637948843149043E-2,3.1691331129807696E-2,4.35755803034856E-2,5.0706129807692325E-2,5.1498413085937514E-2,4.4367863581730782E-2,2.7729914738581735E-2,0,0,-6.2392308161808886E-2,-0.13785729041466349,-0.21094542283278248,-0.26620718149038464]
[null,null,null,"×L12/10",null,null,null,null,null,null,null,null,null,null,null,null,null,"×L1",null,null,null,null,null,null,null,null,null,null,null,null,null,null,null,null,null,null,null,null,null,null,null,null,null,null,null,null,null,null,null,null,null,null,null,null,24,null,1,{"$f":"-1/(12*(1/3+Input!$B$1/2))*(2*BE43-3*BE43^2+BE43^3)","v":0},{"$f":"1/(12*(1/3+Input!$B$1/6))*(2*BE43-3*BE43^2+BE43^3)","v":0},null,0,null,null,{"$f":"+BK43-BF43-(1+2/Input!$B$1)*BG43","v":0},null,0,null,{"$f":"+BO43-2*BG43/Input!$B$1","v":0},null,null,null,0,0,0,null,null,0,0,0,null,null,{"$f":"-BF43/2*Input!$B$1","v":0},{"$f":"-BG43/6*Input!$B$1","v":0},0,null,null,null,null,null,null,null,null,null,null,null,null,null,null,null,null,null,null,null,null,null,0,0,0,0,0,0,0,0,0,0,0,0,0,0,null,0,0,0,0,0,0,0,0,0,0,0,0,0,0,null,null,null,null,null,null,null,null,null,null,null,null,null,null,null,null,0,0,0,0,0,0,0,0,0,0,0,0,0,0,null,0,0,0,0,0,0,0,0,0,0,0,0,0,0]
[]
[null,null,null,"Deflection",null,null,null,null,null,null,null,null,null,null,null,null,null,"Slope",null,null,null,null,null,null,null,null,null,null,null,null,null,null,null,null,null,null,null,null,null,null,null,null,null,null,null,null,null,null,null,null,null,null,null,null,null,null,null,null,null,null,null,null,null,null,null,null,null,null,null,null,null,null,null,null,null,null,null,null,null,null,null,null,null,null,null,null,null,null,null,null,null,null,null,null,null,null,null,null,null,null,null,null,null,null,null,null,null,null,null,null,null,null,null,null,null,null,null,null,null,null,null,null,null,null,null,null,null,null,null,null,null,null,null,null,null,null,null,null,null,null,null,null,null,null,null,null,null,null,null,null,{"$f":"+(CN$4*(0.5*CN$3^2-0.5*CN$3^2*CN$4^2-0.25*CN$3^4)+CN$3*(0.5*CN$4^2-0.5*CN$3^2*CN$4^2-0.25*CN$4^4))/6","v":0},{"$f":"+(CO$4*(0.5*CO$3^2-0.5*CO$3^2*CO$4^2-0.25*CO$3^4)+CO$3*(0.5*CO$4^2-0.5*CO$3^2*CO$4^2-0.25*CO$4^4))/6","v":5.055745442708333E-3},9.27734375E-3,1.2054443359375E-2,1.3020833333333334E-2,1.2054443359375E-2,9.27734375E-3,5.055745442708333E-3,0,{"$f":"+(CW$4*(0.5*CW$3^2-0.5*CW$3^2*CW$4^2-0.25*CW$3^4)+CW$3*(0.5*CW$4^2-0.5*CW$3^2*CW$4^2-0.25*CW$4^4))/6*Input!$B$1^4","v":0},{"$f":"+(CX$4*(0.5*CX$3^2-0.5*CX$3^2*CX$4^2-0.25*CX$3^4)+CX$3*(0.5*CX$4^2-0.5*CX$3^2*CX$4^2-0.25*CX$4^4))/6*Input!$B$1^4","v":2.5594711303710938E-2},{"$f":"+(CY$4*(0.5*CY$3^2-0.5*CY$3^2*CY$4^2-0.25*CY$3^4)+CY$3*(0.5*CY$4^2-0.5*CY$3^2*CY$4^2-0.25*CY$4^4))/6*Input!$B$1^4","v":4.6966552734375E-2},{"$f":"+(CZ$4*(0.5*CZ$3^2-0.5*CZ$3^2*CZ$4^2-0.25*CZ$3^4)+CZ$3*(0.5*CZ$4^2-0.5*CZ$3^2*CZ$4^2-0.25*CZ$4^4))/6*Input!$B$1^4","v":6.1025619506835938E-2},{"$f":"+(DA$4*(0.5*DA$3^2-0.5*DA$3^2*DA$4^2-0.25*DA$3^4)+DA$3*(0.5*DA$4^2-0.5*DA$3^2*DA$4^2-0.25*DA$4^4))/6*Input!$B$1^4","v":6.591796875E-2}]
[null,null,null,0,{"$f":"+D46+1","v":1},2,3,4,5,6,7,8,8,{"$f":"+M46+1","v":9},{"$f":"+N46+1","v":10},{"$f":"+O46+1","v":11},{"$f":"+P46+1","v":12},"SA","lSB"]
[null,null,null,{"$f":"+E47+1","v":24},23,22,21,20,19,18,17,16,{"$f":"+N47+1","v":16},{"$f":"+O47+1","v":15},{"$f":"+P47+1","v":14},{"$f":"+Q47+1","v":13},12,null,null,null,null,null,null,null,null,null,null,null,null,null,null,null,null,null,null,null,null,null,null,null,null,null,null,null,null,null,null,null,null,null,null,null,null,null,null,null,"Fx(1)1/(L1^2) =",{"$f":"-1/(8*(2+3*Input!B1))","v":-1.9230769230769232E-2},{"$f":"-1/(8*(2+Input!B1))","v":-3.5714285714285712E-2},null,{"$f":"0.5+BF47+BG47","v":0.44505494505494508},null,null,{"$f":"0.5-BF47-(1+2/Input!B1)*BG47","v":0.60256410256410264},null,{"$f":"-0.5+BF47+BG47","v":-0.55494505494505497},null,{"$f":"-2*BG47/Input!B1","v":4.7619047619047616E-2},null,null,{"$f":"-(0.0416666666666667)","v":-4.1666666666666699E-2},{"$f":"-BF47/6","v":3.2051282051282055E-3},{"$f":"-BG47/6","v":5.9523809523809521E-3},{"$f":"+BS47+BT47+BU47","v":-3.2509157509157539E-2},null,{"$f":"(1/24)","v":4.1666666666666664E-2},{"$f":"+BF47/3","v":-6.4102564102564109E-3},{"$f":"+BG47/3","v":-1.1904761904761904E-2},{"$f":"+BX47+BY47+BZ47","v":2.3351648351648352E-2},null,null,{"$f":"-BF47/2*Input!$B$1","v":1.4423076923076924E-2},{"$f":"-BG47/6*Input!$B$1","v":8.9285714285714281E-3},{"$f":"+CC47+CD47+CE47","v":2.3351648351648352E-2},null,null,null,null,null,null,null,null,null,null,null,null,null,null,null,null,null,null,null,null,null,{"$f":"+CN5/2+CN6*$BF$47+CN7*$BG$47","v":0},4.7819368131868135E-2,8.0013736263736271E-2,9.6583104395604399E-2,9.7527472527472542E-2,8.284684065934067E-2,5.2541208791208785E-2,6.6105769230769204E-3,-5.4945054945054944E-2,{"$f":"CW6*$BF$47+CW7*$BG$47","v":-5.4945054945054944E-2},{"$f":"CX6*$BF$47+CX7*$BG$47","v":-4.601648351648352E-2},{"$f":"CY6*$BF$47+CY7*$BG$47","v":-3.7087912087912088E-2},{"$f":"CZ6*$BF$47+CZ7*$BG$47","v":-2.815934065934066E-2},{"$f":"DA6*$BF$47+DA7*$BG$47","v":-1.9230769230769232E-2},null,0,{"$f":"+DC47*10","v":0.47819368131868134},{"$f":"+DD47*10","v":0.80013736263736268},{"$f":"+DE47*10","v":0.96583104395604402},{"$f":"+DF47*10","v":0.97527472527472536},{"$f":"+DG47*10","v":0.8284684065934067},{"$f":"+DH47*10","v":0.52541208791208782},{"$f":"+DI47*10","v":6.6105769230769204E-2},{"$f":"+DJ47*10","v":-0.5494505494505495},{"$f":"+DK47*10","v":-0.5494505494505495},{"$f":"+DL47*10","v":-0.4601648351648352},{"$f":"+DM47*10","v":-0.37087912087912089},{"$f":"+DN47*10","v":-0.28159340659340659},{"$f":"+DO47*10","v":-0.19230769230769232},null,null,null,null,null,null,null,null,null,null,null,null,null,null,null,null,{"$f":"+EU45+CN$8*$BF$47+CN$9*$BG$47","v":0},3.9289425580929481E-3,7.1310525412087902E-3,9.103292947287088E-3,9.5867673992673999E-3,8.566720145089286E-3,6.272536057692308E-3,3.1777406350160251E-3,0,{"$f":"CW$8*$BF$47+CW$9*$BG$47","v":0},{"$f":"CX$8*$BF$47+CX$9*$BG$47","v":-3.464918870192308E-3},{"$f":"CY$8*$BF$47+CY$9*$BG$47","v":-5.312070741758242E-3},{"$f":"CZ$8*$BF$47+CZ$9*$BG$47","v":-5.8553507039835169E-3},{"$f":"DA$8*$BF$47+DA$9*$BG$47","v":-5.408653846153846E-3},null,{"$f":"+EU47*100","v":0},{"$f":"+EV47*100","v":0.39289425580929482},0.713105254120879,0.91032929472870883,0.95867673992673996,0.8566720145089286,0.62725360576923084,0.31777406350160253,0,0,-0.34649188701923078,-0.53120707417582425,-0.58553507039835173,-0.54086538461538458]
[null,null,{"$f":"+E48","v":0},{"$f":"+FJ17","v":0},{"$f":"+FK17","v":0},{"$f":"+FL17","v":0},{"$f":"+FM17","v":0},{"$f":"+FN17","v":0},{"$f":"+FO17","v":0},{"$f":"+FP17","v":0},{"$f":"+FQ17","v":0},{"$f":"+FR17","v":0},{"$f":"+FS17","v":0},{"$f":"+FT17","v":0},{"$f":"+FU17","v":0},{"$f":"+FV17","v":0},{"$f":"+FW17","v":0},{"$f":"+BV17*10","v":0},{"$f":"+CA17*10","v":0},null,null,null,null,null,null,null,null,null,null,null,null,null,null,null,null,null,null,null,null,null,null,null,null,null,null,null,null,null,null,null,null,null,null,null,null,null,"Fx(1)2/(L1^2) =",{"$f":"-(Input!B1^3)/(4*(2+3*Input!B1))","v":-0.12980769230769232},0,null,{"$f":"BF48+BG48","v":-0.12980769230769232},null,null,{"$f":"+Input!B1/2-BF48-(1+2/Input!B1)*BG48","v":0.87980769230769229},null,{"$f":"+BF48+BG48","v":-0.12980769230769232},null,{"$f":"+Input!B1/2-BG48/Input!B1","v":0.75},null,null,null,2.1634615384615388E-2,0,2.1634615384615388E-2,null,null,-4.3269230769230775E-2,0,-4.3269230769230775E-2,null,{"$f":"-(0.0416666666666667)*Input!$B$1^3","v":-0.14062500000000011},{"$f":"-BF48/2*Input!$B$1","v":9.7355769230769246E-2},{"$f":"-BG48/6*Input!$B$1","v":0},-4.3269230769230865E-2,null,null,null,null,null,null,null,null,null,null,null,null,null,null,null,null,null,null,null,null,null,{"$f":"+CN6*$BF$48+CN7*$BG$48","v":0},-1.622596153846154E-2,-3.245192307692308E-2,-4.8677884615384623E-2,-6.4903846153846159E-2,-8.1129807692307696E-2,-9.7355769230769246E-2,-0.11358173076923078,-0.12980769230769232,{"$f":"Input!$B$1^2/2*CW5+CW6*$BF$48+CW7*$BG$48","v":-0.12980769230769232},{"$f":"Input!$B$1^2/2*CX5+CX6*$BF$48+CX7*$BG$48","v":-6.7608173076923184E-3},{"$f":"Input!$B$1^2/2*CY5+CY6*$BF$48+CY7*$BG$48","v":8.1129807692307682E-2},{"$f":"Input!$B$1^2/2*CZ5+CZ6*$BF$48+CZ7*$BG$48","v":0.13386418269230768},{"$f":"Input!$B$1^2/2*DA5+DA6*$BF$48+DA7*$BG$48","v":0.15144230769230768},null,0,-0.16225961538461539,-0.32451923076923078,-0.48677884615384626,-0.64903846153846156,-0.81129807692307698,-0.97355769230769251,-1.1358173076923079,-1.2980769230769231,-1.2980769230769231,-6.7608173076923184E-2,0.81129807692307687,1.3386418269230769,1.5144230769230769,null,null,null,null,null,null,null,null,null,null,null,null,null,null,null,null,{"$f":"+CN$8*$BF$48+CN$9*$BG$48","v":0},-2.6620718149038465E-3,-5.070612980769231E-3,-6.9720928485576929E-3,-8.1129807692307699E-3,-8.23974609375E-3,-7.0988581730769239E-3,-4.436786358173077E-3,0,{"$f":"+FD45+CW$8*$BF$48+CW$9*$BG$48","v":0},{"$f":"+FE45+CX$8*$BF$48+CX$9*$BG$48","v":9.6222804142878579E-3},{"$f":"+FF45+CY$8*$BF$48+CY$9*$BG$48","v":1.9585242638221152E-2},{"$f":"+FG45+CZ$8*$BF$48+CZ$9*$BG$48","v":2.6798981886643626E-2},{"$f":"+FH45+DA$8*$BF$48+DA$9*$BG$48","v":2.9409555288461536E-2},null,{"$f":"+EU48*100","v":0},-0.26620718149038464,-0.50706129807692313,-0.69720928485576927,-0.81129807692307698,-0.823974609375,-0.7098858173076924,-0.44367863581730771,0,0,0.96222804142878582,1.9585242638221152,2.6798981886643625,2.9409555288461537]
[null,null,{"$f":"+C48+1","v":1},0,0.34330319135616988,0.55354191706730771,0.62786004482171476,0.59595352564102555,0.487518310546875,0.33225035056089741,0.15984559670472751,0,0,-0.17053897564227766,-0.26145348182091349,-0.2881930424616887,-0.26620718149038464,-0.29672475961538464,0.11493389423076925,null,null,null,null,null,null,null,null,null,null,null,null,null,null,null,null,null,null,null,null,null,null,null,null,null,null,null,null,null,null,null,null,null,null,null,null,null,"Fx(1)3/(L1^2) =",{"$f":"+BF47","v":-1.9230769230769232E-2},{"$f":"1/(8*(2+Input!B1))","v":3.5714285714285712E-2},null,{"$f":"BF49+BG49","v":1.648351648351648E-2},null,null,{"$f":"-BF49-(1+2/Input!B1)*BG49","v":-6.4102564102564083E-2},null,{"$f":"+BF49+BG49","v":1.648351648351648E-2},null,{"$f":"-BG49*2/Input!B1","v":-4.7619047619047616E-2},null,null,null,3.2051282051282055E-3,-5.9523809523809521E-3,-2.7472527472527466E-3,null,null,-6.4102564102564109E-3,1.1904761904761904E-2,5.4945054945054932E-3,null,null,{"$f":"-BF49/2*Input!$B$1","v":1.4423076923076924E-2},{"$f":"-BG49/6*Input!$B$1","v":-8.9285714285714281E-3},5.4945054945054958E-3,null,null,null,null,null,null,null,null,null,null,null,null,null,null,null,null,null,null,null,null,null,{"$f":"+CN6*$BF$49+CN7*$BG$49","v":0},2.0604395604395601E-3,4.1208791208791201E-3,6.1813186813186802E-3,8.2417582417582402E-3,1.0302197802197799E-2,1.236263736263736E-2,1.442307692307692E-2,1.648351648351648E-2,1.648351648351648E-2,7.5549450549450524E-3,-1.3736263736263757E-3,-1.0302197802197804E-2,-1.9230769230769232E-2,null,0,2.0604395604395601E-2,4.1208791208791201E-2,6.1813186813186802E-2,8.2417582417582402E-2,0.10302197802197799,0.1236263736263736,0.14423076923076922,0.1648351648351648,0.1648351648351648,7.5549450549450531E-2,-1.3736263736263757E-2,-0.10302197802197804,-0.19230769230769232,null,null,null,null,null,null,null,null,null,null,null,null,null,null,null,null,{"$f":"+CN$8*$BF$49+CN$9*$BG$49","v":0},3.3804086538461538E-4,6.4388736263736241E-4,8.8534512362637352E-4,1.03021978021978E-3,1.046316964285714E-3,9.0144230769230753E-4,5.6340144230769226E-4,0,0,-1.267653245192308E-3,-2.8009100274725279E-3,-4.285875257554945E-3,-5.408653846153846E-3,null,0,3.3804086538461536E-2,6.4388736263736243E-2,8.8534512362637346E-2,0.103021978021978,0.1046316964285714,9.0144230769230754E-2,5.6340144230769225E-2,0,0,-0.12676532451923078,-0.28009100274725279,-0.42858752575549453,-0.54086538461538458]
[null,null,2,0,0.55354191706730771,0.97066019917582402,1.1474832947000915,1.1103479853479852,0.91814313616071419,0.629757612179487,0.30408027844551277,0,0,-0.32483614408052891,-0.4980066320398352,-0.54893912849845472,-0.50706129807692313,-0.46102335164835162,0.2189217032967033,null,null,null,null,null,null,null,null,null,null,null,null,null,null,null,null,null,null,null,null,null,null,null,null,null,null,null,null,null,null,null,null,null,null,null,null,null,null,null,null,null,{"$f":"+SUM(BI47:BI49)","v":0.33173076923076922},null,null,{"$f":"+SUM(BL47:BL49)","v":1.4182692307692308},null,{"$f":"+SUM(BN47:BN49)","v":-0.66826923076923084},null,{"$f":"+SUM(BP47:BP49)","v":0.75},null,null,null,null,null,{"$f":"+SUM(BV47:BV49)","v":-1.3621794871794898E-2},null,null,null,null,{"$f":"+SUM(CA47:CA49)","v":-1.4423076923076931E-2},null,null,null,null,{"$f":"+SUM(CF47:CF49)","v":-1.4423076923077018E-2},null,null,null,null,null,null,null,null,null,null,null,null,null,null,null,null,null,null,null,null,null,{"$f":"+SUM(DB47:DB49)","v":0},{"$f":"+SUM(DC47:DC49)","v":3.3653846153846152E-2},{"$f":"+SUM(DD47:DD49)","v":5.1682692307692311E-2},5.4086538461538457E-2,4.0865384615384623E-2,1.2019230769230773E-2,-3.24519230769231E-2,-9.2548076923076927E-2,-0.16826923076923078,{"$f":"+SUM(DK47:DK49)","v":-0.16826923076923078},-4.5222355769230782E-2,4.2668269230769218E-2,9.5402644230769218E-2,0.1129807692307692,null,0,0.33653846153846151,0.51682692307692313,0.54086538461538458,0.40865384615384626,0.12019230769230774,-0.324519230769231,-0.92548076923076927,-1.6826923076923079,-1.6826923076923079,-0.45222355769230782,0.42668269230769218,0.95402644230769218,1.1298076923076921,null,null,null,null,null,null,null,null,null,null,null,null,null,null,null,null,{"$f":"+SUM(EU47:EU49)","v":0},{"$f":"+SUM(EV47:EV49)","v":1.6049116085737171E-3},2.7043269230769217E-3,3.0165452223557686E-3,2.50400641025641E-3,1.373291015625E-3,7.5120192307691607E-5,-6.9564428084935965E-4,0,0,4.889708298903242E-3,1.1472261868990382E-2,1.6657755925105166E-2,1.8592247596153841E-2,null,0,0.16049116085737172,0.27043269230769218,0.30165452223557687,0.25040064102564102,0.1373291015625,7.5120192307691607E-3,-6.9564428084935959E-2,0,0,0.4889708298903242,1.1472261868990383,1.6657755925105167,1.8592247596153841]
[null,null,3,0,0.62786004482171476,1.1474832947000915,1.4506329546917924,1.4616243131868134,1.2349809919084822,0.85777869591346156,0.41709313025841344,0,0,-0.44664969811072719,-0.68475911905477338,-0.75479130168537523,-0.69720928485576927,-0.51671960851648358,0.30101734203296704]
[null,null,4,0,0.59595352564102555,1.1103479853479852,1.4616243131868134,1.5682234432234432,1.3811383928571428,0.98157051282051277,0.48327323717948723,0,0,-0.51973783052884615,-0.79681061126373642,-0.8783026055975276,-0.81129807692307698,-0.48763736263736263,0.35027472527472525,null,null,null,null,null,null,null,null,null,null,null,null,null,null,null,null,null,null,null,null,null,null,null,null,null,null,null,null,null,null,null,null,null,null,null,null,null,null,null,null,null,null,null,null,null,null,null,null,null,null,null,null,null,null,null,null,null,null,null,null,null,null,null,null,null,null,null,null,null,null,null,null,null,null,null,null,null,null,null,null,null,null,null,null,null,null,null,null,null,null,null,null,null,null,null,null,null,null,null,null,null,null,null,null,{"$f":"30*DT20*45/10","v":280.54977249313185},null,null,null,null,null,null,null,null,{"$f":"30*EC29*45/10","v":303.96513886504124}]
[null,null,5,0,0.487518310546875,0.91814313616071419,1.2349809919084822,1.3811383928571428,1.2997218540736606,0.96638997395833326,0.48700968424479163,0,0,-0.52785873413085938,-0.80926077706473221,-0.89202608380998893,-0.823974609375,-0.39760044642857145,0.3557477678571429,null,null,null,null,null,null,null,null,null,null,null,null,null,null,null,null,null,null,null,null,null,null,null,null,null,null,null,null,null,null,null,null,null,null,null,null,null,null,null,null,null,null,null,null,null,null,{"$f":"30*BN25+(0.4*BN47+0.3*BN48+2*BN50)*45","v":-101.88564560439562},null,{"$f":"30*BP26+(0.4*BP47+0.3*BP48+2*BP50)*45","v":108.48214285714286},null,null,null,null,null,null,null,null,null,null,null,null,null,null,null,null,null,null,null,null,null,null,null,null,null,null,null,null,null,null,null,null,null,null,null,null,null,null,null,null,null,null,null,null,null,null,null,null,null,null,null,null,null,null,null,{"$f":"0.4*DT47*45^2/10","v":78.232314560439576},null,null,null,null,null,null,null,null,{"$f":"0.3*EC48*45^2/10","v":81.32249098557692}]
[null,null,6,0,0.33225035056089741,0.629757612179487,0.85777869591346156,0.98157051282051277,0.96638997395833326,0.77749399038461542,0.41269155649038458,0,0,-0.45477060171274042,-0.69720928485576916,-0.76851477989783656,-0.70988581730769229,-0.27043269230769229,0.30649038461538458,null,null,null,null,null,null,null,null,null,null,null,null,null,null,null,null,null,null,null,null,null,null,null,null,null,null,null,null,null,null,null,null,null,null,null,null,null,null,null,null,null,null,null,null,null,null,null,null,null,null,null,null,null,null,null,null,null,null,null,null,null,null,null,null,null,null,null,null,null,null,null,null,null,null,null,null,null,null,null,null,null,null,null,null,null,null,null,null,null,null,null,null,null,null,null,null,null,null,null,null,null,null,null,null,{"$f":"0.5*DT49*45^2/10","v":6.2585851648351634}]
[null,null,7,0,0.15984559670472756,0.30408027844551277,0.41709313025841349,0.48327323717948723,0.48700968424479163,0.41269155649038458,0.24470793895232371,0,0,-0.28423162607046271,-0.43575580303485578,-0.48032173743614781,-0.44367863581730771,-0.12995793269230768,0.19155649038461536,null,null,null,null,null,null,null,null,null,null,null,null,null,null,null,null,null,null,null,null,null,null,null,null,null,null,null,null,null,null,null,null,null,null,null,null,null,null,null,null,null,null,null,null,null,null,null,null,null,null,null,null,null,null,null,null,null,null,null,null,null,null,null,null,null,null,null,null,null,null,null,null,null,null,null,null,null,null,null,null,null,null,null,null,null,null,null,null,null,null,null,null,null,null,null,null,null,null,null,null,null,null,null,null,{"$f":"2*DT50*45^2/10","v":219.05048076923077},null,null,null,null,null,null,null,null,{"$f":"0.2*EC50*45^2/10","v":38.638070913461533}]
[null,null,8,0,0,0,0,0,0,0,0,0,0,0,0,0,0,0,0]
[null,null,{"$f":"+C56","v":8},0,0,0,0,0,0,0,0,0,0,0,0,0,0,0,0,null,null,null,null,null,null,null,null,null,null,null,null,null,null,null,null,null,null,null,null,null,null,null,null,null,null,null,null,null,null,null,null,null,null,null,null,null,null,null,null,null,null,null,null,null,null,null,null,null,null,null,null,null,null,null,null,null,null,null,null,null,null,null,null,null,null,null,null,null,null,null,null,null,null,null,null,null,null,null,null,null,null,null,null,null,null,null,null,null,null,null,null,null,null,null,null,null,null,null,null,null,null,null,null,{"$f":"+SUM(DT52:DT55)","v":584.09115298763732},null,null,null,null,null,null,null,null,{"$f":"+SUM(EC52:EC55)","v":423.92570076407969}]
[null,null,{"$f":"+C57+1","v":9},0,-0.17053897564227766,-0.32483614408052891,-0.44664969811072719,-0.51973783052884615,-0.52785873413085938,-0.45477060171274042,-0.28423162607046276,0,0,0.56592134328988863,0.93410198505108166,1.0539018190824065,0.9845440204326924,0.13859675480769232,-0.27719350961538464]
[null,null,10,0,-0.26145348182091344,-0.4980066320398352,-0.68475911905477338,-0.79681061126373642,-0.80926077706473221,-0.69720928485576916,-0.43575580303485578,0,0,0.93410198505108166,1.7955402751545328,2.1733084877768709,2.0958533653846154,0.21248282967032966,-0.42496565934065933]
[null,null,11,0,-0.2881930424616887,-0.54893912849845472,-0.75479130168537512,-0.87830260559752737,-0.89202608380998893,-0.76851477989783645,-0.48032173743614787,0,0,1.0539018190824065,2.1733084877768709,2.9296796400468428,3.0043381911057696,0.23421402815934067,-0.46842805631868134]
[null,null,12,0,-0.26620718149038458,-0.50706129807692302,-0.69720928485576916,-0.81129807692307687,-0.82397460937499978,-0.70988581730769218,-0.4436786358173076,0,0,0.9845440204326924,2.0958533653846159,3.0043381911057696,3.3804086538461542,0.2163461538461538,-0.4326923076923076]
[null,null,13,0,-0.21094542283278242,-0.40180080539577612,-0.55247610741919218,-0.64288128863324168,-0.65292630876813618,-0.56252112755408645,-0.35157570472130412,0,0,0.78525176415076625,1.7014849316942822,2.5180601811670997,3.0043381911057696,0.17143501030219779,-0.34287002060439559]
[null,null,14,0,-0.13785729041466346,-0.26258531507554939,-0.36105480822888047,-0.42013650412087911,-0.42670113699776779,-0.36761944110576922,-0.2297621506911057,0,0,0.51524822528545633,1.1285132104223898,1.7014849316942822,2.0958533653846154,0.11203640109890112,-0.22407280219780223]
[null,null,15,0,-6.2392308161808886E-2,-0.11884249173677883,-0.16340842613807091,-0.19014798677884612,-0.1931190490722656,-0.16637948843149036,-0.10398718026968148,0,0,0.23375657888559179,0.51524822528545633,0.78525176415076625,0.9845440204326924,5.0706129807692291E-2,-0.10141225961538458]
[null,null,16,0,0,0,0,0,0,0,0,0,0,0,0,0,0,0,0]
[null,null,{"$f":"+C65","v":16},0,0,0,0,0,0,0,0,0,0,0,0,0,0,0,0]
[null,null,{"$f":"+C66+1","v":17},0,2.7729914738581742E-2,5.2818885216346173E-2,7.2625967172475978E-2,8.4510216346153869E-2,8.5830688476562528E-2,7.3946439302884651E-2,4.6216524564302912E-2,0,0,-0.10398718026968148,-0.2297621506911057,-0.35157570472130406,-0.44367863581730771,-2.2536057692307702E-2,4.5072115384615405E-2]
[null,null,18,0,4.4367863581730775E-2,8.4510216346153869E-2,0.11620154747596156,0.1352163461538462,0.13732910156250006,0.11831430288461542,7.3946439302884637E-2,0,0,-0.16637948843149036,-0.36761944110576922,-0.56252112755408656,-0.70988581730769229,-3.6057692307692325E-2,7.2115384615384651E-2]
[null,null,19,0,5.1498413085937521E-2,9.809221540178574E-2,0.1348767961774554,0.15694754464285721,0.15939985002790183,0.13732910156250006,8.5830688476562528E-2,0,0,-0.1931190490722656,-0.42670113699776779,-0.65292630876813618,-0.823974609375,-4.1852678571428575E-2,8.3705357142857151E-2]
[null,null,20,0,5.0706129807692304E-2,9.6583104395604427E-2,0.13280176854395606,0.15453296703296704,0.15694754464285715,0.13521634615384615,8.4510216346153869E-2,0,0,-0.19014798677884617,-0.42013650412087911,-0.64288128863324179,-0.81129807692307698,-4.1208791208791215E-2,8.241758241758243E-2]
[null,null,21,0,4.3575580303485587E-2,8.3001105339972528E-2,0.11412651984246225,0.13280176854395606,0.13487679617745538,0.11620154747596152,7.262596717247595E-2,0,0,-0.16340842613807091,-0.36105480822888053,-0.55247610741919218,-0.69720928485576927,-3.5413804945054951E-2,7.0827609890109902E-2]
[null,null,22,0,3.1691331129807696E-2,6.0364440247252751E-2,8.3001105339972542E-2,9.6583104395604427E-2,9.8092215401785726E-2,8.4510216346153869E-2,5.2818885216346173E-2,0,0,-0.11884249173677883,-0.2625853150755495,-0.40180080539577612,-0.50706129807692313,-2.5755494505494515E-2,5.1510989010989029E-2]
[null,null,23,0,1.6637948843149043E-2,3.1691331129807696E-2,4.35755803034856E-2,5.0706129807692325E-2,5.1498413085937514E-2,4.4367863581730782E-2,2.7729914738581735E-2,0,0,-6.2392308161808886E-2,-0.13785729041466349,-0.21094542283278248,-0.26620718149038464,-1.3521634615384618E-2,2.7043269230769235E-2]
[null,null,24,0,0,0,0,0,0,0,0,0,0,0,0,0,0,0,0]
[null,null,null,"×L13/(100×EI)",null,null,null,null,null,null,null,null,null,null,null,null,null,"×(L12/EI)/10"]
[null,null,"Span 1",{"$f":"+FJ47","v":0},0.39289425580929482,0.713105254120879,0.91032929472870883,0.95867673992673996,0.8566720145089286,0.62725360576923084,0.31777406350160253,0,0,-0.34649188701923078,-0.53120707417582425,-0.58553507039835173,-0.54086538461538458,{"$f":"+BV47*10","v":-0.32509157509157538},{"$f":"+CA47*10","v":0.23351648351648352}]
[null,null,"Span 2",0,-0.26620718149038464,-0.50706129807692313,-0.69720928485576927,-0.81129807692307698,-0.823974609375,-0.7098858173076924,-0.44367863581730771,0,0,0.96222804142878582,1.9585242638221152,2.6798981886643625,2.9409555288461537,{"$f":"+BV48*10","v":0.21634615384615388},{"$f":"+CA48*10","v":-0.43269230769230776}]
[null,null,"Span 3",0,3.3804086538461536E-2,6.4388736263736243E-2,8.8534512362637346E-2,0.103021978021978,0.1046316964285714,9.0144230769230754E-2,5.6340144230769225E-2,0,0,-0.12676532451923078,-0.28009100274725279,-0.42858752575549453,-0.54086538461538458,{"$f":"+BV49*10","v":-2.7472527472527465E-2},{"$f":"+CA49*10","v":5.494505494505493E-2}]
[null,null,"Sum",0,0.16049116085737172,0.27043269230769218,0.30165452223557687,0.25040064102564102,0.1373291015625,7.5120192307691607E-3,-6.9564428084935959E-2,0,0,0.4889708298903242,1.1472261868990383,1.6657755925105167,1.8592247596153841,{"$f":"+BV50*10","v":-0.13621794871794898},{"$f":"+CA50*10","v":-0.1442307692307693}]
[null,null,null,"×L14/(100×EI)",null,null,null,null,null,null,null,null,null,null,null,null,null,"×(L13/EI)/10"]