{"text_format":"1","workbook":"xlsx","n_sheets":108,"sheets":["Input","2spanCalculation","X(1)","M1","M2","M3","M4","M5","M6","M7","MB","M9","M10","M11","M12","M13","M14","M15","RA","RB","RC","Q1","Q2","Q3","Q4","Q5","Q6","Q7","lQB","rQB","Q9","Q10","Q11","Q12","Q13","Q14","Q15","D1","D2","D3","D4","D5","D6","D7","D9","D10","D11","D12","D13","D14","D15","SA","SB","SC","M-1","M-2","M-3","M-4","M-5","M-6","M-7","M-9","M-10","M-11","M-12","M-13","M-14","M-15","MS1","MS2","MSA","Q-1","Q-2","Q-3","Q-4","Q-5","Q-6","Q-7","Q-9","Q-10","Q-11","Q-12","Q-13","Q-14","Q-15","QS1","QS2","QSA","D-1","D-2","D-3","D-4","D-5","D-6","D-7","D-9","D-10","D-11","D-12","D-13","D-14","D-15","DS1","DS2","DSA","SS1","SS2","SSA"],"not_rendered":{"charts":212,"images":0,"macros":1,"external_links":0,"defined_names":28,"comments":0,"pivot_tables":0},"unopened":[{"sheet":"X(1)","index":2,"reason":"not_a_worksheet"},{"sheet":"M1","index":3,"reason":"not_a_worksheet"},{"sheet":"M2","index":4,"reason":"not_a_worksheet"},{"sheet":"M3","index":5,"reason":"not_a_worksheet"},{"sheet":"M4","index":6,"reason":"not_a_worksheet"},{"sheet":"M5","index":7,"reason":"not_a_worksheet"},{"sheet":"M6","index":8,"reason":"not_a_worksheet"},{"sheet":"M7","index":9,"reason":"not_a_worksheet"},{"sheet":"MB","index":10,"reason":"not_a_worksheet"},{"sheet":"M9","index":11,"reason":"not_a_worksheet"},{"sheet":"M10","index":12,"reason":"not_a_worksheet"},{"sheet":"M11","index":13,"reason":"not_a_worksheet"},{"sheet":"M12","index":14,"reason":"not_a_worksheet"},{"sheet":"M13","index":15,"reason":"not_a_worksheet"},{"sheet":"M14","index":16,"reason":"not_a_worksheet"},{"sheet":"M15","index":17,"reason":"not_a_worksheet"},{"sheet":"RA","index":18,"reason":"not_a_worksheet"},{"sheet":"RB","index":19,"reason":"not_a_worksheet"},{"sheet":"RC","index":20,"reason":"not_a_worksheet"},{"sheet":"Q1","index":21,"reason":"not_a_worksheet"},{"sheet":"Q2","index":22,"reason":"not_a_worksheet"},{"sheet":"Q3","index":23,"reason":"not_a_worksheet"},{"sheet":"Q4","index":24,"reason":"not_a_worksheet"},{"sheet":"Q5","index":25,"reason":"not_a_worksheet"},{"sheet":"Q6","index":26,"reason":"not_a_worksheet"},{"sheet":"Q7","index":27,"reason":"not_a_worksheet"},{"sheet":"lQB","index":28,"reason":"not_a_worksheet"},{"sheet":"rQB","index":29,"reason":"not_a_worksheet"},{"sheet":"Q9","index":30,"reason":"not_a_worksheet"},{"sheet":"Q10","index":31,"reason":"not_a_worksheet"},{"sheet":"Q11","index":32,"reason":"not_a_worksheet"},{"sheet":"Q12","index":33,"reason":"not_a_worksheet"},{"sheet":"Q13","index":34,"reason":"not_a_worksheet"},{"sheet":"Q14","index":35,"reason":"not_a_worksheet"},{"sheet":"Q15","index":36,"reason":"not_a_worksheet"},{"sheet":"D1","index":37,"reason":"not_a_worksheet"},{"sheet":"D2","index":38,"reason":"not_a_worksheet"},{"sheet":"D3","index":39,"reason":"not_a_worksheet"},{"sheet":"D4","index":40,"reason":"not_a_worksheet"},{"sheet":"D5","index":41,"reason":"not_a_worksheet"},{"sheet":"D6","index":42,"reason":"not_a_worksheet"},{"sheet":"D7","index":43,"reason":"not_a_worksheet"},{"sheet":"D9","index":44,"reason":"not_a_worksheet"},{"sheet":"D10","index":45,"reason":"not_a_worksheet"},{"sheet":"D11","index":46,"reason":"not_a_worksheet"},{"sheet":"D12","index":47,"reason":"not_a_worksheet"},{"sheet":"D13","index":48,"reason":"not_a_worksheet"},{"sheet":"D14","index":49,"reason":"not_a_worksheet"},{"sheet":"D15","index":50,"reason":"not_a_worksheet"},{"sheet":"SA","index":51,"reason":"not_a_worksheet"},{"sheet":"SB","index":52,"reason":"not_a_worksheet"},{"sheet":"SC","index":53,"reason":"not_a_worksheet"},{"sheet":"M-1","index":54,"reason":"not_a_worksheet"},{"sheet":"M-2","index":55,"reason":"not_a_worksheet"},{"sheet":"M-3","index":56,"reason":"not_a_worksheet"},{"sheet":"M-4","index":57,"reason":"not_a_worksheet"},{"sheet":"M-5","index":58,"reason":"not_a_worksheet"},{"sheet":"M-6","index":59,"reason":"not_a_worksheet"},{"sheet":"M-7","index":60,"reason":"not_a_worksheet"},{"sheet":"M-9","index":61,"reason":"not_a_worksheet"},{"sheet":"M-10","index":62,"reason":"not_a_worksheet"},{"sheet":"M-11","index":63,"reason":"not_a_worksheet"},{"sheet":"M-12","index":64,"reason":"not_a_worksheet"},{"sheet":"M-13","index":65,"reason":"not_a_worksheet"},{"sheet":"M-14","index":66,"reason":"not_a_worksheet"},{"sheet":"M-15","index":67,"reason":"not_a_worksheet"},{"sheet":"MS1","index":68,"reason":"not_a_worksheet"},{"sheet":"MS2","index":69,"reason":"not_a_worksheet"},{"sheet":"MSA","index":70,"reason":"not_a_worksheet"},{"sheet":"Q-1","index":71,"reason":"not_a_worksheet"},{"sheet":"Q-2","index":72,"reason":"not_a_worksheet"},{"sheet":"Q-3","index":73,"reason":"not_a_worksheet"},{"sheet":"Q-4","index":74,"reason":"not_a_worksheet"},{"sheet":"Q-5","index":75,"reason":"not_a_worksheet"},{"sheet":"Q-6","index":76,"reason":"not_a_worksheet"},{"sheet":"Q-7","index":77,"reason":"not_a_worksheet"},{"sheet":"Q-9","index":78,"reason":"not_a_worksheet"},{"sheet":"Q-10","index":79,"reason":"not_a_worksheet"},{"sheet":"Q-11","index":80,"reason":"not_a_worksheet"},{"sheet":"Q-12","index":81,"reason":"not_a_worksheet"},{"sheet":"Q-13","index":82,"reason":"not_a_worksheet"},{"sheet":"Q-14","index":83,"reason":"not_a_worksheet"},{"sheet":"Q-15","index":84,"reason":"not_a_worksheet"},{"sheet":"QS1","index":85,"reason":"not_a_worksheet"},{"sheet":"QS2","index":86,"reason":"not_a_worksheet"},{"sheet":"QSA","index":87,"reason":"not_a_worksheet"},{"sheet":"D-1","index":88,"reason":"not_a_worksheet"},{"sheet":"D-2","index":89,"reason":"not_a_worksheet"},{"sheet":"D-3","index":90,"reason":"not_a_worksheet"},{"sheet":"D-4","index":91,"reason":"not_a_worksheet"},{"sheet":"D-5","index":92,"reason":"not_a_worksheet"},{"sheet":"D-6","index":93,"reason":"not_a_worksheet"},{"sheet":"D-7","index":94,"reason":"not_a_worksheet"},{"sheet":"D-9","index":95,"reason":"not_a_worksheet"},{"sheet":"D-10","index":96,"reason":"not_a_worksheet"},{"sheet":"D-11","index":97,"reason":"not_a_worksheet"},{"sheet":"D-12","index":98,"reason":"not_a_worksheet"},{"sheet":"D-13","index":99,"reason":"not_a_worksheet"},{"sheet":"D-14","index":100,"reason":"not_a_worksheet"},{"sheet":"D-15","index":101,"reason":"not_a_worksheet"},{"sheet":"DS1","index":102,"reason":"not_a_worksheet"},{"sheet":"DS2","index":103,"reason":"not_a_worksheet"},{"sheet":"DSA","index":104,"reason":"not_a_worksheet"},{"sheet":"SS1","index":105,"reason":"not_a_worksheet"},{"sheet":"SS2","index":106,"reason":"not_a_worksheet"},{"sheet":"SSA","index":107,"reason":"not_a_worksheet"}],"bounds":{"document_bytes":16777216,"sheet_cells":100000,"rows_first":2000,"rows_last":500,"rows_between":2000,"halvings":0,"cell_chars":16384,"cell_head_chars":4096},"cells_cut":0,"cells_raw":0,"read":"whole","date_system":"1900"}

{"sheet":"Input","index":0,"n_rows":14,"n_cols":3,"rows_kept":14,"cut":false,"hidden":false,"merged":[]}
["L2/L1 =",1]
[]
["Mi","(L1/10)","Moment influence line for point i"]
["Ri","(1)","Reaction influence line for support i"]
["Qi","(1)","Shear influence line for point i"]
["Di","(L1^3/EI)/100","Deflection influence line for point i"]
["Si","(L1^2/EI)/10","Rotation angle influence line for support i"]
["M-i","(L1/10)","Moment diagram when a unit point load is applied at point i"]
["MSi","(L1^2/10)","Moment diagram when uniformly distributed loads are applied at span i"]
["Q-i","(1)","Shear diagram when a unit point load is applied at point i"]
["QSi","(L1)","Shear diagram when uniformly distributed loads are applied at span i"]
["D-i","(L1^3/EI)/100","Deflection diagram when a unit point load is applied at point i"]
["DSi","(L1^4/EI)/100","Deflection diagram when uniformly distributed loads are applied at span i"]
["SSi","(L1^3/EI)/10","Rotation angle diagram when uniformly distributed loads are applied at support i"]

{"sheet":"2spanCalculation","index":1,"n_rows":76,"n_cols":346,"rows_kept":76,"cut":false,"hidden":true,"merged":[[25,3,25,20],[29,3,29,20],[5,21,5,22],[5,23,5,25],[25,21,25,25],[29,21,29,25],[5,3,5,20],[31,21,31,23],[51,21,51,23],[31,3,31,20],[51,3,51,20],[55,3,55,20],[55,21,55,23],[4,249,4,266],[5,249,5,257],[5,258,5,266],[4,208,4,225],[5,208,5,216],[5,217,5,225],[4,189,4,206],[5,189,5,197],[5,198,5,206],[4,229,4,246],[5,229,5,237],[5,238,5,246],[5,167,5,175],[5,176,5,184],[4,106,4,123],[5,106,5,114],[5,115,5,123],[4,127,4,144],[4,147,4,164],[4,167,4,184],[5,156,5,164],[10,67,18,67],[19,67,27,67],[5,127,5,135],[5,136,5,144],[5,147,5,155]]}
[]
[]
[]
[]
[null,null,null,null,null,null,null,null,null,null,null,null,null,null,null,null,null,null,null,null,null,null,null,null,null,null,null,null,null,null,null,null,null,null,null,null,null,null,null,null,null,null,null,null,null,null,null,null,null,null,null,null,null,null,null,null,null,null,null,null,null,null,null,null,null,null,null,null,null,null,null,null,null,null,null,null,null,null,null,null,null,null,null,null,null,null,null,null,null,null,null,null,null,null,null,null,null,null,null,null,null,null,null,null,null,null,"Mx0/L",null,null,null,null,null,null,null,null,null,null,null,null,null,null,null,null,null,null,null,null,"Mx1(X1/L)",null,null,null,null,null,null,null,null,null,null,null,null,null,null,null,null,null,null,null,"Mx0+Mx1(X1/L)",null,null,null,null,null,null,null,null,null,null,null,null,null,null,null,null,null,null,null,"10(Mx0+Mx1(X1/L))",null,null,null,null,null,null,null,null,null,null,null,null,null,null,null,null,null,null,null,null,null,"fx0EI/L1^3",null,null,null,null,null,null,null,null,null,null,null,null,null,null,null,null,null,null,"fx1X1",null,null,null,null,null,null,null,null,null,null,null,null,null,null,null,null,null,null,null,null,"fx0+fx1X1",null,null,null,null,null,null,null,null,null,null,null,null,null,null,null,null,null,null,null,"(fx0+fx1X1)*100"]
[null,null,null,"Bending Moment",null,null,null,null,null,null,null,null,null,null,null,null,null,null,null,null,null,"Shear Force",null,"Reaction",null,null,null,null,null,null,null,null,null,null,null,null,null,null,null,null,null,null,null,null,null,null,null,null,null,null,null,null,null,null,null,null,null,null,null,null,null,null,null,null,null,null,null,null,null,null,null,null,null,null,null,null,null,null,null,null,null,null,null,null,null,null,null,null,null,null,null,null,null,null,null,null,null,null,null,null,null,null,null,null,null,null,1,null,null,null,null,null,null,null,null,2,null,null,null,null,null,null,null,null,null,null,null,1,null,null,null,null,null,null,null,null,2,null,null,null,null,null,null,null,null,null,null,1,null,null,null,null,null,null,null,null,2,null,null,null,null,null,null,null,null,null,null,1,null,null,null,null,null,null,null,null,2,null,null,null,null,null,null,null,null,null,null,null,null,1,null,null,null,null,null,null,null,null,2,null,null,null,null,null,null,null,null,null,1,null,null,null,null,null,null,null,null,2,null,null,null,null,null,null,null,null,null,null,null,1,null,null,null,null,null,null,null,null,2,null,null,null,null,null,null,null,null,null,null,1,null,null,null,null,null,null,null,null,2]
[null,null,null,0,{"$f":"+D7+1","v":1},2,3,4,5,6,7,8,{"$f":"+L7","v":8},{"$f":"+M7+1","v":9},10,11,12,13,14,15,16,"lQB","rQB","RA","RB","RC",null,null,"-RC",null,0,0,1,1,{"$f":"+AG7+1","v":2},2,3,3,4,4,5,5,6,6,7,7,8,8,9,9,10,10,11,11,12,12,13,13,14,14,15,15,16,16,null,null,null,null,null,null,null,null,null,null,null,null,null,null,null,null,null,null,null,null,null,null,null,null,null,null,null,null,null,null,null,null,null,null,null,null,null,null,null,null,null,null,0,{"$f":"+DC7+1/8","v":0.125},{"$f":"+DD7+1/8","v":0.25},{"$f":"+DE7+1/8","v":0.375},{"$f":"+DF7+1/8","v":0.5},{"$f":"+DG7+1/8","v":0.625},{"$f":"+DH7+1/8","v":0.75},{"$f":"+DI7+1/8","v":0.875},{"$f":"+DJ7+1/8","v":1},0,{"$f":"+DL7+1/8","v":0.125},{"$f":"+DM7+1/8","v":0.25},{"$f":"+DN7+1/8","v":0.375},{"$f":"+DO7+1/8","v":0.5},{"$f":"+DP7+1/8","v":0.625},{"$f":"+DQ7+1/8","v":0.75},{"$f":"+DR7+1/8","v":0.875},{"$f":"+DS7+1/8","v":1},null,null,null,0,{"$f":"+DX7+1/8","v":0.125},{"$f":"+DY7+1/8","v":0.25},{"$f":"+DZ7+1/8","v":0.375},{"$f":"+EA7+1/8","v":0.5},{"$f":"+EB7+1/8","v":0.625},{"$f":"+EC7+1/8","v":0.75},{"$f":"+ED7+1/8","v":0.875},{"$f":"+EE7+1/8","v":1},0,{"$f":"+EG7+1/8","v":0.125},{"$f":"+EH7+1/8","v":0.25},{"$f":"+EI7+1/8","v":0.375},{"$f":"+EJ7+1/8","v":0.5},{"$f":"+EK7+1/8","v":0.625},{"$f":"+EL7+1/8","v":0.75},{"$f":"+EM7+1/8","v":0.875},{"$f":"+EN7+1/8","v":1},null,null,0,{"$f":"+ER7+1/8","v":0.125},{"$f":"+ES7+1/8","v":0.25},0.375,0.5,0.625,0.75,0.875,1,0,{"$f":"+FA7+1/8","v":0.125},{"$f":"+FB7+1/8","v":0.25},{"$f":"+FC7+1/8","v":0.375},{"$f":"+FD7+1/8","v":0.5},{"$f":"+FE7+1/8","v":0.625},{"$f":"+FF7+1/8","v":0.75},{"$f":"+FG7+1/8","v":0.875},{"$f":"+FH7+1/8","v":1},null,null,0,{"$f":"+FL7+1/8","v":0.125},{"$f":"+FM7+1/8","v":0.25},{"$f":"+FN7+1/8","v":0.375},{"$f":"+FO7+1/8","v":0.5},{"$f":"+FP7+1/8","v":0.625},{"$f":"+FQ7+1/8","v":0.75},{"$f":"+FR7+1/8","v":0.875},{"$f":"+FS7+1/8","v":1},0,{"$f":"+FU7+1/8","v":0.125},{"$f":"+FV7+1/8","v":0.25},{"$f":"+FW7+1/8","v":0.375},{"$f":"+FX7+1/8","v":0.5},{"$f":"+FY7+1/8","v":0.625},{"$f":"+FZ7+1/8","v":0.75},{"$f":"+GA7+1/8","v":0.875},{"$f":"+GB7+1/8","v":1},null,null,null,"u",0,{"$f":"+GH7+1/8","v":0.125},{"$f":"+GI7+1/8","v":0.25},{"$f":"+GJ7+1/8","v":0.375},{"$f":"+GK7+1/8","v":0.5},{"$f":"+GL7+1/8","v":0.625},{"$f":"+GM7+1/8","v":0.75},{"$f":"+GN7+1/8","v":0.875},{"$f":"+GO7+1/8","v":1},0,{"$f":"+GQ7+1/8","v":0.125},{"$f":"+GR7+1/8","v":0.25},{"$f":"+GS7+1/8","v":0.375},{"$f":"+GT7+1/8","v":0.5},{"$f":"+GU7+1/8","v":0.625},{"$f":"+GV7+1/8","v":0.75},{"$f":"+GW7+1/8","v":0.875},{"$f":"+GX7+1/8","v":1},null,0,{"$f":"+HA7+1/8","v":0.125},{"$f":"+HB7+1/8","v":0.25},{"$f":"+HC7+1/8","v":0.375},{"$f":"+HD7+1/8","v":0.5},{"$f":"+HE7+1/8","v":0.625},{"$f":"+HF7+1/8","v":0.75},{"$f":"+HG7+1/8","v":0.875},{"$f":"+HH7+1/8","v":1},0,{"$f":"+HJ7+1/8","v":0.125},{"$f":"+HK7+1/8","v":0.25},{"$f":"+HL7+1/8","v":0.375},{"$f":"+HM7+1/8","v":0.5},{"$f":"+HN7+1/8","v":0.625},{"$f":"+HO7+1/8","v":0.75},{"$f":"+HP7+1/8","v":0.875},{"$f":"+HQ7+1/8","v":1},null,null,null,0,{"$f":"+HV7+1/8","v":0.125},{"$f":"+HW7+1/8","v":0.25},{"$f":"+HX7+1/8","v":0.375},{"$f":"+HY7+1/8","v":0.5},{"$f":"+HZ7+1/8","v":0.625},{"$f":"+IA7+1/8","v":0.75},{"$f":"+IB7+1/8","v":0.875},{"$f":"+IC7+1/8","v":1},0,{"$f":"+IE7+1/8","v":0.125},{"$f":"+IF7+1/8","v":0.25},{"$f":"+IG7+1/8","v":0.375},{"$f":"+IH7+1/8","v":0.5},{"$f":"+II7+1/8","v":0.625},{"$f":"+IJ7+1/8","v":0.75},{"$f":"+IK7+1/8","v":0.875},{"$f":"+IL7+1/8","v":1},null,null,0,{"$f":"+IP7+1/8","v":0.125},{"$f":"+IQ7+1/8","v":0.25},{"$f":"+IR7+1/8","v":0.375},{"$f":"+IS7+1/8","v":0.5},{"$f":"+IT7+1/8","v":0.625},{"$f":"+IU7+1/8","v":0.75},{"$f":"+IV7+1/8","v":0.875},{"$f":"+IW7+1/8","v":1},0,{"$f":"+IY7+1/8","v":0.125},{"$f":"+IZ7+1/8","v":0.25},{"$f":"+JA7+1/8","v":0.375},{"$f":"+JB7+1/8","v":0.5},{"$f":"+JC7+1/8","v":0.625},{"$f":"+JD7+1/8","v":0.75},{"$f":"+JE7+1/8","v":0.875},{"$f":"+JF7+1/8","v":1},null,null,null,null,0,{"$f":"+JL7+1/8","v":0.125},{"$f":"+JM7+1/8","v":0.25},0.375,0.5,0.625,0.75,0.875,1,0,{"$f":"+JU7+1/8","v":0.125},0.25,0.375,0.5,0.625,0.75,0.875,1,null,0,{"$f":"+KE7+1/8","v":0.125},{"$f":"+KF7+1/8","v":0.25},0.375,0.5,0.625,0.75,0.875,1,0,{"$f":"+KN7+1/8","v":0.125},0.25,0.375,0.5,0.625,0.75,0.875,1,null,0,{"$f":"+KX7+1/8","v":0.125},{"$f":"+KY7+1/8","v":0.25},0.375,0.5,0.625,0.75,0.875,1,0,{"$f":"+LG7+1/8","v":0.125},0.25,0.375,0.5,0.625,0.75,0.875,1,null,0,{"$f":"+LQ7+1/8","v":0.125},{"$f":"+LR7+1/8","v":0.25},0.375,0.5,0.625,0.75,0.875,1,0,{"$f":"+LZ7+1/8","v":0.125},0.25,0.375,0.5,0.625,0.75,0.875,1]
[null,null,0,{"$f":"+FL11","v":0},{"$f":"+FM11","v":0},{"$f":"+FN11","v":0},{"$f":"+FO11","v":0},{"$f":"+FP11","v":0},{"$f":"+FQ11","v":0},{"$f":"+FR11","v":0},{"$f":"+FS11","v":0},{"$f":"+FT11","v":0},{"$f":"+FU11","v":0},{"$f":"+FV11","v":0},{"$f":"+FW11","v":0},{"$f":"+FX11","v":0},{"$f":"+FY11","v":0},{"$f":"+FZ11","v":0},{"$f":"+GA11","v":0},{"$f":"+GB11","v":0},{"$f":"+GC11","v":0},{"$f":"+CA11","v":0},{"$f":"+CG11","v":0},{"$f":"+BV11","v":1},{"$f":"+BY11","v":0},{"$f":"+CE11","v":0},null,null,{"$f":"-Z8","v":0},null,null,null,null,null,null,null,null,null,null,null,null,null,null,null,null,null,null,null,null,null,null,null,null,null,null,null,null,null,null,null,null,null,null,null,null,null,null,null,null,null,null,null,null,null,null,null,null,null,null,null,null,null,null,null,null,null,null,null,null,null,null,null,null,null,null,null,null,null,null,null,null,null,null,null,null,null,0,1,2,3,4,5,6,7,8,null,null,null,null,null,null,null,null,null,null,null,"Mx1",{"$f":"+DX7","v":0},{"$f":"+DY7","v":0.125},0.25,0.375,0.5,0.625,0.75,0.875,1,{"$f":"1-EG7","v":1},{"$f":"1-EH7","v":0.875},0.75,0.625,0.5,0.375,0.25,0.125,0,null,null,null,null,null,null,null,null,null,null,null,null,null,null,null,null,null,null,null,null,null,null,null,null,null,null,null,null,null,null,null,null,null,null,null,null,null,null,null,null,null,null,null,"u'",{"$f":"1-GH7","v":1},{"$f":"1-GI7","v":0.875},0.75,0.625,0.5,0.375,0.25,0.125,0,1,0.875,0.75,0.625,0.5,0.375,0.25,0.125,0,null,{"$f":"+BS11","v":0},{"$f":"+BS12","v":0.123046875},{"$f":"+BS13","v":0.234375},{"$f":"+BS14","v":0.322265625},{"$f":"+BS15","v":0.375},{"$f":"+BS16","v":0.380859375},{"$f":"+BS17","v":0.328125},{"$f":"+BS18","v":0.205078125},{"$f":"+BS19","v":0},{"$f":"+BS20","v":0},{"$f":"+BS21","v":0.205078125},{"$f":"+BS22","v":0.328125},{"$f":"+BS23","v":0.380859375},{"$f":"+BS24","v":0.375},{"$f":"+BS25","v":0.322265625},{"$f":"+BS26","v":0.234375},{"$f":"+BS27","v":0.123046875},{"$f":"+BS28","v":0}]
[null,null,{"$f":"+C8+1","v":1},0,1.0552978515625,0.860595703125,0.6658935546875,0.47119140625,0.2764892578125,8.1787109375E-2,-0.1129150390625,-0.3076171875,-0.3076171875,-0.2691650390625,-0.230712890625,-0.1922607421875,-0.15380859375,-0.1153564453125,-7.6904296875E-2,-3.84521484375E-2,0,-0.15576171875,3.076171875E-2,0.84423828125,0.1865234375,-3.076171875E-2,null,null,3.076171875E-2,null,0,{"$f":"+$X9","v":0.84423828125},0.84423828125,{"$f":"+$V9","v":-0.15576171875},-0.15576171875,-0.15576171875,-0.15576171875,-0.15576171875,-0.15576171875,-0.15576171875,-0.15576171875,-0.15576171875,-0.15576171875,-0.15576171875,-0.15576171875,-0.15576171875,-0.15576171875,{"$f":"+$W9","v":3.076171875E-2},3.076171875E-2,3.076171875E-2,3.076171875E-2,3.076171875E-2,3.076171875E-2,3.076171875E-2,3.076171875E-2,3.076171875E-2,3.076171875E-2,3.076171875E-2,3.076171875E-2,3.076171875E-2,3.076171875E-2,3.076171875E-2,3.076171875E-2,0,null,null,null,"Span",null,null,"wD","X1/L1","RA0","RA","RB0",null,"RB","LQB0","LQB",null,"RC0",null,"RC","RQB0","RQB",null,"SA0","SA1","SA",null,"lSB0","lSB1","lSB",null,"rSB0","rSB1","rSB",null,"SC0","SC1","SC",null,null,null,null,null,null,null,null,null,null,null,null,null,null,null,null,null,null,null,null,null,null,null,null,null,null,null,null,null,null,null,null,null,null,null,null,null,null,null,null,null,null,null,null,null,null,null,null,null,null,null,null,null,null,null,null,null,null,null,null,null,null,null,null,null,null,null,null,null,null,null,null,null,null,null,null,null,null,null,null,null,null,null,null,null,null,null,"x'",null,null,null,null,null,null,null,null,null,null,null,null,null,null,null,null,null,null,null,{"$f":"+HA8/6","v":0},{"$f":"+HB8/6","v":2.05078125E-2},3.90625E-2,5.37109375E-2,6.25E-2,6.34765625E-2,5.46875E-2,3.41796875E-2,0,{"$f":"+HJ8/6*Input!$B$1^2","v":0},{"$f":"+HK8/6*Input!$B$1^2","v":3.41796875E-2},{"$f":"+HL8/6*Input!$B$1^2","v":5.46875E-2},{"$f":"+HM8/6*Input!$B$1^2","v":6.34765625E-2},{"$f":"+HN8/6*Input!$B$1^2","v":6.25E-2},{"$f":"+HO8/6*Input!$B$1^2","v":5.37109375E-2},{"$f":"+HP8/6*Input!$B$1^2","v":3.90625E-2},{"$f":"+HQ8/6*Input!$B$1^2","v":2.05078125E-2},{"$f":"+HR8/6*Input!$B$1^2","v":0}]
[null,null,2,0,0.8642578125,1.728515625,1.3427734375,0.95703125,0.5712890625,0.185546875,-0.2001953125,-0.5859375,-0.5859375,-0.5126953125,-0.439453125,-0.3662109375,-0.29296875,-0.2197265625,-0.146484375,-7.32421875E-2,0,-0.30859375,5.859375E-2,0.69140625,0.3671875,-5.859375E-2,null,null,5.859375E-2,null,0,0.69140625,0.69140625,{"$f":"+$X10","v":0.69140625},0.69140625,{"$f":"+$V10","v":-0.30859375},-0.30859375,-0.30859375,-0.30859375,-0.30859375,-0.30859375,-0.30859375,-0.30859375,-0.30859375,-0.30859375,-0.30859375,-0.30859375,5.859375E-2,5.859375E-2,5.859375E-2,5.859375E-2,5.859375E-2,5.859375E-2,5.859375E-2,5.859375E-2,5.859375E-2,5.859375E-2,5.859375E-2,5.859375E-2,5.859375E-2,5.859375E-2,5.859375E-2,5.859375E-2,0]
[null,null,3,0,0.6805419921875,1.361083984375,2.0416259765625,1.47216796875,0.9027099609375,0.333251953125,-0.2362060546875,-0.8056640625,-0.8056640625,-0.7049560546875,-0.604248046875,-0.5035400390625,-0.40283203125,-0.3021240234375,-0.201416015625,-0.1007080078125,0,-0.45556640625,8.056640625E-2,0.54443359375,0.5361328125,-8.056640625E-2,null,null,8.056640625E-2,null,0,0.54443359375,0.54443359375,0.54443359375,0.54443359375,{"$f":"+$X11","v":0.54443359375},0.54443359375,{"$f":"+$V11","v":-0.45556640625},-0.45556640625,-0.45556640625,-0.45556640625,-0.45556640625,-0.45556640625,-0.45556640625,-0.45556640625,-0.45556640625,-0.45556640625,8.056640625E-2,8.056640625E-2,8.056640625E-2,8.056640625E-2,8.056640625E-2,8.056640625E-2,8.056640625E-2,8.056640625E-2,8.056640625E-2,8.056640625E-2,8.056640625E-2,8.056640625E-2,8.056640625E-2,8.056640625E-2,8.056640625E-2,8.056640625E-2,0,null,null,null,1,0,{"$f":"+BQ11","v":0},{"$f":"+BQ11-BQ11^3","v":0},{"$f":"-BS11/(2*(1+Input!$B$1))","v":0},{"$f":"+BU12+1/8","v":1},{"$f":"+BU11+BT11","v":1},0,{"$f":"-(1+1/Input!$B$1)*BT11","v":0},{"$f":"+BW11+BX11","v":0},0,{"$f":"+BZ11+BT11","v":0},null,null,{"$f":"+BT11/Input!$B$1","v":0},{"$f":"+CC11+CD11","v":0},null,{"$f":"+CF11-BT11/Input!$B$1","v":0},null,{"$f":"-(1-BQ11)*(1-(1-BQ11)^2)/6","v":0},{"$f":"-BT11/6","v":0},{"$f":"+CI11+CJ11","v":0},null,{"$f":"+BQ11*(1-BQ11^2)/6","v":0},{"$f":"+BT11/3","v":0},{"$f":"+CM11+CN11","v":0},null,null,{"$f":"-BT11/3*Input!$B$1","v":0},{"$f":"+CQ11+CR11","v":0},null,null,{"$f":"+BT11/6*Input!$B$1","v":0},{"$f":"+CU11+CV11","v":0},null,null,null,null,null,{"$f":"+$BQ11*(1-$BQ11)","v":0},{"$f":"+$DC11/(8-$DC$8)*(8-DD$8)","v":0},0,0,0,0,0,0,0,null,null,null,null,null,null,null,null,null,null,null,null,{"$f":"+DX$8*$BT11","v":0},0,0,0,0,0,0,0,0,0,{"$f":"+EH$8*$BT11","v":0},0,0,0,0,0,0,0,null,null,{"$f":"+DC11+DX11","v":0},{"$f":"+DD11+DY11","v":0},{"$f":"+DE11+DZ11","v":0},{"$f":"+DF11+EA11","v":0},{"$f":"+DG11+EB11","v":0},{"$f":"+DH11+EC11","v":0},{"$f":"+DI11+ED11","v":0},{"$f":"+DJ11+EE11","v":0},{"$f":"+DK11+EF11","v":0},{"$f":"+DL11+EG11","v":0},{"$f":"+DM11+EH11","v":0},{"$f":"+DN11+EI11","v":0},{"$f":"+DO11+EJ11","v":0},{"$f":"+DP11+EK11","v":0},{"$f":"+DQ11+EL11","v":0},{"$f":"+DR11+EM11","v":0},{"$f":"+DS11+EN11","v":0},{"$f":"+DT11+EO11","v":0},null,null,{"$f":"+ER11*10","v":0},{"$f":"+ES11*10","v":0},{"$f":"+ET11*10","v":0},{"$f":"+EU11*10","v":0},{"$f":"+EV11*10","v":0},{"$f":"+EW11*10","v":0},{"$f":"+EX11*10","v":0},{"$f":"+EY11*10","v":0},{"$f":"+EZ11*10","v":0},{"$f":"+FA11*10","v":0},{"$f":"+FB11*10","v":0},{"$f":"+FC11*10","v":0},{"$f":"+FD11*10","v":0},{"$f":"+FE11*10","v":0},{"$f":"+FF11*10","v":0},{"$f":"+FG11*10","v":0},{"$f":"+FH11*10","v":0},{"$f":"+FI11*10","v":0},null,null,null,{"$f":"1-BQ11","v":1},{"$f":"1/6*($GG11*GH$7*(1-($GG11^2)-(GH$7^2)))","v":0},{"$f":"1/6*($BQ11*GI$8*(1-($BQ11)^2-(GI$8)^2))","v":0},{"$f":"1/6*($BQ11*GJ$8*(1-($BQ11)^2-(GJ$8)^2))","v":0},0,0,0,0,0,0,null,null,null,null,null,null,null,null,null,null,{"$f":"+HA$9*$BT11","v":0},0,0,0,0,0,0,0,0,0,{"$f":"+HK$9*$BT11","v":0},0,0,0,0,0,0,0,null,null,null,{"$f":"+GH11+HA11","v":0},{"$f":"+GI11+HB11","v":0},{"$f":"+GJ11+HC11","v":0},{"$f":"+GK11+HD11","v":0},{"$f":"+GL11+HE11","v":0},{"$f":"+GM11+HF11","v":0},{"$f":"+GN11+HG11","v":0},{"$f":"+GO11+HH11","v":0},{"$f":"+GP11+HI11","v":0},{"$f":"+GQ11+HJ11","v":0},{"$f":"+GR11+HK11","v":0},{"$f":"+GS11+HL11","v":0},{"$f":"+GT11+HM11","v":0},{"$f":"+GU11+HN11","v":0},{"$f":"+GV11+HO11","v":0},{"$f":"+GW11+HP11","v":0},{"$f":"+GX11+HQ11","v":0},{"$f":"+GY11+HR11","v":0},null,null,{"$f":"+HV11*100","v":0},{"$f":"+HW11*100","v":0},{"$f":"+HX11*100","v":0},{"$f":"+HY11*100","v":0},{"$f":"+HZ11*100","v":0},{"$f":"+IA11*100","v":0},{"$f":"+IB11*100","v":0},{"$f":"+IC11*100","v":0},{"$f":"+ID11*100","v":0},{"$f":"+IE11*100","v":0},{"$f":"+IF11*100","v":0},{"$f":"+IG11*100","v":0},{"$f":"+IH11*100","v":0},{"$f":"+II11*100","v":0},{"$f":"+IJ11*100","v":0},{"$f":"+IK11*100","v":0},{"$f":"+IL11*100","v":0},{"$f":"+IM11*100","v":0},null,null,null,null,{"$f":"+(1-$BQ11)*JL$7*10","v":0},{"$f":"+(1-$BQ11)*JM$7*10","v":1.25},2.5,3.75,5,6.25,7.5,8.75,10,null,null,null,null,null,null,null,null,null,null,{"$f":"+$BQ11*(1-KE$7)*10","v":0},{"$f":"+$BQ11*(1-KF$7)*10","v":0},0,0,0,0,0,0,0,null,null,null,null,null,null,null,null,null,null,{"$f":"+JL11+DX11*10","v":0},{"$f":"+JM11+DY11*10","v":1.25},{"$f":"+JN11+DZ11*10","v":2.5},{"$f":"+JO11+EA11*10","v":3.75},{"$f":"+JP11+EB11*10","v":5},{"$f":"+JQ11+EC11*10","v":6.25},{"$f":"+JR11+ED11*10","v":7.5},{"$f":"+JS11+EE11*10","v":8.75},{"$f":"+JT11+EF11*10","v":10},{"$f":"+JU11+EG11*10","v":0},{"$f":"+JV11+EH11*10","v":0},{"$f":"+JW11+EI11*10","v":0},{"$f":"+JX11+EJ11*10","v":0},{"$f":"+JY11+EK11*10","v":0},{"$f":"+JZ11+EL11*10","v":0},{"$f":"+KA11+EM11*10","v":0},{"$f":"+KB11+EN11*10","v":0},{"$f":"+KC11+EO11*10","v":0},null,{"$f":"+KE11+DX11*10","v":0},{"$f":"+KF11+DY11*10","v":0},{"$f":"+KG11+DZ11*10","v":0},{"$f":"+KH11+EA11*10","v":0},{"$f":"+KI11+EB11*10","v":0},{"$f":"+KJ11+EC11*10","v":0},{"$f":"+KK11+ED11*10","v":0},{"$f":"+KL11+EE11*10","v":0},{"$f":"+KM11+EF11*10","v":0},{"$f":"+KN11+EG11*10","v":0},{"$f":"+KO11+EH11*10","v":0},{"$f":"+KP11+EI11*10","v":0},{"$f":"+KQ11+EJ11*10","v":0},{"$f":"+KR11+EK11*10","v":0},{"$f":"+KS11+EL11*10","v":0},{"$f":"+KT11+EM11*10","v":0},{"$f":"+KU11+EN11*10","v":0},{"$f":"+KV11+EO11*10","v":0}]
[null,null,4,0,0.5078125,1.015625,1.5234375,2.03125,1.2890625,0.546875,-0.1953125,-0.9375,-0.9375,-0.8203125,-0.703125,-0.5859375,-0.46875,-0.3515625,-0.234375,-0.1171875,0,-0.59375,9.375E-2,0.40625,0.6875,-9.375E-2,null,null,9.375E-2,null,0,0.40625,0.40625,0.40625,0.40625,0.40625,0.40625,{"$f":"+$X12","v":0.40625},0.40625,{"$f":"+$V12","v":-0.59375},-0.59375,-0.59375,-0.59375,-0.59375,-0.59375,-0.59375,-0.59375,9.375E-2,9.375E-2,9.375E-2,9.375E-2,9.375E-2,9.375E-2,9.375E-2,9.375E-2,9.375E-2,9.375E-2,9.375E-2,9.375E-2,9.375E-2,9.375E-2,9.375E-2,9.375E-2,0,null,null,null,null,{"$f":"+BQ11+1/8","v":0.125},{"$f":"+BQ12","v":0.125},{"$f":"+BQ12-BQ12^3","v":0.123046875},{"$f":"-BS12/(2*(1+Input!$B$1))","v":-3.076171875E-2},0.875,0.84423828125,{"$f":"+BW11+1/8","v":0.125},{"$f":"-(1+1/Input!$B$1)*BT12","v":6.15234375E-2},0.1865234375,{"$f":"+BZ11-1/8","v":-0.125},-0.15576171875,null,null,{"$f":"+BT12/Input!$B$1","v":-3.076171875E-2},-3.076171875E-2,null,{"$f":"+CF12-BT12/Input!$B$1","v":3.076171875E-2},null,{"$f":"-(1-BQ12)*(1-(1-BQ12)^2)/6","v":-3.41796875E-2},5.126953125E-3,-2.9052734375E-2,null,{"$f":"+BQ12*(1-BQ12^2)/6","v":2.05078125E-2},-1.025390625E-2,1.025390625E-2,null,null,{"$f":"-BT12/3*Input!$B$1","v":1.025390625E-2},1.025390625E-2,null,null,{"$f":"+BT12/6*Input!$B$1","v":-5.126953125E-3},-5.126953125E-3,null,null,null,null,null,{"$f":"+$DD12/$DD$8*DC$8","v":0},{"$f":"+$BQ12*(1-$BQ12)","v":0.109375},{"$f":"+$DD12/(8-$DD$8)*(8-DE$8)","v":9.375E-2},7.8125E-2,6.25E-2,4.6875E-2,3.125E-2,1.5625E-2,0,null,null,null,null,null,null,null,null,null,null,null,null,0,-3.84521484375E-3,-7.6904296875E-3,-1.153564453125E-2,-1.5380859375E-2,-1.922607421875E-2,-2.30712890625E-2,-2.691650390625E-2,-3.076171875E-2,-3.076171875E-2,-2.691650390625E-2,-2.30712890625E-2,-1.922607421875E-2,-1.5380859375E-2,-1.153564453125E-2,-7.6904296875E-3,-3.84521484375E-3,0,null,null,0,0.10552978515625,8.60595703125E-2,6.658935546875E-2,4.7119140625E-2,2.764892578125E-2,8.1787109375E-3,-1.129150390625E-2,-3.076171875E-2,-3.076171875E-2,-2.691650390625E-2,-2.30712890625E-2,-1.922607421875E-2,-1.5380859375E-2,-1.153564453125E-2,-7.6904296875E-3,-3.84521484375E-3,0,null,null,0,1.0552978515625,0.860595703125,0.6658935546875,0.47119140625,0.2764892578125,8.1787109375E-2,-0.1129150390625,-0.3076171875,-0.3076171875,-0.2691650390625,-0.230712890625,-0.1922607421875,-0.15380859375,-0.1153564453125,-7.6904296875E-2,-3.84521484375E-2,0,null,null,null,{"$f":"1-BQ12","v":0.875},0,{"$f":"1/6*($GG12*GI$7*(1-($GG12^2)-(GI$7^2)))","v":3.987630208333333E-3},6.591796875E-3,7.7311197916666661E-3,7.649739583333333E-3,6.591796875E-3,4.8014322916666661E-3,2.522786458333333E-3,0,null,null,null,null,null,null,null,null,null,null,0,-6.3085556030273438E-4,-1.201629638671875E-3,-1.6522407531738281E-3,-1.922607421875E-3,-1.9526481628417969E-3,-1.682281494140625E-3,-1.0514259338378906E-3,0,0,-1.0514259338378906E-3,-1.682281494140625E-3,-1.9526481628417969E-3,-1.922607421875E-3,-1.6522407531738281E-3,-1.201629638671875E-3,-6.3085556030273438E-4,0,null,null,null,0,3.3567746480305987E-3,5.390167236328125E-3,6.078879038492838E-3,5.727132161458333E-3,4.6391487121582031E-3,3.1191507975260411E-3,1.4713605244954424E-3,0,0,-1.0514259338378906E-3,-1.682281494140625E-3,-1.9526481628417969E-3,-1.922607421875E-3,-1.6522407531738281E-3,-1.201629638671875E-3,-6.3085556030273438E-4,0,null,null,0,0.33567746480305988,0.5390167236328125,0.60788790384928382,0.57271321614583326,0.46391487121582031,0.31191507975260413,0.14713605244954425,0,0,-0.10514259338378906,-0.1682281494140625,-0.19526481628417969,-0.1922607421875,-0.16522407531738281,-0.1201629638671875,-6.3085556030273438E-2,0,null,null,null,null,{"$f":"+(1-$BQ12)*JL$7*10","v":0},1.09375,2.1875,3.28125,4.375,5.46875,6.5625,7.65625,8.75,null,null,null,null,null,null,null,null,null,null,{"$f":"+$BQ12*(1-KE$7)*10","v":1.25},1.09375,0.9375,0.78125,0.625,0.46875,0.3125,0.15625,0,null,null,null,null,null,null,null,null,null,null,0,1.0552978515625,2.110595703125,3.1658935546875,4.22119140625,5.2764892578125,6.331787109375,7.3870849609375,8.4423828125,-0.3076171875,-0.2691650390625,-0.230712890625,-0.1922607421875,-0.15380859375,-0.1153564453125,-7.6904296875E-2,-3.84521484375E-2,0,null,1.25,1.0552978515625,0.860595703125,0.6658935546875,0.47119140625,0.2764892578125,8.1787109375E-2,-0.1129150390625,-0.3076171875,-0.3076171875,-0.2691650390625,-0.230712890625,-0.1922607421875,-0.15380859375,-0.1153564453125,-7.6904296875E-2,-3.84521484375E-2,0]
[null,null,5,0,0.3497314453125,0.699462890625,1.0491943359375,1.39892578125,1.7486572265625,0.848388671875,-5.18798828125E-2,-0.9521484375,-0.9521484375,-0.8331298828125,-0.714111328125,-0.5950927734375,-0.47607421875,-0.3570556640625,-0.238037109375,-0.1190185546875,0,-0.72021484375,9.521484375E-2,0.27978515625,0.8154296875,-9.521484375E-2,null,null,9.521484375E-2,null,0,0.27978515625,0.27978515625,0.27978515625,0.27978515625,0.27978515625,0.27978515625,0.27978515625,0.27978515625,{"$f":"+$X13","v":0.27978515625},0.27978515625,{"$f":"+$V13","v":-0.72021484375},-0.72021484375,-0.72021484375,-0.72021484375,-0.72021484375,-0.72021484375,9.521484375E-2,9.521484375E-2,9.521484375E-2,9.521484375E-2,9.521484375E-2,9.521484375E-2,9.521484375E-2,9.521484375E-2,9.521484375E-2,9.521484375E-2,9.521484375E-2,9.521484375E-2,9.521484375E-2,9.521484375E-2,9.521484375E-2,9.521484375E-2,0,null,null,null,null,{"$f":"+BQ12+1/8","v":0.25},0.25,0.234375,{"$f":"-BS13/(2*(1+Input!$B$1))","v":-5.859375E-2},0.75,0.69140625,{"$f":"+BW12+1/8","v":0.25},{"$f":"-(1+1/Input!$B$1)*BT13","v":0.1171875},0.3671875,{"$f":"+BZ12-1/8","v":-0.25},-0.30859375,null,null,{"$f":"+BT13/Input!$B$1","v":-5.859375E-2},-5.859375E-2,null,{"$f":"+CF13-BT13/Input!$B$1","v":5.859375E-2},null,-5.46875E-2,9.765625E-3,-4.4921875E-2,null,3.90625E-2,-1.953125E-2,1.953125E-2,null,null,{"$f":"-BT13/3*Input!$B$1","v":1.953125E-2},1.953125E-2,null,null,{"$f":"+BT13/6*Input!$B$1","v":-9.765625E-3},-9.765625E-3,null,null,null,null,null,{"$f":"+$DE13/$DE$8*DC$8","v":0},{"$f":"+$DE13/$DE$8*DD$8","v":9.375E-2},{"$f":"+$BQ13*(1-$BQ13)","v":0.1875},{"$f":"+$DE13/(8-$DE$8)*(8-DF$8)","v":0.15625},0.125,9.375E-2,6.25E-2,3.125E-2,0,null,null,null,null,null,null,null,null,null,null,null,null,0,-7.32421875E-3,-1.46484375E-2,-2.197265625E-2,-2.9296875E-2,-3.662109375E-2,-4.39453125E-2,-5.126953125E-2,-5.859375E-2,-5.859375E-2,-5.126953125E-2,-4.39453125E-2,-3.662109375E-2,-2.9296875E-2,-2.197265625E-2,-1.46484375E-2,-7.32421875E-3,0,null,null,0,8.642578125E-2,0.1728515625,0.13427734375,9.5703125E-2,5.712890625E-2,1.85546875E-2,-2.001953125E-2,-5.859375E-2,-5.859375E-2,-5.126953125E-2,-4.39453125E-2,-3.662109375E-2,-2.9296875E-2,-2.197265625E-2,-1.46484375E-2,-7.32421875E-3,0,null,null,0,0.8642578125,1.728515625,1.3427734375,0.95703125,0.5712890625,0.185546875,-0.2001953125,-0.5859375,-0.5859375,-0.5126953125,-0.439453125,-0.3662109375,-0.29296875,-0.2197265625,-0.146484375,-7.32421875E-2,0,null,null,null,0.75,0,6.591796875E-3,{"$f":"1/6*($GG13*GJ$7*(1-($GG13^2)-(GJ$7^2)))","v":1.171875E-2},1.4241536458333332E-2,1.4322916666666666E-2,1.2451171875E-2,9.1145833333333322E-3,4.8014322916666661E-3,0,null,null,null,null,null,null,null,null,null,null,0,-1.201629638671875E-3,-2.288818359375E-3,-3.147125244140625E-3,-3.662109375E-3,-3.719329833984375E-3,-3.204345703125E-3,-2.002716064453125E-3,0,0,-2.002716064453125E-3,-3.204345703125E-3,-3.719329833984375E-3,-3.662109375E-3,-3.147125244140625E-3,-2.288818359375E-3,-1.201629638671875E-3,0,null,null,null,0,5.390167236328125E-3,9.429931640625E-3,1.1094411214192707E-2,1.0660807291666666E-2,8.731842041015625E-3,5.9102376302083322E-3,2.7987162272135411E-3,0,0,-2.002716064453125E-3,-3.204345703125E-3,-3.719329833984375E-3,-3.662109375E-3,-3.147125244140625E-3,-2.288818359375E-3,-1.201629638671875E-3,0,null,null,0,0.5390167236328125,0.9429931640625,1.1094411214192708,1.0660807291666665,0.8731842041015625,0.59102376302083326,0.27987162272135413,0,0,-0.2002716064453125,-0.3204345703125,-0.3719329833984375,-0.3662109375,-0.3147125244140625,-0.2288818359375,-0.1201629638671875,0,null,null,null,null,0,0.9375,1.875,2.8125,3.75,4.6875,5.625,6.5625,7.5,null,null,null,null,null,null,null,null,null,null,2.5,2.1875,1.875,1.5625,1.25,0.9375,0.625,0.3125,0,null,null,null,null,null,null,null,null,null,null,0,0.8642578125,1.728515625,2.5927734375,3.45703125,4.3212890625,5.185546875,6.0498046875,6.9140625,-0.5859375,-0.5126953125,-0.439453125,-0.3662109375,-0.29296875,-0.2197265625,-0.146484375,-7.32421875E-2,0,null,2.5,2.1142578125,1.728515625,1.3427734375,0.95703125,0.5712890625,0.185546875,-0.2001953125,-0.5859375,-0.5859375,-0.5126953125,-0.439453125,-0.3662109375,-0.29296875,-0.2197265625,-0.146484375,-7.32421875E-2,0]
[null,null,6,0,0.2099609375,0.419921875,0.6298828125,0.83984375,1.0498046875,1.259765625,0.2197265625,-0.8203125,-0.8203125,-0.7177734375,-0.615234375,-0.5126953125,-0.41015625,-0.3076171875,-0.205078125,-0.1025390625,0,-0.83203125,8.203125E-2,0.16796875,0.9140625,-8.203125E-2,null,null,8.203125E-2,null,0,0.16796875,0.16796875,0.16796875,0.16796875,0.16796875,0.16796875,0.16796875,0.16796875,0.16796875,0.16796875,{"$f":"+$X14","v":0.16796875},{"$f":"+$X14","v":0.16796875},{"$f":"+$V14","v":-0.83203125},{"$f":"+$V14","v":-0.83203125},{"$f":"+$V14","v":-0.83203125},{"$f":"+$V14","v":-0.83203125},8.203125E-2,8.203125E-2,8.203125E-2,8.203125E-2,8.203125E-2,8.203125E-2,8.203125E-2,8.203125E-2,8.203125E-2,8.203125E-2,8.203125E-2,8.203125E-2,8.203125E-2,8.203125E-2,8.203125E-2,8.203125E-2,0,null,null,null,null,{"$f":"+BQ13+1/8","v":0.375},0.375,0.322265625,{"$f":"-BS14/(2*(1+Input!$B$1))","v":-8.056640625E-2},0.625,0.54443359375,0.375,{"$f":"-(1+1/Input!$B$1)*BT14","v":0.1611328125},0.5361328125,-0.375,-0.45556640625,null,null,{"$f":"+BT14/Input!$B$1","v":-8.056640625E-2},-8.056640625E-2,null,{"$f":"+CF14-BT14/Input!$B$1","v":8.056640625E-2},null,-6.34765625E-2,1.3427734375E-2,-5.0048828125E-2,null,5.37109375E-2,-2.685546875E-2,2.685546875E-2,null,null,{"$f":"-BT14/3*Input!$B$1","v":2.685546875E-2},2.685546875E-2,null,null,{"$f":"+BT14/6*Input!$B$1","v":-1.3427734375E-2},-1.3427734375E-2,null,null,null,null,null,{"$f":"+$DF14/$DF$8*DC$8","v":0},{"$f":"+$DF14/$DF$8*DD$8","v":7.8125E-2},{"$f":"+$DF14/$DF$8*DE$8","v":0.15625},{"$f":"+$BQ14*(1-$BQ14)","v":0.234375},{"$f":"+$DF14/(8-$DF$8)*(8-DG$8)","v":0.1875},{"$f":"+$DF14/(8-$DF$8)*(8-DH$8)","v":0.140625},{"$f":"+$DF14/(8-$DF$8)*(8-DI$8)","v":9.375E-2},{"$f":"+$DF14/(8-$DF$8)*(8-DJ$8)","v":4.6875E-2},{"$f":"+$DF14/(8-$DF$8)*(8-DK$8)","v":0},null,null,null,null,null,null,null,null,null,null,null,null,0,-1.007080078125E-2,-2.01416015625E-2,-3.021240234375E-2,-4.0283203125E-2,-5.035400390625E-2,-6.04248046875E-2,-7.049560546875E-2,-8.056640625E-2,-8.056640625E-2,-7.049560546875E-2,-6.04248046875E-2,-5.035400390625E-2,-4.0283203125E-2,-3.021240234375E-2,-2.01416015625E-2,-1.007080078125E-2,0,null,null,0,6.805419921875E-2,0.1361083984375,0.20416259765625,0.147216796875,9.027099609375E-2,3.33251953125E-2,-2.362060546875E-2,-8.056640625E-2,-8.056640625E-2,-7.049560546875E-2,-6.04248046875E-2,-5.035400390625E-2,-4.0283203125E-2,-3.021240234375E-2,-2.01416015625E-2,-1.007080078125E-2,0,null,null,0,0.6805419921875,1.361083984375,2.0416259765625,1.47216796875,0.9027099609375,0.333251953125,-0.2362060546875,-0.8056640625,-0.8056640625,-0.7049560546875,-0.604248046875,-0.5035400390625,-0.40283203125,-0.3021240234375,-0.201416015625,-0.1007080078125,0,null,null,null,0.625,0,7.7311197916666661E-3,1.4241536458333332E-2,{"$f":"1/6*($GG14*GK$7*(1-($GG14^2)-(GK$7^2)))","v":1.8310546875E-2},1.904296875E-2,1.6845703125E-2,1.2451171875E-2,6.591796875E-3,0,null,null,null,null,null,null,null,null,null,null,0,-1.6522407531738281E-3,-3.147125244140625E-3,-4.3272972106933594E-3,-5.035400390625E-3,-5.1140785217285156E-3,-4.405975341796875E-3,-2.7537345886230469E-3,0,0,-2.7537345886230469E-3,-4.405975341796875E-3,-5.1140785217285156E-3,-5.035400390625E-3,-4.3272972106933594E-3,-3.147125244140625E-3,-1.6522407531738281E-3,0,null,null,null,0,6.078879038492838E-3,1.1094411214192707E-2,1.3983249664306641E-2,1.4007568359375E-2,1.1731624603271484E-2,8.045196533203125E-3,3.8380622863769531E-3,0,0,-2.7537345886230469E-3,-4.405975341796875E-3,-5.1140785217285156E-3,-5.035400390625E-3,-4.3272972106933594E-3,-3.147125244140625E-3,-1.6522407531738281E-3,0,null,null,0,0.60788790384928382,1.1094411214192708,1.3983249664306641,1.4007568359375,1.1731624603271484,0.8045196533203125,0.38380622863769531,0,0,-0.27537345886230469,-0.4405975341796875,-0.51140785217285156,-0.5035400390625,-0.43272972106933594,-0.3147125244140625,-0.16522407531738281,0,null,null,null,null,0,0.78125,1.5625,2.34375,3.125,3.90625,4.6875,5.46875,6.25,null,null,null,null,null,null,null,null,null,null,3.75,3.28125,2.8125,2.34375,1.875,1.40625,0.9375,0.46875,0,null,null,null,null,null,null,null,null,null,null,0,0.6805419921875,1.361083984375,2.0416259765625,2.72216796875,3.4027099609375,4.083251953125,4.7637939453125,5.4443359375,-0.8056640625,-0.7049560546875,-0.604248046875,-0.5035400390625,-0.40283203125,-0.3021240234375,-0.201416015625,-0.1007080078125,0,null,3.75,3.1805419921875,2.611083984375,2.0416259765625,1.47216796875,0.9027099609375,0.333251953125,-0.2362060546875,-0.8056640625,-0.8056640625,-0.7049560546875,-0.604248046875,-0.5035400390625,-0.40283203125,-0.3021240234375,-0.201416015625,-0.1007080078125,0]
[null,null,7,0,9.21630859375E-2,0.184326171875,0.2764892578125,0.36865234375,0.4608154296875,0.552978515625,0.6451416015625,-0.5126953125,-0.5126953125,-0.4486083984375,-0.384521484375,-0.3204345703125,-0.25634765625,-0.1922607421875,-0.128173828125,-6.40869140625E-2,0,-0.92626953125,5.126953125E-2,7.373046875E-2,0.9775390625,-5.126953125E-2,null,null,5.126953125E-2,null,0,7.373046875E-2,7.373046875E-2,7.373046875E-2,7.373046875E-2,7.373046875E-2,7.373046875E-2,7.373046875E-2,7.373046875E-2,7.373046875E-2,7.373046875E-2,{"$f":"+$X15","v":7.373046875E-2},{"$f":"+$X15","v":7.373046875E-2},{"$f":"+$X15","v":7.373046875E-2},{"$f":"+$X15","v":7.373046875E-2},{"$f":"+$V15","v":-0.92626953125},{"$f":"+$V15","v":-0.92626953125},5.126953125E-2,5.126953125E-2,5.126953125E-2,5.126953125E-2,5.126953125E-2,5.126953125E-2,5.126953125E-2,5.126953125E-2,5.126953125E-2,5.126953125E-2,5.126953125E-2,5.126953125E-2,5.126953125E-2,5.126953125E-2,5.126953125E-2,5.126953125E-2,0,null,null,null,null,0.5,0.5,0.375,{"$f":"-BS15/(2*(1+Input!$B$1))","v":-9.375E-2},0.5,0.40625,0.5,{"$f":"-(1+1/Input!$B$1)*BT15","v":0.1875},0.6875,-0.5,-0.59375,null,null,{"$f":"+BT15/Input!$B$1","v":-9.375E-2},-9.375E-2,null,{"$f":"+CF15-BT15/Input!$B$1","v":9.375E-2},null,-6.25E-2,1.5625E-2,-4.6875E-2,null,6.25E-2,-3.125E-2,3.125E-2,null,null,{"$f":"-BT15/3*Input!$B$1","v":3.125E-2},3.125E-2,null,null,{"$f":"+BT15/6*Input!$B$1","v":-1.5625E-2},-1.5625E-2,null,null,null,null,null,{"$f":"+$DG15/$DG$8*DC$8","v":0},{"$f":"+$DG15/$DG$8*DD$8","v":6.25E-2},{"$f":"+$DG15/$DG$8*DE$8","v":0.125},{"$f":"+$DG15/$DG$8*DF$8","v":0.1875},{"$f":"+$BQ15*(1-$BQ15)","v":0.25},{"$f":"+$DG15/(8-$DG$8)*(8-DH$8)","v":0.1875},{"$f":"+$DG15/(8-$DG$8)*(8-DI$8)","v":0.125},{"$f":"+$DG15/(8-$DG$8)*(8-DJ$8)","v":6.25E-2},{"$f":"+$DG15/(8-$DG$8)*(8-DK$8)","v":0},null,null,null,null,null,null,null,null,null,null,null,null,0,-1.171875E-2,-2.34375E-2,-3.515625E-2,-4.6875E-2,-5.859375E-2,-7.03125E-2,-8.203125E-2,-9.375E-2,-9.375E-2,-8.203125E-2,-7.03125E-2,-5.859375E-2,-4.6875E-2,-3.515625E-2,-2.34375E-2,-1.171875E-2,0,null,null,0,5.078125E-2,0.1015625,0.15234375,0.203125,0.12890625,5.46875E-2,-1.953125E-2,-9.375E-2,-9.375E-2,-8.203125E-2,-7.03125E-2,-5.859375E-2,-4.6875E-2,-3.515625E-2,-2.34375E-2,-1.171875E-2,0,null,null,0,0.5078125,1.015625,1.5234375,2.03125,1.2890625,0.546875,-0.1953125,-0.9375,-0.9375,-0.8203125,-0.703125,-0.5859375,-0.46875,-0.3515625,-0.234375,-0.1171875,0,null,null,null,0.5,0,7.649739583333333E-3,1.4322916666666666E-2,1.904296875E-2,{"$f":"1/6*($GG15*GL$7*(1-($GG15^2)-(GL$7^2)))","v":2.0833333333333332E-2},1.904296875E-2,1.4322916666666666E-2,7.649739583333333E-3,0,null,null,null,null,null,null,null,null,null,null,0,-1.922607421875E-3,-3.662109375E-3,-5.035400390625E-3,-5.859375E-3,-5.950927734375E-3,-5.126953125E-3,-3.204345703125E-3,0,0,-3.204345703125E-3,-5.126953125E-3,-5.950927734375E-3,-5.859375E-3,-5.035400390625E-3,-3.662109375E-3,-1.922607421875E-3,0,null,null,null,0,5.727132161458333E-3,1.0660807291666666E-2,1.4007568359375E-2,1.4973958333333332E-2,1.3092041015625E-2,9.1959635416666661E-3,4.445393880208333E-3,0,0,-3.204345703125E-3,-5.126953125E-3,-5.950927734375E-3,-5.859375E-3,-5.035400390625E-3,-3.662109375E-3,-1.922607421875E-3,0,null,null,0,0.57271321614583326,1.0660807291666665,1.4007568359375,1.4973958333333333,1.3092041015625,0.91959635416666663,0.44453938802083331,0,0,-0.3204345703125,-0.5126953125,-0.5950927734375,-0.5859375,-0.5035400390625,-0.3662109375,-0.1922607421875,0,null,null,null,null,0,0.625,1.25,1.875,2.5,3.125,3.75,4.375,5,null,null,null,null,null,null,null,null,null,null,5,4.375,3.75,3.125,2.5,1.875,1.25,0.625,0,null,null,null,null,null,null,null,null,null,null,0,0.5078125,1.015625,1.5234375,2.03125,2.5390625,3.046875,3.5546875,4.0625,-0.9375,-0.8203125,-0.703125,-0.5859375,-0.46875,-0.3515625,-0.234375,-0.1171875,0,null,5,4.2578125,3.515625,2.7734375,2.03125,1.2890625,0.546875,-0.1953125,-0.9375,-0.9375,-0.8203125,-0.703125,-0.5859375,-0.46875,-0.3515625,-0.234375,-0.1171875,0]
[null,null,8,0,0,0,0,0,0,0,0,0,0,0,0,0,0,0,0,0,0,-1,0,0,1,0,null,null,0,null,null,null,null,null,null,null,null,null,null,null,null,null,null,null,null,null,null,null,null,null,null,null,null,null,null,null,null,null,null,null,null,null,null,null,null,null,null,null,0.625,0.625,0.380859375,{"$f":"-BS16/(2*(1+Input!$B$1))","v":-9.521484375E-2},0.375,0.27978515625,0.625,{"$f":"-(1+1/Input!$B$1)*BT16","v":0.1904296875},0.8154296875,-0.625,-0.72021484375,null,null,{"$f":"+BT16/Input!$B$1","v":-9.521484375E-2},-9.521484375E-2,null,{"$f":"+CF16-BT16/Input!$B$1","v":9.521484375E-2},null,-5.37109375E-2,1.5869140625E-2,-3.7841796875E-2,null,6.34765625E-2,-3.173828125E-2,3.173828125E-2,null,null,{"$f":"-BT16/3*Input!$B$1","v":3.173828125E-2},3.173828125E-2,null,null,{"$f":"+BT16/6*Input!$B$1","v":-1.5869140625E-2},-1.5869140625E-2,null,null,null,null,null,{"$f":"+$DH16/$DH$8*DC$8","v":0},{"$f":"+$DH16/$DH$8*DD$8","v":4.6875E-2},{"$f":"+$DH16/$DH$8*DE$8","v":9.375E-2},{"$f":"+$DH16/$DH$8*DF$8","v":0.140625},{"$f":"+$DH16/$DH$8*DG$8","v":0.1875},{"$f":"+$BQ16*(1-$BQ16)","v":0.234375},{"$f":"+$DH16/(8-$DH$8)*(8-DI$8)","v":0.15625},{"$f":"+$DH16/(8-$DH$8)*(8-DJ$8)","v":7.8125E-2},{"$f":"+$DH16/(8-$DH$8)*(8-DK$8)","v":0},null,null,null,null,null,null,null,null,null,null,null,null,0,-1.190185546875E-2,-2.38037109375E-2,-3.570556640625E-2,-4.7607421875E-2,-5.950927734375E-2,-7.14111328125E-2,-8.331298828125E-2,-9.521484375E-2,-9.521484375E-2,-8.331298828125E-2,-7.14111328125E-2,-5.950927734375E-2,-4.7607421875E-2,-3.570556640625E-2,-2.38037109375E-2,-1.190185546875E-2,0,null,null,0,3.497314453125E-2,6.99462890625E-2,0.10491943359375,0.139892578125,0.17486572265625,8.48388671875E-2,-5.18798828125E-3,-9.521484375E-2,-9.521484375E-2,-8.331298828125E-2,-7.14111328125E-2,-5.950927734375E-2,-4.7607421875E-2,-3.570556640625E-2,-2.38037109375E-2,-1.190185546875E-2,0,null,null,0,0.3497314453125,0.699462890625,1.0491943359375,1.39892578125,1.7486572265625,0.848388671875,-5.18798828125E-2,-0.9521484375,-0.9521484375,-0.8331298828125,-0.714111328125,-0.5950927734375,-0.47607421875,-0.3570556640625,-0.238037109375,-0.1190185546875,0,null,null,null,0.375,0,6.591796875E-3,1.2451171875E-2,1.6845703125E-2,{"$f":"1/6*($GG16*GL$7*(1-($GG16^2)-(GL$7^2)))","v":1.904296875E-2},{"$f":"1/6*($GG16*GM$7*(1-($GG16^2)-(GM$7^2)))","v":1.8310546875E-2},1.4241536458333332E-2,7.7311197916666661E-3,0,null,null,null,null,null,null,null,null,null,null,0,-1.9526481628417969E-3,-3.719329833984375E-3,-5.1140785217285156E-3,-5.950927734375E-3,-6.0439109802246094E-3,-5.207061767578125E-3,-3.2544136047363281E-3,0,0,-3.2544136047363281E-3,-5.207061767578125E-3,-6.0439109802246094E-3,-5.950927734375E-3,-5.1140785217285156E-3,-3.719329833984375E-3,-1.9526481628417969E-3,0,null,null,null,0,4.6391487121582031E-3,8.731842041015625E-3,1.1731624603271484E-2,1.3092041015625E-2,1.2266635894775391E-2,9.0344746907552072E-3,4.476706186930338E-3,0,0,-3.2544136047363281E-3,-5.207061767578125E-3,-6.0439109802246094E-3,-5.950927734375E-3,-5.1140785217285156E-3,-3.719329833984375E-3,-1.9526481628417969E-3,0,null,null,0,0.46391487121582031,0.8731842041015625,1.1731624603271484,1.3092041015625,1.2266635894775391,0.90344746907552076,0.44767061869303382,0,0,-0.32544136047363281,-0.5207061767578125,-0.60439109802246094,-0.5950927734375,-0.51140785217285156,-0.3719329833984375,-0.19526481628417969,0,null,null,null,null,0,0.46875,0.9375,1.40625,1.875,2.34375,2.8125,3.28125,3.75,null,null,null,null,null,null,null,null,null,null,6.25,5.46875,4.6875,3.90625,3.125,2.34375,1.5625,0.78125,0,null,null,null,null,null,null,null,null,null,null,0,0.3497314453125,0.699462890625,1.0491943359375,1.39892578125,1.7486572265625,2.098388671875,2.4481201171875,2.7978515625,-0.9521484375,-0.8331298828125,-0.714111328125,-0.5950927734375,-0.47607421875,-0.3570556640625,-0.238037109375,-0.1190185546875,0,null,6.25,5.3497314453125,4.449462890625,3.5491943359375,2.64892578125,1.7486572265625,0.848388671875,-5.18798828125E-2,-0.9521484375,-0.9521484375,-0.8331298828125,-0.714111328125,-0.5950927734375,-0.47607421875,-0.3570556640625,-0.238037109375,-0.1190185546875,0]
[null,null,{"$f":"+C16","v":8},0,0,0,0,0,0,0,0,0,0,0,0,0,0,0,0,0,0,0,1,0,1,0,null,null,0,null,null,null,null,null,null,null,null,null,null,null,null,null,null,null,null,null,null,null,null,null,null,null,null,null,null,null,null,null,null,null,null,null,null,null,null,null,null,null,0.75,0.75,0.328125,{"$f":"-BS17/(2*(1+Input!$B$1))","v":-8.203125E-2},0.25,0.16796875,0.75,{"$f":"-(1+1/Input!$B$1)*BT17","v":0.1640625},0.9140625,-0.75,-0.83203125,null,null,{"$f":"+BT17/Input!$B$1","v":-8.203125E-2},-8.203125E-2,null,{"$f":"+CF17-BT17/Input!$B$1","v":8.203125E-2},null,-3.90625E-2,1.3671875E-2,-2.5390625E-2,null,5.46875E-2,-2.734375E-2,2.734375E-2,null,null,{"$f":"-BT17/3*Input!$B$1","v":2.734375E-2},2.734375E-2,null,null,{"$f":"+BT17/6*Input!$B$1","v":-1.3671875E-2},-1.3671875E-2,null,null,null,null,null,{"$f":"+$DI17/$DI$8*DC$8","v":0},3.125E-2,6.25E-2,9.375E-2,0.125,0.15625,{"$f":"+$BQ17*(1-$BQ17)","v":0.1875},{"$f":"+$DI17/(8-$DI$8)*(8-DJ$8)","v":9.375E-2},{"$f":"+$DI17/(8-$DI$8)*(8-DK$8)","v":0},null,null,null,null,null,null,null,null,null,null,null,null,0,-1.025390625E-2,-2.05078125E-2,-3.076171875E-2,-4.1015625E-2,-5.126953125E-2,-6.15234375E-2,-7.177734375E-2,-8.203125E-2,-8.203125E-2,-7.177734375E-2,-6.15234375E-2,-5.126953125E-2,-4.1015625E-2,-3.076171875E-2,-2.05078125E-2,-1.025390625E-2,0,null,null,0,2.099609375E-2,4.19921875E-2,6.298828125E-2,8.3984375E-2,0.10498046875,0.1259765625,2.197265625E-2,-8.203125E-2,-8.203125E-2,-7.177734375E-2,-6.15234375E-2,-5.126953125E-2,-4.1015625E-2,-3.076171875E-2,-2.05078125E-2,-1.025390625E-2,0,null,null,0,0.2099609375,0.419921875,0.6298828125,0.83984375,1.0498046875,1.259765625,0.2197265625,-0.8203125,-0.8203125,-0.7177734375,-0.615234375,-0.5126953125,-0.41015625,-0.3076171875,-0.205078125,-0.1025390625,0,null,null,null,0.25,0,4.8014322916666661E-3,9.1145833333333322E-3,1.2451171875E-2,{"$f":"1/6*($GG17*GL$7*(1-($GG17^2)-(GL$7^2)))","v":1.4322916666666666E-2},{"$f":"1/6*($GG17*GM$7*(1-($GG17^2)-(GM$7^2)))","v":1.4241536458333332E-2},{"$f":"1/6*($GG17*GN$7*(1-($GG17^2)-(GN$7^2)))","v":1.171875E-2},6.591796875E-3,0,null,null,null,null,null,null,null,null,null,null,0,-1.682281494140625E-3,-3.204345703125E-3,-4.405975341796875E-3,-5.126953125E-3,-5.207061767578125E-3,-4.486083984375E-3,-2.803802490234375E-3,0,0,-2.803802490234375E-3,-4.486083984375E-3,-5.207061767578125E-3,-5.126953125E-3,-4.405975341796875E-3,-3.204345703125E-3,-1.682281494140625E-3,0,null,null,null,0,3.1191507975260411E-3,5.9102376302083322E-3,8.045196533203125E-3,9.1959635416666661E-3,9.0344746907552072E-3,7.232666015625E-3,3.787994384765625E-3,0,0,-2.803802490234375E-3,-4.486083984375E-3,-5.207061767578125E-3,-5.126953125E-3,-4.405975341796875E-3,-3.204345703125E-3,-1.682281494140625E-3,0,null,null,0,0.31191507975260413,0.59102376302083326,0.8045196533203125,0.91959635416666663,0.90344746907552076,0.7232666015625,0.3787994384765625,0,0,-0.2803802490234375,-0.4486083984375,-0.5207061767578125,-0.5126953125,-0.4405975341796875,-0.3204345703125,-0.1682281494140625,0,null,null,null,null,0,0.3125,0.625,0.9375,1.25,1.5625,1.875,2.1875,2.5,null,null,null,null,null,null,null,null,null,null,7.5,6.5625,5.625,4.6875,3.75,2.8125,1.875,0.9375,0,null,null,null,null,null,null,null,null,null,null,0,0.2099609375,0.419921875,0.6298828125,0.83984375,1.0498046875,1.259765625,1.4697265625,1.6796875,-0.8203125,-0.7177734375,-0.615234375,-0.5126953125,-0.41015625,-0.3076171875,-0.205078125,-0.1025390625,0,null,7.5,6.4599609375,5.419921875,4.3798828125,3.33984375,2.2998046875,1.259765625,0.2197265625,-0.8203125,-0.8203125,-0.7177734375,-0.615234375,-0.5126953125,-0.41015625,-0.3076171875,-0.205078125,-0.1025390625,0]
[null,null,{"$f":"+C17+1","v":9},0,-6.40869140625E-2,-0.128173828125,-0.1922607421875,-0.25634765625,-0.3204345703125,-0.384521484375,-0.4486083984375,-0.5126953125,-0.5126953125,0.6451416015625,0.552978515625,0.4608154296875,0.36865234375,0.2764892578125,0.184326171875,9.21630859375E-2,0,-5.126953125E-2,0.92626953125,-5.126953125E-2,0.9775390625,7.373046875E-2,null,null,-7.373046875E-2,null,0,{"$f":"+$X18","v":-5.126953125E-2},-5.126953125E-2,-5.126953125E-2,-5.126953125E-2,-5.126953125E-2,-5.126953125E-2,-5.126953125E-2,-5.126953125E-2,-5.126953125E-2,-5.126953125E-2,-5.126953125E-2,-5.126953125E-2,-5.126953125E-2,-5.126953125E-2,-5.126953125E-2,-5.126953125E-2,{"$f":"+$W18","v":0.92626953125},0.92626953125,{"$f":"-$Z18","v":-7.373046875E-2},-7.373046875E-2,-7.373046875E-2,-7.373046875E-2,-7.373046875E-2,-7.373046875E-2,-7.373046875E-2,-7.373046875E-2,-7.373046875E-2,-7.373046875E-2,-7.373046875E-2,-7.373046875E-2,-7.373046875E-2,-7.373046875E-2,0,null,null,null,null,0.875,0.875,0.205078125,{"$f":"-BS18/(2*(1+Input!$B$1))","v":-5.126953125E-2},{"$f":"+BU19+1/8","v":0.125},7.373046875E-2,0.875,{"$f":"-(1+1/Input!$B$1)*BT18","v":0.1025390625},0.9775390625,-0.875,-0.92626953125,null,null,{"$f":"+BT18/Input!$B$1","v":-5.126953125E-2},-5.126953125E-2,null,{"$f":"+CF18-BT18/Input!$B$1","v":5.126953125E-2},null,-2.05078125E-2,8.544921875E-3,-1.1962890625E-2,null,3.41796875E-2,-1.708984375E-2,1.708984375E-2,null,null,{"$f":"-BT18/3*Input!$B$1","v":1.708984375E-2},1.708984375E-2,null,null,{"$f":"+BT18/6*Input!$B$1","v":-8.544921875E-3},-8.544921875E-3,null,null,null,null,null,{"$f":"+$DJ18/$DJ$8*DC$8","v":0},1.5625E-2,3.125E-2,4.6875E-2,6.25E-2,7.8125E-2,9.375E-2,{"$f":"+$BQ18*(1-$BQ18)","v":0.109375},{"$f":"+$DJ18/(8-$DJ$8)*(8-DK$8)","v":0},null,null,null,null,null,null,null,null,null,null,null,null,0,-6.40869140625E-3,-1.28173828125E-2,-1.922607421875E-2,-2.5634765625E-2,-3.204345703125E-2,-3.84521484375E-2,-4.486083984375E-2,-5.126953125E-2,-5.126953125E-2,-4.486083984375E-2,-3.84521484375E-2,-3.204345703125E-2,-2.5634765625E-2,-1.922607421875E-2,-1.28173828125E-2,-6.40869140625E-3,0,null,null,0,9.21630859375E-3,1.84326171875E-2,2.764892578125E-2,3.6865234375E-2,4.608154296875E-2,5.52978515625E-2,6.451416015625E-2,-5.126953125E-2,-5.126953125E-2,-4.486083984375E-2,-3.84521484375E-2,-3.204345703125E-2,-2.5634765625E-2,-1.922607421875E-2,-1.28173828125E-2,-6.40869140625E-3,0,null,null,0,9.21630859375E-2,0.184326171875,0.2764892578125,0.36865234375,0.4608154296875,0.552978515625,0.6451416015625,-0.5126953125,-0.5126953125,-0.4486083984375,-0.384521484375,-0.3204345703125,-0.25634765625,-0.1922607421875,-0.128173828125,-6.40869140625E-2,0,null,null,null,0.125,0,2.522786458333333E-3,4.8014322916666661E-3,6.591796875E-3,{"$f":"1/6*($GG18*GL$7*(1-($GG18^2)-(GL$7^2)))","v":7.649739583333333E-3},{"$f":"1/6*($GG18*GM$7*(1-($GG18^2)-(GM$7^2)))","v":7.7311197916666661E-3},{"$f":"1/6*($GG18*GN$7*(1-($GG18^2)-(GN$7^2)))","v":6.591796875E-3},{"$f":"1/6*($GG18*GO$7*(1-($GG18^2)-(GO$7^2)))","v":3.987630208333333E-3},0,null,null,null,null,null,null,null,null,null,null,0,-1.0514259338378906E-3,-2.002716064453125E-3,-2.7537345886230469E-3,-3.204345703125E-3,-3.2544136047363281E-3,-2.803802490234375E-3,-1.7523765563964844E-3,0,0,-1.7523765563964844E-3,-2.803802490234375E-3,-3.2544136047363281E-3,-3.204345703125E-3,-2.7537345886230469E-3,-2.002716064453125E-3,-1.0514259338378906E-3,0,null,null,null,0,1.4713605244954424E-3,2.7987162272135411E-3,3.8380622863769531E-3,4.445393880208333E-3,4.476706186930338E-3,3.787994384765625E-3,2.2352536519368487E-3,0,0,-1.7523765563964844E-3,-2.803802490234375E-3,-3.2544136047363281E-3,-3.204345703125E-3,-2.7537345886230469E-3,-2.002716064453125E-3,-1.0514259338378906E-3,0,null,null,0,0.14713605244954425,0.27987162272135413,0.38380622863769531,0.44453938802083331,0.44767061869303382,0.3787994384765625,0.22352536519368488,0,0,-0.17523765563964844,-0.2803802490234375,-0.32544136047363281,-0.3204345703125,-0.27537345886230469,-0.2002716064453125,-0.10514259338378906,0,null,null,null,null,0,0.15625,0.3125,0.46875,0.625,0.78125,0.9375,1.09375,1.25,null,null,null,null,null,null,null,null,null,null,8.75,7.65625,6.5625,5.46875,4.375,3.28125,2.1875,1.09375,0,null,null,null,null,null,null,null,null,null,null,0,9.21630859375E-2,0.184326171875,0.2764892578125,0.36865234375,0.4608154296875,0.552978515625,0.6451416015625,0.7373046875,-0.5126953125,-0.4486083984375,-0.384521484375,-0.3204345703125,-0.25634765625,-0.1922607421875,-0.128173828125,-6.40869140625E-2,0,null,8.75,7.5921630859375,6.434326171875,5.2764892578125,4.11865234375,2.9608154296875,1.802978515625,0.6451416015625,-0.5126953125,-0.5126953125,-0.4486083984375,-0.384521484375,-0.3204345703125,-0.25634765625,-0.1922607421875,-0.128173828125,-6.40869140625E-2,0]
[null,null,10,0,-0.1025390625,-0.205078125,-0.3076171875,-0.41015625,-0.5126953125,-0.615234375,-0.7177734375,-0.8203125,-0.8203125,0.2197265625,1.259765625,1.0498046875,0.83984375,0.6298828125,0.419921875,0.2099609375,0,-8.203125E-2,0.83203125,-8.203125E-2,0.9140625,0.16796875,null,null,-0.16796875,null,0,-8.203125E-2,-8.203125E-2,-8.203125E-2,-8.203125E-2,-8.203125E-2,-8.203125E-2,-8.203125E-2,-8.203125E-2,-8.203125E-2,-8.203125E-2,-8.203125E-2,-8.203125E-2,-8.203125E-2,-8.203125E-2,-8.203125E-2,-8.203125E-2,0.83203125,0.83203125,{"$f":"+$W19","v":0.83203125},0.83203125,{"$f":"-$Z19","v":-0.16796875},-0.16796875,-0.16796875,-0.16796875,-0.16796875,-0.16796875,-0.16796875,-0.16796875,-0.16796875,-0.16796875,-0.16796875,-0.16796875,0,null,null,null,null,1,1,0,{"$f":"-BS19/(2*(1+Input!$B$1))","v":0},0,0,1,{"$f":"-(1+1/Input!$B$1)*BT19","v":0},1,-1,-1,null,null,{"$f":"+BT19/Input!$B$1","v":0},0,null,{"$f":"+CF19-BT19/Input!$B$1","v":0},null,0,0,0,null,0,0,0,null,null,{"$f":"-BT19/3*Input!$B$1","v":0},0,null,null,{"$f":"+BT19/6*Input!$B$1","v":0},0,null,null,null,null,null,{"$f":"+$DK19/$DK$8*DC$8","v":0},0,0,0,0,0,0,0,{"$f":"+$BQ19*(1-$BQ19)","v":0},null,null,null,null,null,null,null,null,null,null,null,null,0,0,0,0,0,0,0,0,0,0,0,0,0,0,0,0,0,0,null,null,0,0,0,0,0,0,0,0,0,0,0,0,0,0,0,0,0,0,null,null,0,0,0,0,0,0,0,0,0,0,0,0,0,0,0,0,0,0,null,null,null,0,0,0,0,0,{"$f":"1/6*($GG19*GL$7*(1-($GG19^2)-(GL$7^2)))","v":0},{"$f":"1/6*($GG19*GM$7*(1-($GG19^2)-(GM$7^2)))","v":0},{"$f":"1/6*($GG19*GN$7*(1-($GG19^2)-(GN$7^2)))","v":0},{"$f":"1/6*($GG19*GO$7*(1-($GG19^2)-(GO$7^2)))","v":0},{"$f":"1/6*($GG19*GP$7*(1-($GG19^2)-(GP$7^2)))","v":0},null,null,null,null,null,null,null,null,null,null,0,0,0,0,0,0,0,0,0,0,0,0,0,0,0,0,0,0,null,null,null,0,0,0,0,0,0,0,0,0,0,0,0,0,0,0,0,0,0,null,null,0,0,0,0,0,0,0,0,0,0,0,0,0,0,0,0,0,0,null,null,null,null,0,0,0,0,0,0,0,0,0,null,null,null,null,null,null,null,null,null,null,10,8.75,7.5,6.25,5,3.75,2.5,1.25,0,null,null,null,null,null,null,null,null,null,null,0,0,0,0,0,0,0,0,0,0,0,0,0,0,0,0,0,0,null,10,8.75,7.5,6.25,5,3.75,2.5,1.25,0,0,0,0,0,0,0,0,0,0]
[null,null,11,0,-0.1190185546875,-0.238037109375,-0.3570556640625,-0.47607421875,-0.5950927734375,-0.714111328125,-0.8331298828125,-0.9521484375,-0.9521484375,-5.18798828125E-2,0.848388671875,1.7486572265625,1.39892578125,1.0491943359375,0.699462890625,0.3497314453125,0,-9.521484375E-2,0.72021484375,-9.521484375E-2,0.8154296875,0.27978515625,null,null,-0.27978515625,null,0,-9.521484375E-2,-9.521484375E-2,-9.521484375E-2,-9.521484375E-2,-9.521484375E-2,-9.521484375E-2,-9.521484375E-2,-9.521484375E-2,-9.521484375E-2,-9.521484375E-2,-9.521484375E-2,-9.521484375E-2,-9.521484375E-2,-9.521484375E-2,-9.521484375E-2,-9.521484375E-2,0.72021484375,0.72021484375,0.72021484375,0.72021484375,{"$f":"+$W20","v":0.72021484375},0.72021484375,{"$f":"-$Z20","v":-0.27978515625},-0.27978515625,-0.27978515625,-0.27978515625,-0.27978515625,-0.27978515625,-0.27978515625,-0.27978515625,-0.27978515625,-0.27978515625,0,null,null,null,2,0,{"$f":"1+BQ20","v":1},{"$f":"2*BQ20-3*BQ20^2+BQ20^3","v":0},{"$f":"-(Input!$B$1^2)*BS20/(2*(1+Input!$B$1))","v":0},null,0,1,{"$f":"-(1+1/Input!$B$1)*BT20","v":0},1,null,0,null,{"$f":"+BQ20","v":0},{"$f":"+BT20/Input!$B$1","v":0},0,{"$f":"+BW20","v":1},{"$f":"+CF20-BT20/Input!$B$1","v":1},null,null,0,0,null,null,0,0,null,{"$f":"+CI11*Input!$B$1^2","v":0},{"$f":"-BT20/3*Input!$B$1","v":0},0,null,{"$f":"+CM11*Input!$B$1^2","v":0},{"$f":"+BT20/6*Input!$B$1","v":0},0,null,null,null,null,null,null,null,null,null,null,null,null,null,null,{"$f":"+DC11*Input!$B$1","v":0},{"$f":"+DD11*Input!$B$1","v":0},{"$f":"+DE11*Input!$B$1","v":0},{"$f":"+DF11*Input!$B$1","v":0},{"$f":"+DG11*Input!$B$1","v":0},{"$f":"+DH11*Input!$B$1","v":0},{"$f":"+DI11*Input!$B$1","v":0},{"$f":"+DJ11*Input!$B$1","v":0},{"$f":"+DK11*Input!$B$1","v":0},null,null,null,0,0,0,0,0,0,0,0,0,0,0,0,0,0,0,0,0,0,null,null,0,0,0,0,0,0,0,0,0,0,0,0,0,0,0,0,0,0,null,null,0,0,0,0,0,0,0,0,0,0,0,0,0,0,0,0,0,0,null,null,null,1,null,null,null,null,null,null,null,null,null,{"$f":"+GH11*(Input!$B$1^3)","v":0},{"$f":"+GI11*(Input!$B$1^3)","v":0},{"$f":"+GJ11*(Input!$B$1^3)","v":0},{"$f":"+GK11*(Input!$B$1^3)","v":0},{"$f":"+GL11*(Input!$B$1^3)","v":0},{"$f":"+GM11*(Input!$B$1^3)","v":0},{"$f":"+GN11*(Input!$B$1^3)","v":0},{"$f":"+GO11*(Input!$B$1^3)","v":0},{"$f":"+GP11*(Input!$B$1^3)","v":0},null,0,0,0,0,0,0,0,0,0,0,0,0,0,0,0,0,0,0,null,null,null,0,0,0,0,0,0,0,0,0,0,0,0,0,0,0,0,0,0,null,null,0,0,0,0,0,0,0,0,0,0,0,0,0,0,0,0,0,0,null,null,null,null,null,null,null,null,null,null,null,null,null,{"$f":"+JL11*Input!$B$1","v":0},{"$f":"+JM11*Input!$B$1","v":1.25},{"$f":"+JN11*Input!$B$1","v":2.5},{"$f":"+JO11*Input!$B$1","v":3.75},{"$f":"+JP11*Input!$B$1","v":5},{"$f":"+JQ11*Input!$B$1","v":6.25},{"$f":"+JR11*Input!$B$1","v":7.5},{"$f":"+JS11*Input!$B$1","v":8.75},{"$f":"+JT11*Input!$B$1","v":10},null,null,null,null,null,null,null,null,null,null,{"$f":"+KE11*Input!$B$1","v":0},{"$f":"+KF11*Input!$B$1","v":0},{"$f":"+KG11*Input!$B$1","v":0},{"$f":"+KH11*Input!$B$1","v":0},{"$f":"+KI11*Input!$B$1","v":0},{"$f":"+KJ11*Input!$B$1","v":0},{"$f":"+KK11*Input!$B$1","v":0},{"$f":"+KL11*Input!$B$1","v":0},{"$f":"+KM11*Input!$B$1","v":0},null,0,0,0,0,0,0,0,0,0,0,1.25,2.5,3.75,5,6.25,7.5,8.75,10,null,0,0,0,0,0,0,0,0,0,0,0,0,0,0,0,0,0,0]
[null,null,12,0,-0.1171875,-0.234375,-0.3515625,-0.46875,-0.5859375,-0.703125,-0.8203125,-0.9375,-0.9375,-0.1953125,0.546875,1.2890625,2.03125,1.5234375,1.015625,0.5078125,0,-9.375E-2,0.59375,-9.375E-2,0.6875,0.40625,null,null,-0.40625,null,0,-9.375E-2,-9.375E-2,-9.375E-2,-9.375E-2,-9.375E-2,-9.375E-2,-9.375E-2,-9.375E-2,-9.375E-2,-9.375E-2,-9.375E-2,-9.375E-2,-9.375E-2,-9.375E-2,-9.375E-2,-9.375E-2,0.59375,0.59375,0.59375,0.59375,0.59375,0.59375,{"$f":"+$W21","v":0.59375},0.59375,{"$f":"-$Z21","v":-0.40625},-0.40625,-0.40625,-0.40625,-0.40625,-0.40625,-0.40625,-0.40625,0,null,null,null,null,{"$f":"+BQ20+1/8","v":0.125},{"$f":"1+BQ21","v":1.125},{"$f":"2*BQ21-3*BQ21^2+BQ21^3","v":0.205078125},{"$f":"-(Input!$B$1^2)*BS21/(2*(1+Input!$B$1))","v":-5.126953125E-2},null,-5.126953125E-2,{"$f":"+BW20-1/8","v":0.875},{"$f":"-(1+1/Input!$B$1)*BT21","v":0.1025390625},0.9775390625,null,-5.126953125E-2,null,{"$f":"+BQ21","v":0.125},{"$f":"+BT21/Input!$B$1","v":-5.126953125E-2},7.373046875E-2,{"$f":"+BW21","v":0.875},{"$f":"+CF21-BT21/Input!$B$1","v":0.92626953125},null,null,8.544921875E-3,8.544921875E-3,null,null,-1.708984375E-2,-1.708984375E-2,null,{"$f":"+CI12*Input!$B$1^2","v":-3.41796875E-2},{"$f":"-BT21/3*Input!$B$1","v":1.708984375E-2},-1.708984375E-2,null,{"$f":"+CM12*Input!$B$1^2","v":2.05078125E-2},{"$f":"+BT21/6*Input!$B$1","v":-8.544921875E-3},1.1962890625E-2,null,null,null,null,null,null,null,null,null,null,null,null,null,null,{"$f":"+DC12*Input!$B$1","v":0},{"$f":"+DD12*Input!$B$1","v":0.109375},{"$f":"+DE12*Input!$B$1","v":9.375E-2},{"$f":"+DF12*Input!$B$1","v":7.8125E-2},{"$f":"+DG12*Input!$B$1","v":6.25E-2},{"$f":"+DH12*Input!$B$1","v":4.6875E-2},{"$f":"+DI12*Input!$B$1","v":3.125E-2},{"$f":"+DJ12*Input!$B$1","v":1.5625E-2},{"$f":"+DK12*Input!$B$1","v":0},null,null,null,{"$f":"+DX$8*$BT21","v":0},-6.40869140625E-3,-1.28173828125E-2,-1.922607421875E-2,-2.5634765625E-2,-3.204345703125E-2,-3.84521484375E-2,-4.486083984375E-2,-5.126953125E-2,-5.126953125E-2,{"$f":"+EH$8*$BT21","v":-4.486083984375E-2},-3.84521484375E-2,-3.204345703125E-2,-2.5634765625E-2,-1.922607421875E-2,-1.28173828125E-2,-6.40869140625E-3,0,null,null,0,-6.40869140625E-3,-1.28173828125E-2,-1.922607421875E-2,-2.5634765625E-2,-3.204345703125E-2,-3.84521484375E-2,-4.486083984375E-2,-5.126953125E-2,-5.126953125E-2,6.451416015625E-2,5.52978515625E-2,4.608154296875E-2,3.6865234375E-2,2.764892578125E-2,1.84326171875E-2,9.21630859375E-3,0,null,null,0,-6.40869140625E-2,-0.128173828125,-0.1922607421875,-0.25634765625,-0.3204345703125,-0.384521484375,-0.4486083984375,-0.5126953125,-0.5126953125,0.6451416015625,0.552978515625,0.4608154296875,0.36865234375,0.2764892578125,0.184326171875,9.21630859375E-2,0,null,null,null,0.875,null,null,null,null,null,null,null,null,null,{"$f":"+GH12*(Input!$B$1^3)","v":0},{"$f":"+GI12*(Input!$B$1^3)","v":3.987630208333333E-3},{"$f":"+GJ12*(Input!$B$1^3)","v":6.591796875E-3},{"$f":"+GK12*(Input!$B$1^3)","v":7.7311197916666661E-3},{"$f":"+GL12*(Input!$B$1^3)","v":7.649739583333333E-3},{"$f":"+GM12*(Input!$B$1^3)","v":6.591796875E-3},{"$f":"+GN12*(Input!$B$1^3)","v":4.8014322916666661E-3},{"$f":"+GO12*(Input!$B$1^3)","v":2.522786458333333E-3},{"$f":"+GP12*(Input!$B$1^3)","v":0},null,{"$f":"+HA$9*$BT21","v":0},-1.0514259338378906E-3,-2.002716064453125E-3,-2.7537345886230469E-3,-3.204345703125E-3,-3.2544136047363281E-3,-2.803802490234375E-3,-1.7523765563964844E-3,0,0,{"$f":"+HK$9*$BT21","v":-1.7523765563964844E-3},-2.803802490234375E-3,-3.2544136047363281E-3,-3.204345703125E-3,-2.7537345886230469E-3,-2.002716064453125E-3,-1.0514259338378906E-3,0,null,null,null,0,-1.0514259338378906E-3,-2.002716064453125E-3,-2.7537345886230469E-3,-3.204345703125E-3,-3.2544136047363281E-3,-2.803802490234375E-3,-1.7523765563964844E-3,0,0,2.2352536519368487E-3,3.787994384765625E-3,4.476706186930338E-3,4.445393880208333E-3,3.8380622863769531E-3,2.7987162272135411E-3,1.4713605244954424E-3,0,null,null,0,-0.10514259338378906,-0.2002716064453125,-0.27537345886230469,-0.3204345703125,-0.32544136047363281,-0.2803802490234375,-0.17523765563964844,0,0,0.22352536519368488,0.3787994384765625,0.44767061869303382,0.44453938802083331,0.38380622863769531,0.27987162272135413,0.14713605244954425,0,null,null,null,null,null,null,null,null,null,null,null,null,null,{"$f":"+JL12*Input!$B$1","v":0},{"$f":"+JM12*Input!$B$1","v":1.09375},{"$f":"+JN12*Input!$B$1","v":2.1875},{"$f":"+JO12*Input!$B$1","v":3.28125},{"$f":"+JP12*Input!$B$1","v":4.375},{"$f":"+JQ12*Input!$B$1","v":5.46875},{"$f":"+JR12*Input!$B$1","v":6.5625},{"$f":"+JS12*Input!$B$1","v":7.65625},{"$f":"+JT12*Input!$B$1","v":8.75},null,null,null,null,null,null,null,null,null,null,{"$f":"+KE12*Input!$B$1","v":1.25},{"$f":"+KF12*Input!$B$1","v":1.09375},{"$f":"+KG12*Input!$B$1","v":0.9375},{"$f":"+KH12*Input!$B$1","v":0.78125},{"$f":"+KI12*Input!$B$1","v":0.625},{"$f":"+KJ12*Input!$B$1","v":0.46875},{"$f":"+KK12*Input!$B$1","v":0.3125},{"$f":"+KL12*Input!$B$1","v":0.15625},{"$f":"+KM12*Input!$B$1","v":0},null,0,-6.40869140625E-2,-0.128173828125,-0.1922607421875,-0.25634765625,-0.3204345703125,-0.384521484375,-0.4486083984375,-0.5126953125,-0.5126953125,0.6451416015625,1.802978515625,2.9608154296875,4.11865234375,5.2764892578125,6.434326171875,7.5921630859375,8.75,null,0,-6.40869140625E-2,-0.128173828125,-0.1922607421875,-0.25634765625,-0.3204345703125,-0.384521484375,-0.4486083984375,-0.5126953125,0.7373046875,0.6451416015625,0.552978515625,0.4608154296875,0.36865234375,0.2764892578125,0.184326171875,9.21630859375E-2,0]
[null,null,13,0,-0.1007080078125,-0.201416015625,-0.3021240234375,-0.40283203125,-0.5035400390625,-0.604248046875,-0.7049560546875,-0.8056640625,-0.8056640625,-0.2362060546875,0.333251953125,0.9027099609375,1.47216796875,2.0416259765625,1.361083984375,0.6805419921875,0,-8.056640625E-2,0.45556640625,-8.056640625E-2,0.5361328125,0.54443359375,null,null,-0.54443359375,null,0,-8.056640625E-2,-8.056640625E-2,-8.056640625E-2,-8.056640625E-2,-8.056640625E-2,-8.056640625E-2,-8.056640625E-2,-8.056640625E-2,-8.056640625E-2,-8.056640625E-2,-8.056640625E-2,-8.056640625E-2,-8.056640625E-2,-8.056640625E-2,-8.056640625E-2,-8.056640625E-2,0.45556640625,0.45556640625,0.45556640625,0.45556640625,0.45556640625,0.45556640625,0.45556640625,0.45556640625,{"$f":"+$W22","v":0.45556640625},0.45556640625,{"$f":"-$Z22","v":-0.54443359375},-0.54443359375,-0.54443359375,-0.54443359375,-0.54443359375,-0.54443359375,0,null,null,null,null,{"$f":"+BQ21+1/8","v":0.25},1.25,0.328125,{"$f":"-(Input!$B$1^2)*BS22/(2*(1+Input!$B$1))","v":-8.203125E-2},null,-8.203125E-2,{"$f":"+BW21-1/8","v":0.75},{"$f":"-(1+1/Input!$B$1)*BT22","v":0.1640625},0.9140625,null,-8.203125E-2,null,0.25,{"$f":"+BT22/Input!$B$1","v":-8.203125E-2},0.16796875,0.75,{"$f":"+CF22-BT22/Input!$B$1","v":0.83203125},null,null,1.3671875E-2,1.3671875E-2,null,null,-2.734375E-2,-2.734375E-2,null,{"$f":"+CI13*Input!$B$1^2","v":-5.46875E-2},{"$f":"-BT22/3*Input!$B$1","v":2.734375E-2},-2.734375E-2,null,{"$f":"+CM13*Input!$B$1^2","v":3.90625E-2},{"$f":"+BT22/6*Input!$B$1","v":-1.3671875E-2},2.5390625E-2,null,null,null,null,null,null,null,null,null,null,null,null,null,null,{"$f":"+DC13*Input!$B$1","v":0},{"$f":"+DD13*Input!$B$1","v":9.375E-2},{"$f":"+DE13*Input!$B$1","v":0.1875},{"$f":"+DF13*Input!$B$1","v":0.15625},{"$f":"+DG13*Input!$B$1","v":0.125},{"$f":"+DH13*Input!$B$1","v":9.375E-2},{"$f":"+DI13*Input!$B$1","v":6.25E-2},{"$f":"+DJ13*Input!$B$1","v":3.125E-2},{"$f":"+DK13*Input!$B$1","v":0},null,null,null,0,-1.025390625E-2,-2.05078125E-2,-3.076171875E-2,-4.1015625E-2,-5.126953125E-2,-6.15234375E-2,-7.177734375E-2,-8.203125E-2,-8.203125E-2,-7.177734375E-2,-6.15234375E-2,-5.126953125E-2,-4.1015625E-2,-3.076171875E-2,-2.05078125E-2,-1.025390625E-2,0,null,null,0,-1.025390625E-2,-2.05078125E-2,-3.076171875E-2,-4.1015625E-2,-5.126953125E-2,-6.15234375E-2,-7.177734375E-2,-8.203125E-2,-8.203125E-2,2.197265625E-2,0.1259765625,0.10498046875,8.3984375E-2,6.298828125E-2,4.19921875E-2,2.099609375E-2,0,null,null,0,-0.1025390625,-0.205078125,-0.3076171875,-0.41015625,-0.5126953125,-0.615234375,-0.7177734375,-0.8203125,-0.8203125,0.2197265625,1.259765625,1.0498046875,0.83984375,0.6298828125,0.419921875,0.2099609375,0,null,null,null,0.75,null,null,null,null,null,null,null,null,null,{"$f":"+GH13*(Input!$B$1^3)","v":0},{"$f":"+GI13*(Input!$B$1^3)","v":6.591796875E-3},{"$f":"+GJ13*(Input!$B$1^3)","v":1.171875E-2},{"$f":"+GK13*(Input!$B$1^3)","v":1.4241536458333332E-2},{"$f":"+GL13*(Input!$B$1^3)","v":1.4322916666666666E-2},{"$f":"+GM13*(Input!$B$1^3)","v":1.2451171875E-2},{"$f":"+GN13*(Input!$B$1^3)","v":9.1145833333333322E-3},{"$f":"+GO13*(Input!$B$1^3)","v":4.8014322916666661E-3},{"$f":"+GP13*(Input!$B$1^3)","v":0},null,0,-1.682281494140625E-3,-3.204345703125E-3,-4.405975341796875E-3,-5.126953125E-3,-5.207061767578125E-3,-4.486083984375E-3,-2.803802490234375E-3,0,0,-2.803802490234375E-3,-4.486083984375E-3,-5.207061767578125E-3,-5.126953125E-3,-4.405975341796875E-3,-3.204345703125E-3,-1.682281494140625E-3,0,null,null,null,0,-1.682281494140625E-3,-3.204345703125E-3,-4.405975341796875E-3,-5.126953125E-3,-5.207061767578125E-3,-4.486083984375E-3,-2.803802490234375E-3,0,0,3.787994384765625E-3,7.232666015625E-3,9.0344746907552072E-3,9.1959635416666661E-3,8.045196533203125E-3,5.9102376302083322E-3,3.1191507975260411E-3,0,null,null,0,-0.1682281494140625,-0.3204345703125,-0.4405975341796875,-0.5126953125,-0.5207061767578125,-0.4486083984375,-0.2803802490234375,0,0,0.3787994384765625,0.7232666015625,0.90344746907552076,0.91959635416666663,0.8045196533203125,0.59102376302083326,0.31191507975260413,0,null,null,null,null,null,null,null,null,null,null,null,null,null,{"$f":"+JL13*Input!$B$1","v":0},{"$f":"+JM13*Input!$B$1","v":0.9375},{"$f":"+JN13*Input!$B$1","v":1.875},{"$f":"+JO13*Input!$B$1","v":2.8125},{"$f":"+JP13*Input!$B$1","v":3.75},{"$f":"+JQ13*Input!$B$1","v":4.6875},{"$f":"+JR13*Input!$B$1","v":5.625},{"$f":"+JS13*Input!$B$1","v":6.5625},{"$f":"+JT13*Input!$B$1","v":7.5},null,null,null,null,null,null,null,null,null,null,{"$f":"+KE13*Input!$B$1","v":2.5},{"$f":"+KF13*Input!$B$1","v":2.1875},{"$f":"+KG13*Input!$B$1","v":1.875},{"$f":"+KH13*Input!$B$1","v":1.5625},{"$f":"+KI13*Input!$B$1","v":1.25},{"$f":"+KJ13*Input!$B$1","v":0.9375},{"$f":"+KK13*Input!$B$1","v":0.625},{"$f":"+KL13*Input!$B$1","v":0.3125},{"$f":"+KM13*Input!$B$1","v":0},null,0,-0.1025390625,-0.205078125,-0.3076171875,-0.41015625,-0.5126953125,-0.615234375,-0.7177734375,-0.8203125,-0.8203125,0.2197265625,1.259765625,2.2998046875,3.33984375,4.3798828125,5.419921875,6.4599609375,7.5,null,0,-0.1025390625,-0.205078125,-0.3076171875,-0.41015625,-0.5126953125,-0.615234375,-0.7177734375,-0.8203125,1.6796875,1.4697265625,1.259765625,1.0498046875,0.83984375,0.6298828125,0.419921875,0.2099609375,0]
[null,null,14,0,-7.32421875E-2,-0.146484375,-0.2197265625,-0.29296875,-0.3662109375,-0.439453125,-0.5126953125,-0.5859375,-0.5859375,-0.2001953125,0.185546875,0.5712890625,0.95703125,1.3427734375,1.728515625,0.8642578125,0,-5.859375E-2,0.30859375,-5.859375E-2,0.3671875,0.69140625,null,null,-0.69140625,null,0,-5.859375E-2,-5.859375E-2,-5.859375E-2,-5.859375E-2,-5.859375E-2,-5.859375E-2,-5.859375E-2,-5.859375E-2,-5.859375E-2,-5.859375E-2,-5.859375E-2,-5.859375E-2,-5.859375E-2,-5.859375E-2,-5.859375E-2,-5.859375E-2,0.30859375,0.30859375,0.30859375,0.30859375,0.30859375,0.30859375,0.30859375,0.30859375,0.30859375,0.30859375,{"$f":"+$W23","v":0.30859375},{"$f":"+$W23","v":0.30859375},{"$f":"-$Z23","v":-0.69140625},{"$f":"-$Z23","v":-0.69140625},{"$f":"-$Z23","v":-0.69140625},{"$f":"-$Z23","v":-0.69140625},0,null,null,null,null,0.375,1.375,0.380859375,{"$f":"-(Input!$B$1^2)*BS23/(2*(1+Input!$B$1))","v":-9.521484375E-2},null,-9.521484375E-2,0.625,{"$f":"-(1+1/Input!$B$1)*BT23","v":0.1904296875},0.8154296875,null,-9.521484375E-2,null,0.375,{"$f":"+BT23/Input!$B$1","v":-9.521484375E-2},0.27978515625,0.625,{"$f":"+CF23-BT23/Input!$B$1","v":0.72021484375},null,null,1.5869140625E-2,1.5869140625E-2,null,null,-3.173828125E-2,-3.173828125E-2,null,{"$f":"+CI14*Input!$B$1^2","v":-6.34765625E-2},{"$f":"-BT23/3*Input!$B$1","v":3.173828125E-2},-3.173828125E-2,null,{"$f":"+CM14*Input!$B$1^2","v":5.37109375E-2},{"$f":"+BT23/6*Input!$B$1","v":-1.5869140625E-2},3.7841796875E-2,null,null,null,null,null,null,null,null,null,null,null,null,null,null,{"$f":"+DC14*Input!$B$1","v":0},{"$f":"+DD14*Input!$B$1","v":7.8125E-2},{"$f":"+DE14*Input!$B$1","v":0.15625},{"$f":"+DF14*Input!$B$1","v":0.234375},{"$f":"+DG14*Input!$B$1","v":0.1875},{"$f":"+DH14*Input!$B$1","v":0.140625},{"$f":"+DI14*Input!$B$1","v":9.375E-2},{"$f":"+DJ14*Input!$B$1","v":4.6875E-2},{"$f":"+DK14*Input!$B$1","v":0},null,null,null,0,-1.190185546875E-2,-2.38037109375E-2,-3.570556640625E-2,-4.7607421875E-2,-5.950927734375E-2,-7.14111328125E-2,-8.331298828125E-2,-9.521484375E-2,-9.521484375E-2,-8.331298828125E-2,-7.14111328125E-2,-5.950927734375E-2,-4.7607421875E-2,-3.570556640625E-2,-2.38037109375E-2,-1.190185546875E-2,0,null,null,0,-1.190185546875E-2,-2.38037109375E-2,-3.570556640625E-2,-4.7607421875E-2,-5.950927734375E-2,-7.14111328125E-2,-8.331298828125E-2,-9.521484375E-2,-9.521484375E-2,-5.18798828125E-3,8.48388671875E-2,0.17486572265625,0.139892578125,0.10491943359375,6.99462890625E-2,3.497314453125E-2,0,null,null,0,-0.1190185546875,-0.238037109375,-0.3570556640625,-0.47607421875,-0.5950927734375,-0.714111328125,-0.8331298828125,-0.9521484375,-0.9521484375,-5.18798828125E-2,0.848388671875,1.7486572265625,1.39892578125,1.0491943359375,0.699462890625,0.3497314453125,0,null,null,null,0.625,null,null,null,null,null,null,null,null,null,{"$f":"+GH14*(Input!$B$1^3)","v":0},{"$f":"+GI14*(Input!$B$1^3)","v":7.7311197916666661E-3},{"$f":"+GJ14*(Input!$B$1^3)","v":1.4241536458333332E-2},{"$f":"+GK14*(Input!$B$1^3)","v":1.8310546875E-2},{"$f":"+GL14*(Input!$B$1^3)","v":1.904296875E-2},{"$f":"+GM14*(Input!$B$1^3)","v":1.6845703125E-2},{"$f":"+GN14*(Input!$B$1^3)","v":1.2451171875E-2},{"$f":"+GO14*(Input!$B$1^3)","v":6.591796875E-3},{"$f":"+GP14*(Input!$B$1^3)","v":0},null,0,-1.9526481628417969E-3,-3.719329833984375E-3,-5.1140785217285156E-3,-5.950927734375E-3,-6.0439109802246094E-3,-5.207061767578125E-3,-3.2544136047363281E-3,0,0,-3.2544136047363281E-3,-5.207061767578125E-3,-6.0439109802246094E-3,-5.950927734375E-3,-5.1140785217285156E-3,-3.719329833984375E-3,-1.9526481628417969E-3,0,null,null,null,0,-1.9526481628417969E-3,-3.719329833984375E-3,-5.1140785217285156E-3,-5.950927734375E-3,-6.0439109802246094E-3,-5.207061767578125E-3,-3.2544136047363281E-3,0,0,4.476706186930338E-3,9.0344746907552072E-3,1.2266635894775391E-2,1.3092041015625E-2,1.1731624603271484E-2,8.731842041015625E-3,4.6391487121582031E-3,0,null,null,0,-0.19526481628417969,-0.3719329833984375,-0.51140785217285156,-0.5950927734375,-0.60439109802246094,-0.5207061767578125,-0.32544136047363281,0,0,0.44767061869303382,0.90344746907552076,1.2266635894775391,1.3092041015625,1.1731624603271484,0.8731842041015625,0.46391487121582031,0,null,null,null,null,null,null,null,null,null,null,null,null,null,{"$f":"+JL14*Input!$B$1","v":0},{"$f":"+JM14*Input!$B$1","v":0.78125},{"$f":"+JN14*Input!$B$1","v":1.5625},{"$f":"+JO14*Input!$B$1","v":2.34375},{"$f":"+JP14*Input!$B$1","v":3.125},{"$f":"+JQ14*Input!$B$1","v":3.90625},{"$f":"+JR14*Input!$B$1","v":4.6875},{"$f":"+JS14*Input!$B$1","v":5.46875},{"$f":"+JT14*Input!$B$1","v":6.25},null,null,null,null,null,null,null,null,null,null,{"$f":"+KE14*Input!$B$1","v":3.75},{"$f":"+KF14*Input!$B$1","v":3.28125},{"$f":"+KG14*Input!$B$1","v":2.8125},{"$f":"+KH14*Input!$B$1","v":2.34375},{"$f":"+KI14*Input!$B$1","v":1.875},{"$f":"+KJ14*Input!$B$1","v":1.40625},{"$f":"+KK14*Input!$B$1","v":0.9375},{"$f":"+KL14*Input!$B$1","v":0.46875},{"$f":"+KM14*Input!$B$1","v":0},null,0,-0.1190185546875,-0.238037109375,-0.3570556640625,-0.47607421875,-0.5950927734375,-0.714111328125,-0.8331298828125,-0.9521484375,-0.9521484375,-5.18798828125E-2,0.848388671875,1.7486572265625,2.64892578125,3.5491943359375,4.449462890625,5.3497314453125,6.25,null,0,-0.1190185546875,-0.238037109375,-0.3570556640625,-0.47607421875,-0.5950927734375,-0.714111328125,-0.8331298828125,-0.9521484375,2.7978515625,2.4481201171875,2.098388671875,1.7486572265625,1.39892578125,1.0491943359375,0.699462890625,0.3497314453125,0]
[null,null,15,0,-3.84521484375E-2,-7.6904296875E-2,-0.1153564453125,-0.15380859375,-0.1922607421875,-0.230712890625,-0.2691650390625,-0.3076171875,-0.3076171875,-0.1129150390625,8.1787109375E-2,0.2764892578125,0.47119140625,0.6658935546875,0.860595703125,1.0552978515625,0,-3.076171875E-2,0.15576171875,-3.076171875E-2,0.1865234375,0.84423828125,null,null,-0.84423828125,null,0,-3.076171875E-2,-3.076171875E-2,-3.076171875E-2,-3.076171875E-2,-3.076171875E-2,-3.076171875E-2,-3.076171875E-2,-3.076171875E-2,-3.076171875E-2,-3.076171875E-2,-3.076171875E-2,-3.076171875E-2,-3.076171875E-2,-3.076171875E-2,-3.076171875E-2,-3.076171875E-2,0.15576171875,0.15576171875,0.15576171875,0.15576171875,0.15576171875,0.15576171875,0.15576171875,0.15576171875,0.15576171875,0.15576171875,{"$f":"+$W24","v":0.15576171875},{"$f":"+$W24","v":0.15576171875},{"$f":"+$W24","v":0.15576171875},{"$f":"+$W24","v":0.15576171875},{"$f":"-$Z24","v":-0.84423828125},{"$f":"-$Z24","v":-0.84423828125},0,null,null,null,null,0.5,1.5,0.375,{"$f":"-(Input!$B$1^2)*BS24/(2*(1+Input!$B$1))","v":-9.375E-2},null,-9.375E-2,0.5,{"$f":"-(1+1/Input!$B$1)*BT24","v":0.1875},0.6875,null,-9.375E-2,null,0.5,{"$f":"+BT24/Input!$B$1","v":-9.375E-2},0.40625,0.5,{"$f":"+CF24-BT24/Input!$B$1","v":0.59375},null,null,1.5625E-2,1.5625E-2,null,null,-3.125E-2,-3.125E-2,null,{"$f":"+CI15*Input!$B$1^2","v":-6.25E-2},{"$f":"-BT24/3*Input!$B$1","v":3.125E-2},-3.125E-2,null,{"$f":"+CM15*Input!$B$1^2","v":6.25E-2},{"$f":"+BT24/6*Input!$B$1","v":-1.5625E-2},4.6875E-2,null,null,null,null,null,null,null,null,null,null,null,null,null,null,{"$f":"+DC15*Input!$B$1","v":0},{"$f":"+DD15*Input!$B$1","v":6.25E-2},{"$f":"+DE15*Input!$B$1","v":0.125},{"$f":"+DF15*Input!$B$1","v":0.1875},{"$f":"+DG15*Input!$B$1","v":0.25},{"$f":"+DH15*Input!$B$1","v":0.1875},{"$f":"+DI15*Input!$B$1","v":0.125},{"$f":"+DJ15*Input!$B$1","v":6.25E-2},{"$f":"+DK15*Input!$B$1","v":0},null,null,null,0,-1.171875E-2,-2.34375E-2,-3.515625E-2,-4.6875E-2,-5.859375E-2,-7.03125E-2,-8.203125E-2,-9.375E-2,-9.375E-2,-8.203125E-2,-7.03125E-2,-5.859375E-2,-4.6875E-2,-3.515625E-2,-2.34375E-2,-1.171875E-2,0,null,null,0,-1.171875E-2,-2.34375E-2,-3.515625E-2,-4.6875E-2,-5.859375E-2,-7.03125E-2,-8.203125E-2,-9.375E-2,-9.375E-2,-1.953125E-2,5.46875E-2,0.12890625,0.203125,0.15234375,0.1015625,5.078125E-2,0,null,null,0,-0.1171875,-0.234375,-0.3515625,-0.46875,-0.5859375,-0.703125,-0.8203125,-0.9375,-0.9375,-0.1953125,0.546875,1.2890625,2.03125,1.5234375,1.015625,0.5078125,0,null,null,null,0.5,null,null,null,null,null,null,null,null,null,{"$f":"+GH15*(Input!$B$1^3)","v":0},{"$f":"+GI15*(Input!$B$1^3)","v":7.649739583333333E-3},{"$f":"+GJ15*(Input!$B$1^3)","v":1.4322916666666666E-2},{"$f":"+GK15*(Input!$B$1^3)","v":1.904296875E-2},{"$f":"+GL15*(Input!$B$1^3)","v":2.0833333333333332E-2},{"$f":"+GM15*(Input!$B$1^3)","v":1.904296875E-2},{"$f":"+GN15*(Input!$B$1^3)","v":1.4322916666666666E-2},{"$f":"+GO15*(Input!$B$1^3)","v":7.649739583333333E-3},{"$f":"+GP15*(Input!$B$1^3)","v":0},null,0,-1.922607421875E-3,-3.662109375E-3,-5.035400390625E-3,-5.859375E-3,-5.950927734375E-3,-5.126953125E-3,-3.204345703125E-3,0,0,-3.204345703125E-3,-5.126953125E-3,-5.950927734375E-3,-5.859375E-3,-5.035400390625E-3,-3.662109375E-3,-1.922607421875E-3,0,null,null,null,0,-1.922607421875E-3,-3.662109375E-3,-5.035400390625E-3,-5.859375E-3,-5.950927734375E-3,-5.126953125E-3,-3.204345703125E-3,0,0,4.445393880208333E-3,9.1959635416666661E-3,1.3092041015625E-2,1.4973958333333332E-2,1.4007568359375E-2,1.0660807291666666E-2,5.727132161458333E-3,0,null,null,0,-0.1922607421875,-0.3662109375,-0.5035400390625,-0.5859375,-0.5950927734375,-0.5126953125,-0.3204345703125,0,0,0.44453938802083331,0.91959635416666663,1.3092041015625,1.4973958333333333,1.4007568359375,1.0660807291666665,0.57271321614583326,0,null,null,null,null,null,null,null,null,null,null,null,null,null,{"$f":"+JL15*Input!$B$1","v":0},{"$f":"+JM15*Input!$B$1","v":0.625},{"$f":"+JN15*Input!$B$1","v":1.25},{"$f":"+JO15*Input!$B$1","v":1.875},{"$f":"+JP15*Input!$B$1","v":2.5},{"$f":"+JQ15*Input!$B$1","v":3.125},{"$f":"+JR15*Input!$B$1","v":3.75},{"$f":"+JS15*Input!$B$1","v":4.375},{"$f":"+JT15*Input!$B$1","v":5},null,null,null,null,null,null,null,null,null,null,{"$f":"+KE15*Input!$B$1","v":5},{"$f":"+KF15*Input!$B$1","v":4.375},{"$f":"+KG15*Input!$B$1","v":3.75},{"$f":"+KH15*Input!$B$1","v":3.125},{"$f":"+KI15*Input!$B$1","v":2.5},{"$f":"+KJ15*Input!$B$1","v":1.875},{"$f":"+KK15*Input!$B$1","v":1.25},{"$f":"+KL15*Input!$B$1","v":0.625},{"$f":"+KM15*Input!$B$1","v":0},null,0,-0.1171875,-0.234375,-0.3515625,-0.46875,-0.5859375,-0.703125,-0.8203125,-0.9375,-0.9375,-0.1953125,0.546875,1.2890625,2.03125,2.7734375,3.515625,4.2578125,5,null,0,-0.1171875,-0.234375,-0.3515625,-0.46875,-0.5859375,-0.703125,-0.8203125,-0.9375,4.0625,3.5546875,3.046875,2.5390625,2.03125,1.5234375,1.015625,0.5078125,0]
[null,null,16,0,0,0,0,0,0,0,0,0,0,0,0,0,0,0,0,0,0,0,0,0,0,1,null,null,-1,null,null,null,null,null,null,null,null,null,null,null,null,null,null,null,null,null,null,null,null,null,null,null,null,null,null,null,null,null,null,null,null,null,null,null,null,null,null,null,0.625,1.625,0.322265625,{"$f":"-(Input!$B$1^2)*BS25/(2*(1+Input!$B$1))","v":-8.056640625E-2},null,-8.056640625E-2,0.375,{"$f":"-(1+1/Input!$B$1)*BT25","v":0.1611328125},0.5361328125,null,-8.056640625E-2,null,0.625,{"$f":"+BT25/Input!$B$1","v":-8.056640625E-2},0.54443359375,0.375,{"$f":"+CF25-BT25/Input!$B$1","v":0.45556640625},null,null,1.3427734375E-2,1.3427734375E-2,null,null,-2.685546875E-2,-2.685546875E-2,null,{"$f":"+CI16*Input!$B$1^2","v":-5.37109375E-2},{"$f":"-BT25/3*Input!$B$1","v":2.685546875E-2},-2.685546875E-2,null,{"$f":"+CM16*Input!$B$1^2","v":6.34765625E-2},{"$f":"+BT25/6*Input!$B$1","v":-1.3427734375E-2},5.0048828125E-2,null,null,null,null,null,null,null,null,null,null,null,null,null,null,{"$f":"+DC16*Input!$B$1","v":0},{"$f":"+DD16*Input!$B$1","v":4.6875E-2},{"$f":"+DE16*Input!$B$1","v":9.375E-2},{"$f":"+DF16*Input!$B$1","v":0.140625},{"$f":"+DG16*Input!$B$1","v":0.1875},{"$f":"+DH16*Input!$B$1","v":0.234375},{"$f":"+DI16*Input!$B$1","v":0.15625},{"$f":"+DJ16*Input!$B$1","v":7.8125E-2},{"$f":"+DK16*Input!$B$1","v":0},null,null,null,0,-1.007080078125E-2,-2.01416015625E-2,-3.021240234375E-2,-4.0283203125E-2,-5.035400390625E-2,-6.04248046875E-2,-7.049560546875E-2,-8.056640625E-2,-8.056640625E-2,-7.049560546875E-2,-6.04248046875E-2,-5.035400390625E-2,-4.0283203125E-2,-3.021240234375E-2,-2.01416015625E-2,-1.007080078125E-2,0,null,null,0,-1.007080078125E-2,-2.01416015625E-2,-3.021240234375E-2,-4.0283203125E-2,-5.035400390625E-2,-6.04248046875E-2,-7.049560546875E-2,-8.056640625E-2,-8.056640625E-2,-2.362060546875E-2,3.33251953125E-2,9.027099609375E-2,0.147216796875,0.20416259765625,0.1361083984375,6.805419921875E-2,0,null,null,0,-0.1007080078125,-0.201416015625,-0.3021240234375,-0.40283203125,-0.5035400390625,-0.604248046875,-0.7049560546875,-0.8056640625,-0.8056640625,-0.2362060546875,0.333251953125,0.9027099609375,1.47216796875,2.0416259765625,1.361083984375,0.6805419921875,0,null,null,null,0.375,null,null,null,null,null,null,null,null,null,{"$f":"+GH16*(Input!$B$1^3)","v":0},{"$f":"+GI16*(Input!$B$1^3)","v":6.591796875E-3},{"$f":"+GJ16*(Input!$B$1^3)","v":1.2451171875E-2},{"$f":"+GK16*(Input!$B$1^3)","v":1.6845703125E-2},{"$f":"+GL16*(Input!$B$1^3)","v":1.904296875E-2},{"$f":"+GM16*(Input!$B$1^3)","v":1.8310546875E-2},{"$f":"+GN16*(Input!$B$1^3)","v":1.4241536458333332E-2},{"$f":"+GO16*(Input!$B$1^3)","v":7.7311197916666661E-3},{"$f":"+GP16*(Input!$B$1^3)","v":0},null,0,-1.6522407531738281E-3,-3.147125244140625E-3,-4.3272972106933594E-3,-5.035400390625E-3,-5.1140785217285156E-3,-4.405975341796875E-3,-2.7537345886230469E-3,0,0,-2.7537345886230469E-3,-4.405975341796875E-3,-5.1140785217285156E-3,-5.035400390625E-3,-4.3272972106933594E-3,-3.147125244140625E-3,-1.6522407531738281E-3,0,null,null,null,0,-1.6522407531738281E-3,-3.147125244140625E-3,-4.3272972106933594E-3,-5.035400390625E-3,-5.1140785217285156E-3,-4.405975341796875E-3,-2.7537345886230469E-3,0,0,3.8380622863769531E-3,8.045196533203125E-3,1.1731624603271484E-2,1.4007568359375E-2,1.3983249664306641E-2,1.1094411214192707E-2,6.078879038492838E-3,0,null,null,0,-0.16522407531738281,-0.3147125244140625,-0.43272972106933594,-0.5035400390625,-0.51140785217285156,-0.4405975341796875,-0.27537345886230469,0,0,0.38380622863769531,0.8045196533203125,1.1731624603271484,1.4007568359375,1.3983249664306641,1.1094411214192708,0.60788790384928382,0,null,null,null,null,null,null,null,null,null,null,null,null,null,{"$f":"+JL16*Input!$B$1","v":0},{"$f":"+JM16*Input!$B$1","v":0.46875},{"$f":"+JN16*Input!$B$1","v":0.9375},{"$f":"+JO16*Input!$B$1","v":1.40625},{"$f":"+JP16*Input!$B$1","v":1.875},{"$f":"+JQ16*Input!$B$1","v":2.34375},{"$f":"+JR16*Input!$B$1","v":2.8125},{"$f":"+JS16*Input!$B$1","v":3.28125},{"$f":"+JT16*Input!$B$1","v":3.75},null,null,null,null,null,null,null,null,null,null,{"$f":"+KE16*Input!$B$1","v":6.25},{"$f":"+KF16*Input!$B$1","v":5.46875},{"$f":"+KG16*Input!$B$1","v":4.6875},{"$f":"+KH16*Input!$B$1","v":3.90625},{"$f":"+KI16*Input!$B$1","v":3.125},{"$f":"+KJ16*Input!$B$1","v":2.34375},{"$f":"+KK16*Input!$B$1","v":1.5625},{"$f":"+KL16*Input!$B$1","v":0.78125},{"$f":"+KM16*Input!$B$1","v":0},null,0,-0.1007080078125,-0.201416015625,-0.3021240234375,-0.40283203125,-0.5035400390625,-0.604248046875,-0.7049560546875,-0.8056640625,-0.8056640625,-0.2362060546875,0.333251953125,0.9027099609375,1.47216796875,2.0416259765625,2.611083984375,3.1805419921875,3.75,null,0,-0.1007080078125,-0.201416015625,-0.3021240234375,-0.40283203125,-0.5035400390625,-0.604248046875,-0.7049560546875,-0.8056640625,5.4443359375,4.7637939453125,4.083251953125,3.4027099609375,2.72216796875,2.0416259765625,1.361083984375,0.6805419921875,0]
[null,null,null,"×L1/10",null,null,null,null,null,null,null,null,null,null,null,null,null,null,null,null,null,"×1",null,null,null,null,null,null,null,null,null,null,null,null,null,null,null,null,null,null,null,null,null,null,null,null,null,null,null,null,null,null,null,null,null,null,null,null,null,null,null,null,null,null,null,null,null,null,0.75,1.75,0.234375,{"$f":"-(Input!$B$1^2)*BS26/(2*(1+Input!$B$1))","v":-5.859375E-2},null,-5.859375E-2,0.25,{"$f":"-(1+1/Input!$B$1)*BT26","v":0.1171875},0.3671875,null,-5.859375E-2,null,0.75,{"$f":"+BT26/Input!$B$1","v":-5.859375E-2},0.69140625,0.25,{"$f":"+CF26-BT26/Input!$B$1","v":0.30859375},null,null,9.765625E-3,9.765625E-3,null,null,-1.953125E-2,-1.953125E-2,null,{"$f":"+CI17*Input!$B$1^2","v":-3.90625E-2},{"$f":"-BT26/3*Input!$B$1","v":1.953125E-2},-1.953125E-2,null,{"$f":"+CM17*Input!$B$1^2","v":5.46875E-2},{"$f":"+BT26/6*Input!$B$1","v":-9.765625E-3},4.4921875E-2,null,null,null,null,null,null,null,null,null,null,null,null,null,null,{"$f":"+DC17*Input!$B$1","v":0},{"$f":"+DD17*Input!$B$1","v":3.125E-2},{"$f":"+DE17*Input!$B$1","v":6.25E-2},{"$f":"+DF17*Input!$B$1","v":9.375E-2},{"$f":"+DG17*Input!$B$1","v":0.125},{"$f":"+DH17*Input!$B$1","v":0.15625},{"$f":"+DI17*Input!$B$1","v":0.1875},{"$f":"+DJ17*Input!$B$1","v":9.375E-2},{"$f":"+DK17*Input!$B$1","v":0},null,null,null,0,-7.32421875E-3,-1.46484375E-2,-2.197265625E-2,-2.9296875E-2,-3.662109375E-2,-4.39453125E-2,-5.126953125E-2,-5.859375E-2,-5.859375E-2,-5.126953125E-2,-4.39453125E-2,-3.662109375E-2,-2.9296875E-2,-2.197265625E-2,-1.46484375E-2,-7.32421875E-3,0,null,null,0,-7.32421875E-3,-1.46484375E-2,-2.197265625E-2,-2.9296875E-2,-3.662109375E-2,-4.39453125E-2,-5.126953125E-2,-5.859375E-2,-5.859375E-2,-2.001953125E-2,1.85546875E-2,5.712890625E-2,9.5703125E-2,0.13427734375,0.1728515625,8.642578125E-2,0,null,null,0,-7.32421875E-2,-0.146484375,-0.2197265625,-0.29296875,-0.3662109375,-0.439453125,-0.5126953125,-0.5859375,-0.5859375,-0.2001953125,0.185546875,0.5712890625,0.95703125,1.3427734375,1.728515625,0.8642578125,0,null,null,null,0.25,null,null,null,null,null,null,null,null,null,{"$f":"+GH17*(Input!$B$1^3)","v":0},{"$f":"+GI17*(Input!$B$1^3)","v":4.8014322916666661E-3},{"$f":"+GJ17*(Input!$B$1^3)","v":9.1145833333333322E-3},{"$f":"+GK17*(Input!$B$1^3)","v":1.2451171875E-2},{"$f":"+GL17*(Input!$B$1^3)","v":1.4322916666666666E-2},{"$f":"+GM17*(Input!$B$1^3)","v":1.4241536458333332E-2},{"$f":"+GN17*(Input!$B$1^3)","v":1.171875E-2},{"$f":"+GO17*(Input!$B$1^3)","v":6.591796875E-3},{"$f":"+GP17*(Input!$B$1^3)","v":0},null,0,-1.201629638671875E-3,-2.288818359375E-3,-3.147125244140625E-3,-3.662109375E-3,-3.719329833984375E-3,-3.204345703125E-3,-2.002716064453125E-3,0,0,-2.002716064453125E-3,-3.204345703125E-3,-3.719329833984375E-3,-3.662109375E-3,-3.147125244140625E-3,-2.288818359375E-3,-1.201629638671875E-3,0,null,null,null,0,-1.201629638671875E-3,-2.288818359375E-3,-3.147125244140625E-3,-3.662109375E-3,-3.719329833984375E-3,-3.204345703125E-3,-2.002716064453125E-3,0,0,2.7987162272135411E-3,5.9102376302083322E-3,8.731842041015625E-3,1.0660807291666666E-2,1.1094411214192707E-2,9.429931640625E-3,5.390167236328125E-3,0,null,null,0,-0.1201629638671875,-0.2288818359375,-0.3147125244140625,-0.3662109375,-0.3719329833984375,-0.3204345703125,-0.2002716064453125,0,0,0.27987162272135413,0.59102376302083326,0.8731842041015625,1.0660807291666665,1.1094411214192708,0.9429931640625,0.5390167236328125,0,null,null,null,null,null,null,null,null,null,null,null,null,null,{"$f":"+JL17*Input!$B$1","v":0},{"$f":"+JM17*Input!$B$1","v":0.3125},{"$f":"+JN17*Input!$B$1","v":0.625},{"$f":"+JO17*Input!$B$1","v":0.9375},{"$f":"+JP17*Input!$B$1","v":1.25},{"$f":"+JQ17*Input!$B$1","v":1.5625},{"$f":"+JR17*Input!$B$1","v":1.875},{"$f":"+JS17*Input!$B$1","v":2.1875},{"$f":"+JT17*Input!$B$1","v":2.5},null,null,null,null,null,null,null,null,null,null,{"$f":"+KE17*Input!$B$1","v":7.5},{"$f":"+KF17*Input!$B$1","v":6.5625},{"$f":"+KG17*Input!$B$1","v":5.625},{"$f":"+KH17*Input!$B$1","v":4.6875},{"$f":"+KI17*Input!$B$1","v":3.75},{"$f":"+KJ17*Input!$B$1","v":2.8125},{"$f":"+KK17*Input!$B$1","v":1.875},{"$f":"+KL17*Input!$B$1","v":0.9375},{"$f":"+KM17*Input!$B$1","v":0},null,0,-7.32421875E-2,-0.146484375,-0.2197265625,-0.29296875,-0.3662109375,-0.439453125,-0.5126953125,-0.5859375,-0.5859375,-0.2001953125,0.185546875,0.5712890625,0.95703125,1.3427734375,1.728515625,2.1142578125,2.5,null,0,-7.32421875E-2,-0.146484375,-0.2197265625,-0.29296875,-0.3662109375,-0.439453125,-0.5126953125,-0.5859375,6.9140625,6.0498046875,5.185546875,4.3212890625,3.45703125,2.5927734375,1.728515625,0.8642578125,0]
[null,null,"Span 1",{"$f":"+FL30","v":0},0.46875,0.78125,0.9375,0.9375,0.78125,0.46875,0,-0.625,-0.625,{"$f":"+FV30","v":-0.546875},-0.46875,-0.390625,-0.3125,-0.234375,-0.15625,-7.8125E-2,0,{"$f":"+CA30","v":-0.5625},{"$f":"+CG30","v":6.25E-2},{"$f":"+BV30","v":0.4375},{"$f":"+BY30","v":0.625},{"$f":"+CE30","v":-6.25E-2},null,null,null,null,{"$f":"+X27","v":0.4375},null,null,null,null,null,null,null,null,null,null,null,null,null,null,null,{"$f":"+V27","v":-0.5625},{"$f":"+W27","v":6.25E-2},null,null,null,null,null,null,null,null,null,null,null,null,null,null,null,{"$f":"+W27","v":6.25E-2},null,null,null,null,0.875,1.875,0.123046875,{"$f":"-(Input!$B$1^2)*BS27/(2*(1+Input!$B$1))","v":-3.076171875E-2},null,-3.076171875E-2,0.125,{"$f":"-(1+1/Input!$B$1)*BT27","v":6.15234375E-2},0.1865234375,null,-3.076171875E-2,null,0.875,{"$f":"+BT27/Input!$B$1","v":-3.076171875E-2},0.84423828125,0.125,{"$f":"+CF27-BT27/Input!$B$1","v":0.15576171875},null,null,5.126953125E-3,5.126953125E-3,null,null,-1.025390625E-2,-1.025390625E-2,null,{"$f":"+CI18*Input!$B$1^2","v":-2.05078125E-2},{"$f":"-BT27/3*Input!$B$1","v":1.025390625E-2},-1.025390625E-2,null,{"$f":"+CM18*Input!$B$1^2","v":3.41796875E-2},{"$f":"+BT27/6*Input!$B$1","v":-5.126953125E-3},2.9052734375E-2,null,null,null,null,null,null,null,null,null,null,null,null,null,null,{"$f":"+DC18*Input!$B$1","v":0},{"$f":"+DD18*Input!$B$1","v":1.5625E-2},{"$f":"+DE18*Input!$B$1","v":3.125E-2},{"$f":"+DF18*Input!$B$1","v":4.6875E-2},{"$f":"+DG18*Input!$B$1","v":6.25E-2},{"$f":"+DH18*Input!$B$1","v":7.8125E-2},{"$f":"+DI18*Input!$B$1","v":9.375E-2},{"$f":"+DJ18*Input!$B$1","v":0.109375},{"$f":"+DK18*Input!$B$1","v":0},null,null,null,0,-3.84521484375E-3,-7.6904296875E-3,-1.153564453125E-2,-1.5380859375E-2,-1.922607421875E-2,-2.30712890625E-2,-2.691650390625E-2,-3.076171875E-2,-3.076171875E-2,-2.691650390625E-2,-2.30712890625E-2,-1.922607421875E-2,-1.5380859375E-2,-1.153564453125E-2,-7.6904296875E-3,-3.84521484375E-3,0,null,null,0,-3.84521484375E-3,-7.6904296875E-3,-1.153564453125E-2,-1.5380859375E-2,-1.922607421875E-2,-2.30712890625E-2,-2.691650390625E-2,-3.076171875E-2,-3.076171875E-2,-1.129150390625E-2,8.1787109375E-3,2.764892578125E-2,4.7119140625E-2,6.658935546875E-2,8.60595703125E-2,0.10552978515625,0,null,null,0,-3.84521484375E-2,-7.6904296875E-2,-0.1153564453125,-0.15380859375,-0.1922607421875,-0.230712890625,-0.2691650390625,-0.3076171875,-0.3076171875,-0.1129150390625,8.1787109375E-2,0.2764892578125,0.47119140625,0.6658935546875,0.860595703125,1.0552978515625,0,null,null,null,0.125,null,null,null,null,null,null,null,null,null,{"$f":"+GH18*(Input!$B$1^3)","v":0},{"$f":"+GI18*(Input!$B$1^3)","v":2.522786458333333E-3},{"$f":"+GJ18*(Input!$B$1^3)","v":4.8014322916666661E-3},{"$f":"+GK18*(Input!$B$1^3)","v":6.591796875E-3},{"$f":"+GL18*(Input!$B$1^3)","v":7.649739583333333E-3},{"$f":"+GM18*(Input!$B$1^3)","v":7.7311197916666661E-3},{"$f":"+GN18*(Input!$B$1^3)","v":6.591796875E-3},{"$f":"+GO18*(Input!$B$1^3)","v":3.987630208333333E-3},{"$f":"+GP18*(Input!$B$1^3)","v":0},null,0,-6.3085556030273438E-4,-1.201629638671875E-3,-1.6522407531738281E-3,-1.922607421875E-3,-1.9526481628417969E-3,-1.682281494140625E-3,-1.0514259338378906E-3,0,0,-1.0514259338378906E-3,-1.682281494140625E-3,-1.9526481628417969E-3,-1.922607421875E-3,-1.6522407531738281E-3,-1.201629638671875E-3,-6.3085556030273438E-4,0,null,null,null,0,-6.3085556030273438E-4,-1.201629638671875E-3,-1.6522407531738281E-3,-1.922607421875E-3,-1.9526481628417969E-3,-1.682281494140625E-3,-1.0514259338378906E-3,0,0,1.4713605244954424E-3,3.1191507975260411E-3,4.6391487121582031E-3,5.727132161458333E-3,6.078879038492838E-3,5.390167236328125E-3,3.3567746480305987E-3,0,null,null,0,-6.3085556030273438E-2,-0.1201629638671875,-0.16522407531738281,-0.1922607421875,-0.19526481628417969,-0.1682281494140625,-0.10514259338378906,0,0,0.14713605244954425,0.31191507975260413,0.46391487121582031,0.57271321614583326,0.60788790384928382,0.5390167236328125,0.33567746480305988,0,null,null,null,null,null,null,null,null,null,null,null,null,null,{"$f":"+JL18*Input!$B$1","v":0},{"$f":"+JM18*Input!$B$1","v":0.15625},{"$f":"+JN18*Input!$B$1","v":0.3125},{"$f":"+JO18*Input!$B$1","v":0.46875},{"$f":"+JP18*Input!$B$1","v":0.625},{"$f":"+JQ18*Input!$B$1","v":0.78125},{"$f":"+JR18*Input!$B$1","v":0.9375},{"$f":"+JS18*Input!$B$1","v":1.09375},{"$f":"+JT18*Input!$B$1","v":1.25},null,null,null,null,null,null,null,null,null,null,{"$f":"+KE18*Input!$B$1","v":8.75},{"$f":"+KF18*Input!$B$1","v":7.65625},{"$f":"+KG18*Input!$B$1","v":6.5625},{"$f":"+KH18*Input!$B$1","v":5.46875},{"$f":"+KI18*Input!$B$1","v":4.375},{"$f":"+KJ18*Input!$B$1","v":3.28125},{"$f":"+KK18*Input!$B$1","v":2.1875},{"$f":"+KL18*Input!$B$1","v":1.09375},{"$f":"+KM18*Input!$B$1","v":0},null,0,-3.84521484375E-2,-7.6904296875E-2,-0.1153564453125,-0.15380859375,-0.1922607421875,-0.230712890625,-0.2691650390625,-0.3076171875,-0.3076171875,-0.1129150390625,8.1787109375E-2,0.2764892578125,0.47119140625,0.6658935546875,0.860595703125,1.0552978515625,1.25,null,0,-3.84521484375E-2,-7.6904296875E-2,-0.1153564453125,-0.15380859375,-0.1922607421875,-0.230712890625,-0.2691650390625,-0.3076171875,8.4423828125,7.3870849609375,6.331787109375,5.2764892578125,4.22119140625,3.1658935546875,2.110595703125,1.0552978515625,0]
[null,null,"Span 2",0,-7.8125E-2,-0.15625,-0.234375,-0.3125,-0.390625,-0.46875,-0.546875,-0.625,-0.625,0,0.46875,0.78125,0.9375,0.9375,0.78125,0.46875,0,{"$f":"+CA31","v":-6.25E-2},{"$f":"+CG31","v":0.5625},{"$f":"+BV31","v":-6.25E-2},{"$f":"+BY31","v":0.625},{"$f":"+CE31","v":0.4375},null,null,null,null,{"$f":"+X28","v":-6.25E-2},null,null,null,null,null,null,null,null,null,null,null,null,null,null,null,{"$f":"+X28","v":-6.25E-2},{"$f":"+W28","v":0.5625},null,null,null,null,null,null,null,null,null,null,null,null,null,null,null,{"$f":"-Z28","v":-0.4375},null,null,null,null,1,2,0,{"$f":"-(Input!$B$1^2)*BS28/(2*(1+Input!$B$1))","v":0},null,0,0,{"$f":"-(1+1/Input!$B$1)*BT28","v":0},0,null,0,null,1,{"$f":"+BT28/Input!$B$1","v":0},1,0,{"$f":"+CF28-BT28/Input!$B$1","v":0},null,null,0,0,null,null,0,0,null,{"$f":"+CI19*Input!$B$1^2","v":0},{"$f":"-BT28/3*Input!$B$1","v":0},0,null,{"$f":"+CM19*Input!$B$1^2","v":0},{"$f":"+BT28/6*Input!$B$1","v":0},0,null,null,null,null,null,null,null,null,null,null,null,null,null,null,{"$f":"+DC19*Input!$B$1","v":0},{"$f":"+DD19*Input!$B$1","v":0},{"$f":"+DE19*Input!$B$1","v":0},{"$f":"+DF19*Input!$B$1","v":0},{"$f":"+DG19*Input!$B$1","v":0},{"$f":"+DH19*Input!$B$1","v":0},{"$f":"+DI19*Input!$B$1","v":0},{"$f":"+DJ19*Input!$B$1","v":0},{"$f":"+DK19*Input!$B$1","v":0},null,null,null,0,0,0,0,0,0,0,0,0,0,0,0,0,0,0,0,0,0,null,null,0,0,0,0,0,0,0,0,0,0,0,0,0,0,0,0,0,0,null,null,0,0,0,0,0,0,0,0,0,0,0,0,0,0,0,0,0,0,null,null,null,0,null,null,null,null,null,null,null,null,null,{"$f":"+GH19*(Input!$B$1^3)","v":0},{"$f":"+GI19*(Input!$B$1^3)","v":0},{"$f":"+GJ19*(Input!$B$1^3)","v":0},{"$f":"+GK19*(Input!$B$1^3)","v":0},{"$f":"+GL19*(Input!$B$1^3)","v":0},{"$f":"+GM19*(Input!$B$1^3)","v":0},{"$f":"+GN19*(Input!$B$1^3)","v":0},{"$f":"+GO19*(Input!$B$1^3)","v":0},{"$f":"+GP19*(Input!$B$1^3)","v":0},null,0,0,0,0,0,0,0,0,0,0,0,0,0,0,0,0,0,0,null,null,null,0,0,0,0,0,0,0,0,0,0,0,0,0,0,0,0,0,0,null,null,0,0,0,0,0,0,0,0,0,0,0,0,0,0,0,0,0,0,null,null,null,null,null,null,null,null,null,null,null,null,null,{"$f":"+JL19*Input!$B$1","v":0},{"$f":"+JM19*Input!$B$1","v":0},{"$f":"+JN19*Input!$B$1","v":0},{"$f":"+JO19*Input!$B$1","v":0},{"$f":"+JP19*Input!$B$1","v":0},{"$f":"+JQ19*Input!$B$1","v":0},{"$f":"+JR19*Input!$B$1","v":0},{"$f":"+JS19*Input!$B$1","v":0},{"$f":"+JT19*Input!$B$1","v":0},null,null,null,null,null,null,null,null,null,null,{"$f":"+KE19*Input!$B$1","v":10},{"$f":"+KF19*Input!$B$1","v":8.75},{"$f":"+KG19*Input!$B$1","v":7.5},{"$f":"+KH19*Input!$B$1","v":6.25},{"$f":"+KI19*Input!$B$1","v":5},{"$f":"+KJ19*Input!$B$1","v":3.75},{"$f":"+KK19*Input!$B$1","v":2.5},{"$f":"+KL19*Input!$B$1","v":1.25},{"$f":"+KM19*Input!$B$1","v":0},null,0,0,0,0,0,0,0,0,0,0,0,0,0,0,0,0,0,0,null,0,0,0,0,0,0,0,0,0,10,8.75,7.5,6.25,5,3.75,2.5,1.25,0]
[null,null,"Sum",{"$f":"+FL33","v":0},0.390625,0.625,0.703125,0.625,0.390625,0,-0.546875,-1.25,-1.25,-0.546875,0,0.390625,0.625,0.703125,0.625,0.390625,0,{"$f":"+CA33","v":-0.625},{"$f":"+CG33","v":0.625},{"$f":"+BV33","v":0.375},{"$f":"+BY33","v":1.25},{"$f":"+CE33","v":0.375},null,null,null,null,{"$f":"+X29","v":0.375},null,null,null,null,null,null,null,null,null,null,null,null,null,null,null,{"$f":"+V29","v":-0.625},{"$f":"+W29","v":0.625},null,null,null,null,null,null,null,null,null,null,null,null,null,null,null,{"$f":"-Z29","v":-0.375}]
[null,null,null,"×L12/10",null,null,null,null,null,null,null,null,null,null,null,null,null,null,null,null,null,"×L1",null,null,null,null,null,null,null,null,null,null,null,null,null,null,null,null,null,null,null,null,null,null,null,null,null,null,null,null,null,null,null,null,null,null,null,null,null,null,null,null,null,null,null,null,null,"Fx11/(L1)^2",null,null,null,{"$f":"-1/(8*(1+Input!B1))","v":-6.25E-2},null,{"$f":"0.5+BT30","v":0.4375},null,null,{"$f":"1/2-(1+1/Input!$B$1)*BT30","v":0.625},null,{"$f":"-0.5+BT30","v":-0.5625},null,null,null,{"$f":"1/Input!B1*BT30","v":-6.25E-2},null,{"$f":"-BT30/Input!B1","v":6.25E-2},null,-4.1666666666666664E-2,{"$f":"-BT30/6","v":1.0416666666666666E-2},{"$f":"+CI30+CJ30","v":-3.125E-2},null,4.1666666666666664E-2,{"$f":"+BT30/3","v":-2.0833333333333332E-2},{"$f":"+CM30+CN30","v":2.0833333333333332E-2},null,null,{"$f":"-BT30/3*Input!$B$1","v":2.0833333333333332E-2},{"$f":"+CQ30+CR30","v":2.0833333333333332E-2},null,null,{"$f":"+BT30/6*Input!$B$1","v":-1.0416666666666666E-2},{"$f":"+CU30+CV30","v":-1.0416666666666666E-2},null,null,null,null,null,null,null,null,null,null,null,null,null,null,null,null,null,null,null,null,null,null,null,null,null,null,null,null,null,null,null,null,null,null,null,null,null,null,null,null,null,null,null,null,null,null,{"$f":"+ER7*(1-ER7)/2+DX8*$BT$30","v":0},4.6875E-2,7.8125E-2,9.375E-2,9.375E-2,7.8125E-2,4.6875E-2,0,-6.25E-2,{"$f":"+EG8*$BT$30","v":-6.25E-2},-5.46875E-2,-4.6875E-2,-3.90625E-2,-3.125E-2,-2.34375E-2,-1.5625E-2,-7.8125E-3,0,null,null,{"$f":"+ER30*10","v":0},0.46875,0.78125,0.9375,0.9375,0.78125,0.46875,0,-0.625,-0.625,{"$f":"+FB30*10","v":-0.546875},-0.46875,-0.390625,-0.3125,-0.234375,-0.15625,-7.8125E-2,0,null,null,null,null,{"$f":"(3*GH$7^5/4-7*GH$7^4/4+GH$7^3-1/4*(GH$7-1)^3*(3*GH$7+1)*GH$7)/6","v":0},{"$f":"(3*GI$7^5/4-7*GI$7^4/4+GI$7^3-1/4*(GI$7-1)^3*(3*GI$7+1)*GI$7)/6","v":5.055745442708333E-3},{"$f":"(3*GJ$7^5/4-7*GJ$7^4/4+GJ$7^3-1/4*(GJ$7-1)^3*(3*GJ$7+1)*GJ$7)/6","v":9.27734375E-3},1.2054443359375E-2,1.3020833333333334E-2,1.2054443359375E-2,9.27734375E-3,5.055745442708333E-3,0,null,null,null,null,null,null,null,null,null,null,{"$f":"+HA$9*$BT30","v":0},-1.28173828125E-3,-2.44140625E-3,-3.35693359375E-3,-3.90625E-3,-3.96728515625E-3,-3.41796875E-3,-2.13623046875E-3,0,0,{"$f":"+HK$9*$BT30","v":-2.13623046875E-3},-3.41796875E-3,-3.96728515625E-3,-3.90625E-3,-3.35693359375E-3,-2.44140625E-3,-1.28173828125E-3,0,null,null,null,{"$f":"+GH30+HA30","v":0},3.774007161458333E-3,6.8359375E-3,8.697509765625E-3,9.1145833333333339E-3,8.087158203125E-3,5.859375E-3,2.919514973958333E-3,0,0,{"$f":"+GR30+HK30","v":-2.13623046875E-3},-3.41796875E-3,-3.96728515625E-3,-3.90625E-3,-3.35693359375E-3,-2.44140625E-3,-1.28173828125E-3,0,null,null,{"$f":"+HV30*100","v":0},0.37740071614583331,0.68359375,0.8697509765625,0.91145833333333337,0.8087158203125,0.5859375,0.29195149739583331,0,0,{"$f":"+IF30*100","v":-0.213623046875},-0.341796875,-0.396728515625,-0.390625,-0.335693359375,-0.244140625,-0.128173828125,0]
[null,null,null,null,null,null,null,null,null,null,null,null,null,null,null,null,null,null,null,null,null,null,null,null,null,null,null,null,null,null,null,null,null,null,null,null,null,null,null,null,null,null,null,null,null,null,null,null,null,null,null,null,null,null,null,null,null,null,null,null,null,null,null,null,null,null,null,"Fx12/(L1)^2",null,null,null,{"$f":"-Input!B1^3/(8*(1+Input!B1))","v":-6.25E-2},null,{"$f":"+BT31","v":-6.25E-2},null,null,{"$f":"+Input!$B$1/2-(1+1/Input!$B$1)*BT31","v":0.625},null,{"$f":"+BT31","v":-6.25E-2},null,null,null,{"$f":"+Input!B1/2+BT31/Input!B1","v":0.4375},null,{"$f":"Input!B1/2-BT31/Input!B1","v":0.5625},null,null,{"$f":"-BT31/6","v":1.0416666666666666E-2},{"$f":"+CI31+CJ31","v":1.0416666666666666E-2},null,null,{"$f":"+BT31/3","v":-2.0833333333333332E-2},{"$f":"+CM31+CN31","v":-2.0833333333333332E-2},null,{"$f":"-0.0416666666666667*Input!$B$1^3","v":-4.1666666666666699E-2},{"$f":"-BT31/3*Input!$B$1","v":2.0833333333333332E-2},{"$f":"+CQ31+CR31","v":-2.0833333333333367E-2},null,{"$f":"0.0416666666666667*Input!$B$1^3","v":4.1666666666666699E-2},{"$f":"+BT31/6*Input!$B$1","v":-1.0416666666666666E-2},{"$f":"+CU31+CV31","v":3.1250000000000035E-2},null,null,null,null,null,null,null,null,null,null,null,null,null,null,null,null,null,null,null,null,null,null,null,null,null,null,null,null,null,null,null,null,null,null,null,null,null,null,null,null,null,null,null,null,null,null,{"$f":"+DX8*$BT$31","v":0},-7.8125E-3,-1.5625E-2,-2.34375E-2,-3.125E-2,-3.90625E-2,-4.6875E-2,-5.46875E-2,-6.25E-2,{"$f":"+(Input!$B$1)^2*FA$7*(1-FA$7)/2+EG8*$BT$31","v":-6.25E-2},{"$f":"+(Input!$B$1)^2*FB$7*(1-FB$7)/2+EH8*$BT$31","v":0},{"$f":"+(Input!$B$1)^2*FC$7*(1-FC$7)/2+EI8*$BT$31","v":4.6875E-2},{"$f":"+(Input!$B$1)^2*FD$7*(1-FD$7)/2+EJ8*$BT$31","v":7.8125E-2},{"$f":"+(Input!$B$1)^2*FE$7*(1-FE$7)/2+EK8*$BT$31","v":9.375E-2},{"$f":"+(Input!$B$1)^2*FF$7*(1-FF$7)/2+EL8*$BT$31","v":9.375E-2},{"$f":"+(Input!$B$1)^2*FG$7*(1-FG$7)/2+EM8*$BT$31","v":7.8125E-2},{"$f":"+(Input!$B$1)^2*FH$7*(1-FH$7)/2+EN8*$BT$31","v":4.6875E-2},{"$f":"+(Input!$B$1)^2*FI$7*(1-FI$7)/2+EO8*$BT$31","v":0},null,null,0,-7.8125E-2,-0.15625,-0.234375,-0.3125,-0.390625,-0.46875,-0.546875,-0.625,-0.625,0,0.46875,0.78125,0.9375,0.9375,0.78125,0.46875,0,null,null,null,null,null,null,null,null,null,null,null,null,null,{"$f":"(3*GQ$7^5/4-7*GQ$7^4/4+GQ$7^3-1/4*(GQ$7-1)^3*(3*GQ$7+1)*GQ$7)/6*(Input!$B$1^4)","v":0},{"$f":"(3*GR$7^5/4-7*GR$7^4/4+GR$7^3-1/4*(GR$7-1)^3*(3*GR$7+1)*GR$7)/6*(Input!$B$1^4)","v":5.055745442708333E-3},{"$f":"(3*GS$7^5/4-7*GS$7^4/4+GS$7^3-1/4*(GS$7-1)^3*(3*GS$7+1)*GS$7)/6*(Input!$B$1^4)","v":9.27734375E-3},{"$f":"(3*GT$7^5/4-7*GT$7^4/4+GT$7^3-1/4*(GT$7-1)^3*(3*GT$7+1)*GT$7)/6*(Input!$B$1^4)","v":1.2054443359375E-2},{"$f":"(3*GU$7^5/4-7*GU$7^4/4+GU$7^3-1/4*(GU$7-1)^3*(3*GU$7+1)*GU$7)/6*(Input!$B$1^4)","v":1.3020833333333334E-2},{"$f":"(3*GV$7^5/4-7*GV$7^4/4+GV$7^3-1/4*(GV$7-1)^3*(3*GV$7+1)*GV$7)/6*(Input!$B$1^4)","v":1.2054443359375E-2},{"$f":"(3*GW$7^5/4-7*GW$7^4/4+GW$7^3-1/4*(GW$7-1)^3*(3*GW$7+1)*GW$7)/6*(Input!$B$1^4)","v":9.27734375E-3},{"$f":"(3*GX$7^5/4-7*GX$7^4/4+GX$7^3-1/4*(GX$7-1)^3*(3*GX$7+1)*GX$7)/6*(Input!$B$1^4)","v":5.055745442708333E-3},{"$f":"(3*GY$7^5/4-7*GY$7^4/4+GY$7^3-1/4*(GY$7-1)^3*(3*GY$7+1)*GY$7)/6*(Input!$B$1^4)","v":0},null,0,-1.28173828125E-3,-2.44140625E-3,-3.35693359375E-3,-3.90625E-3,-3.96728515625E-3,-3.41796875E-3,-2.13623046875E-3,0,0,-2.13623046875E-3,-3.41796875E-3,-3.96728515625E-3,-3.90625E-3,-3.35693359375E-3,-2.44140625E-3,-1.28173828125E-3,0,null,null,null,0,-1.28173828125E-3,-2.44140625E-3,-3.35693359375E-3,-3.90625E-3,-3.96728515625E-3,-3.41796875E-3,-2.13623046875E-3,0,0,2.919514973958333E-3,5.859375E-3,8.087158203125E-3,9.1145833333333339E-3,8.697509765625E-3,6.8359375E-3,3.774007161458333E-3,0,null,null,0,-0.128173828125,-0.244140625,-0.335693359375,-0.390625,-0.396728515625,-0.341796875,-0.213623046875,0,0,0.29195149739583331,0.5859375,0.8087158203125,0.91145833333333337,0.8697509765625,0.68359375,0.37740071614583331,0]
[null,null,null,"Deflection",null,null,null,null,null,null,null,null,null,null,null,null,null,null,null,null,null,"Slope"]
[null,null,null,0,{"$f":"+D33+1","v":1},2,3,4,5,6,7,8,{"$f":"+L33","v":8},{"$f":"+M33+1","v":9},10,11,12,13,14,15,16,"SA","lSB","SC",null,null,null,null,null,null,null,null,null,null,null,null,null,null,null,null,null,null,null,null,null,null,null,null,null,null,null,null,null,null,null,null,null,null,null,null,null,null,null,null,null,null,null,null,null,null,null,null,null,{"$f":"+BV30+BV31","v":0.375},null,null,{"$f":"+BY30+BY31","v":1.25},null,{"$f":"+CA30+CA31","v":-0.625},null,null,null,{"$f":"+CE30+CE31","v":0.375},null,{"$f":"+CG30+CG31","v":0.625},null,null,null,{"$f":"+CK30+CK31","v":-2.0833333333333336E-2},null,null,null,{"$f":"+CO30+CO31","v":0},null,null,null,{"$f":"+CS30+CS31","v":-3.4694469519536142E-17},null,null,null,{"$f":"+CW30+CW31","v":2.083333333333337E-2},null,null,null,null,null,null,null,null,null,null,null,null,null,null,null,null,null,null,null,null,null,null,null,null,null,null,null,null,null,null,null,null,null,null,null,null,null,null,null,null,null,null,null,null,null,null,{"$f":"+ER30+ER31","v":0},3.90625E-2,6.25E-2,7.03125E-2,6.25E-2,3.90625E-2,0,-5.46875E-2,-0.125,-0.125,-5.46875E-2,0,3.90625E-2,6.25E-2,7.03125E-2,6.25E-2,3.90625E-2,0,null,null,{"$f":"+ER33*10","v":0},0.390625,0.625,0.703125,0.625,0.390625,0,-0.546875,-1.25,-1.25,-0.546875,0,0.390625,0.625,0.703125,0.625,0.390625,0,null,null,null,null,null,null,null,null,null,null,null,null,null,null,null,null,null,null,null,null,null,null,null,null,null,null,null,null,null,null,null,null,null,null,null,null,null,null,null,null,null,null,null,null,{"$f":"+HV30+HV31","v":0},2.492268880208333E-3,4.39453125E-3,5.340576171875E-3,5.2083333333333339E-3,4.119873046875E-3,2.44140625E-3,7.8328450520833304E-4,0,0,7.8328450520833304E-4,2.44140625E-3,4.119873046875E-3,5.2083333333333339E-3,5.340576171875E-3,4.39453125E-3,2.492268880208333E-3,0,null,null,{"$f":"+HV33*100","v":0},0.24922688802083331,0.439453125,0.5340576171875,0.52083333333333337,0.4119873046875,0.244140625,7.8328450520833301E-2,0,0,7.8328450520833301E-2,0.244140625,0.4119873046875,0.52083333333333337,0.5340576171875,0.439453125,0.24922688802083331,0]
[null,null,0,{"$f":"+IP11","v":0},{"$f":"+IQ11","v":0},{"$f":"+IR11","v":0},{"$f":"+IS11","v":0},{"$f":"+IT11","v":0},{"$f":"+IU11","v":0},{"$f":"+IV11","v":0},{"$f":"+IW11","v":0},{"$f":"+IX11","v":0},{"$f":"+IY11","v":0},{"$f":"+IZ11","v":0},{"$f":"+JA11","v":0},{"$f":"+JB11","v":0},{"$f":"+JC11","v":0},{"$f":"+JD11","v":0},{"$f":"+JE11","v":0},{"$f":"+JF11","v":0},{"$f":"+JG11","v":0},{"$f":"+CK11*10","v":0},{"$f":"+CO11*10","v":0},{"$f":"+CW11*10","v":0}]
[null,null,{"$f":"+C34+1","v":1},0,0.33567746480305988,0.5390167236328125,0.60788790384928382,0.57271321614583326,0.46391487121582031,0.31191507975260413,0.14713605244954425,0,0,-0.10514259338378906,-0.1682281494140625,-0.19526481628417969,-0.1922607421875,-0.16522407531738281,-0.1201629638671875,-6.3085556030273438E-2,0,-0.29052734375,0.1025390625,-5.126953125E-2]
[null,null,2,0,0.5390167236328125,0.9429931640625,1.1094411214192708,1.0660807291666665,0.8731842041015625,0.59102376302083326,0.27987162272135413,0,0,-0.2002716064453125,-0.3204345703125,-0.3719329833984375,-0.3662109375,-0.3147125244140625,-0.2288818359375,-0.1201629638671875,0,-0.44921875,0.1953125,-9.765625E-2]
[null,null,3,0,0.60788790384928382,1.1094411214192708,1.3983249664306641,1.4007568359375,1.1731624603271484,0.8045196533203125,0.38380622863769531,0,0,-0.27537345886230469,-0.4405975341796875,-0.51140785217285156,-0.5035400390625,-0.43272972106933594,-0.3147125244140625,-0.16522407531738281,0,-0.50048828125,0.2685546875,-0.13427734375]
[null,null,4,0,0.57271321614583326,1.0660807291666665,1.4007568359375,1.4973958333333333,1.3092041015625,0.91959635416666663,0.44453938802083331,0,0,-0.3204345703125,-0.5126953125,-0.5950927734375,-0.5859375,-0.5035400390625,-0.3662109375,-0.1922607421875,0,-0.46875,0.3125,-0.15625]
[null,null,5,0,0.46391487121582031,0.8731842041015625,1.1731624603271484,1.3092041015625,1.2266635894775391,0.90344746907552076,0.44767061869303382,0,0,-0.32544136047363281,-0.5207061767578125,-0.60439109802246094,-0.5950927734375,-0.51140785217285156,-0.3719329833984375,-0.19526481628417969,0,-0.37841796875,0.3173828125,-0.15869140625]
[null,null,6,0,0.31191507975260413,0.59102376302083326,0.8045196533203125,0.91959635416666663,0.90344746907552076,0.7232666015625,0.3787994384765625,0,0,-0.2803802490234375,-0.4486083984375,-0.5207061767578125,-0.5126953125,-0.4405975341796875,-0.3204345703125,-0.1682281494140625,0,-0.25390625,0.2734375,-0.13671875]
[null,null,7,0,0.14713605244954425,0.27987162272135413,0.38380622863769531,0.44453938802083331,0.44767061869303382,0.3787994384765625,0.22352536519368488,0,0,-0.17523765563964844,-0.2803802490234375,-0.32544136047363281,-0.3204345703125,-0.27537345886230469,-0.2002716064453125,-0.10514259338378906,0,-0.11962890625,0.1708984375,-8.544921875E-2]
[null,null,8,0,0,0,0,0,0,0,0,0,0,0,0,0,0,0,0,0,0,0,0,0]
[null,null,{"$f":"+C42","v":8},0,0,0,0,0,0,0,0,0,0,0,0,0,0,0,0,0,0,0,0,0]
[null,null,{"$f":"+C43+1","v":9},0,-0.10514259338378906,-0.2002716064453125,-0.27537345886230469,-0.3204345703125,-0.32544136047363281,-0.2803802490234375,-0.17523765563964844,0,0,0.22352536519368488,0.3787994384765625,0.44767061869303382,0.44453938802083331,0.38380622863769531,0.27987162272135413,0.14713605244954425,0,8.544921875E-2,-0.1708984375,0.11962890625]
[null,null,10,0,-0.1682281494140625,-0.3204345703125,-0.4405975341796875,-0.5126953125,-0.5207061767578125,-0.4486083984375,-0.2803802490234375,0,0,0.3787994384765625,0.7232666015625,0.90344746907552076,0.91959635416666663,0.8045196533203125,0.59102376302083326,0.31191507975260413,0,0.13671875,-0.2734375,0.25390625]
[null,null,11,0,-0.19526481628417969,-0.3719329833984375,-0.51140785217285156,-0.5950927734375,-0.60439109802246094,-0.5207061767578125,-0.32544136047363281,0,0,0.44767061869303382,0.90344746907552076,1.2266635894775391,1.3092041015625,1.1731624603271484,0.8731842041015625,0.46391487121582031,0,0.15869140625,-0.3173828125,0.37841796875]
[null,null,12,0,-0.1922607421875,-0.3662109375,-0.5035400390625,-0.5859375,-0.5950927734375,-0.5126953125,-0.3204345703125,0,0,0.44453938802083331,0.91959635416666663,1.3092041015625,1.4973958333333333,1.4007568359375,1.0660807291666665,0.57271321614583326,0,0.15625,-0.3125,0.46875]
[null,null,13,0,-0.16522407531738281,-0.3147125244140625,-0.43272972106933594,-0.5035400390625,-0.51140785217285156,-0.4405975341796875,-0.27537345886230469,0,0,0.38380622863769531,0.8045196533203125,1.1731624603271484,1.4007568359375,1.3983249664306641,1.1094411214192708,0.60788790384928382,0,0.13427734375,-0.2685546875,0.50048828125]
[null,null,14,0,-0.1201629638671875,-0.2288818359375,-0.3147125244140625,-0.3662109375,-0.3719329833984375,-0.3204345703125,-0.2002716064453125,0,0,0.27987162272135413,0.59102376302083326,0.8731842041015625,1.0660807291666665,1.1094411214192708,0.9429931640625,0.5390167236328125,0,9.765625E-2,-0.1953125,0.44921875]
[null,null,15,0,-6.3085556030273438E-2,-0.1201629638671875,-0.16522407531738281,-0.1922607421875,-0.19526481628417969,-0.1682281494140625,-0.10514259338378906,0,0,0.14713605244954425,0.31191507975260413,0.46391487121582031,0.57271321614583326,0.60788790384928382,0.5390167236328125,0.33567746480305988,0,5.126953125E-2,-0.1025390625,0.29052734375]
[null,null,16,0,0,0,0,0,0,0,0,0,0,0,0,0,0,0,0,0,0,0,0,0]
[null,null,null,"×(L13/EI)/100",null,null,null,null,null,null,null,null,null,null,null,null,null,null,null,null,null,"×(L12/EI)/10"]
[null,null,"Span 1",{"$f":"+IP30","v":0},0.37740071614583331,0.68359375,0.8697509765625,0.91145833333333337,0.8087158203125,0.5859375,0.29195149739583331,0,0,{"$f":"+IZ30","v":-0.213623046875},-0.341796875,-0.396728515625,-0.390625,-0.335693359375,-0.244140625,-0.128173828125,0,{"$f":"+CK30*10","v":-0.3125},{"$f":"+CO30*10","v":0.20833333333333331},{"$f":"+CW30*10","v":-0.10416666666666666}]
[null,null,"Span 2",0,-0.128173828125,-0.244140625,-0.335693359375,-0.390625,-0.396728515625,-0.341796875,-0.213623046875,0,0,0.29195149739583331,0.5859375,0.8087158203125,0.91145833333333337,0.8697509765625,0.68359375,0.37740071614583331,0,{"$f":"+CK31*10","v":0.10416666666666666},{"$f":"+CO31*10","v":-0.20833333333333331},{"$f":"+CW31*10","v":0.31250000000000033}]
[null,null,"Sum",{"$f":"+IP33","v":0},0.24922688802083331,0.439453125,0.5340576171875,0.52083333333333337,0.4119873046875,0.244140625,7.8328450520833301E-2,0,0,7.8328450520833301E-2,0.244140625,0.4119873046875,0.52083333333333337,0.5340576171875,0.439453125,0.24922688802083331,0,{"$f":"+CK33*10","v":-0.20833333333333337},{"$f":"+CO33*10","v":0},{"$f":"+CW33*10","v":0.2083333333333337}]
[null,null,null,"×(L14/EI)/100",null,null,null,null,null,null,null,null,null,null,null,null,null,null,null,null,null,"×(L13/EI)/10"]
[]
[]
[null,null,null,null,null,null,null,null,null,null,null,{"$f":"95+7/12","v":95.583333333333329},{"$f":"+$L$59*C8/8","v":0},null,8,43.92699689728358,{"$f":"FORECAST(P59,OFFSET($Y$8:$Y$25,MATCH(P59,$M$59:$M$76,1)-1,0,2),OFFSET($M$59:$M$76,MATCH(P59,$M$59:$M$76,1)-1,0,2))","v":0.63853881204328866},{"$f":"+O59*Q59","v":5.1083104963463093},{"$f":"+P59/$L$59","v":0.45956753510671577},{"$f":"+S59*8","v":3.6765402808537262}]
[null,null,null,null,null,null,null,null,null,null,null,{"$f":"107+7/12","v":107.58333333333333},11.947916666666666,null,32,{"$f":"+P59+14","v":57.92699689728358},0.7960218172578587,{"$f":"+O60*Q60","v":25.472698152251478},{"$f":"+P60/$L$59","v":0.60603658480157196},{"$f":"+S60*8","v":4.8482926784125757}]
[null,null,null,null,null,null,null,null,null,null,null,{"$f":"+L59+L60","v":203.16666666666666},23.895833333333332,null,32,{"$f":"+P60+14","v":71.926996897283573},0.91533489251771738,29.290716560566956,{"$f":"+P61/$L$59","v":0.75250563449642804},6.0200450759714244]
[null,null,null,null,null,null,null,null,null,null,null,null,35.84375,null,8,{"$f":"+P61+50","v":121.92699689728357},0.91666883968410406,7.3333507174728325,{"$f":"+(P62-$L$59)/$L$60","v":0.24486751569899531},1.9589401255919625]
[null,null,null,null,null,null,null,null,null,null,null,null,47.791666666666664,null,32,{"$f":"+P62+14","v":135.92699689728357},0.81543032145921457,26.093770286694866,{"$f":"+(P63-$L$59)/$L$60","v":0.37499919656653985},2.9999935725323188]
[null,null,null,null,null,null,null,null,null,null,null,null,59.739583333333329,null,32,{"$f":"+P63+14","v":149.92699689728357},0.68128682810716312,21.80117849942922,{"$f":"+(P64-$L$59)/$L$60","v":0.50513087743408436},4.0410470194726749]
[null,null,null,null,null,null,null,null,null,null,null,null,71.6875,null,null,null,null,{"$f":"+SUM(R59:R64)","v":115.10002471276167}]
[null,null,null,null,null,null,null,null,null,null,null,null,83.635416666666657,null,null,null,null,{"$f":"+R65*0.9","v":103.5900222414855}]
[null,null,null,null,null,null,null,null,null,null,null,null,95.583333333333329,null,null,null,null,{"$f":"+R66*1.33","v":137.77472958117573}]
[null,null,null,null,null,null,null,null,null,null,null,null,{"$f":"+$L$59+$L$60*(C17-8)/8","v":95.583333333333329},null,null,null,null,0.64]
[null,null,null,null,null,null,null,null,null,null,null,null,109.03125,null,null,null,null,{"$f":"+R68*Y29","v":0.8}]
[null,null,null,null,null,null,null,null,null,null,null,null,122.47916666666666,null,null,null,null,{"$f":"+R69*L59","v":76.466666666666669}]
[null,null,null,null,null,null,null,null,null,null,null,null,135.92708333333331,null,null,null,null,{"$f":"+R70*0.9","v":68.820000000000007}]
[null,null,null,null,null,null,null,null,null,null,null,null,149.375,null,null,null,null,{"$f":"+R67+R71","v":206.59472958117573}]
[null,null,null,null,null,null,null,null,null,null,null,null,162.82291666666666]
[null,null,null,null,null,null,null,null,null,null,null,null,176.27083333333331]
[null,null,null,null,null,null,null,null,null,null,null,null,189.71875]
[null,null,null,null,null,null,null,null,null,null,null,null,203.16666666666666]